{"text_format":"1","workbook":"xlsx","n_sheets":12,"sheets":["DN-1","ZDN-1","ZDN-2","DR-1","ZDR-1","ZDR-2","DL-1","ZDL-1","ZDL-2","Grunty","Budynki i budowle","Dane"],"not_rendered":{"charts":0,"images":0,"macros":1,"external_links":0,"defined_names":30,"comments":3,"pivot_tables":0},"unopened":[],"bounds":{"document_bytes":16777216,"sheet_cells":100000,"rows_first":2000,"rows_last":500,"rows_between":2000,"halvings":0,"cell_chars":16384,"cell_head_chars":4096},"cells_cut":0,"cells_raw":0,"read":"whole","date_system":"1900"}

{"sheet":"DN-1","index":0,"n_rows":257,"n_cols":55,"rows_kept":257,"cut":false,"hidden":false,"merged":[[254,2,254,9],[213,17,213,24],[109,17,109,24],[1,1,1,25],[2,1,2,25],[16,1,16,25],[17,2,17,25],[18,2,18,25],[19,2,19,25],[5,1,5,11],[4,1,4,13],[5,14,5,25],[4,14,4,25],[9,12,9,16],[8,12,8,16],[9,1,9,11],[70,2,70,12],[69,2,69,12],[23,16,23,17],[25,1,25,25],[26,2,26,25],[30,1,30,25],[6,1,6,25],[7,1,7,25],[11,1,11,3],[67,22,67,25],[68,22,68,25],[67,18,67,21],[63,1,63,25],[65,22,65,25],[66,22,66,25],[54,23,54,25],[54,20,54,22],[56,2,56,14],[56,15,56,25],[60,1,60,25],[68,18,68,21],[67,14,68,17],[68,2,68,12],[67,2,67,12],[48,2,48,14],[48,15,48,25],[49,2,49,14],[49,15,49,25],[50,1,50,25],[58,2,58,9],[46,23,46,25],[39,9,39,19],[90,13,90,17],[84,22,84,25],[85,22,85,25],[90,18,90,21],[90,22,90,25],[87,13,88,17],[88,18,88,21],[88,22,88,25],[81,1,81,25],[82,22,82,25],[83,22,83,25],[83,2,83,12],[82,18,82,21],[84,2,84,12],[82,2,82,12],[87,22,87,25],[89,13,89,17],[89,18,89,21],[89,22,89,25],[89,2,89,12],[86,1,86,25],[87,18,87,21],[83,18,83,21],[84,18,84,21],[91,2,94,7],[91,8,92,12],[91,18,94,25],[93,8,94,12],[115,2,118,7],[115,8,116,12],[115,18,118,25],[117,8,118,12],[113,13,113,17],[113,18,113,21],[113,22,113,25],[114,13,114,17],[114,18,114,21],[114,22,114,25],[111,1,111,25],[113,2,113,12],[114,2,114,12],[121,2,124,7],[121,8,122,12],[121,18,124,25],[123,8,124,12],[119,13,119,17],[119,18,119,21],[119,22,119,25],[120,13,120,17],[120,18,120,21],[120,22,120,25],[123,14,124,17],[119,2,119,12],[120,2,120,12],[127,2,130,7],[127,8,128,12],[127,18,130,25],[129,8,130,12],[125,13,125,17],[125,18,125,21],[125,22,125,25],[126,13,126,17],[126,18,126,21],[126,22,126,25],[127,14,128,17],[129,14,130,17],[126,2,126,12],[125,2,125,12],[133,2,136,7],[133,8,134,12],[133,18,136,25],[135,8,136,12],[131,13,131,17],[131,18,131,21],[131,22,131,25],[132,13,132,17],[132,18,132,21],[132,22,132,25],[133,14,134,17],[135,14,136,17],[131,2,131,12],[132,2,132,12],[137,1,137,25],[138,2,138,12],[138,13,138,17],[138,18,138,21],[138,22,138,25],[139,2,139,12],[139,13,139,17],[139,18,139,21],[139,22,139,25],[144,13,144,17],[144,18,144,21],[144,22,144,25],[145,2,145,12],[145,13,145,17],[145,18,145,21],[145,22,145,25],[140,2,143,7],[140,8,141,12],[140,18,143,25],[142,8,143,12],[140,14,141,17],[142,14,143,17],[144,2,144,12],[163,2,163,9],[163,21,163,24],[176,18,176,21],[176,22,176,25],[178,2,179,12],[178,18,178,21],[178,22,178,25],[171,2,174,7],[171,8,172,12],[177,22,177,25],[176,2,177,12],[175,1,175,25],[171,18,174,25],[173,8,174,12],[177,18,177,21],[171,14,172,17],[173,14,174,17],[176,13,176,17],[177,13,177,17],[58,21,58,24],[44,9,44,17],[44,18,44,25],[45,2,45,8],[45,9,45,17],[45,18,45,25],[47,20,47,22],[170,18,170,21],[170,22,170,25],[153,2,154,7],[153,8,154,12],[153,18,153,25],[167,2,167,7],[167,8,168,12],[167,18,167,25],[165,1,165,25],[153,14,154,17],[167,14,168,17],[169,2,169,12],[169,13,169,17],[169,18,169,21],[169,22,169,25],[170,2,170,12],[170,13,170,17],[146,2,149,7],[146,8,147,12],[146,18,149,25],[148,8,149,12],[150,1,150,25],[146,14,147,17],[148,14,149,17],[151,2,151,12],[11,4,11,25],[37,15,37,25],[36,15,36,25],[37,2,37,14],[36,2,36,14],[35,2,35,25],[38,2,38,25],[31,1,31,25],[51,2,51,8],[51,9,51,17],[40,1,40,25],[41,2,41,12],[41,13,41,19],[41,20,41,25],[42,2,42,12],[42,13,42,19],[55,2,55,14],[55,15,55,25],[12,1,12,3],[14,4,14,25],[32,1,32,25],[33,2,33,25],[34,5,34,8],[34,11,34,14],[34,16,34,25],[23,2,23,15],[13,4,13,25],[12,4,12,25],[21,2,21,25],[22,2,22,25],[14,1,14,3],[13,1,13,3],[52,2,52,8],[52,9,52,17],[52,18,52,25],[53,2,53,9],[53,10,53,19],[54,2,54,9],[54,10,54,19],[193,20,193,24],[189,20,189,22],[42,20,42,25],[43,1,43,25],[46,20,46,22],[47,10,47,19],[46,10,46,19],[47,2,47,9],[46,2,46,9],[44,2,44,8],[72,2,72,12],[71,2,71,12],[51,18,51,25],[53,23,53,25],[71,22,71,25],[72,22,72,25],[71,18,71,21],[72,18,72,21],[69,22,69,25],[70,22,70,25],[69,18,69,21],[70,18,70,21],[47,23,47,25],[53,20,53,22],[152,18,152,21],[152,22,152,25],[254,21,254,24],[109,5,109,6],[109,1,109,4],[185,2,185,12],[185,18,185,21],[185,22,185,25],[196,10,196,13],[196,15,196,20],[196,22,196,24],[197,2,197,8],[197,10,197,13],[197,15,197,20],[197,22,197,24],[208,15,208,25],[207,2,207,14],[207,15,207,25],[208,2,208,14],[194,2,194,25],[187,1,187,25],[188,2,189,19],[224,2,224,14],[224,15,224,25],[74,18,74,21],[69,14,70,17],[181,2,181,12],[181,18,181,21],[73,14,74,17],[71,14,72,17],[192,20,192,25],[195,1,200,1],[195,2,195,8],[200,2,200,8],[73,22,73,25],[74,22,74,25],[195,10,195,13],[195,15,195,20],[195,22,195,24],[196,2,196,8],[198,2,198,8],[80,22,80,25],[75,1,75,25],[151,13,151,17],[151,18,151,21],[151,22,151,25],[152,2,152,12],[152,13,152,17],[263,5,263,9],[204,8,204,9],[204,20,204,21],[79,14,80,17],[84,14,85,17],[82,14,83,17],[93,14,94,17],[91,14,92,17],[115,14,116,17],[117,14,118,17],[121,14,122,17],[223,2,223,14],[222,2,222,14],[223,15,223,25],[222,15,222,25],[248,2,248,25],[240,1,240,25],[250,1,250,25],[85,2,85,12],[85,18,85,21],[79,18,79,21],[80,2,80,12],[80,18,80,21],[79,2,79,12],[252,1,252,25],[179,18,179,21],[179,22,179,25],[180,1,180,25],[198,10,198,13],[198,15,198,20],[198,22,198,24],[76,22,76,25],[76,18,76,21],[78,2,78,12],[77,22,78,25],[77,18,78,21],[76,14,78,17],[182,2,182,12],[182,18,182,21],[182,22,182,25],[183,1,183,25],[181,14,182,17],[184,14,185,17],[191,20,191,22],[188,20,188,25],[190,2,191,19],[190,20,190,25],[192,2,193,19],[251,1,251,25],[233,2,233,14],[229,15,229,25],[232,15,232,25],[230,15,230,25],[247,2,247,25],[246,2,246,25],[220,1,220,25],[221,1,221,25],[227,2,227,14],[227,15,227,25],[228,2,228,14],[228,15,228,25],[229,2,229,14],[245,2,245,25],[244,2,244,25],[243,2,243,25],[242,2,242,25],[238,2,238,25],[234,5,234,12],[233,15,233,25],[234,15,234,25],[236,1,236,25],[237,2,237,25],[218,2,218,25],[202,1,202,25],[215,1,215,25],[203,2,203,14],[203,15,203,25],[213,1,213,4],[213,5,213,6],[241,2,241,25],[231,2,231,14],[231,15,231,25],[232,2,232,14],[230,5,230,12],[226,1,226,25],[225,15,225,25],[225,5,225,12],[206,1,206,25],[8,17,9,25],[200,22,200,24],[200,10,200,13],[200,15,200,20],[199,2,199,8],[199,10,199,13],[199,15,199,20],[199,22,199,24],[217,2,217,25],[181,22,181,25],[178,14,179,17],[79,22,79,25],[184,2,184,12],[184,18,184,21],[184,22,184,25],[65,13,66,17],[66,18,66,21],[65,18,65,21],[64,1,66,12],[77,2,77,12],[73,2,73,12],[74,2,74,12],[76,2,76,12],[73,18,73,21]]}
[15,2.5,3.83,{"$f":"$C$1","v":3.83},2.5,{"$f":"$C$1-E1","v":1.33},{"$f":"$C$1-H1","v":1.33},2.5,{"$f":"$C$1","v":3.83},3.83,2.5,{"$f":"$C$1-K1","v":1.33},3.83,3.83,3.83,2.5,{"$f":"C1-P1","v":1.33},3.83,3.83,3.83,3.83,3.83,3.83,3.83,3.83,3.83,"sumy",null,null,null,null,null,null,null,null,null,null,null,null,null,null,null,null,null,null,null,null,null,null,null,null,null,{"$f":"COUNTA(BC:BC)","v":80},null,{"$f":"B6&\";\"&K21&\";\"&P21&\";\"&Q24&\";\"&E28&\";\"&P28&\";\"&E35&\";\"&K35&\";\"&P35&\";\"&C38&\";\"&P38&\";\"&J40&\";\"&C43&\";\"&N43&\";\"&U43&\";\"&C46&\";\"&J46&\";\"&S46&\";\"&C48&\";\"&K48&\";\"&U48&\";\"&X48&\";\"&C50&\";\"&P50&\";\"&C53&\";\"&J53&\";\"&S53&\";\"&C55&\";\"&K55&\";\"&U55&\";\"&X55&\";\"&C57&\";\"&P57&\";\"&C209&\";\"&P209&\";\"&C224&\";\"&P224&\";\"&F226&\";\"&C229&\";\"&P229&\";\"&F231&\";\"&C233&\";\"&P233&\";\"&F235=Dane!E19","v":true}]
[{"$f":"$A$3","v":9},"Załącznik nr 5",null,null,null,null,null,null,null,null,null,null,null,null,null,null,null,null,null,null,null,null,null,null,null,null,"kontrolne",null,null,null,null,null,null,null,null,null,null,null,null,null,null,null,null,null,null,null,null,null,null,null,null,null,{"$f":"SUM(BB:BB)","v":16}]
[9,"WYPEŁNIĆ DUŻYMI, DRUKOWANYMI LITERAMI, CZARNYM LUB NIEBIESKIM KOLOREM.",null,null,null,null,null,null,null,null,null,null,null,null,null,null,null,null,null,null,null,null,null,null,null,null,null,null,null,null,null,null,null,null,null,null,null,null,null,null,null,null,null,null,null,null,null,null,null,null,null,null,{"$f":"IF(LEN(C209&P209)=0,1,0)","v":1},null,"Czy podano dane kontaktowe 114 i 115"]
[4.5,null,null,null,null,null,null,null,null,null,null,null,null,null,null,null,null,null,null,null,null,null,null,null,null,null,null,null,null,null,null,null,null,null,null,null,null,null,null,null,null,null,null,null,null,null,null,null,null,null,null,null,209]
[{"$f":"$A$3","v":9},"1. Identyfikator podatkowy NIP/numer PESEL (niepotrzebne skreślić)1)",null,null,null,null,null,null,null,null,null,null,null,null,"2.  Nr dokumentu",null,null,null,null,null,null,null,null,null,null,null,null,null,null,null,null,null,null,null,null,null,null,null,null,null,null,null,null,null,null,null,null,null,null,null,"wiersz błędu","kolumna błedu",3]
[16.5,null,null,null,null,null,null,null,null,null,null,null,null,null,null,null,null,null,null,null,null,null,null,null,null,null,{"$f":"LEN(B6)","v":0},null,null,null,null,null,null,null,null,null,null,null,null,null,null,null,null,null,null,null,null,null,null,null,6,2,1,{"$f":"IF(E35<>\"\",IF(B6<>\"\",0,1),IF(B6<>\"\",0,1))","v":1},{"$f":"IF(E35<>\"\",IF(B6<>\"\",\"ok\",\"Pole 1 [Identyfikator podatkowy NIP/numer PESEL]. Jeżeli deklarację składa osoba fizyczna nieprowadząca działalności gospodarczej, której nie nadano nr PESEL należy wpisać -brak.\"),IF(B6<>\"\",\"ok\",\"Pole 1 [Identyfikator podatkowy NIP/numer PESEL]. Jeżeli deklarację składa inny podmiot niż osoba fizyczna należy wipsać NIP.\"))","v":"Pole 1 [Identyfikator podatkowy NIP/numer PESEL]. Jeżeli deklarację składa inny podmiot niż osoba fizyczna należy wipsać NIP."}]
[16.5,"DN-1",null,null,null,null,null,null,null,null,null,null,null,null,null,null,null,null,null,null,null,null,null,null,null,null,{"$f":"SUM(BB7:BB10)","v":1},null,null,null,null,null,null,null,null,null,null,null,null,null,null,null,null,null,null,null,null,null,null,null,6,2,"1 długość 10 lub 11",{"$f":"IF(OR(LEN(B6)=10,LEN(B6)=11,B6=\"brak\"),0,1)","v":1},"Pole 1 [Identyfikator podatkowy NIP/numer PESEL] zawiera błąd."]
[{"$f":"$A$7","v":16.5},"DEKLARACJA NA PODATEK OD NIERUCHOMOŚCI",null,null,null,null,null,null,null,null,null,null,null,null,null,null,null,null,null,null,null,null,null,null,null,null,null,null,null,null,null,null,null,null,null,null,null,null,null,null,null,null,null,null,null,null,null,null,null,null,6,2,"1 NIP",{"$f":"IF(B6=\"nie nadano\",0,IF(LEN(B6)=10,IF(MOD(MOD(6*MID(B6,1,1)+5*MID(B6,2,1)+7*MID(B6,3,1)+2*MID(B6,4,1)+3*MID(B6,5,1)+4*MID(B6,6,1)+5*MID(B6,7,1)+6*MID(B6,8,1)+7*MID(B6,9,1),11),10) = 1*MID(B6,10,1),0,1),0))","v":0},"Podany w polu 1 NIP jest błędny."]
[{"$f":"$A$3","v":9},null,null,null,null,null,null,null,null,null,null,null,"3. Rok",null,null,null,null,null,null,null,null,null,null,null,null,null,null,null,null,null,null,null,null,null,null,null,null,null,null,null,null,null,null,null,null,null,null,null,null,null,6,2,"1 PESEL",{"$f":"IF(LEN(B6)=11,IF(MOD(10-MOD(1*MID(B6,1,1)+3*MID(B6,2,1)+7*MID(B6,3,1)+9*MID(B6,4,1)+1*MID(B6,5,1)+3*MID(B6,6,1)+5*MID(B6,7,1)+9*MID(B6,8,1)+1*MID(B6,9,1)+ 3*MID(B6,10,1),10),10)=1*MID(B6,11,1),0,1),0)","v":0},"Podany w polu 1 PESEL jest błędny."]
[{"$f":"$A$6","v":16.5},"NA ROK",null,null,null,null,null,null,null,null,null,null,{"$f":"Dane!AN1","v":2023},null,null,null,null,null,null,null,null,null,null,null,null,null,null,null,null,null,null,null,null,null,null,null,null,null,null,null,null,null,null,null,null,null,null,null,null,null,6,2,"1 PESEL",{"$f":"IF(AND(LEN(B6)=11,OR(K35<>\"\",P35<>\"\")       ),1,0)","v":0},"W polu 1 PESEL podają wyłącznie osoby fizyczne, które nie prowadzą działalności gospodarczej."]
[{"$f":"$A$4","v":4.5}]
[17.25,"Podstawa prawna:",null,null,"Art. 6 ust. 9, 10 i 11 ustawy z dnia 12 stycznia 1991 r. o podatkach i opłatach lokalnych (Dz. U. z 2018 r. poz. 1445, z późn. zm.), zwanej dalej „ustawą”."]
[66.75,"Składający:",null,null,"Osoby prawne, jednostki organizacyjne oraz spółki niemające osobowości prawnej, jednostki organizacyjne Krajowego Ośrodka Wsparcia Rolnictwa, a także jednostki organizacyjne Państwowego Gospodarstwa Leśnego Lasy Państwowe będące właścicielami nieruchomości lub obiektów budowlanych, posiadaczami samoistnymi nieruchomości lub obiektów budowlanych, użytkownikami wieczystymi gruntów, posiadaczami nieruchomości lub ich części albo obiektów budowlanych lub ich części, stanowiących własność Skarbu Państwa lub jednostki samorządu terytorialnego oraz osoby fizyczne będące współwłaścicielami lub współposiadaczami nieruchomości lub obiektów budowlanych z osobami prawnymi, jednostkami organizacyjnymi nieposiadającymi osobowości prawnej lub spółkami nieposiadającymi osobowości prawnej, z wyjątkiem osób tworzących wspólnotę mieszkaniową."]
[24.75,"Termin składania:",null,null,"Do dnia 31 stycznia danego roku podatkowego lub w terminie 14 dni od dnia zaistnienia okoliczności uzasadniających powstanie obowiązku podatkowego lub od dnia zaistnienia zdarzenia mającego wpływ na wysokość opodatkowania, o którym mowa w art. 6 ust. 3 ustawy."]
[{"$f":"$A$3","v":9},"Miejsce składania:",null,null,"Organ podatkowy właściwy ze względu na miejsce położenia przedmiotów opodatkowania."]
[4.5]
[{"$f":"$A$7","v":16.5},"A. MIEJSCE I CEL SKŁADANIA DEKLARACJI2)"]
[{"$f":"$A$3","v":9},null,"4. Nazwa i adres siedziby organu podatkowego"]
[{"$f":"$A$6","v":16.5},null,{"$f":"Organ","v":"Burmistrz Miasta Kluczborka, ul.Katowicka 1, 46-200 Kluczbork"}]
[{"$f":"$A$3","v":9},null,"5. Cel złożenia formularza (zaznaczyć właściwy kwadrat):"]
[15,null,null,null,null,null,null,null,null,null,null,"1. złożenie deklaracji",null,null,null,null,"2. korekta deklaracji3)",null,null,null,null,null,null,null,null,null,null,null,null,null,null,null,null,null,null,null,null,null,null,null,null,null,null,null,null,null,null,null,null,null,21,11,"5a i 5b",{"$f":"IF(LEN(K21&P21)=1,0,1)","v":1},"W polu 5 [Cel złożenia formularza] powinna być zaznaczona jedna wartość."]
[{"$f":"$A$4","v":4.5}]
[{"$f":"$A$3","v":9},null,"6. Okres – od którego deklaracja obowiązuje"]
[{"$f":"$A$6","v":16.5},null,"(miesiąc)",null,null,null,null,null,null,null,null,null,null,null,null,null,1,null,null,null,null,null,null,null,null,null,{"$f":"13-Q24","v":12},null,null,null,null,null,null,null,null,null,null,null,null,null,null,null,null,null,null,null,null,null,null,null,24,17,6,{"$f":"IF(AND(Q24>=1,Q24<=12),0,1)","v":0},"Pole 6 [Okres – od którego deklaracja obowiązuje] powinno mieć wartość 1 - 12"]
[4.5]
[{"$f":"$A$7","v":16.5},"B. PODMIOT ZOBOWIĄZANY DO ZŁOŻENIA DEKLARACJI"]
[{"$f":"$A$3","v":9},null,"7. Rodzaj podmiotu (zaznaczyć właściwy kwadrat):"]
[{"$f":"$A$21","v":15},null,null,null,null,"1. właściciel, użytkownik wieczysty lub posiadacz",null,null,null,null,null,null,null,null,null,null,"2. współwłaściciel, współużytkownik wieczysty lub współposiadacz",null,null,null,null,null,null,null,null,null,null,null,null,null,null,null,null,null,null,null,null,null,null,null,null,null,null,null,null,null,null,null,null,null,28,5,"7a i 7b",{"$f":"IF(LEN(E28&P28)=1,0,1)","v":1},"W polu 7 [Rodzaj podmiotu] powinna być zaznaczona jedna wartość."]
[{"$f":"$A$4","v":4.5}]
[4.5]
[{"$f":"$A$7","v":16.5},"C. DANE PODATNIKA"]
[{"$f":"$A$3","v":9},"* - dotyczy podatnika niebędącego osobą fizyczną  ** - dotyczy podatnika będącego osobą fizyczną",null,null,null,null,null,null,null,null,null,null,null,null,null,null,null,null,null,null,null,null,null,null,null,null,null,null,null,null,null,null,null,null,null,null,null,null,null,null,null,null,null,null,null,null,null,null,null,null,35,5,"8a, 8b i 8c",{"$f":"IF(LEN(E35&K35&P35)<>1,1,0)","v":1},"W polu 8 [Rodzaj podatnika] powinno być zaznaczona jedna wartość."]
[{"$f":"$A$7","v":16.5},"C.1. DANE IDENTYFIKACYJNE",null,null,null,null,null,null,null,null,null,null,null,null,null,null,null,null,null,null,null,null,null,null,null,null,null,null,null,null,null,null,null,null,null,null,null,null,null,null,null,null,null,null,null,null,null,null,null,null,35,5,"8b i nip",{"$f":"IF(AND(LEN(B6)<>10,K35<>\"\"),1-BB32,0)","v":0},"W polu 8 wybrano [Rodzaj podatnika - osoba prawna], więc pole 1 powinno zawierać NIP."]
[{"$f":"$A$3","v":9},null,"8. Rodzaj podatnika (zaznaczyć właściwy kwadrat):",null,null,null,null,null,null,null,null,null,null,null,null,null,null,null,null,null,null,null,null,null,null,null,null,null,null,null,null,null,null,null,null,null,null,null,null,null,null,null,null,null,null,null,null,null,null,null,35,5,"8c i nip",{"$f":"IF(AND(LEN(B6)<>10,P35<>\"\"),1-BB32,0)","v":0},"W polu 8 wybrano [Rodzaj podatnika - jednostka organizacyjna ...], więc pole 1 powinno zawierać NIP."]
[{"$f":"$A$21","v":15},null,null,null,null,"1. osoba fizyczna",null,null,null,null,null,"2. osoba prawna",null,null,null,null,"3. jednostka organizacyjna, wtym spółka nieposiadająca osobowości prawnej",null,null,null,null,null,null,null,null,null,{"$f":"SUM(BB32:BB34)","v":1}]
[{"$f":"$A$4","v":4.5}]
[{"$f":"$A$3","v":9},null,"9. Nazwa pełna * / Nazwisko **",null,null,null,null,null,null,null,null,null,null,null,null,"10. Nazwa skrócona * / Pierwsze imię**",null,null,null,null,null,null,null,null,null,null,null,12345678512347]
[{"$f":"$A$6","v":16.5},null,null,null,null,null,null,null,null,null,null,null,null,null,null,null,null,null,null,null,null,null,null,null,null,null,null,{"$f":"\"00000000000000\"&J40","v":"00000000000000"},null,null,null,null,null,null,null,null,null,null,null,null,null,null,null,null,null,null,null,null,null,null,38,3,9,{"$f":"IF(C38=\"\",1,0)","v":1},"Pole 9 [Nazwa pełna / Nazwisko] powinno być wypełnione"]
[{"$f":"$A$3","v":9},null,"11. Identyfikator REGON (w przypadku osób fizycznych REGON podaje się, o ile został nadany)",null,null,null,null,null,null,null,null,null,null,null,null,null,null,null,null,null,null,null,null,null,null,null,null,null,"REGON","regon9","regon14","regon9","regon14",null,null,null,null,null,null,null,null,null,null,null,null,null,null,null,null,null,38,16,10,{"$f":"IF(C38&P38=\"\",1,0)","v":1},"Pole 10 Nazwa skrócona / Pierwsze imię] powinno być wypełnione"]
[{"$f":"$A$6","v":16.5},null,null,null,null,null,null,null,null,null,null,null,null,null,null,null,null,null,null,null,null,null,null,null,null,null,{"$f":"LEN(J40)","v":0},14,{"$f":"LEFT(RIGHT($AB$38,AB40),1)","v":"0"},null,2,{"$f":"AD40*$AC40","v":0},{"$f":"AE40*$AC40","v":0},null,null,null,null,null,null,null,null,null,null,null,null,null,null,null,null,null,40,10,"REGON",{"$f":"IF(LEN(J40)>14,\"Podany REGON jest za długi.\",IF(LEN(J40)<=9,IF(AC53+0=AF53,0,1),IF(LEN(J40)>9,IF(AC53+0=AG53,0,1),1)))","v":0},{"$f":"IF(LEN(J40)>14,\"Podany REGON jest za długi.\",IF(LEN(J40)<=9,IF(AC53+0=AF53,\"REGON 9 cyfr ok\",\"Podany REGON jest błędny\"),IF(LEN(J40)>9,IF(AC53+0=AG53,\"REGON 14 cyfr ok\",\"Podany REGON jest błędny\"),1)))","v":"REGON 9 cyfr ok"}]
[{"$f":"$A$3","v":9},"Pola 12, 13, 14 wypełnia osoba fizyczna w przypadku, gdy numer PESEL nie został nadany.",null,null,null,null,null,null,null,null,null,null,null,null,null,null,null,null,null,null,null,null,null,null,null,null,null,{"$f":"AB40-1","v":13},{"$f":"LEFT(RIGHT($AB$38,AB41),1)","v":"0"},null,4,{"$f":"AD41*$AC41","v":0},0]
[{"$f":"$A$3","v":9},null,"12. Data urodzenia (dzień - miesiąc - rok)",null,null,null,null,null,null,null,null,null,null,"13. Imię ojca",null,null,null,null,null,null,"14. Imię matki",null,null,null,null,null,null,{"$f":"AB41-1","v":12},"0",null,8,0,0,null,null,null,null,null,null,null,null,null,null,null,null,null,null,null,null,null,43,3,12,{"$f":"IF(AND(E35<>\"\",C43=\"\",B6=\"brak\"),1,0)","v":0},"Pole 12 [Data urodzenia] wypełniają osoby fizyczne, którym nie nadano PESEL."]
[{"$f":"$A$6","v":16.5},null,null,null,null,null,null,null,null,null,null,null,null,null,null,null,null,null,null,null,null,null,null,null,null,null,null,11,"0",null,5,0,0,null,null,null,null,null,null,null,null,null,null,null,null,null,null,null,null,null,43,14,13,{"$f":"IF(AND(E35<>\"\",N43=\"\",B6=\"brak\"),1,0)","v":0},"Pole 13 [Imię ojca] wypełniają osoby fizyczne, którym nie nadano PESEL."]
[{"$f":"$A$7","v":16.5},"C.2. ADRES SIEDZIBY * / ADRES ZAMIESZKANIA **",null,null,null,null,null,null,null,null,null,null,null,null,null,null,null,null,null,null,null,null,null,null,null,null,null,10,"0",null,0,0,0,null,null,null,null,null,null,null,null,null,null,null,null,null,null,null,null,null,43,21,14,{"$f":"IF(AND(E35<>\"\",U43=\"\",B6=\"brak\"),1,0)","v":0},"Pole 12 [Imię matki] wypełniają osoby fizyczne, którym nie nadano PESEL."]
[{"$f":"$A$3","v":9},null,"15. Kraj",null,null,null,null,null,null,"16. Województwo",null,null,null,null,null,null,null,null,"17. Powiat",null,null,null,null,null,null,null,null,9,"0",8,9,0,0,null,null,null,null,null,null,null,null,null,null,null,null,null,null,null,null,null,46,3,15,{"$f":"IF(C46=\"\",1,0)","v":1},"Pole 15 [Kraj] powinno być wypełnione"]
[{"$f":"$A$6","v":16.5},null,null,null,null,null,null,null,null,null,null,null,null,null,null,null,null,null,null,null,null,null,null,null,null,null,null,8,"0",9,7,0,0,null,null,null,null,null,null,null,null,null,null,null,null,null,null,null,null,null,46,10,16,{"$f":"IF(J46=\"\",1,0)","v":1},"Pole 16 [Województwo] powinno być wypełnione"]
[{"$f":"$A$3","v":9},null,"18. Gmina",null,null,null,null,null,null,null,"19. Ulica",null,null,null,null,null,null,null,null,null,"20. Nr domu",null,null,"21. Nr lokalu",null,null,null,7,"0",2,3,0,0,null,null,null,null,null,null,null,null,null,null,null,null,null,null,null,null,null,46,19,17,{"$f":"IF(S46=\"\",1,0)","v":1},"Pole 17 [Powiat] powinno być wypełnione"]
[{"$f":"$A$6","v":16.5},null,null,null,null,null,null,null,null,null,null,null,null,null,null,null,null,null,null,null,null,null,null,null,null,null,null,6,"0",3,6,0,0,null,null,null,null,null,null,null,null,null,null,null,null,null,null,null,null,null,48,3,18,{"$f":"IF(C48=\"\",1,0)","v":1},"Pole 18 [Gmina] powinno być wypełnione"]
[{"$f":"$A$3","v":9},null,"22. Miejscowość",null,null,null,null,null,null,null,null,null,null,null,null,"23. Kod pocztowy",null,null,null,null,null,null,null,null,null,null,null,5,"0",4,1,0,0,null,null,null,null,null,null,null,null,null,null,null,null,null,null,null,null,null,48,11,"19, 20,21",{"$f":"IF(AND(K48=\"\",U48=\"\",X48=\"\"),1,0)","v":1},"Pola 19 - 21 powinny zawierać dokładny adres"]
[{"$f":"$A$6","v":16.5},null,null,null,null,null,null,null,null,null,null,null,null,null,null,null,null,null,null,null,null,null,null,null,null,null,null,4,"0",5,2,0,0,null,null,null,null,null,null,null,null,null,null,null,null,null,null,null,null,null,50,3,22,{"$f":"IF(C50=\"\",1,0)","v":1},"Pole 22 [Miejscowość] powinno być wypełnione"]
[{"$f":"$A$7","v":16.5},"C.3. ADRES DO DORĘCZEŃ Należy wypełnić tylko wówczas, gdy adres do doręczeń jest inny niż w części C.2.",null,null,null,null,null,null,null,null,null,null,null,null,null,null,null,null,null,null,null,null,null,null,null,null,null,3,"0",6,4,0,0,null,null,null,null,null,null,null,null,null,null,null,null,null,null,null,null,null,50,16,23,{"$f":"IF(P50=\"\",1,0)","v":1},"Pole 23 [Kod pocztowy] powinno być wypełnione"]
[{"$f":"$A$3","v":9},null,"24. Kraj",null,null,null,null,null,null,"25. Województwo",null,null,null,null,null,null,null,null,"26. Powiat",null,null,null,null,null,null,null,null,2,"0",7,8,0,0]
[{"$f":"$A$6","v":16.5},null,null,null,null,null,null,null,null,null,null,null,null,null,null,null,null,null,null,null,null,null,null,null,null,null,null,1,"0",null,null,{"$f":"MOD(MOD(SUM(AF40:AF52),11),10)","v":0},{"$f":"MOD(MOD(SUM(AG40:AG52),11),10)","v":0},null,null,null,null,null,null,null,null,null,null,null,null,null,null,null,null,null,53,3,"24 - 32",{"$f":"IF(AND(C46=C53,J46=J53,S46=S53,C48=C55,K48=K55,U48=U55,X48=X55,C50=C57,P50=P57),1,0)","v":1},"ADRES DO DORĘCZEŃ Należy wypełnić tylko wówczas, gdy adres do doręczeń jest inny niż w części C.2."]
[{"$f":"$A$3","v":9},null,"27. Gmina",null,null,null,null,null,null,null,"28. Ulica",null,null,null,null,null,null,null,null,null,"29. Nr domu",null,null,"30. Nr lokalu"]
[{"$f":"$A$6","v":16.5}]
[{"$f":"$A$3","v":9},null,"31. Miejscowość",null,null,null,null,null,null,null,null,null,null,null,null,"32. Kod pocztowy"]
[{"$f":"$A$6","v":16.5}]
[{"$f":"$A$3","v":9}]
[{"$f":"$A$6","v":16.5},null,{"$f":"M10&\".\"&Q24&Wersja","v":"2023.1.1.15.0.44867"},null,null,null,null,null,null,null,null,null,null,null,null,null,null,null,null,null,null,"DN-1(1)",null,null,null,"1/5"]
[9]
[9,"WYPEŁNIĆ DUŻYMI, DRUKOWANYMI LITERAMI, CZARNYM LUB NIEBIESKIM KOLOREM."]
[4.5]
[{"$f":"$A$4","v":4.5}]
[{"$f":"$A$7","v":16.5},"D. DANE O PRZEDMIOTACH OPODATKOWANIA PODLEGAJĄCYCH OPODATKOWANIU"]
[{"$f":"$A$3","v":9},"D.1. GRUNTY"]
[{"$f":"$A$7","v":16.5},null,null,null,null,null,null,null,null,null,null,null,null,"Powierzchnia w m2 / ha4)",null,null,null,null,"Stawka podatku",null,null,null,"Kwota podatku za okres, którego dotyczy deklaracja5)"]
[{"$f":"$A$3","v":9},null,null,null,null,null,null,null,null,null,null,null,null,null,null,null,null,null,"zł       gr",null,null,null,"zł       gr"]
[{"$f":"$A$3","v":9},null,"Związane z prowadzeniem działalności gospodarczej,",null,null,null,null,null,null,null,null,null,null,"33.",null,null,null,null,"34.",null,null,null,"35.",null,null,null,null,null,null,null,null,null,null,null,null,null,null,null,null,null,null,null,null,null,null,null,null,null,null,null,68,15,33,{"$f":"IF(O68<0,1,0)","v":0},{"$f":"\"Powierzchnia wykazana w polu \"&BA68&\" nie może być mniejsza od zera\"","v":"Powierzchnia wykazana w polu 33 nie może być mniejsza od zera"}]
[19.5,null,"bez względu na sposób zakwalifikowania w ewidencji\ngruntów i budynków",null,null,null,null,null,null,null,null,null,null,null,null,null,null,null,{"$f":"Dane!AN2","v":1.1299999999999999},null,null,null,{"$f":"IF(AND($AA$24>=1,$AA$24<=12),ROUND(O68*S69*$AA$24/12,2),\"Pole 6 - ???\")","v":0},null,null,null,{"$f":"Dane!AU2","v":0},null,null,null,null,null,null,null,null,null,null,null,null,null,null,null,null,null,null,null,null,null,null,null,68,15,{"$f":"IF(O68>AA69,\"większa o \",\"mniejsza o \")& ABS(O68-AA69)","v":"mniejsza o 0"},{"$f":"IF(O68=AA69,0,1)","v":0},{"$f":"\"Powierzchnia gruntów wykazana w polu \"&N68&\" jest \" &BA69& \" od sumy gruntów w zał. ZDN-1\"","v":"Powierzchnia gruntów wykazana w polu 33. jest mniejsza o 0 od sumy gruntów w zał. ZDN-1"}]
[{"$f":"$A$3","v":9},null,"Pod wodami powierzchniowymi stojącymi lub wodami",null,null,null,null,null,null,null,null,null,null,"36.",null,null,null,null,"37.",null,null,null,"38.",null,null,null,null,null,null,null,null,null,null,null,null,null,null,null,null,null,null,null,null,null,null,null,null,null,null,null,70,15,36,{"$f":"IF(O70<0,1,0)","v":0},{"$f":"\"Powierzchnia wykazana w polu \"&BA70&\" nie może być mniejsza od zera\"","v":"Powierzchnia wykazana w polu 36 nie może być mniejsza od zera"}]
[{"$f":"$A$69","v":19.5},null,"powierzchniowymi płynącymi jezior i zbiorników\nsztucznych",null,null,null,null,null,null,null,null,null,null,null,null,null,null,null,{"$f":"Dane!AN3","v":5.79},null,null,null,{"$f":"IF(AND($AA$24>=1,$AA$24<=12),ROUND(O70*S71*$AA$24/12,2),\"Pole 6 - ???\")","v":0},null,null,null,{"$f":"Dane!AU3","v":0},null,null,null,null,null,null,null,null,null,null,null,null,null,null,null,null,null,null,null,null,null,null,null,70,15,{"$f":"IF(O70>AA71,\"większa o \",\"mniejsza o \")& ABS(O70-AA71)","v":"mniejsza o 0"},{"$f":"IF(O70=AA71,0,1)","v":0},{"$f":"\"Powierzchnia gruntów wykazana w polu \"&N70&\" jest \" &BA71& \" od sumy gruntów w zał. ZDN-1\"","v":"Powierzchnia gruntów wykazana w polu 36. jest mniejsza o 0 od sumy gruntów w zał. ZDN-1"}]
[{"$f":"$A$3","v":9},null,"Pozostałe, w tym zajęte na prowadzenie odpłatnej",null,null,null,null,null,null,null,null,null,null,"39.",null,null,null,null,"40.",null,null,null,"41.",null,null,null,null,null,null,null,null,null,null,null,null,null,null,null,null,null,null,null,null,null,null,null,null,null,null,null,72,15,39,{"$f":"IF(O72<0,1,0)","v":0},{"$f":"\"Powierzchnia wykazana w polu \"&BA72&\" nie może być mniejsza od zera\"","v":"Powierzchnia wykazana w polu 39 nie może być mniejsza od zera"}]
[{"$f":"$A$69","v":19.5},null,"statutowej działalności  pożytku publicznego przez\norganizacje pożytku publicznego",null,null,null,null,null,null,null,null,null,null,null,null,null,null,null,{"$f":"Dane!AN4","v":0.56999999999999995},null,null,null,{"$f":"IF(AND($AA$24>=1,$AA$24<=12),ROUND(O72*S73*$AA$24/12,2),\"Pole 6 - ???\")","v":0},null,null,null,{"$f":"Dane!AU4","v":0},null,null,null,null,null,null,null,null,null,null,null,null,null,null,null,null,null,null,null,null,null,null,null,72,15,{"$f":"IF(O72>AA73,\"większa o \",\"mniejsza o \")& ABS(O72-AA73)","v":"mniejsza o 0"},{"$f":"IF(O72=AA73,0,1)","v":0},{"$f":"\"Powierzchnia gruntów wykazana w polu \"&N72&\" jest \" &BA73& \" od sumy gruntów w zał. ZDN-1\"","v":"Powierzchnia gruntów wykazana w polu 39. jest mniejsza o 0 od sumy gruntów w zał. ZDN-1"}]
[{"$f":"$A$3","v":9},null,"Niezabudowane objęte obszarem rewitalizacji, o którym",null,null,null,null,null,null,null,null,null,null,"42.",null,null,null,null,"43.",null,null,null,"44.",null,null,null,null,null,null,null,null,null,null,null,null,null,null,null,null,null,null,null,null,null,null,null,null,null,null,null,74,15,42,{"$f":"IF(O74<0,1,0)","v":0},{"$f":"\"Powierzchnia wykazana w polu \"&BA74&\" nie może być mniejsza od zera\"","v":"Powierzchnia wykazana w polu 42 nie może być mniejsza od zera"}]
[{"$f":"$A$69*4.5","v":87.75},null,"mowa w ustawie z dnia 9 października 2015 r. o rewitalizacji (Dz. U. z 2018 r. poz. 1398, z późn. zm.), i położone na terenach, dla których miejscowy plan zagospodarowania przestrzennego przewiduje przeznaczenie pod zabudowę mieszkaniową, usługową albo zabudowę o przeznaczeniu mieszanym obejmującym wyłącznie te rodzaje zabudowy, jeżeli od dnia wejścia w życie tego planu w odniesieniu do tych gruntów upłynął okres 4 lat, a w tym czasie nie zakończono budowy zgodnie z przepisami prawa budowlanego ",null,null,null,null,null,null,null,null,null,null,null,null,null,null,null,{"$f":"Dane!AN6","v":3.78},null,null,null,{"$f":"IF(AND($AA$24>=1,$AA$24<=12),ROUND(O74*S75*$AA$24/12,2),\"Pole 6 - ???\")","v":0},null,null,null,{"$f":"Dane!AU6","v":0},null,null,null,null,null,null,null,null,null,null,null,null,null,null,null,null,null,null,null,null,null,null,null,74,15,{"$f":"IF(O74>AA75,\"większa o \",\"mniejsza o \")& ABS(O74-AA75)","v":"mniejsza o 0"},{"$f":"IF(O74=AA75,0,1)","v":0},{"$f":"\"Powierzchnia gruntów wykazana w polu \"&N74&\" jest \" &BA75& \" od sumy gruntów w zał. ZDN-1\"","v":"Powierzchnia gruntów wykazana w polu 42. jest mniejsza o 0 od sumy gruntów w zał. ZDN-1"}]
[{"$f":"$A$7*1.5","v":24.75},"D.1.1. INNE GRUNTY (1) Należy wypełnić tylko dla rodzajów przedmiotów opodatkowania innych niż określone w części D.1.\n        Podać nazwę rodzaju przedmiotu opodatkowania lub jednostkę redakcyjną - zgodnie z uchwałą rady gminy."]
[{"$f":"$A$3","v":9},null,"45. Rodzaj przedmiotu opodatkowania",null,null,null,null,null,null,null,null,null,null,"46.",null,null,null,null,"47.",null,null,null,"48.",null,null,null,null,null,null,null,null,null,null,null,null,null,null,null,null,null,null,null,null,null,null,null,null,null,null,null,46,15,46,{"$f":"IF(O77<0,1,0)","v":0},{"$f":"\"Powierzchnia wykazana w polu \"&BA77&\" nie może być mniejsza od zera\"","v":"Powierzchnia wykazana w polu 46 nie może być mniejsza od zera"}]
[{"$f":"$A$3","v":9},null,"oznaczone w ewidencji gruntów i budynków jako",null,null,null,null,null,null,null,null,null,null,null,null,null,null,null,{"$f":"Dane!AN5","v":0.28000000000000003},null,null,null,{"$f":"IF(AND($AA$24>=1,$AA$24<=12),ROUND(O77*S78*$AA$24/12,2),\"Pole 6 - ???\")","v":0},null,null,null,{"$f":"Dane!AU5","v":0},null,null,null,null,null,null,null,null,null,null,null,null,null,null,null,null,null,null,null,null,null,null,null,46,15,{"$f":"IF(O77>AA78,\"większa o \",\"mniejsza o \")& ABS(O77-AA78)","v":"mniejsza o 0"},{"$f":"IF(O77=AA78,0,1)","v":0},{"$f":"\"Powierzchnia gruntów wykazana w polu \"&N77&\" jest \" &BA78& \" od sumy gruntów w zał. ZDN-1\"","v":"Powierzchnia gruntów wykazana w polu 46. jest mniejsza o 0 od sumy gruntów w zał. ZDN-1"}]
[{"$f":"$A$69*2","v":39},null,"dr - drogi z wyjątkiem: związanych z działalnością gospodarczą oraz podlegających wyłączeniu od opodatkowania na mocy art. 2 ust. 3 pkt 4 ustawy o podatkach i opłatach lokalnych"]
[{"$f":"$A$3","v":9},null,"49. Rodzaj przedmiotu opodatkowania",null,null,null,null,null,null,null,null,null,null,"50.",null,null,null,null,"51.",null,null,null,"52."]
[{"$f":"$A$69","v":19.5}]
[{"$f":"$A$7*1.5","v":24.75},"D.1.2. INNE GRUNTY (2) Należy wypełnić tylko dla rodzajów przedmiotów opodatkowania innych niż określone w części D.1.\n        Podać nazwę rodzaju przedmiotu opodatkowania lub jednostkę redakcyjną - zgodnie z uchwałą rady gminy."]
[{"$f":"$A$3","v":9},null,"45. Rodzaj przedmiotu opodatkowania",null,null,null,null,null,null,null,null,null,null,"46.",null,null,null,null,"47.",null,null,null,"48."]
[{"$f":"$A$69","v":19.5}]
[{"$f":"$A$3","v":9},null,"49. Rodzaj przedmiotu opodatkowania",null,null,null,null,null,null,null,null,null,null,"50.",null,null,null,null,"51.",null,null,null,"52."]
[{"$f":"$A$69","v":19.5}]
[{"$f":"$A$7*3","v":49.5},"D.2. BUDYNKI LUB ICH CZĘŚCI Do powierzchni użytkowej budynku lub jego części zalicza się powierzchnię mierzoną \n        po wewnętrznej długości ścian na wszystkich kondygnacjach, z wyjątkiem powierzchni klatek schodowych oraz szybów dźwigowych;\n        za kondygnację uważa się również garaże podziemne, piwnice, sutereny i poddasza użytkowe.\n        Powierzchnię pomieszczeń lub ich części oraz część kondygnacji o wysokości w świetle od 1,40 m do 2,20 m zalicza się do powierzchni\n        użytkowej budynku w 50%, a jeżeli wysokość jest mniejsza niż 1,40 m, powierzchnię tę pomija się.",null,null,null,null,null,null,null,null,null,null,null,null,null,null,null,null,null,null,null,null,null,null,null,null,{"$f":"SUM(AA91:AA175)","v":0},null,null,null,null,null,null,null,null,null,null,null,null,null,null,null,null,null,null,null,null,null,null,null,null,null,null,null,"Suma budynków"]
[{"$f":"$A$7","v":16.5},null,null,null,null,null,null,null,null,null,null,null,null,"Powierzchnia użytkowa w m2",null,null,null,null,"Stawka podatku",null,null,null,"Kwota podatku za okres, którego dotyczy deklaracja5)"]
[{"$f":"$A$3","v":9},null,null,null,null,null,null,null,null,null,null,null,null,null,null,null,null,null,"zł       gr",null,null,null,"zł       gr"]
[{"$f":"$A$3","v":9},null,"Budynki mieszkalne - ogółem",null,null,null,null,null,null,null,null,null,null,"53.",null,null,null,null,"54.",null,null,null,"55."]
[{"$f":"$A$69","v":19.5},null,null,null,null,null,null,null,null,null,null,null,null,{"$f":"SUM(O92:R95)","v":0},null,null,null,null,{"$f":"Dane!AN7","v":0.98},null,null,null,{"$f":"IF(AND($AA$24>=1,$AA$24<=12),ROUND(N91*S91*$AA$24/12,2),\"Pole 6 - ???\")","v":0},null,null,null,{"$f":"Dane!AU7","v":0},null,null,null,null,null,null,null,null,null,null,null,null,null,null,null,null,null,null,null,null,null,null,null,94,15,{"$f":"IF(O90>AA91,\"większa o \",\"mniejsza o \")& ABS(O90-AA91)","v":"mniejsza o 0"},{"$f":"IF(N91=AA91,0,1)","v":0},{"$f":"\"Powierzchnia budynków wykazana w polu \"&N90&\" jest \" &BA91& \" od sumy budynków w zał. ZDN-1\"","v":"Powierzchnia budynków wykazana w polu 53. jest mniejsza o 0 od sumy budynków w zał. ZDN-1"}]
[{"$f":"$A$3","v":9},null,"w tym kondygnacji o wysokości:",null,null,null,null,null,"- od 1,40 do 2,20 m",null,null,null,null,"56."]
[{"$f":"$A$69","v":19.5},null,null,null,null,null,null,null,null,null,null,null,null,null,null,null,null,null,null,null,null,null,null,null,null,null,null,null,null,null,null,null,null,null,null,null,null,null,null,null,null,null,null,null,null,null,null,null,null,null,92,15,56,{"$f":"IF(O92<0,1,0)","v":0},{"$f":"\"Powierzchnia wykazana w polu \"&BA93&\" nie może być mniejsza od zera\"","v":"Powierzchnia wykazana w polu 56 nie może być mniejsza od zera"}]
[{"$f":"$A$3","v":9},null,null,null,null,null,null,null,"- powyżej 2,20 m",null,null,null,null,"57."]
[{"$f":"$A$69","v":19.5},null,null,null,null,null,null,null,null,null,null,null,null,null,null,null,null,null,null,null,null,null,null,null,null,null,null,null,null,null,null,null,null,null,null,null,null,null,null,null,null,null,null,null,null,null,null,null,null,null,94,15,57,{"$f":"IF(O94<0,1,0)","v":0},{"$f":"\"Powierzchnia wykazana w polu \"&BA95&\" nie może być mniejsza od zera\"","v":"Powierzchnia wykazana w polu 57 nie może być mniejsza od zera"}]
[{"$f":"$A$3","v":9}]
[{"$f":"$A$3","v":9}]
[9]
[9]
[9]
[9]
[9]
[9]
[9]
[9]
[9]
[9]
[9]
[9]
[{"$f":"$A$6","v":16.5},"DN-1(1)",null,null,null,"2/5",null,null,null,null,null,null,null,null,null,null,null,{"$f":"M10&\".\"&Q24&Wersja","v":"2023.1.1.15.0.44867"}]
[{"$f":"$A$3","v":9}]
[9,"WYPEŁNIĆ DUŻYMI, DRUKOWANYMI LITERAMI, CZARNYM LUB NIEBIESKIM KOLOREM."]
[4.5]
[{"$f":"$A$3","v":9},null,"Związane z prowadzeniem działalności gospodarczej",null,null,null,null,null,null,null,null,null,null,"58.",null,null,null,null,"59.",null,null,null,"60."]
[{"$f":"$A$69","v":19.5},null,"oraz budynki mieszkalne lub ich części zajęte na\nprowadzenie działalności gospodarczej - ogółem",null,null,null,null,null,null,null,null,null,null,{"$f":"SUM(O116:R119)","v":0},null,null,null,null,{"$f":"Dane!AN8","v":27.75},null,null,null,{"$f":"IF(AND($AA$24>=1,$AA$24<=12),ROUND(N115*S115*$AA$24/12,2),\"Pole 6 - ???\")","v":0},null,null,null,{"$f":"Dane!AU8","v":0},null,null,null,null,null,null,null,null,null,null,null,null,null,null,null,null,null,null,null,null,null,null,null,118,15,{"$f":"IF(O114>AA115,\"większa o \",\"mniejsza o \")& ABS(O114-AA115)","v":"mniejsza o 0"},{"$f":"IF(N115=AA115,0,1)","v":0},{"$f":"\"Powierzchnia budynków wykazana w polu \"&N114&\" jest \" &BA115& \" od sumy budynków w zał. ZDN-1\"","v":"Powierzchnia budynków wykazana w polu 58. jest mniejsza o 0 od sumy budynków w zał. ZDN-1"}]
[{"$f":"$A$3","v":9},null,"w tym kondygnacji o wysokości:",null,null,null,null,null,"- od 1,40 do 2,20 m",null,null,null,null,"61."]
[{"$f":"$A$69","v":19.5},null,null,null,null,null,null,null,null,null,null,null,null,null,null,null,null,null,null,null,null,null,null,null,null,null,null,null,null,null,null,null,null,null,null,null,null,null,null,null,null,null,null,null,null,null,null,null,null,null,116,15,61,{"$f":"IF(O116<0,1,0)","v":0},{"$f":"\"Powierzchnia wykazana w polu \"&BA117&\" nie może być mniejsza od zera\"","v":"Powierzchnia wykazana w polu 61 nie może być mniejsza od zera"}]
[{"$f":"$A$3","v":9},null,null,null,null,null,null,null,"- powyżej 2,20 m",null,null,null,null,"62."]
[{"$f":"$A$69","v":19.5},null,null,null,null,null,null,null,null,null,null,null,null,null,null,null,null,null,null,null,null,null,null,null,null,null,null,null,null,null,null,null,null,null,null,null,null,null,null,null,null,null,null,null,null,null,null,null,null,null,118,15,62,{"$f":"IF(O118<0,1,0)","v":0},{"$f":"\"Powierzchnia wykazana w polu \"&BA119&\" nie może być mniejsza od zera\"","v":"Powierzchnia wykazana w polu 62 nie może być mniejsza od zera"}]
[{"$f":"$A$3","v":9},null,"Zajęte na prowadzenie działalności gospodarczej w",null,null,null,null,null,null,null,null,null,null,"63.",null,null,null,null,"64.",null,null,null,"65."]
[{"$f":"$A$69","v":19.5},null,"zakresie obrotu kwalifikowanym materiałem siewnym -\nogółem",null,null,null,null,null,null,null,null,null,null,{"$f":"SUM(O122:R125)","v":0},null,null,null,null,{"$f":"Dane!AN10","v":13.47},null,null,null,{"$f":"IF(AND($AA$24>=1,$AA$24<=12),ROUND(N121*S121*$AA$24/12,2),\"Pole 6 - ???\")","v":0},null,null,null,{"$f":"Dane!AU10","v":0},null,null,null,null,null,null,null,null,null,null,null,null,null,null,null,null,null,null,null,null,null,null,null,124,15,{"$f":"IF(O120>AA121,\"większa o \",\"mniejsza o \")& ABS(O120-AA121)","v":"mniejsza o 0"},{"$f":"IF(N121=AA121,0,1)","v":0},{"$f":"\"Powierzchnia budynków wykazana w polu \"&N120&\" jest \" &BA121& \" od sumy budynków w zał. ZDN-1\"","v":"Powierzchnia budynków wykazana w polu 63. jest mniejsza o 0 od sumy budynków w zał. ZDN-1"}]
[{"$f":"$A$3","v":9},null,"w tym kondygnacji o wysokości:",null,null,null,null,null,"- od 1,40 do 2,20 m",null,null,null,null,"66."]
[{"$f":"$A$69","v":19.5},null,null,null,null,null,null,null,null,null,null,null,null,null,null,null,null,null,null,null,null,null,null,null,null,null,null,null,null,null,null,null,null,null,null,null,null,null,null,null,null,null,null,null,null,null,null,null,null,null,122,15,66,{"$f":"IF(O122<0,1,0)","v":0},{"$f":"\"Powierzchnia wykazana w polu \"&BA123&\" nie może być mniejsza od zera\"","v":"Powierzchnia wykazana w polu 66 nie może być mniejsza od zera"}]
[{"$f":"$A$3","v":9},null,null,null,null,null,null,null,"- powyżej 2,20 m",null,null,null,null,"67."]
[{"$f":"$A$69","v":19.5},null,null,null,null,null,null,null,null,null,null,null,null,null,null,null,null,null,null,null,null,null,null,null,null,null,null,null,null,null,null,null,null,null,null,null,null,null,null,null,null,null,null,null,null,null,null,null,null,null,124,15,67,{"$f":"IF(O124<0,1,0)","v":0},{"$f":"\"Powierzchnia wykazana w polu \"&BA125&\" nie może być mniejsza od zera\"","v":"Powierzchnia wykazana w polu 67 nie może być mniejsza od zera"}]
[{"$f":"$A$3","v":9},null,"Związane z udzielaniem świadczeń zdrowotnych w",null,null,null,null,null,null,null,null,null,null,"68.",null,null,null,null,"69.",null,null,null,"70."]
[{"$f":"$A$69","v":19.5},null,"rozumieniu przepisów o działalności leczniczej, zajęte\nprzez podmioty udzielające tych świadczeń - ogółem",null,null,null,null,null,null,null,null,null,null,{"$f":"SUM(O128:R131)","v":0},null,null,null,null,{"$f":"Dane!AN11","v":5.87},null,null,null,{"$f":"IF(AND($AA$24>=1,$AA$24<=12),ROUND(N127*S127*$AA$24/12,2),\"Pole 6 - ???\")","v":0},null,null,null,{"$f":"Dane!AU11","v":0},null,null,null,null,null,null,null,null,null,null,null,null,null,null,null,null,null,null,null,null,null,null,null,130,15,{"$f":"IF(O126>AA127,\"większa o \",\"mniejsza o \")& ABS(O126-AA127)","v":"mniejsza o 0"},{"$f":"IF(N127=AA127,0,1)","v":0},{"$f":"\"Powierzchnia budynków wykazana w polu \"&N126&\" jest \" &BA127& \" od sumy budynków w zał. ZDN-1\"","v":"Powierzchnia budynków wykazana w polu 68. jest mniejsza o 0 od sumy budynków w zał. ZDN-1"}]
[{"$f":"$A$3","v":9},null,"w tym kondygnacji o wysokości:",null,null,null,null,null,"- od 1,40 do 2,20 m",null,null,null,null,"71."]
[{"$f":"$A$69","v":19.5},null,null,null,null,null,null,null,null,null,null,null,null,null,null,null,null,null,null,null,null,null,null,null,null,null,null,null,null,null,null,null,null,null,null,null,null,null,null,null,null,null,null,null,null,null,null,null,null,null,128,15,71,{"$f":"IF(O128<0,1,0)","v":0},{"$f":"\"Powierzchnia wykazana w polu \"&BA129&\" nie może być mniejsza od zera\"","v":"Powierzchnia wykazana w polu 71 nie może być mniejsza od zera"}]
[{"$f":"$A$3","v":9},null,null,null,null,null,null,null,"- powyżej 2,20 m",null,null,null,null,"72."]
[{"$f":"$A$69","v":19.5},null,null,null,null,null,null,null,null,null,null,null,null,null,null,null,null,null,null,null,null,null,null,null,null,null,null,null,null,null,null,null,null,null,null,null,null,null,null,null,null,null,null,null,null,null,null,null,null,null,130,15,73,{"$f":"IF(O130<0,1,0)","v":0},{"$f":"\"Powierzchnia wykazana w polu \"&BA131&\" nie może być mniejsza od zera\"","v":"Powierzchnia wykazana w polu 73 nie może być mniejsza od zera"}]
[{"$f":"$A$3","v":9},null,"Pozostałe, w tym zajęte na prowadzenie odpłatnej",null,null,null,null,null,null,null,null,null,null,"73.",null,null,null,null,"74.",null,null,null,"75."]
[{"$f":"$A$69","v":19.5},null,"statutowej działalności pożytku publicznego przez\norganizacje pożytku publicznego - ogółem",null,null,null,null,null,null,null,null,null,null,{"$f":"SUM(O134:R137)","v":0},null,null,null,null,{"$f":"Dane!AN12","v":7.7},null,null,null,{"$f":"IF(AND($AA$24>=1,$AA$24<=12),ROUND(N133*S133*$AA$24/12,2),\"Pole 6 - ???\")","v":0},null,null,null,{"$f":"Dane!AU12","v":0},null,null,null,null,null,null,null,null,null,null,null,null,null,null,null,null,null,null,null,null,null,null,null,136,15,{"$f":"IF(O132>AA133,\"większa o \",\"mniejsza o \")& ABS(O132-AA133)","v":"mniejsza o 0"},{"$f":"IF(N133=AA133,0,1)","v":0},{"$f":"\"Powierzchnia budynków wykazana w polu \"&N132&\" jest \" &BA133& \" od sumy budynków w zał. ZDN-1\"","v":"Powierzchnia budynków wykazana w polu 73. jest mniejsza o 0 od sumy budynków w zał. ZDN-1"}]
[{"$f":"$A$3","v":9},null,"w tym kondygnacji o wysokości:",null,null,null,null,null,"- od 1,40 do 2,20 m",null,null,null,null,"76."]
[{"$f":"$A$69","v":19.5},null,null,null,null,null,null,null,null,null,null,null,null,null,null,null,null,null,null,null,null,null,null,null,null,null,null,null,null,null,null,null,null,null,null,null,null,null,null,null,null,null,null,null,null,null,null,null,null,null,134,15,76,{"$f":"IF(O134<0,1,0)","v":0},{"$f":"\"Powierzchnia wykazana w polu \"&BA135&\" nie może być mniejsza od zera\"","v":"Powierzchnia wykazana w polu 76 nie może być mniejsza od zera"}]
[{"$f":"$A$3","v":9},null,null,null,null,null,null,null,"- powyżej 2,20 m",null,null,null,null,"77."]
[{"$f":"$A$69","v":19.5},null,null,null,null,null,null,null,null,null,null,null,null,null,null,null,null,null,null,null,null,null,null,null,null,null,null,null,null,null,null,null,null,null,null,null,null,null,null,null,null,null,null,null,null,null,null,null,null,null,136,15,77,{"$f":"IF(O136<0,1,0)","v":0},{"$f":"\"Powierzchnia wykazana w polu \"&BA137&\" nie może być mniejsza od zera\"","v":"Powierzchnia wykazana w polu 77 nie może być mniejsza od zera"}]
[{"$f":"$A$7*1.5","v":24.75},"D.2.1. INNE BUDYNKI LUB ICH CZĘŚCI (1) Należy wypełnić tylko dla rodzajów przedmiotów opodatkowania innych niż określone w części D.2. Podać nazwę rodzaju przedmiotu opodatkowania lub jednostkę redakcyjną - zgodnie z uchwałą rady gminy."]
[{"$f":"$A$3","v":9},null,"78. Rodzaj przedmiotu opodatkowania",null,null,null,null,null,null,null,null,null,null,"79.",null,null,null,null,"80.",null,null,null,"81."]
[{"$f":"$A$69*2.5","v":48.75},null,"związanych z prowadzeniem działalności gospodarczej oraz od budynków mieszkalnych lub ich części zajętych na prowadzenie działalności gospodarczej za każdy następny 1 m2 powierzchni użytkowej powyżej 45.000 m2",null,null,null,null,null,null,null,null,null,null,{"$f":"SUM(O141:R144)","v":0},null,null,null,null,{"$f":"Dane!AN9","v":0.1},null,null,null,{"$f":"IF(AND($AA$24>=1,$AA$24<=12),ROUND(N140*S140*$AA$24/12,2),\"Pole 6 - ???\")","v":0},null,null,null,{"$f":"Dane!AU9","v":0},null,null,null,null,null,null,null,null,null,null,null,null,null,null,null,null,null,null,null,null,null,null,null,143,15,{"$f":"IF(O139>AA140,\"większa o \",\"mniejsza o \")& ABS(O139-AA140)","v":"mniejsza o 0"},{"$f":"IF(N140=AA140,0,1)","v":0},{"$f":"\"Powierzchnia budynków wykazana w polu \"&N139&\" jest \" &BA140& \" od sumy budynków w zał. ZDN-1\"","v":"Powierzchnia budynków wykazana w polu 79. jest mniejsza o 0 od sumy budynków w zał. ZDN-1"}]
[{"$f":"$A$3","v":9},null,"w tym kondygnacji o wysokości:",null,null,null,null,null,"- od 1,40 do 2,20 m",null,null,null,null,"82."]
[{"$f":"$A$69","v":19.5},null,null,null,null,null,null,null,null,null,null,null,null,null,null,null,null,null,null,null,null,null,null,null,null,null,null,null,null,null,null,null,null,null,null,null,null,null,null,null,null,null,null,null,null,null,null,null,null,null,141,15,82,{"$f":"IF(O141<0,1,0)","v":0},{"$f":"\"Powierzchnia wykazana w polu \"&BA142&\" nie może być mniejsza od zera\"","v":"Powierzchnia wykazana w polu 82 nie może być mniejsza od zera"}]
[{"$f":"$A$3","v":9},null,null,null,null,null,null,null,"- powyżej 2,20 m",null,null,null,null,"83."]
[{"$f":"$A$69","v":19.5},null,null,null,null,null,null,null,null,null,null,null,null,null,null,null,null,null,null,null,null,null,null,null,null,null,null,null,null,null,null,null,null,null,null,null,null,null,null,null,null,null,null,null,null,null,null,null,null,null,143,15,83,{"$f":"IF(O143<0,1,0)","v":0},{"$f":"\"Powierzchnia wykazana w polu \"&BA144&\" nie może być mniejsza od zera\"","v":"Powierzchnia wykazana w polu 83 nie może być mniejsza od zera"}]
[{"$f":"$A$3","v":9},null,"84. Rodzaj przedmiotu opodatkowania",null,null,null,null,null,null,null,null,null,null,"85.",null,null,null,null,"86.",null,null,null,"87."]
[{"$f":"$A$69","v":19.5}]
[{"$f":"$A$3","v":9},null,"w tym kondygnacji o wysokości:",null,null,null,null,null,"- od 1,40 do 2,20 m",null,null,null,null,"88."]
[{"$f":"$A$69","v":19.5}]
[{"$f":"$A$3","v":9},null,null,null,null,null,null,null,"- powyżej 2,20 m",null,null,null,null,"89."]
[{"$f":"$A$69","v":19.5}]
[{"$f":"$A$7*1.5","v":24.75},"D.2.2. INNE BUDYNKI LUB ICH CZĘŚCI (2) Należy wypełnić tylko dla rodzajów przedmiotów opodatkowania innych niż określone w części D.2. Podać nazwę rodzaju przedmiotu opodatkowania lub jednostkę redakcyjną - zgodnie z uchwałą rady gminy."]
[{"$f":"$A$3","v":9},null,"78. Rodzaj przedmiotu opodatkowania",null,null,null,null,null,null,null,null,null,null,"79.",null,null,null,null,"80.",null,null,null,"81."]
[{"$f":"$A$69","v":19.5}]
[{"$f":"$A$3","v":9},null,"w tym kondygnacji o wysokości:",null,null,null,null,null,"- od 1,40 do 2,20 m",null,null,null,null,"82."]
[{"$f":"$A$69","v":19.5}]
[{"$f":"$A$3","v":9}]
[{"$f":"$A$3","v":9}]
[{"$f":"$A$3","v":9}]
[9]
[9]
[9]
[9]
[9]
[{"$f":"$A$6","v":16.5},null,{"$f":"M10&\".\"&Q24&Wersja","v":"2023.1.1.15.0.44867"},null,null,null,null,null,null,null,null,null,null,null,null,null,null,null,null,null,null,"DN-1(1)",null,null,null,"3/5"]
[{"$f":"$A$3","v":9}]
[9,"WYPEŁNIĆ DUŻYMI, DRUKOWANYMI LITERAMI, CZARNYM LUB NIEBIESKIM KOLOREM."]
[4.5]
[{"$f":"$A$3","v":9},null,null,null,null,null,null,null,"- powyżej 2,20 m",null,null,null,null,"83."]
[{"$f":"$A$69","v":19.5}]
[{"$f":"$A$3","v":9},null,"84. Rodzaj przedmiotu opodatkowania",null,null,null,null,null,null,null,null,null,null,"85.",null,null,null,null,"86.",null,null,null,"87."]
[{"$f":"$A$69","v":19.5}]
[{"$f":"$A$3","v":9},null,"w tym kondygnacji o wysokości:",null,null,null,null,null,"- od 1,40 do 2,20 m",null,null,null,null,"88."]
[{"$f":"$A$69","v":19.5}]
[{"$f":"$A$3","v":9},null,null,null,null,null,null,null,"- powyżej 2,20 m",null,null,null,null,"89."]
[{"$f":"$A$69","v":19.5}]
[{"$f":"$A$7","v":16.5},"D.3. BUDOWLE LUB ICH CZĘŚCI ZWIĄZANE Z PROWADZENIEM DZIAŁALNOŚCI",null,null,null,null,null,null,null,null,null,null,null,null,null,null,null,null,null,null,null,null,null,null,null,null,null,null,null,null,null,null,null,null,null,null,null,null,null,null,null,null,null,null,null,null,null,null,null,null,null,null,null,null,"Suma budowli"]
[18,null,"GOSPODARCZEJ",null,null,null,null,null,null,null,null,null,null,"Wartość\n(po zaokrągleniu do pełnych złotych)",null,null,null,null,"Stawka podatku",null,null,null,"Kwota podatku za okres, którego dotyczy deklaracja5)"]
[{"$f":"$A$3","v":9},null,null,null,null,null,null,null,null,null,null,null,null,"zł",null,null,null,null,"%",null,null,null,"zł         gr"]
[{"$f":"$A$3","v":9},null,"Budowle",null,null,null,null,null,null,null,null,null,null,"90.",null,null,null,null,"91.",null,null,null,"92."]
[{"$f":"$A$69","v":19.5},null,null,null,null,null,null,null,null,null,null,null,null,null,null,null,null,null,{"$f":"Dane!AN14","v":2},null,null,null,{"$f":"IF(AND($AA$24>=1,$AA$24<=12),ROUND(O179*S180*$AA$24/1200,2),\"Pole 6 - ???\")","v":0},null,null,null,{"$f":"Dane!AU14","v":0},null,null,null,null,null,null,null,null,null,null,null,null,null,null,null,null,null,null,null,null,null,null,null,179,15,{"$f":"IF(O179>AA180,\"większa o \",\"mniejsza o \")& ROUND(ABS(O179-AA180),4)","v":"mniejsza o 0"},{"$f":"IF(O179=AA180,0,1)","v":0},{"$f":"\"Wartość budowli wykazana w polu \"&N179&\" jest \" &BA180& \" zł od łącznej wartości budowli w zał. ZDN-1\"","v":"Wartość budowli wykazana w polu 90. jest mniejsza o 0 zł od łącznej wartości budowli w zał. ZDN-1"}]
[{"$f":"$A$7*1.5","v":24.75},"D.3.1. INNE BUDOWLE LUB ICH CZĘŚCI (1) Należy wypełnić tylko dla rodzajów przedmiotów opodatkowania innych niż określone w części D.3. Podać nazwę rodzaju przedmiotu opodatkowania lub jednostkę redakcyjną - zgodnie z uchwałą rady gminy.",null,null,null,null,null,null,null,null,null,null,null,null,null,null,null,null,null,null,null,null,null,null,null,null,{"$f":"O179-QUOTIENT(O179,1)","v":0},null,null,null,null,null,null,null,null,null,null,null,null,null,null,null,null,null,null,null,null,null,null,null,179,15,{"$f":"IF(SUM(BB180:BB181)=0,0,1)","v":0},{"$f":"IF(AA181=0,0,1)","v":0},"Wartość budowli podaje się po zaokrągleniu do pełnych złotych."]
[{"$f":"$A$3","v":9},null,"93. Rodzaj przedmiotu opodatkowania",null,null,null,null,null,null,null,null,null,null,"94.",null,null,null,null,"95.",null,null,null,"96."]
[{"$f":"$A$69","v":19.5},null,"sieci kanalizacji sanitarnej wraz z przykanalikami",null,null,null,null,null,null,null,null,null,null,null,null,null,null,null,{"$f":"Dane!AN13","v":0.5},null,null,null,{"$f":"IF(AND($AA$24>=1,$AA$24<=12),ROUND(O182*S183*$AA$24/1200,2),\"Pole 6 - ???\")","v":0},null,null,null,{"$f":"Dane!AU13","v":0},null,null,null,null,null,null,null,null,null,null,null,null,null,null,null,null,null,null,null,null,null,null,null,182,15,{"$f":"IF(O182>AA183,\"większa o \",\"mniejsza o \")& ABS(O182-AA183)","v":"mniejsza o 0"},{"$f":"IF(O182=AA183,0,1)","v":0},{"$f":"\"Wartość budowli wykazana w polu \"&N182&\" jest \" &BA183& \" od sumy gruntów w zał. ZDN-1\"","v":"Wartość budowli wykazana w polu 94. jest mniejsza o 0 od sumy gruntów w zał. ZDN-1"}]
[{"$f":"$A$7*1.5","v":24.75},"D.3.2. INNE BUDOWLE LUB ICH CZĘŚCI (2) Należy wypełnić tylko dla rodzajów przedmiotów opodatkowania innych niż określone w części D.3. Podać nazwę rodzaju przedmiotu opodatkowania lub jednostkę redakcyjną - zgodnie z uchwałą rady gminy.",null,null,null,null,null,null,null,null,null,null,null,null,null,null,null,null,null,null,null,null,null,null,null,null,{"$f":"O182-QUOTIENT(O182,1)","v":0},null,null,null,null,null,null,null,null,null,null,null,null,null,null,null,null,null,null,null,null,null,null,null,null,null,{"$f":"IF(SUM(BB183:BB184)=0,0,1)","v":0},{"$f":"IF(AA184=0,0,1)","v":0},"Wartość budowli podaje się po zaokrągleniu do pełnych złotych."]
[{"$f":"$A$3","v":9},null,"93. Rodzaj przedmiotu opodatkowania",null,null,null,null,null,null,null,null,null,null,"94.",null,null,null,null,"95.",null,null,null,"96."]
[{"$f":"$A$69","v":19.5}]
[4.5]
[{"$f":"$A$7","v":16.5},"E. WYSOKOŚĆ ZOBOWIĄZANIA PODATKOWEGO I RAT PODATKU"]
[{"$f":"$A$3","v":9},null,"Łączna kwota podatku za okres, którego dotyczy deklaracja\nSuma kwot podatku z części D.1, D.2 i D.3.",null,null,null,null,null,null,null,null,null,null,null,null,null,null,null,null,null,"97.\nzł,         gr."]
[{"$f":"$A$69","v":19.5},null,null,null,null,null,null,null,null,null,null,null,null,null,null,null,null,null,null,null,{"$f":"IF(AND($Q$24>=1,$Q$24<=12),QUOTIENT(SUM(W186,W183,W180,W171,W153,W146,W140,W133,W127,W121,W115,W91,W86,W84,W81,W78,W75,W73,W71,W69),1),\"Pole 6 - ???\")","v":0},null,null,"zł",{"$f":"IF(AND($AA$24>=1,$AA$24<=12),(AA190-U190)*100,\"???\")","v":0},"gr",{"$f":"IF(AND($Q$24>=1,$Q$24<=12),SUM(W186,W183,W180,W171,W153,W146,W140,W133,W127,W121,W115,W91,W86,W84,W81,W78,W75,W73,W71,W69),\"Pole 6 - ???\")","v":0}]
[{"$f":"$A$3","v":9},null,"Kwota podatku za miesiące nieobjęte deklaracją6)\nJeżeli w poz. 5 zaznaczono kwadrat 1, należy wpisać 0.",null,null,null,null,null,null,null,null,null,null,null,null,null,null,null,null,null,"98.\nzł,         gr.",null,null,null,null,null,{"$f":"U192+Y192/100","v":0}]
[{"$f":"$A$69","v":19.5},null,null,null,null,null,null,null,null,null,null,null,null,null,null,null,null,null,null,null,null,null,null,"zł",null,"gr",{"$f":"SUM(BB192:BB193)","v":0},null,null,null,null,null,null,null,null,null,null,null,null,null,null,null,null,null,null,null,null,null,null,null,192,21,"6 i 98",{"$f":"IF(AND(U192>0,Q24=1),1,0)","v":0},"Ponieważ w polu 6 [Okres – od którego deklaracja obowiązuje] wpisano 1, pole 98 [Kwota podatku za miesiące nieobjęte deklaracją] powinna być równa 0."]
[{"$f":"$A$3","v":9},null,"Wysokość zobowiązania podatkowego7)\nSuma kwot z poz. 97 i 98 (po zaokrągleniu do pełnych złotych).",null,null,null,null,null,null,null,null,null,null,null,null,null,null,null,null,null,"99.\nzł,         gr.",null,null,null,null,null,null,null,null,null,null,null,null,null,null,null,null,null,null,null,null,null,null,null,null,null,null,null,null,null,null,null,"5 i 98",{"$f":"IF(AND(K21<>\"\",AA191<>0),1,0)","v":0},"Jeżeli w poz. 5 zaznaczono kwadrat 1, w pole 98 należy wpisać 0."]
[{"$f":"$A$69","v":19.5},null,null,null,null,null,null,null,null,null,null,null,null,null,null,null,null,null,null,null,{"$f":"ROUND(SUM(AA190:AA191),0)","v":0},null,null,null,null,"zł",{"$f":"SUM(K196:N201,W196:Y201)","v":0},null,null,null,null,null,null,null,null,null,null,null,null,null,null,null,null,null,null,null,null,null,null,null,196,11,"suma rat",{"$f":"IF(SUM(K196:N201,W196:Y201)=U194,0,1)","v":0},{"$f":"IF(U194>AA194,\"Suma kwot rat (pola 100 - 111) jest mniejsza o \" &U194-AA194 & \" od wysokości zobowiązania podatkowego (pole 99).\",\"Suma kwot rat (pola 100 - 111) jest większa o \" &AA194-U194 & \" od wysokości zobowiązania podatkowego (pole 99).\")","v":"Suma kwot rat (pola 100 - 111) jest większa o 0 od wysokości zobowiązania podatkowego (pole 99)."}]
[{"$f":"$A$6","v":16.5},null,"Suma kwot z poz. od 100 do 111 musi być równa kwocie z poz. 997). W przypadku korekty deklaracji raty, które nie zostały objęte korektą,\npozostają bez zmian."]
[{"$f":"$A$71+$A$3","v":28.5},null,"Kwota I raty",null,null,null,null,null,null,"100.",null,null,null,null,"zł","Kwota II raty",null,null,null,null,null,"101.",null,null,null,"zł",null,null,null,null,null,null,null,null,null,null,null,null,null,null,null,null,null,null,null,null,null,null,null,null,196,11,100,{"$f":"IF(K196<0,1,0)","v":0},{"$f":"\"Kwota raty \"&BA196-99&\" nie może być mniejsza od zera\"","v":"Kwota raty 1 nie może być mniejsza od zera"}]
[{"$f":"$A$71+$A$3","v":28.5},null,"Kwota III raty",null,null,null,null,null,null,"102.",null,null,null,null,"zł","Kwota IV raty",null,null,null,null,null,"103.",null,null,null,"zł",null,null,null,null,null,null,null,null,null,null,null,null,null,null,null,null,null,null,null,null,null,null,null,null,169,23,{"$f":"BA196+1","v":101},{"$f":"IF(W196<0,1,0)","v":0},{"$f":"\"Kwota raty \"&BA197-99&\" nie może być mniejsza od zera\"","v":"Kwota raty 2 nie może być mniejsza od zera"}]
[28.5,null,"Kwota V raty",null,null,null,null,null,null,"104.",null,null,null,null,"zł","Kwota VI raty",null,null,null,null,null,"105.",null,null,null,"zł",null,null,null,null,null,null,null,null,null,null,null,null,null,null,null,null,null,null,null,null,null,null,null,null,197,11,{"$f":"BA197+1","v":102},{"$f":"IF(K197<0,1,0)","v":0},"Kwota raty 3 nie może być mniejsza od zera"]
[28.5,null,"Kwota VII raty",null,null,null,null,null,null,"106",null,null,null,null,"zł","Kwota VIII raty",null,null,null,null,null,"107.",null,null,null,"zł",null,null,null,null,null,null,null,null,null,null,null,null,null,null,null,null,null,null,null,null,null,null,null,null,197,23,103,{"$f":"IF(W197<0,1,0)","v":0},"Kwota raty 4 nie może być mniejsza od zera"]
[28.5,null,"Kwota IX raty",null,null,null,null,null,null,"108.",null,null,null,null,"zł","Kwota X raty",null,null,null,null,null,"109.",null,null,null,"zł",null,null,null,null,null,null,null,null,null,null,null,null,null,null,null,null,null,null,null,null,null,null,null,null,198,11,104,{"$f":"IF(K198<0,1,0)","v":0},"Kwota raty 5 nie może być mniejsza od zera"]
[28.5,null,"Kwota XI raty",null,null,null,null,null,null,"110.",null,null,null,null,"zł","Kwota XII raty",null,null,null,null,null,"111.",null,null,null,"zł",null,null,null,null,null,null,null,null,null,null,null,null,null,null,null,null,null,null,null,null,null,null,null,null,198,23,105,{"$f":"IF(W198<0,1,0)","v":0},"Kwota raty 6 nie może być mniejsza od zera"]
[4.5,null,null,null,null,null,null,null,null,null,null,null,null,null,null,null,null,null,null,null,null,null,null,null,null,null,null,null,null,null,null,null,null,null,null,null,null,null,null,null,null,null,null,null,null,null,null,null,null,null,199,11,106,{"$f":"IF(K199<0,1,0)","v":0},"Kwota raty 7 nie może być mniejsza od zera"]
[{"$f":"$A$7","v":16.5},"F. INFORMACJA O ZAŁĄCZNIKACH Deklarację należy składać wraz z odpowiednimi załącznikami, które stanowią jej integralną część.",null,null,null,null,null,null,null,null,null,null,null,null,null,null,null,null,null,null,null,null,null,null,null,null,null,null,null,null,null,null,null,null,null,null,null,null,null,null,null,null,null,null,null,null,null,null,null,null,199,23,107,{"$f":"IF(W199<0,1,0)","v":0},"Kwota raty 8 nie może być mniejsza od zera"]
[{"$f":"$A$3","v":9},null,"112. Liczba załączników ZDN-1",null,null,null,null,null,null,null,null,null,null,null,null,"113. Liczba załączników ZDN-2",null,null,null,null,null,null,null,null,null,null,{"$f":"SUM('ZDN-1'!Q:Q)","v":0},null,null,null,null,null,null,null,null,null,null,null,null,null,null,null,null,null,null,null,null,null,null,null,200,11,108,{"$f":"IF(K200<0,1,0)","v":0},"Kwota raty 9 nie może być mniejsza od zera"]
[{"$f":"$A$69","v":19.5},null,null,null,null,null,null,null,null,null,null,null,null,null,null,null,null,null,null,null,null,null,null,null,null,null,{"$f":"SUM('ZDN-2'!Q:Q)","v":0},null,null,null,null,null,null,null,null,null,null,null,null,null,null,null,null,null,null,null,null,null,null,null,200,23,109,{"$f":"IF(W200<0,1,0)","v":0},"Kwota raty 10 nie może być mniejsza od zera"]
[4.5,null,null,null,null,null,null,null,null,null,null,null,null,null,null,null,null,null,null,null,null,null,null,null,null,null,null,null,null,null,null,null,null,null,null,null,null,null,null,null,null,null,null,null,null,null,null,null,null,null,201,11,110,{"$f":"IF(K201<0,1,0)","v":0},"Kwota raty 11 nie może być mniejsza od zera"]
[{"$f":"$A$7*2","v":33},"G. KONTAKT DO OSOBY ODPOWIEDZIALNEJ ZA SPORZĄDZENIE DEKLARACJI\n     I DODATKOWE INFORMACJE Podanie informacji w części G nie jest obowiązkowe.",null,null,null,null,null,null,null,null,null,null,null,null,null,null,null,null,null,null,null,null,null,null,null,null,null,null,null,null,null,null,null,null,null,null,null,null,null,null,null,null,null,null,null,null,null,null,null,null,201,23,111,{"$f":"IF(W201<0,1,0)","v":0},"Kwota raty 12 nie może być mniejsza od zera"]
[{"$f":"$A$3","v":9},null,"114. Telefon",null,null,null,null,null,null,null,null,null,null,null,null,"115. E-mail"]
[{"$f":"$A$69","v":19.5}]
[{"$f":"$A$3","v":9},null,null,null,null,null,null,null,null,null,null,null,null,null,null,null,null,null,null,null,null,null,null,null,null,null,null,null,null,null,null,null,null,null,null,null,null,null,null,null,null,null,null,null,null,null,null,null,null,null,205,9,112,{"$f":"IF(I205=AA204,0,1)","v":0},{"$f":"\"Wypełniono \"&AA204&\" zał. ZDN-1, a w polu 112 wpisano \"&I205&\".\"","v":"Wypełniono 0 zał. ZDN-1, a w polu 112 wpisano ."}]
[{"$f":"$A$3","v":9},null,null,null,null,null,null,null,null,null,null,null,null,null,null,null,null,null,null,null,null,null,null,null,null,null,null,null,null,null,null,null,null,null,null,null,null,null,null,null,null,null,null,null,null,null,null,null,null,null,205,21,113,{"$f":"IF(U205=AA205,0,1)","v":0},{"$f":"\"Wypełniono \"&AA205&\" zał. ZDN-2, a w polu 113 wpisano \"&U205&\".\"","v":"Wypełniono 0 zał. ZDN-2, a w polu 113 wpisano ."}]
[0]
[0]
[{"$f":"$A$6","v":16.5},"DN-1(1)",null,null,null,"4/5",null,null,null,null,null,null,null,null,null,null,null,{"$f":"M10&\".\"&Q24&Wersja","v":"2023.1.1.15.0.44867"}]
[{"$f":"$A$3","v":9}]
[9,"WYPEŁNIĆ DUŻYMI, DRUKOWANYMI LITERAMI, CZARNYM LUB NIEBIESKIM KOLOREM."]
[4.5]
[{"$f":"$A$3","v":9},null,"116. Inne (np. określenie zdarzenia powodującego obowiązek złożenia deklaracji)"]
[{"$f":"$A$69*7","v":136.5}]
[4.5]
[{"$f":"$A$7","v":16.5},"H. PODPIS PODATNIKA I OSÓB REPREZENTUJĄCYCH PODATNIKA"]
[{"$f":"$A$7","v":16.5},"H.1. PODPIS PODATNIKA"]
[{"$f":"$A$3","v":9},null,"117. Pierwsze imię",null,null,null,null,null,null,null,null,null,null,null,null,"118. Nazwisko"]
[{"$f":"$A$69","v":19.5},null,null,null,null,null,null,null,null,null,null,null,null,null,null,null,null,null,null,null,null,null,null,null,null,null,null,null,null,null,null,null,null,null,null,null,null,null,null,null,null,null,null,null,null,null,null,null,null,null,224,3,"117 - 120",{"$f":"IF(AND(LEN(K35&P35)>0,LEN(C224&P224)),1,0)","v":0},"Pola 117 - 120 wypełniają wyłącznie osoby fizyczne."]
[{"$f":"$A$3","v":9},null,"119. Data wypełnienia (dzień - miesiąc - rok)\n└────┴────┘-└────┴────┘-└────┴────┴────┴────┘",null,null,null,null,null,null,null,null,null,null,null,null,"120. Podpis podatnika",null,null,null,null,null,null,null,null,null,null,null,null,null,null,null,null,null,null,null,null,null,null,null,null,null,null,null,null,null,null,null,null,null,null,229,3,"121 - 128",{"$f":"IF(LEN(C224&P224&C229&P229&C233&P233)=0,1,0)","v":1},"Brak informacji o osobach reprezentujących podatnika"]
[{"$f":"$A$69","v":19.5},null,null,null,null,null,null,null,null,null,null,null,null,null,null,{"$f":"IF(BA2>0,InfoBłędy & \" [ \"&BA2&\" ] !!!\",\"\")","v":"Arkusz zawiera błędy [ 16 ] !!!"}]
[{"$f":"$A$7","v":16.5},"H.2. PODPISY OSÓB REPREZENTUJĄCYCH PODATNIKA"]
[{"$f":"$A$3","v":9},null,"121. Pierwsze imię",null,null,null,null,null,null,null,null,null,null,null,null,"122. Nazwisko"]
[{"$f":"$A$69","v":19.5}]
[{"$f":"$A$3","v":9},null,"123. Data wypełnienia (dzień - miesiąc - rok)\n└────┴────┘-└────┴────┘-└────┴────┴────┴────┘",null,null,null,null,null,null,null,null,null,null,null,null,"124. Podpis osoby reprezentującej podatnika"]
[{"$f":"$A$69","v":19.5},null,null,null,null,null,null,null,null,null,null,null,null,null,null,{"$f":"IF(BA2>0,InfoBłędy & \" [ \"&BA2&\" ] !!!\",\"\")","v":"Arkusz zawiera błędy [ 16 ] !!!"}]
[{"$f":"$A$3","v":9},null,"125. Pierwsze imię",null,null,null,null,null,null,null,null,null,null,null,null,"126. Nazwisko"]
[{"$f":"$A$69","v":19.5}]
[{"$f":"$A$3","v":9},null,"127. Data wypełnienia (dzień - miesiąc - rok)\n└────┴────┘-└────┴────┘-└────┴────┴────┴────┘",null,null,null,null,null,null,null,null,null,null,null,null,"128. Podpis osoby reprezentującej podatnika"]
[{"$f":"$A$69","v":19.5},null,null,null,null,null,null,null,null,null,null,null,null,null,null,{"$f":"IF(BA2>0,InfoBłędy & \" [ \"&BA2&\" ] !!!\",\"\")","v":"Arkusz zawiera błędy [ 16 ] !!!"}]
[4.5]
[{"$f":"$A$7","v":16.5},"I. ADNOTACJE ORGANU PODATKOWEGO"]
[{"$f":"$A$3","v":9},null,"129. Uwagi organu podatkowego"]
[{"$f":"$A$6*6","v":99}]
[{"$f":"$A$3","v":9}]
[9,"Objaśnienia"]
[{"$f":"$A$3*2","v":18},"1)","Numer PESEL wpisują podatnicy będący osobami fizycznymi objętymi rejestrem PESEL, nieprowadzący działalności gospodarczej lub\nniebędący zarejestrowanymi podatnikami podatku od towarów i usług. Identyfikator podatkowy NIP wpisują pozostali podatnicy."]
[9,"2)","Z wyjątkiem poz. 5 kwadrat 1, ilekroć jest mowa o deklaracji, rozumie się przez to również korektę deklaracji."]
[9,"3)","Zgodnie z przepisami Ordynacji podatkowej."]
[{"$f":"$A$3*2","v":18},"4)","Powierzchnię w ha należy wykazać wyłącznie dla gruntów pod wodami powierzchniowymi stojącymi lub wodami powierzchniowymi\npłynącymi jezior i zbiorników sztucznych (z dokładnością do czterech miejsc po przecinku)."]
[{"$f":"$A$3*2","v":18},"5)","Kwotę podatku należy obliczyć, mnożąc podstawę opodatkowania przez stawkę podatku, proporcjonalnie do liczby miesięcy, których\ndotyczy deklaracja."]
[9,"6)","W przypadku korekty deklaracji należy wpisać sumę miesięcznych kwot podatku za miesiące nieobjęte składaną korektą deklaracji."]
[{"$f":"$A$3*2","v":18},"7)","Kwotę podatku (rat podatku) zaokrągla się do pełnych złotych, w ten sposób, że końcówki kwot wynoszące mniej niż 50 groszy pomija\nsię, a końcówki kwot wynoszące 50 i więcej groszy podwyższa się do pełnych złotych."]
[{"$f":"$A$3*4","v":36},null,"W ostatniej racie następuje wyrównanie do kwoty zobowiązania podatkowego (poz. 99).\nObliczony w deklaracji podatek należy wpłacać w ratach proporcjonalnych do czasu trwania obowiązku podatkowego w terminach: I rata\npłatna do dnia 31 stycznia, a następne do dnia 15 każdego miesiąca.\nW przypadku gdy kwota podatku nie przekracza 100 zł, podatek jest płatny jednorazowo w terminie płatności pierwszej raty."]
[9]
[9,"Pouczenia"]
[{"$f":"$A$3*2","v":18},"W  przypadku  niewpłacenia  w  obowiązujących  terminach  zobowiązania  podatkowego  lub  raty  podatku  lub  wpłacenia  ich  w  niepełnej  wysokości\nniniejsza deklaracja stanowi podstawę do wystawienia tytułu wykonawczego, zgodnie z przepisami o postępowaniu egzekucyjnym w administracji."]
[18,"Za podanie nieprawdy lub zatajenie prawdy i przez to narażenie podatku na uszczuplenie grozi odpowiedzialność przewidziana w Kodeksie karnym\nskarbowym."]
[9]
[{"$f":"$A$6","v":16.5},null,{"$f":"M10&\".\"&Q24&Wersja","v":"2023.1.1.15.0.44867"},null,null,null,null,null,null,null,null,null,null,null,null,null,null,null,null,null,null,"DN-1(1)",null,null,null,"5/5"]
[9]
[9]

{"sheet":"ZDN-1","index":1,"n_rows":2041,"n_cols":17,"rows_kept":2041,"cut":false,"hidden":false,"merged":[[2034,2,2034,14],[2039,12,2039,13],[2028,2,2028,4],[2028,6,2028,7],[2028,11,2028,12],[2028,13,2028,14],[2029,2,2029,4],[2029,6,2029,7],[2029,11,2029,12],[2029,13,2029,14],[2030,2,2030,4],[2030,6,2030,7],[2030,11,2030,12],[2030,13,2030,14],[2031,2,2031,4],[2031,6,2031,7],[2031,11,2031,12],[2031,13,2031,14],[2033,2,2033,14],[2023,2,2023,4],[2023,11,2023,12],[2023,13,2023,14],[2024,2,2024,4],[2024,6,2024,7],[2024,11,2024,12],[2024,13,2024,14],[2025,2,2025,4],[2025,6,2025,7],[2025,11,2025,12],[2025,13,2025,14],[2026,2,2026,4],[2026,6,2026,7],[2026,11,2026,12],[2026,13,2026,14],[2027,2,2027,4],[2027,6,2027,7],[2027,11,2027,12],[2027,13,2027,14],[2016,2,2016,6],[2016,11,2016,12],[2016,13,2016,14],[2017,2,2017,6],[2017,11,2017,12],[2017,13,2017,14],[2018,2,2018,6],[2018,11,2018,12],[2018,13,2018,14],[2019,2,2019,6],[2019,11,2019,12],[2019,13,2019,14],[2020,2,2020,6],[2020,11,2020,12],[2020,13,2020,14],[2021,1,2021,14],[2022,2,2022,4],[2022,6,2022,7],[2022,11,2022,12],[2022,13,2022,14],[2005,2,2005,14],[2006,2,2006,3],[2008,1,2008,14],[2010,1,2010,14],[2011,2,2011,6],[2011,11,2011,12],[2011,13,2011,14],[2012,2,2012,6],[2012,11,2012,12],[2012,13,2012,14],[2013,2,2013,6],[2013,11,2013,12],[2013,13,2013,14],[2014,2,2014,6],[2014,11,2014,12],[2014,13,2014,14],[2015,2,2015,6],[2015,11,2015,12],[2015,13,2015,14],[1997,2,1997,6],[1997,11,1997,12],[1997,13,1997,14],[1998,2,1998,6],[1998,11,1998,12],[1998,13,1998,14],[1999,2,1999,6],[1999,11,1999,12],[1999,13,1999,14],[2000,2,2000,6],[2000,11,2000,12],[2000,13,2000,14],[2001,2,2001,6],[2001,11,2001,12],[2001,13,2001,14],[2003,2,2003,14],[2004,2,2004,14],[1989,1,1989,14],[1990,1,1990,14],[1991,1,1991,14],[1992,2,1992,6],[1992,11,1992,12],[1992,13,1992,14],[1993,2,1993,6],[1993,11,1993,12],[1993,13,1993,14],[1994,2,1994,6],[1994,11,1994,12],[1994,13,1994,14],[1995,2,1995,6],[1995,11,1995,12],[1995,13,1995,14],[1996,2,1996,6],[1996,11,1996,12],[1996,13,1996,14],[1966,2,1966,14],[1971,12,1971,13],[1973,1,1973,14],[1974,1,1974,14],[1976,1,1976,7],[1976,8,1976,14],[1977,2,1977,6],[1977,8,1977,14],[1980,1,1980,13],[1981,1,1981,13],[1982,12,1982,14],[1983,12,1983,13],[1985,1,1985,14],[1986,1,1986,14],[1987,2,1987,7],[1987,8,1987,14],[1988,2,1988,7],[1988,8,1988,14],[1960,2,1960,4],[1960,6,1960,7],[1960,11,1960,12],[1960,13,1960,14],[1961,2,1961,4],[1961,6,1961,7],[1961,11,1961,12],[1961,13,1961,14],[1962,2,1962,4],[1962,6,1962,7],[1962,11,1962,12],[1962,13,1962,14],[1963,2,1963,4],[1963,6,1963,7],[1963,11,1963,12],[1963,13,1963,14],[1965,2,1965,14],[1955,2,1955,4],[1955,11,1955,12],[1955,13,1955,14],[1956,2,1956,4],[1956,6,1956,7],[1956,11,1956,12],[1956,13,1956,14],[1957,2,1957,4],[1957,6,1957,7],[1957,11,1957,12],[1957,13,1957,14],[1958,2,1958,4],[1958,6,1958,7],[1958,11,1958,12],[1958,13,1958,14],[1959,2,1959,4],[1959,6,1959,7],[1959,11,1959,12],[1959,13,1959,14],[1948,2,1948,6],[1948,11,1948,12],[1948,13,1948,14],[1949,2,1949,6],[1949,11,1949,12],[1949,13,1949,14],[1950,2,1950,6],[1950,11,1950,12],[1950,13,1950,14],[1951,2,1951,6],[1951,11,1951,12],[1951,13,1951,14],[1952,2,1952,6],[1952,11,1952,12],[1952,13,1952,14],[1953,1,1953,14],[1954,2,1954,4],[1954,6,1954,7],[1954,11,1954,12],[1954,13,1954,14],[1937,2,1937,14],[1938,2,1938,3],[1940,1,1940,14],[1942,1,1942,14],[1943,2,1943,6],[1943,11,1943,12],[1943,13,1943,14],[1944,2,1944,6],[1944,11,1944,12],[1944,13,1944,14],[1945,2,1945,6],[1945,11,1945,12],[1945,13,1945,14],[1946,2,1946,6],[1946,11,1946,12],[1946,13,1946,14],[1947,2,1947,6],[1947,11,1947,12],[1947,13,1947,14],[1929,2,1929,6],[1929,11,1929,12],[1929,13,1929,14],[1930,2,1930,6],[1930,11,1930,12],[1930,13,1930,14],[1931,2,1931,6],[1931,11,1931,12],[1931,13,1931,14],[1932,2,1932,6],[1932,11,1932,12],[1932,13,1932,14],[1933,2,1933,6],[1933,11,1933,12],[1933,13,1933,14],[1935,2,1935,14],[1936,2,1936,14],[1921,1,1921,14],[1922,1,1922,14],[1923,1,1923,14],[1924,2,1924,6],[1924,11,1924,12],[1924,13,1924,14],[1925,2,1925,6],[1925,11,1925,12],[1925,13,1925,14],[1926,2,1926,6],[1926,11,1926,12],[1926,13,1926,14],[1927,2,1927,6],[1927,11,1927,12],[1927,13,1927,14],[1928,2,1928,6],[1928,11,1928,12],[1928,13,1928,14],[1898,2,1898,14],[1903,12,1903,13],[1905,1,1905,14],[1906,1,1906,14],[1908,1,1908,7],[1908,8,1908,14],[1909,2,1909,6],[1909,8,1909,14],[1912,1,1912,13],[1913,1,1913,13],[1914,12,1914,14],[1915,12,1915,13],[1917,1,1917,14],[1918,1,1918,14],[1919,2,1919,7],[1919,8,1919,14],[1920,2,1920,7],[1920,8,1920,14],[1892,2,1892,4],[1892,6,1892,7],[1892,11,1892,12],[1892,13,1892,14],[1893,2,1893,4],[1893,6,1893,7],[1893,11,1893,12],[1893,13,1893,14],[1894,2,1894,4],[1894,6,1894,7],[1894,11,1894,12],[1894,13,1894,14],[1895,2,1895,4],[1895,6,1895,7],[1895,11,1895,12],[1895,13,1895,14],[1897,2,1897,14],[1887,2,1887,4],[1887,11,1887,12],[1887,13,1887,14],[1888,2,1888,4],[1888,6,1888,7],[1888,11,1888,12],[1888,13,1888,14],[1889,2,1889,4],[1889,6,1889,7],[1889,11,1889,12],[1889,13,1889,14],[1890,2,1890,4],[1890,6,1890,7],[1890,11,1890,12],[1890,13,1890,14],[1891,2,1891,4],[1891,6,1891,7],[1891,11,1891,12],[1891,13,1891,14],[1880,2,1880,6],[1880,11,1880,12],[1880,13,1880,14],[1881,2,1881,6],[1881,11,1881,12],[1881,13,1881,14],[1882,2,1882,6],[1882,11,1882,12],[1882,13,1882,14],[1883,2,1883,6],[1883,11,1883,12],[1883,13,1883,14],[1884,2,1884,6],[1884,11,1884,12],[1884,13,1884,14],[1885,1,1885,14],[1886,2,1886,4],[1886,6,1886,7],[1886,11,1886,12],[1886,13,1886,14],[1869,2,1869,14],[1870,2,1870,3],[1872,1,1872,14],[1874,1,1874,14],[1875,2,1875,6],[1875,11,1875,12],[1875,13,1875,14],[1876,2,1876,6],[1876,11,1876,12],[1876,13,1876,14],[1877,2,1877,6],[1877,11,1877,12],[1877,13,1877,14],[1878,2,1878,6],[1878,11,1878,12],[1878,13,1878,14],[1879,2,1879,6],[1879,11,1879,12],[1879,13,1879,14],[1861,2,1861,6],[1861,11,1861,12],[1861,13,1861,14],[1862,2,1862,6],[1862,11,1862,12],[1862,13,1862,14],[1863,2,1863,6],[1863,11,1863,12],[1863,13,1863,14],[1864,2,1864,6],[1864,11,1864,12],[1864,13,1864,14],[1865,2,1865,6],[1865,11,1865,12],[1865,13,1865,14],[1867,2,1867,14],[1868,2,1868,14],[1853,1,1853,14],[1854,1,1854,14],[1855,1,1855,14],[1856,2,1856,6],[1856,11,1856,12],[1856,13,1856,14],[1857,2,1857,6],[1857,11,1857,12],[1857,13,1857,14],[1858,2,1858,6],[1858,11,1858,12],[1858,13,1858,14],[1859,2,1859,6],[1859,11,1859,12],[1859,13,1859,14],[1860,2,1860,6],[1860,11,1860,12],[1860,13,1860,14],[1830,2,1830,14],[1835,12,1835,13],[1837,1,1837,14],[1838,1,1838,14],[1840,1,1840,7],[1840,8,1840,14],[1841,2,1841,6],[1841,8,1841,14],[1844,1,1844,13],[1845,1,1845,13],[1846,12,1846,14],[1847,12,1847,13],[1849,1,1849,14],[1850,1,1850,14],[1851,2,1851,7],[1851,8,1851,14],[1852,2,1852,7],[1852,8,1852,14],[1824,2,1824,4],[1824,6,1824,7],[1824,11,1824,12],[1824,13,1824,14],[1825,2,1825,4],[1825,6,1825,7],[1825,11,1825,12],[1825,13,1825,14],[1826,2,1826,4],[1826,6,1826,7],[1826,11,1826,12],[1826,13,1826,14],[1827,2,1827,4],[1827,6,1827,7],[1827,11,1827,12],[1827,13,1827,14],[1829,2,1829,14],[1819,2,1819,4],[1819,11,1819,12],[1819,13,1819,14],[1820,2,1820,4],[1820,6,1820,7],[1820,11,1820,12],[1820,13,1820,14],[1821,2,1821,4],[1821,6,1821,7],[1821,11,1821,12],[1821,13,1821,14],[1822,2,1822,4],[1822,6,1822,7],[1822,11,1822,12],[1822,13,1822,14],[1823,2,1823,4],[1823,6,1823,7],[1823,11,1823,12],[1823,13,1823,14],[1812,2,1812,6],[1812,11,1812,12],[1812,13,1812,14],[1813,2,1813,6],[1813,11,1813,12],[1813,13,1813,14],[1814,2,1814,6],[1814,11,1814,12],[1814,13,1814,14],[1815,2,1815,6],[1815,11,1815,12],[1815,13,1815,14],[1816,2,1816,6],[1816,11,1816,12],[1816,13,1816,14],[1817,1,1817,14],[1818,2,1818,4],[1818,6,1818,7],[1818,11,1818,12],[1818,13,1818,14],[1801,2,1801,14],[1802,2,1802,3],[1804,1,1804,14],[1806,1,1806,14],[1807,2,1807,6],[1807,11,1807,12],[1807,13,1807,14],[1808,2,1808,6],[1808,11,1808,12],[1808,13,1808,14],[1809,2,1809,6],[1809,11,1809,12],[1809,13,1809,14],[1810,2,1810,6],[1810,11,1810,12],[1810,13,1810,14],[1811,2,1811,6],[1811,11,1811,12],[1811,13,1811,14],[1793,2,1793,6],[1793,11,1793,12],[1793,13,1793,14],[1794,2,1794,6],[1794,11,1794,12],[1794,13,1794,14],[1795,2,1795,6],[1795,11,1795,12],[1795,13,1795,14],[1796,2,1796,6],[1796,11,1796,12],[1796,13,1796,14],[1797,2,1797,6],[1797,11,1797,12],[1797,13,1797,14],[1799,2,1799,14],[1800,2,1800,14],[1785,1,1785,14],[1786,1,1786,14],[1787,1,1787,14],[1788,2,1788,6],[1788,11,1788,12],[1788,13,1788,14],[1789,2,1789,6],[1789,11,1789,12],[1789,13,1789,14],[1790,2,1790,6],[1790,11,1790,12],[1790,13,1790,14],[1791,2,1791,6],[1791,11,1791,12],[1791,13,1791,14],[1792,2,1792,6],[1792,11,1792,12],[1792,13,1792,14],[1762,2,1762,14],[1767,12,1767,13],[1769,1,1769,14],[1770,1,1770,14],[1772,1,1772,7],[1772,8,1772,14],[1773,2,1773,6],[1773,8,1773,14],[1776,1,1776,13],[1777,1,1777,13],[1778,12,1778,14],[1779,12,1779,13],[1781,1,1781,14],[1782,1,1782,14],[1783,2,1783,7],[1783,8,1783,14],[1784,2,1784,7],[1784,8,1784,14],[1756,2,1756,4],[1756,6,1756,7],[1756,11,1756,12],[1756,13,1756,14],[1757,2,1757,4],[1757,6,1757,7],[1757,11,1757,12],[1757,13,1757,14],[1758,2,1758,4],[1758,6,1758,7],[1758,11,1758,12],[1758,13,1758,14],[1759,2,1759,4],[1759,6,1759,7],[1759,11,1759,12],[1759,13,1759,14],[1761,2,1761,14],[1751,2,1751,4],[1751,11,1751,12],[1751,13,1751,14],[1752,2,1752,4],[1752,6,1752,7],[1752,11,1752,12],[1752,13,1752,14],[1753,2,1753,4],[1753,6,1753,7],[1753,11,1753,12],[1753,13,1753,14],[1754,2,1754,4],[1754,6,1754,7],[1754,11,1754,12],[1754,13,1754,14],[1755,2,1755,4],[1755,6,1755,7],[1755,11,1755,12],[1755,13,1755,14],[1744,2,1744,6],[1744,11,1744,12],[1744,13,1744,14],[1745,2,1745,6],[1745,11,1745,12],[1745,13,1745,14],[1746,2,1746,6],[1746,11,1746,12],[1746,13,1746,14],[1747,2,1747,6],[1747,11,1747,12],[1747,13,1747,14],[1748,2,1748,6],[1748,11,1748,12],[1748,13,1748,14],[1749,1,1749,14],[1750,2,1750,4],[1750,6,1750,7],[1750,11,1750,12],[1750,13,1750,14],[1733,2,1733,14],[1734,2,1734,3],[1736,1,1736,14],[1738,1,1738,14],[1739,2,1739,6],[1739,11,1739,12],[1739,13,1739,14],[1740,2,1740,6],[1740,11,1740,12],[1740,13,1740,14],[1741,2,1741,6],[1741,11,1741,12],[1741,13,1741,14],[1742,2,1742,6],[1742,11,1742,12],[1742,13,1742,14],[1743,2,1743,6],[1743,11,1743,12],[1743,13,1743,14],[1725,2,1725,6],[1725,11,1725,12],[1725,13,1725,14],[1726,2,1726,6],[1726,11,1726,12],[1726,13,1726,14],[1727,2,1727,6],[1727,11,1727,12],[1727,13,1727,14],[1728,2,1728,6],[1728,11,1728,12],[1728,13,1728,14],[1729,2,1729,6],[1729,11,1729,12],[1729,13,1729,14],[1731,2,1731,14],[1732,2,1732,14],[1717,1,1717,14],[1718,1,1718,14],[1719,1,1719,14],[1720,2,1720,6],[1720,11,1720,12],[1720,13,1720,14],[1721,2,1721,6],[1721,11,1721,12],[1721,13,1721,14],[1722,2,1722,6],[1722,11,1722,12],[1722,13,1722,14],[1723,2,1723,6],[1723,11,1723,12],[1723,13,1723,14],[1724,2,1724,6],[1724,11,1724,12],[1724,13,1724,14],[1694,2,1694,14],[1699,12,1699,13],[1701,1,1701,14],[1702,1,1702,14],[1704,1,1704,7],[1704,8,1704,14],[1705,2,1705,6],[1705,8,1705,14],[1708,1,1708,13],[1709,1,1709,13],[1710,12,1710,14],[1711,12,1711,13],[1713,1,1713,14],[1714,1,1714,14],[1715,2,1715,7],[1715,8,1715,14],[1716,2,1716,7],[1716,8,1716,14],[1688,2,1688,4],[1688,6,1688,7],[1688,11,1688,12],[1688,13,1688,14],[1689,2,1689,4],[1689,6,1689,7],[1689,11,1689,12],[1689,13,1689,14],[1690,2,1690,4],[1690,6,1690,7],[1690,11,1690,12],[1690,13,1690,14],[1691,2,1691,4],[1691,6,1691,7],[1691,11,1691,12],[1691,13,1691,14],[1693,2,1693,14],[1683,2,1683,4],[1683,11,1683,12],[1683,13,1683,14],[1684,2,1684,4],[1684,6,1684,7],[1684,11,1684,12],[1684,13,1684,14],[1685,2,1685,4],[1685,6,1685,7],[1685,11,1685,12],[1685,13,1685,14],[1686,2,1686,4],[1686,6,1686,7],[1686,11,1686,12],[1686,13,1686,14],[1687,2,1687,4],[1687,6,1687,7],[1687,11,1687,12],[1687,13,1687,14],[1676,2,1676,6],[1676,11,1676,12],[1676,13,1676,14],[1677,2,1677,6],[1677,11,1677,12],[1677,13,1677,14],[1678,2,1678,6],[1678,11,1678,12],[1678,13,1678,14],[1679,2,1679,6],[1679,11,1679,12],[1679,13,1679,14],[1680,2,1680,6],[1680,11,1680,12],[1680,13,1680,14],[1681,1,1681,14],[1682,2,1682,4],[1682,6,1682,7],[1682,11,1682,12],[1682,13,1682,14],[1665,2,1665,14],[1666,2,1666,3],[1668,1,1668,14],[1670,1,1670,14],[1671,2,1671,6],[1671,11,1671,12],[1671,13,1671,14],[1672,2,1672,6],[1672,11,1672,12],[1672,13,1672,14],[1673,2,1673,6],[1673,11,1673,12],[1673,13,1673,14],[1674,2,1674,6],[1674,11,1674,12],[1674,13,1674,14],[1675,2,1675,6],[1675,11,1675,12],[1675,13,1675,14],[1657,2,1657,6],[1657,11,1657,12],[1657,13,1657,14],[1658,2,1658,6],[1658,11,1658,12],[1658,13,1658,14],[1659,2,1659,6],[1659,11,1659,12],[1659,13,1659,14],[1660,2,1660,6],[1660,11,1660,12],[1660,13,1660,14],[1661,2,1661,6],[1661,11,1661,12],[1661,13,1661,14],[1663,2,1663,14],[1664,2,1664,14],[1649,1,1649,14],[1650,1,1650,14],[1651,1,1651,14],[1652,2,1652,6],[1652,11,1652,12],[1652,13,1652,14],[1653,2,1653,6],[1653,11,1653,12],[1653,13,1653,14],[1654,2,1654,6],[1654,11,1654,12],[1654,13,1654,14],[1655,2,1655,6],[1655,11,1655,12],[1655,13,1655,14],[1656,2,1656,6],[1656,11,1656,12],[1656,13,1656,14],[1626,2,1626,14],[1631,12,1631,13],[1633,1,1633,14],[1634,1,1634,14],[1636,1,1636,7],[1636,8,1636,14],[1637,2,1637,6],[1637,8,1637,14],[1640,1,1640,13],[1641,1,1641,13],[1642,12,1642,14],[1643,12,1643,13],[1645,1,1645,14],[1646,1,1646,14],[1647,2,1647,7],[1647,8,1647,14],[1648,2,1648,7],[1648,8,1648,14],[1620,2,1620,4],[1620,6,1620,7],[1620,11,1620,12],[1620,13,1620,14],[1621,2,1621,4],[1621,6,1621,7],[1621,11,1621,12],[1621,13,1621,14],[1622,2,1622,4],[1622,6,1622,7],[1622,11,1622,12],[1622,13,1622,14],[1623,2,1623,4],[1623,6,1623,7],[1623,11,1623,12],[1623,13,1623,14],[1625,2,1625,14],[1615,2,1615,4],[1615,11,1615,12],[1615,13,1615,14],[1616,2,1616,4],[1616,6,1616,7],[1616,11,1616,12],[1616,13,1616,14],[1617,2,1617,4],[1617,6,1617,7],[1617,11,1617,12],[1617,13,1617,14],[1618,2,1618,4],[1618,6,1618,7],[1618,11,1618,12],[1618,13,1618,14],[1619,2,1619,4],[1619,6,1619,7],[1619,11,1619,12],[1619,13,1619,14],[1608,2,1608,6],[1608,11,1608,12],[1608,13,1608,14],[1609,2,1609,6],[1609,11,1609,12],[1609,13,1609,14],[1610,2,1610,6],[1610,11,1610,12],[1610,13,1610,14],[1611,2,1611,6],[1611,11,1611,12],[1611,13,1611,14],[1612,2,1612,6],[1612,11,1612,12],[1612,13,1612,14],[1613,1,1613,14],[1614,2,1614,4],[1614,6,1614,7],[1614,11,1614,12],[1614,13,1614,14],[1597,2,1597,14],[1598,2,1598,3],[1600,1,1600,14],[1602,1,1602,14],[1603,2,1603,6],[1603,11,1603,12],[1603,13,1603,14],[1604,2,1604,6],[1604,11,1604,12],[1604,13,1604,14],[1605,2,1605,6],[1605,11,1605,12],[1605,13,1605,14],[1606,2,1606,6],[1606,11,1606,12],[1606,13,1606,14],[1607,2,1607,6],[1607,11,1607,12],[1607,13,1607,14],[1589,2,1589,6],[1589,11,1589,12],[1589,13,1589,14],[1590,2,1590,6],[1590,11,1590,12],[1590,13,1590,14],[1591,2,1591,6],[1591,11,1591,12],[1591,13,1591,14],[1592,2,1592,6],[1592,11,1592,12],[1592,13,1592,14],[1593,2,1593,6],[1593,11,1593,12],[1593,13,1593,14],[1595,2,1595,14],[1596,2,1596,14],[1581,1,1581,14],[1582,1,1582,14],[1583,1,1583,14],[1584,2,1584,6],[1584,11,1584,12],[1584,13,1584,14],[1585,2,1585,6],[1585,11,1585,12],[1585,13,1585,14],[1586,2,1586,6],[1586,11,1586,12],[1586,13,1586,14],[1587,2,1587,6],[1587,11,1587,12],[1587,13,1587,14],[1588,2,1588,6],[1588,11,1588,12],[1588,13,1588,14],[1558,2,1558,14],[1563,12,1563,13],[1565,1,1565,14],[1566,1,1566,14],[1568,1,1568,7],[1568,8,1568,14],[1569,2,1569,6],[1569,8,1569,14],[1572,1,1572,13],[1573,1,1573,13],[1574,12,1574,14],[1575,12,1575,13],[1577,1,1577,14],[1578,1,1578,14],[1579,2,1579,7],[1579,8,1579,14],[1580,2,1580,7],[1580,8,1580,14],[1552,2,1552,4],[1552,6,1552,7],[1552,11,1552,12],[1552,13,1552,14],[1553,2,1553,4],[1553,6,1553,7],[1553,11,1553,12],[1553,13,1553,14],[1554,2,1554,4],[1554,6,1554,7],[1554,11,1554,12],[1554,13,1554,14],[1555,2,1555,4],[1555,6,1555,7],[1555,11,1555,12],[1555,13,1555,14],[1557,2,1557,14],[1547,2,1547,4],[1547,11,1547,12],[1547,13,1547,14],[1548,2,1548,4],[1548,6,1548,7],[1548,11,1548,12],[1548,13,1548,14],[1549,2,1549,4],[1549,6,1549,7],[1549,11,1549,12],[1549,13,1549,14],[1550,2,1550,4],[1550,6,1550,7],[1550,11,1550,12],[1550,13,1550,14],[1551,2,1551,4],[1551,6,1551,7],[1551,11,1551,12],[1551,13,1551,14],[1540,2,1540,6],[1540,11,1540,12],[1540,13,1540,14],[1541,2,1541,6],[1541,11,1541,12],[1541,13,1541,14],[1542,2,1542,6],[1542,11,1542,12],[1542,13,1542,14],[1543,2,1543,6],[1543,11,1543,12],[1543,13,1543,14],[1544,2,1544,6],[1544,11,1544,12],[1544,13,1544,14],[1545,1,1545,14],[1546,2,1546,4],[1546,6,1546,7],[1546,11,1546,12],[1546,13,1546,14],[1529,2,1529,14],[1530,2,1530,3],[1532,1,1532,14],[1534,1,1534,14],[1535,2,1535,6],[1535,11,1535,12],[1535,13,1535,14],[1536,2,1536,6],[1536,11,1536,12],[1536,13,1536,14],[1537,2,1537,6],[1537,11,1537,12],[1537,13,1537,14],[1538,2,1538,6],[1538,11,1538,12],[1538,13,1538,14],[1539,2,1539,6],[1539,11,1539,12],[1539,13,1539,14],[1521,2,1521,6],[1521,11,1521,12],[1521,13,1521,14],[1522,2,1522,6],[1522,11,1522,12],[1522,13,1522,14],[1523,2,1523,6],[1523,11,1523,12],[1523,13,1523,14],[1524,2,1524,6],[1524,11,1524,12],[1524,13,1524,14],[1525,2,1525,6],[1525,11,1525,12],[1525,13,1525,14],[1527,2,1527,14],[1528,2,1528,14],[1513,1,1513,14],[1514,1,1514,14],[1515,1,1515,14],[1516,2,1516,6],[1516,11,1516,12],[1516,13,1516,14],[1517,2,1517,6],[1517,11,1517,12],[1517,13,1517,14],[1518,2,1518,6]],"merged_total":3840,"flags":["merged_cut"]}
[17,2.5,{"$f":"$A$1-D1","v":11},6,{"$f":"$A$1*0.5","v":8.5},{"$f":"$A$1*0.6","v":10.199999999999999},{"$f":"$A$1","v":17},{"$f":"$A$1","v":17},{"$f":"$A$1*0.6","v":10.199999999999999},{"$f":"$A$1*0.6","v":10.199999999999999},{"$f":"$A$1","v":17},{"$f":"$A$1*0.3","v":5.0999999999999996},{"$f":"$A$1*0.3","v":5.0999999999999996},{"$f":"$A$1-O1","v":11},6]
[9,"Załącznik nr 6"]
[{"$f":"$A$2","v":9},"WYPEŁNIĆ DUŻYMI, DRUKOWANYMI LITERAMI, CZARNYM LUB NIEBIESKIM KOLOREM."]
[4.5]
[{"$f":"$A$2","v":9},"1. Identyfikator podatkowy NIP/numer PESEL (niepotrzebne skreślić)1)\n└────┴────┴────┴────┴────┴────┴────┴────┴────┴────┴────┘",null,null,null,null,null,null,"2.  Nr dokumentu"]
[19.5]
[{"$f":"$A$2","v":9}]
[16.5,"ZDN-1"]
[{"$f":"$A$8","v":16.5},"ZAŁĄCZNIK DO DEKLARACJI NA PODATEK OD NIERUCHOMOŚCI"]
["","- DANE O PRZEDMIOTACH OPODATKOWANIA PODLEGAJĄCYCH OPODATKOWANIU"]
[{"$f":"$A$2","v":9},null,null,null,null,null,null,null,null,null,null,null,"3. Nr załącznika"]
[{"$f":"$A$6","v":19.5},null,null,null,null,null,null,null,null,null,null,null,1,null,null,{"$f":"SUM(Q:Q)","v":0},{"$f":"IF(COUNTA(C23:O30,C42:O49,C53:O60)=0,0,1)","v":0}]
[{"$f":"$A$4","v":4.5}]
[{"$f":"$A$4","v":4.5}]
[{"$f":"$A$8*1.5","v":24.75},"A.  DANE PODATNIKA WSKAZANEGO W CZĘŚCI C.1 DEKLARACJI DN-1\n* - dotyczy podatnika niebędącego osobą fizyczną               ** - dotyczy podatnika będącego osobą fizyczną"]
[{"$f":"$A$2","v":9},null,"4. Nazwa pełna * / Nazwisko **",null,null,null,null,null,"5. Nazwa skrócona * / Pierwsze imię **"]
[{"$f":"$A$6","v":19.5}]
[{"$f":"$A$4","v":4.5}]
[{"$f":"$A$8","v":16.5},"B.  DANE O POSZCZEGÓLNYCH PRZEDMIOTACH OPODATKOWANIA PODLEGAJĄCYCH OPODATKOWANIU"]
[16.5,"B.1.  GRUNTY"]
[{"$f":"$A$8*1.5","v":24.75},"Lp.","Położenie (adres, w tym dzielnica)",null,null,null,null,"Nr księgi wieczystej\n(zbioru dokumentów)","Nr obrębu\n(arkusza mapy)2)","Nr działki","Powierzchnia w m2 / ha3)","Stawka Podatku4)",null,"Forma władania5)"]
[{"$f":"$A$2","v":9},null,"a",null,null,null,null,"b","c","d","e","f",null,"g"]
[{"$f":"$A$6","v":19.5},1,null,null,null,null,null,null,null,null,null,null,null,null,null,{"$f":"\"a.\"&L23","v":"a."}]
[19.5,2,null,null,null,null,null,null,null,null,null,null,null,null,null,{"$f":"\"a.\"&L24","v":"a."}]
[19.5,3,null,null,null,null,null,null,null,null,null,null,null,null,null,"a."]
[19.5,4,null,null,null,null,null,null,null,null,null,null,null,null,null,"a."]
[19.5,5,null,null,null,null,null,null,null,null,null,null,null,null,null,"a."]
[19.5,6,null,null,null,null,null,null,null,null,null,null,null,null,null,"a."]
[19.5,7,null,null,null,null,null,null,null,null,null,null,null,null,null,"a."]
[19.5,8,null,null,null,null,null,null,null,null,null,null,null,null,null,"a."]
[{"$f":"$A$2","v":9}]
[{"$f":"$A$2*2","v":18},"1)","Numer PESEL wpisują podatnicy będący osobami fizycznymi objętymi rejestrem PESEL, nieprowadzący działalności gospodarczej lub niebędący zarejestrowanymi podatnikami podatku od towarów i usług.\nIdentyfikator podatkowy NIP wpisują pozostali podatnicy."]
[{"$f":"$A$2","v":9},"2)","Numer obrębu należy podać wraz z numerem arkusza mapy ewidencyjnej w przypadku, gdy działki numerowane są w ramach arkusza mapy."]
[{"$f":"$A$2*2","v":18},"3)","Powierzchnię w ha należy wykazać wyłącznie w przypadku gruntów pod wodami powierzchniowymi stojącymi lub wodami powierzchniowymi płynącymi jezior i zbiorników sztucznych (z dokładnością\ndo czterech miejsc po przecinku)."]
[{"$f":"$A$8","v":16.5},null,{"$f":"'DN-1'!M10&\".\"&'DN-1'!Q24&Wersja","v":"2023.1.1.15.0.44867"},null,null,null,null,null,null,null,null,null,null,"ZDN-1(1)","1/2"]
[{"$f":"$A$2","v":9}]
[{"$f":"$A$2","v":9},"WYPEŁNIĆ DUŻYMI, DRUKOWANYMI LITERAMI, CZARNYM LUB NIEBIESKIM KOLOREM."]
[4.5]
[{"$f":"$A$8","v":16.5},"B.2.  BUDYNKI LUB ICH CZĘŚCI"]
[{"$f":"$A$8*1.5","v":24.75},"Lp.","Położenie (adres, w tym dzielnica)",null,null,null,null,"Nr księgi wieczystej\n(zbioru dokumentów)","Nr obrębu\n(arkusza mapy)2)","Nr działki","Powierzchnia użytkowa w m2","Stawka Podatku4)",null,"Forma władania5)"]
[{"$f":"$A$2","v":9},null,"a",null,null,null,null,"b","c","d","e","f",null,"g"]
[{"$f":"$A$6","v":19.5},1,null,null,null,null,null,null,null,null,null,null,null,null,null,{"$f":"\"b.\"&L42","v":"b."}]
[19.5,2,null,null,null,null,null,null,null,null,null,null,null,null,null,{"$f":"\"b.\"&L43","v":"b."}]
[19.5,3,null,null,null,null,null,null,null,null,null,null,null,null,null,"b."]
[19.5,4,null,null,null,null,null,null,null,null,null,null,null,null,null,"b."]
[19.5,5,null,null,null,null,null,null,null,null,null,null,null,null,null,"b."]
[19.5,6,null,null,null,null,null,null,null,null,null,null,null,null,null,"b."]
[19.5,7,null,null,null,null,null,null,null,null,null,null,null,null,null,"b."]
[19.5,8,null,null,null,null,null,null,null,null,null,null,null,null,null,"b."]
[{"$f":"$A$8","v":16.5},"B.3.  BUDOWLE LUB ICH CZĘŚCI ZWIĄZANE Z PROWADZENIEM DZIAŁALNOŚCI GOSPODARCZEJ"]
[16.5,"Lp.","Nazwa budowli",null,null,"Nr inwentarzowy","Położenie (adres, w tym dzielnica)",null,"Nr obrębu\n(arkusza mapy)2)","Nr działki","Wartość w zł","Stawka Podatku4)",null,"Forma władania5)"]
[{"$f":"$A$2","v":9},null,"a",null,null,"b",null,"c","d","e","f","g",null,"h"]
[{"$f":"$A$6","v":19.5},1,null,null,null,null,null,null,null,null,null,null,null,null,null,{"$f":"\"c.\"&L53","v":"c."}]
[19.5,2,null,null,null,null,null,null,null,null,null,null,null,null,null,{"$f":"\"c.\"&L54","v":"c."}]
[19.5,3,null,null,null,null,null,null,null,null,null,null,null,null,null,"c."]
[19.5,4,null,null,null,null,null,null,null,null,null,null,null,null,null,"c."]
[19.5,5,null,null,null,null,null,null,null,null,null,null,null,null,null,"c."]
[19.5,6,null,null,null,null,null,null,null,null,null,null,null,null,null,"c."]
[19.5,7,null,null,null,null,null,null,null,null,null,null,null,null,null,"c."]
[19.5,8,null,null,null,null,null,null,null,null,null,null,null,null,null,"c."]
[{"$f":"$A$2","v":9}]
[9,"4)","Należy podać stawkę właściwą dla rodzaju przedmiotu opodatkowania zgodną z uchwałą rady gminy."]
[9,"5)","Należy podać jedną z form władania: własność, użytkowanie wieczyste, posiadanie samoistne, posiadanie zależne lub posiadanie bez tytułu prawnego."]
[{"$f":"$A$2","v":9}]
[9]
[9]
[9]
[{"$f":"$A$8","v":16.5},null,"ZDN-1(1)","2/2",null,null,null,null,null,null,null,null,{"$f":"'DN-1'!M10&\".\"&'DN-1'!Q24&Wersja","v":"2023.1.1.15.0.44867"}]
[9]
[9,"Załącznik nr 6"]
[{"$f":"$A$2","v":9},"WYPEŁNIĆ DUŻYMI, DRUKOWANYMI LITERAMI, CZARNYM LUB NIEBIESKIM KOLOREM."]
[4.5]
[{"$f":"$A$2","v":9},"1. Identyfikator podatkowy NIP/numer PESEL (niepotrzebne skreślić)1)\n└────┴────┴────┴────┴────┴────┴────┴────┴────┴────┴────┘",null,null,null,null,null,null,"2.  Nr dokumentu"]
[{"$f":"$A$6","v":19.5},null,{"$f":"$C$6","v":0}]
[{"$f":"$A$2","v":9}]
[16.5,"ZDN-1"]
[{"$f":"$A$8","v":16.5},"ZAŁĄCZNIK DO DEKLARACJI NA PODATEK OD NIERUCHOMOŚCI"]
["","- DANE O PRZEDMIOTACH OPODATKOWANIA PODLEGAJĄCYCH OPODATKOWANIU"]
[{"$f":"$A$2","v":9},null,null,null,null,null,null,null,null,null,null,null,"3. Nr załącznika"]
[{"$f":"$A$6","v":19.5},null,null,null,null,null,null,null,null,null,null,null,{"$f":"M12+1","v":2},null,null,null,{"$f":"IF(COUNTA(C91:O98,C110:O117,C121:O128)=0,0,1)","v":0}]
[{"$f":"$A$4","v":4.5}]
[{"$f":"$A$4","v":4.5}]
[{"$f":"$A$8*1.5","v":24.75},"A.  DANE PODATNIKA WSKAZANEGO W CZĘŚCI C.1 DEKLARACJI DN-1\n* - dotyczy podatnika niebędącego osobą fizyczną               ** - dotyczy podatnika będącego osobą fizyczną"]
[{"$f":"$A$2","v":9},null,"4. Nazwa pełna * / Nazwisko **",null,null,null,null,null,"5. Nazwa skrócona * / Pierwsze imię **"]
[{"$f":"$A$6","v":19.5},null,{"$f":"\"\"&$C$17","v":""},null,null,null,null,null,{"$f":"\"\"&$I$17","v":""}]
[{"$f":"$A$4","v":4.5}]
[{"$f":"$A$8","v":16.5},"B.  DANE O POSZCZEGÓLNYCH PRZEDMIOTACH OPODATKOWANIA PODLEGAJĄCYCH OPODATKOWANIU"]
[16.5,"B.1.  GRUNTY"]
[{"$f":"$A$8*1.5","v":24.75},"Lp.","Położenie (adres, w tym dzielnica)",null,null,null,null,"Nr księgi wieczystej\n(zbioru dokumentów)","Nr obrębu\n(arkusza mapy)2)","Nr działki","Powierzchnia w m2 / ha3)","Stawka Podatku4)",null,"Forma władania5)"]
[{"$f":"$A$2","v":9},null,"a",null,null,null,null,"b","c","d","e","f",null,"g"]
[{"$f":"$A$6","v":19.5},1,null,null,null,null,null,null,null,null,null,null,null,null,null,{"$f":"\"a.\"&L91","v":"a."}]
[19.5,2,null,null,null,null,null,null,null,null,null,null,null,null,null,{"$f":"\"a.\"&L92","v":"a."}]
[19.5,3,null,null,null,null,null,null,null,null,null,null,null,null,null,"a."]
[19.5,4,null,null,null,null,null,null,null,null,null,null,null,null,null,"a."]
[19.5,5,null,null,null,null,null,null,null,null,null,null,null,null,null,"a."]
[19.5,6,null,null,null,null,null,null,null,null,null,null,null,null,null,"a."]
[19.5,7,null,null,null,null,null,null,null,null,null,null,null,null,null,"a."]
[19.5,8,null,null,null,null,null,null,null,null,null,null,null,null,null,"a."]
[{"$f":"$A$2","v":9}]
[{"$f":"$A$2*2","v":18},"1)","Numer PESEL wpisują podatnicy będący osobami fizycznymi objętymi rejestrem PESEL, nieprowadzący działalności gospodarczej lub niebędący zarejestrowanymi podatnikami podatku od towarów i usług.\nIdentyfikator podatkowy NIP wpisują pozostali podatnicy."]
[{"$f":"$A$2","v":9},"2)","Numer obrębu należy podać wraz z numerem arkusza mapy ewidencyjnej w przypadku, gdy działki numerowane są w ramach arkusza mapy."]
[{"$f":"$A$2*2","v":18},"3)","Powierzchnię w ha należy wykazać wyłącznie w przypadku gruntów pod wodami powierzchniowymi stojącymi lub wodami powierzchniowymi płynącymi jezior i zbiorników sztucznych (z dokładnością\ndo czterech miejsc po przecinku)."]
[{"$f":"$A$8","v":16.5},null,{"$f":"'DN-1'!M10&\".\"&'DN-1'!Q24&Wersja","v":"2023.1.1.15.0.44867"},null,null,null,null,null,null,null,null,null,null,"ZDN-1(1)","1/2"]
[{"$f":"$A$2","v":9}]
[{"$f":"$A$2","v":9},"WYPEŁNIĆ DUŻYMI, DRUKOWANYMI LITERAMI, CZARNYM LUB NIEBIESKIM KOLOREM."]
[4.5]
[{"$f":"$A$8","v":16.5},"B.2.  BUDYNKI LUB ICH CZĘŚCI"]
[{"$f":"$A$8*1.5","v":24.75},"Lp.","Położenie (adres, w tym dzielnica)",null,null,null,null,"Nr księgi wieczystej\n(zbioru dokumentów)","Nr obrębu\n(arkusza mapy)2)","Nr działki","Powierzchnia użytkowa w m2","Stawka Podatku4)",null,"Forma władania5)"]
[{"$f":"$A$2","v":9},null,"a",null,null,null,null,"b","c","d","e","f",null,"g"]
[{"$f":"$A$6","v":19.5},1,null,null,null,null,null,null,null,null,null,null,null,null,null,{"$f":"\"b.\"&L110","v":"b."}]
[19.5,2,null,null,null,null,null,null,null,null,null,null,null,null,null,{"$f":"\"b.\"&L111","v":"b."}]
[19.5,3,null,null,null,null,null,null,null,null,null,null,null,null,null,"b."]
[19.5,4,null,null,null,null,null,null,null,null,null,null,null,null,null,"b."]
[19.5,5,null,null,null,null,null,null,null,null,null,null,null,null,null,"b."]
[19.5,6,null,null,null,null,null,null,null,null,null,null,null,null,null,"b."]
[19.5,7,null,null,null,null,null,null,null,null,null,null,null,null,null,"b."]
[19.5,8,null,null,null,null,null,null,null,null,null,null,null,null,null,"b."]
[{"$f":"$A$8","v":16.5},"B.3.  BUDOWLE LUB ICH CZĘŚCI ZWIĄZANE Z PROWADZENIEM DZIAŁALNOŚCI GOSPODARCZEJ"]
[16.5,"Lp.","Nazwa budowli",null,null,"Nr inwentarzowy","Położenie (adres, w tym dzielnica)",null,"Nr obrębu\n(arkusza mapy)2)","Nr działki","Wartość w zł","Stawka Podatku4)",null,"Forma władania5)"]
[{"$f":"$A$2","v":9},null,"a",null,null,"b",null,"c","d","e","f","g",null,"h"]
[{"$f":"$A$6","v":19.5},1,null,null,null,null,null,null,null,null,null,null,null,null,null,{"$f":"\"c.\"&L121","v":"c."}]
[19.5,2,null,null,null,null,null,null,null,null,null,null,null,null,null,{"$f":"\"c.\"&L122","v":"c."}]
[19.5,3,null,null,null,null,null,null,null,null,null,null,null,null,null,"c."]
[19.5,4,null,null,null,null,null,null,null,null,null,null,null,null,null,"c."]
[19.5,5,null,null,null,null,null,null,null,null,null,null,null,null,null,"c."]
[19.5,6,null,null,null,null,null,null,null,null,null,null,null,null,null,"c."]
[19.5,7,null,null,null,null,null,null,null,null,null,null,null,null,null,"c."]
[19.5,8,null,null,null,null,null,null,null,null,null,null,null,null,null,"c."]
[{"$f":"$A$2","v":9}]
[9,"4)","Należy podać stawkę właściwą dla rodzaju przedmiotu opodatkowania zgodną z uchwałą rady gminy."]
[9,"5)","Należy podać jedną z form władania: własność, użytkowanie wieczyste, posiadanie samoistne, posiadanie zależne lub posiadanie bez tytułu prawnego."]
[{"$f":"$A$2","v":9}]
[9]
[9]
[9]
[{"$f":"$A$8","v":16.5},null,"ZDN-1(1)","2/2",null,null,null,null,null,null,null,null,{"$f":"'DN-1'!M10&\".\"&'DN-1'!Q24&Wersja","v":"2023.1.1.15.0.44867"}]
[9]
[9,"Załącznik nr 6"]
[{"$f":"$A$2","v":9},"WYPEŁNIĆ DUŻYMI, DRUKOWANYMI LITERAMI, CZARNYM LUB NIEBIESKIM KOLOREM."]
[4.5]
[{"$f":"$A$2","v":9},"1. Identyfikator podatkowy NIP/numer PESEL (niepotrzebne skreślić)1)\n└────┴────┴────┴────┴────┴────┴────┴────┴────┴────┴────┘",null,null,null,null,null,null,"2.  Nr dokumentu"]
[{"$f":"$A$6","v":19.5},null,{"$f":"$C$6","v":0}]
[{"$f":"$A$2","v":9}]
[16.5,"ZDN-1"]
[{"$f":"$A$8","v":16.5},"ZAŁĄCZNIK DO DEKLARACJI NA PODATEK OD NIERUCHOMOŚCI"]
["","- DANE O PRZEDMIOTACH OPODATKOWANIA PODLEGAJĄCYCH OPODATKOWANIU"]
[{"$f":"$A$2","v":9},null,null,null,null,null,null,null,null,null,null,null,"3. Nr załącznika"]
[{"$f":"$A$6","v":19.5},null,null,null,null,null,null,null,null,null,null,null,{"$f":"M80+1","v":3},null,null,null,{"$f":"IF(COUNTA(C159:O166,C178:O185,C189:O196)=0,0,1)","v":0}]
[{"$f":"$A$4","v":4.5}]
[{"$f":"$A$4","v":4.5}]
[{"$f":"$A$8*1.5","v":24.75},"A.  DANE PODATNIKA WSKAZANEGO W CZĘŚCI C.1 DEKLARACJI DN-1\n* - dotyczy podatnika niebędącego osobą fizyczną               ** - dotyczy podatnika będącego osobą fizyczną"]
[{"$f":"$A$2","v":9},null,"4. Nazwa pełna * / Nazwisko **",null,null,null,null,null,"5. Nazwa skrócona * / Pierwsze imię **"]
[{"$f":"$A$6","v":19.5},null,{"$f":"\"\"&$C$17","v":""},null,null,null,null,null,{"$f":"\"\"&$I$17","v":""}]
[{"$f":"$A$4","v":4.5}]
[{"$f":"$A$8","v":16.5},"B.  DANE O POSZCZEGÓLNYCH PRZEDMIOTACH OPODATKOWANIA PODLEGAJĄCYCH OPODATKOWANIU"]
[16.5,"B.1.  GRUNTY"]
[{"$f":"$A$8*1.5","v":24.75},"Lp.","Położenie (adres, w tym dzielnica)",null,null,null,null,"Nr księgi wieczystej\n(zbioru dokumentów)","Nr obrębu\n(arkusza mapy)2)","Nr działki","Powierzchnia w m2 / ha3)","Stawka Podatku4)",null,"Forma władania5)"]
[{"$f":"$A$2","v":9},null,"a",null,null,null,null,"b","c","d","e","f",null,"g"]
[{"$f":"$A$6","v":19.5},1,null,null,null,null,null,null,null,null,null,null,null,null,null,{"$f":"\"a.\"&L159","v":"a."}]
[19.5,2,null,null,null,null,null,null,null,null,null,null,null,null,null,{"$f":"\"a.\"&L160","v":"a."}]
[19.5,3,null,null,null,null,null,null,null,null,null,null,null,null,null,"a."]
[19.5,4,null,null,null,null,null,null,null,null,null,null,null,null,null,"a."]
[19.5,5,null,null,null,null,null,null,null,null,null,null,null,null,null,"a."]
[19.5,6,null,null,null,null,null,null,null,null,null,null,null,null,null,"a."]
[19.5,7,null,null,null,null,null,null,null,null,null,null,null,null,null,"a."]
[19.5,8,null,null,null,null,null,null,null,null,null,null,null,null,null,"a."]
[{"$f":"$A$2","v":9}]
[{"$f":"$A$2*2","v":18},"1)","Numer PESEL wpisują podatnicy będący osobami fizycznymi objętymi rejestrem PESEL, nieprowadzący działalności gospodarczej lub niebędący zarejestrowanymi podatnikami podatku od towarów i usług.\nIdentyfikator podatkowy NIP wpisują pozostali podatnicy."]
[{"$f":"$A$2","v":9},"2)","Numer obrębu należy podać wraz z numerem arkusza mapy ewidencyjnej w przypadku, gdy działki numerowane są w ramach arkusza mapy."]
[{"$f":"$A$2*2","v":18},"3)","Powierzchnię w ha należy wykazać wyłącznie w przypadku gruntów pod wodami powierzchniowymi stojącymi lub wodami powierzchniowymi płynącymi jezior i zbiorników sztucznych (z dokładnością\ndo czterech miejsc po przecinku)."]
[{"$f":"$A$8","v":16.5},null,{"$f":"'DN-1'!M10&\".\"&'DN-1'!Q24&Wersja","v":"2023.1.1.15.0.44867"},null,null,null,null,null,null,null,null,null,null,"ZDN-1(1)","1/2"]
[{"$f":"$A$2","v":9}]
[{"$f":"$A$2","v":9},"WYPEŁNIĆ DUŻYMI, DRUKOWANYMI LITERAMI, CZARNYM LUB NIEBIESKIM KOLOREM."]
[4.5]
[{"$f":"$A$8","v":16.5},"B.2.  BUDYNKI LUB ICH CZĘŚCI"]
[{"$f":"$A$8*1.5","v":24.75},"Lp.","Położenie (adres, w tym dzielnica)",null,null,null,null,"Nr księgi wieczystej\n(zbioru dokumentów)","Nr obrębu\n(arkusza mapy)2)","Nr działki","Powierzchnia użytkowa w m2","Stawka Podatku4)",null,"Forma władania5)"]
[{"$f":"$A$2","v":9},null,"a",null,null,null,null,"b","c","d","e","f",null,"g"]
[{"$f":"$A$6","v":19.5},1,null,null,null,null,null,null,null,null,null,null,null,null,null,{"$f":"\"b.\"&L178","v":"b."}]
[19.5,2,null,null,null,null,null,null,null,null,null,null,null,null,null,{"$f":"\"b.\"&L179","v":"b."}]
[19.5,3,null,null,null,null,null,null,null,null,null,null,null,null,null,"b."]
[19.5,4,null,null,null,null,null,null,null,null,null,null,null,null,null,"b."]
[19.5,5,null,null,null,null,null,null,null,null,null,null,null,null,null,"b."]
[19.5,6,null,null,null,null,null,null,null,null,null,null,null,null,null,"b."]
[19.5,7,null,null,null,null,null,null,null,null,null,null,null,null,null,"b."]
[19.5,8,null,null,null,null,null,null,null,null,null,null,null,null,null,"b."]
[{"$f":"$A$8","v":16.5},"B.3.  BUDOWLE LUB ICH CZĘŚCI ZWIĄZANE Z PROWADZENIEM DZIAŁALNOŚCI GOSPODARCZEJ"]
[16.5,"Lp.","Nazwa budowli",null,null,"Nr inwentarzowy","Położenie (adres, w tym dzielnica)",null,"Nr obrębu\n(arkusza mapy)2)","Nr działki","Wartość w zł","Stawka Podatku4)",null,"Forma władania5)"]
[{"$f":"$A$2","v":9},null,"a",null,null,"b",null,"c","d","e","f","g",null,"h"]
[{"$f":"$A$6","v":19.5},1,null,null,null,null,null,null,null,null,null,null,null,null,null,{"$f":"\"c.\"&L189","v":"c."}]
[19.5,2,null,null,null,null,null,null,null,null,null,null,null,null,null,{"$f":"\"c.\"&L190","v":"c."}]
[19.5,3,null,null,null,null,null,null,null,null,null,null,null,null,null,"c."]
[19.5,4,null,null,null,null,null,null,null,null,null,null,null,null,null,"c."]
[19.5,5,null,null,null,null,null,null,null,null,null,null,null,null,null,"c."]
[19.5,6,null,null,null,null,null,null,null,null,null,null,null,null,null,"c."]
[19.5,7,null,null,null,null,null,null,null,null,null,null,null,null,null,"c."]
[19.5,8,null,null,null,null,null,null,null,null,null,null,null,null,null,"c."]
[{"$f":"$A$2","v":9}]
[9,"4)","Należy podać stawkę właściwą dla rodzaju przedmiotu opodatkowania zgodną z uchwałą rady gminy."]
[9,"5)","Należy podać jedną z form władania: własność, użytkowanie wieczyste, posiadanie samoistne, posiadanie zależne lub posiadanie bez tytułu prawnego."]
[{"$f":"$A$2","v":9}]
[9]
[9]
[9]
[{"$f":"$A$8","v":16.5},null,"ZDN-1(1)","2/2",null,null,null,null,null,null,null,null,{"$f":"'DN-1'!M10&\".\"&'DN-1'!Q24&Wersja","v":"2023.1.1.15.0.44867"}]
[9]
[9,"Załącznik nr 6"]
[{"$f":"$A$2","v":9},"WYPEŁNIĆ DUŻYMI, DRUKOWANYMI LITERAMI, CZARNYM LUB NIEBIESKIM KOLOREM."]
[4.5]
[{"$f":"$A$2","v":9},"1. Identyfikator podatkowy NIP/numer PESEL (niepotrzebne skreślić)1)\n└────┴────┴────┴────┴────┴────┴────┴────┴────┴────┴────┘",null,null,null,null,null,null,"2.  Nr dokumentu"]
[{"$f":"$A$6","v":19.5},null,{"$f":"$C$6","v":0}]
[{"$f":"$A$2","v":9}]
[16.5,"ZDN-1"]
[{"$f":"$A$8","v":16.5},"ZAŁĄCZNIK DO DEKLARACJI NA PODATEK OD NIERUCHOMOŚCI"]
["","- DANE O PRZEDMIOTACH OPODATKOWANIA PODLEGAJĄCYCH OPODATKOWANIU"]
[{"$f":"$A$2","v":9},null,null,null,null,null,null,null,null,null,null,null,"3. Nr załącznika"]
[{"$f":"$A$6","v":19.5},null,null,null,null,null,null,null,null,null,null,null,{"$f":"M148+1","v":4},null,null,null,{"$f":"IF(COUNTA(C227:O234,C246:O253,C257:O264)=0,0,1)","v":0}]
[{"$f":"$A$4","v":4.5}]
[{"$f":"$A$4","v":4.5}]
[{"$f":"$A$8*1.5","v":24.75},"A.  DANE PODATNIKA WSKAZANEGO W CZĘŚCI C.1 DEKLARACJI DN-1\n* - dotyczy podatnika niebędącego osobą fizyczną               ** - dotyczy podatnika będącego osobą fizyczną"]
[{"$f":"$A$2","v":9},null,"4. Nazwa pełna * / Nazwisko **",null,null,null,null,null,"5. Nazwa skrócona * / Pierwsze imię **"]
[{"$f":"$A$6","v":19.5},null,{"$f":"\"\"&$C$17","v":""},null,null,null,null,null,{"$f":"\"\"&$I$17","v":""}]
[{"$f":"$A$4","v":4.5}]
[{"$f":"$A$8","v":16.5},"B.  DANE O POSZCZEGÓLNYCH PRZEDMIOTACH OPODATKOWANIA PODLEGAJĄCYCH OPODATKOWANIU"]
[16.5,"B.1.  GRUNTY"]
[{"$f":"$A$8*1.5","v":24.75},"Lp.","Położenie (adres, w tym dzielnica)",null,null,null,null,"Nr księgi wieczystej\n(zbioru dokumentów)","Nr obrębu\n(arkusza mapy)2)","Nr działki","Powierzchnia w m2 / ha3)","Stawka Podatku4)",null,"Forma władania5)"]
[{"$f":"$A$2","v":9},null,"a",null,null,null,null,"b","c","d","e","f",null,"g"]
[{"$f":"$A$6","v":19.5},1,null,null,null,null,null,null,null,null,null,null,null,null,null,{"$f":"\"a.\"&L227","v":"a."}]
[19.5,2,null,null,null,null,null,null,null,null,null,null,null,null,null,{"$f":"\"a.\"&L228","v":"a."}]
[19.5,3,null,null,null,null,null,null,null,null,null,null,null,null,null,"a."]
[19.5,4,null,null,null,null,null,null,null,null,null,null,null,null,null,"a."]
[19.5,5,null,null,null,null,null,null,null,null,null,null,null,null,null,"a."]
[19.5,6,null,null,null,null,null,null,null,null,null,null,null,null,null,"a."]
[19.5,7,null,null,null,null,null,null,null,null,null,null,null,null,null,"a."]
[19.5,8,null,null,null,null,null,null,null,null,null,null,null,null,null,"a."]
[{"$f":"$A$2","v":9}]
[{"$f":"$A$2*2","v":18},"1)","Numer PESEL wpisują podatnicy będący osobami fizycznymi objętymi rejestrem PESEL, nieprowadzący działalności gospodarczej lub niebędący zarejestrowanymi podatnikami podatku od towarów i usług.\nIdentyfikator podatkowy NIP wpisują pozostali podatnicy."]
[{"$f":"$A$2","v":9},"2)","Numer obrębu należy podać wraz z numerem arkusza mapy ewidencyjnej w przypadku, gdy działki numerowane są w ramach arkusza mapy."]
[{"$f":"$A$2*2","v":18},"3)","Powierzchnię w ha należy wykazać wyłącznie w przypadku gruntów pod wodami powierzchniowymi stojącymi lub wodami powierzchniowymi płynącymi jezior i zbiorników sztucznych (z dokładnością\ndo czterech miejsc po przecinku)."]
[{"$f":"$A$8","v":16.5},null,{"$f":"'DN-1'!M10&\".\"&'DN-1'!Q24&Wersja","v":"2023.1.1.15.0.44867"},null,null,null,null,null,null,null,null,null,null,"ZDN-1(1)","1/2"]
[{"$f":"$A$2","v":9}]
[{"$f":"$A$2","v":9},"WYPEŁNIĆ DUŻYMI, DRUKOWANYMI LITERAMI, CZARNYM LUB NIEBIESKIM KOLOREM."]
[4.5]
[{"$f":"$A$8","v":16.5},"B.2.  BUDYNKI LUB ICH CZĘŚCI"]
[{"$f":"$A$8*1.5","v":24.75},"Lp.","Położenie (adres, w tym dzielnica)",null,null,null,null,"Nr księgi wieczystej\n(zbioru dokumentów)","Nr obrębu\n(arkusza mapy)2)","Nr działki","Powierzchnia użytkowa w m2","Stawka Podatku4)",null,"Forma władania5)"]
[{"$f":"$A$2","v":9},null,"a",null,null,null,null,"b","c","d","e","f",null,"g"]
[{"$f":"$A$6","v":19.5},1,null,null,null,null,null,null,null,null,null,null,null,null,null,{"$f":"\"b.\"&L246","v":"b."}]
[19.5,2,null,null,null,null,null,null,null,null,null,null,null,null,null,{"$f":"\"b.\"&L247","v":"b."}]
[19.5,3,null,null,null,null,null,null,null,null,null,null,null,null,null,"b."]
[19.5,4,null,null,null,null,null,null,null,null,null,null,null,null,null,"b."]
[19.5,5,null,null,null,null,null,null,null,null,null,null,null,null,null,"b."]
[19.5,6,null,null,null,null,null,null,null,null,null,null,null,null,null,"b."]
[19.5,7,null,null,null,null,null,null,null,null,null,null,null,null,null,"b."]
[19.5,8,null,null,null,null,null,null,null,null,null,null,null,null,null,"b."]
[{"$f":"$A$8","v":16.5},"B.3.  BUDOWLE LUB ICH CZĘŚCI ZWIĄZANE Z PROWADZENIEM DZIAŁALNOŚCI GOSPODARCZEJ"]
[16.5,"Lp.","Nazwa budowli",null,null,"Nr inwentarzowy","Położenie (adres, w tym dzielnica)",null,"Nr obrębu\n(arkusza mapy)2)","Nr działki","Wartość w zł","Stawka Podatku4)",null,"Forma władania5)"]
[{"$f":"$A$2","v":9},null,"a",null,null,"b",null,"c","d","e","f","g",null,"h"]
[{"$f":"$A$6","v":19.5},1,null,null,null,null,null,null,null,null,null,null,null,null,null,{"$f":"\"c.\"&L257","v":"c."}]
[19.5,2,null,null,null,null,null,null,null,null,null,null,null,null,null,{"$f":"\"c.\"&L258","v":"c."}]
[19.5,3,null,null,null,null,null,null,null,null,null,null,null,null,null,"c."]
[19.5,4,null,null,null,null,null,null,null,null,null,null,null,null,null,"c."]
[19.5,5,null,null,null,null,null,null,null,null,null,null,null,null,null,"c."]
[19.5,6,null,null,null,null,null,null,null,null,null,null,null,null,null,"c."]
[19.5,7,null,null,null,null,null,null,null,null,null,null,null,null,null,"c."]
[19.5,8,null,null,null,null,null,null,null,null,null,null,null,null,null,"c."]
[{"$f":"$A$2","v":9}]
[9,"4)","Należy podać stawkę właściwą dla rodzaju przedmiotu opodatkowania zgodną z uchwałą rady gminy."]
[9,"5)","Należy podać jedną z form władania: własność, użytkowanie wieczyste, posiadanie samoistne, posiadanie zależne lub posiadanie bez tytułu prawnego."]
[{"$f":"$A$2","v":9}]
[9]
[9]
[9]
[{"$f":"$A$8","v":16.5},null,"ZDN-1(1)","2/2",null,null,null,null,null,null,null,null,{"$f":"'DN-1'!M10&\".\"&'DN-1'!Q24&Wersja","v":"2023.1.1.15.0.44867"}]
[9]
[9,"Załącznik nr 6"]
[{"$f":"$A$2","v":9},"WYPEŁNIĆ DUŻYMI, DRUKOWANYMI LITERAMI, CZARNYM LUB NIEBIESKIM KOLOREM."]
[4.5]
[{"$f":"$A$2","v":9},"1. Identyfikator podatkowy NIP/numer PESEL (niepotrzebne skreślić)1)\n└────┴────┴────┴────┴────┴────┴────┴────┴────┴────┴────┘",null,null,null,null,null,null,"2.  Nr dokumentu"]
[{"$f":"$A$6","v":19.5},null,{"$f":"$C$6","v":0}]
[{"$f":"$A$2","v":9}]
[16.5,"ZDN-1"]
[{"$f":"$A$8","v":16.5},"ZAŁĄCZNIK DO DEKLARACJI NA PODATEK OD NIERUCHOMOŚCI"]
["","- DANE O PRZEDMIOTACH OPODATKOWANIA PODLEGAJĄCYCH OPODATKOWANIU"]
[{"$f":"$A$2","v":9},null,null,null,null,null,null,null,null,null,null,null,"3. Nr załącznika"]
[{"$f":"$A$6","v":19.5},null,null,null,null,null,null,null,null,null,null,null,{"$f":"M216+1","v":5},null,null,null,{"$f":"IF(COUNTA(C295:O302,C314:O321,C325:O332)=0,0,1)","v":0}]
[{"$f":"$A$4","v":4.5}]
[{"$f":"$A$4","v":4.5}]
[{"$f":"$A$8*1.5","v":24.75},"A.  DANE PODATNIKA WSKAZANEGO W CZĘŚCI C.1 DEKLARACJI DN-1\n* - dotyczy podatnika niebędącego osobą fizyczną               ** - dotyczy podatnika będącego osobą fizyczną"]
[{"$f":"$A$2","v":9},null,"4. Nazwa pełna * / Nazwisko **",null,null,null,null,null,"5. Nazwa skrócona * / Pierwsze imię **"]
[{"$f":"$A$6","v":19.5},null,{"$f":"\"\"&$C$17","v":""},null,null,null,null,null,{"$f":"\"\"&$I$17","v":""}]
[{"$f":"$A$4","v":4.5}]
[{"$f":"$A$8","v":16.5},"B.  DANE O POSZCZEGÓLNYCH PRZEDMIOTACH OPODATKOWANIA PODLEGAJĄCYCH OPODATKOWANIU"]
[16.5,"B.1.  GRUNTY"]
[{"$f":"$A$8*1.5","v":24.75},"Lp.","Położenie (adres, w tym dzielnica)",null,null,null,null,"Nr księgi wieczystej\n(zbioru dokumentów)","Nr obrębu\n(arkusza mapy)2)","Nr działki","Powierzchnia w m2 / ha3)","Stawka Podatku4)",null,"Forma władania5)"]
[{"$f":"$A$2","v":9},null,"a",null,null,null,null,"b","c","d","e","f",null,"g"]
[{"$f":"$A$6","v":19.5},1,null,null,null,null,null,null,null,null,null,null,null,null,null,{"$f":"\"a.\"&L295","v":"a."}]
[19.5,2,null,null,null,null,null,null,null,null,null,null,null,null,null,{"$f":"\"a.\"&L296","v":"a."}]
[19.5,3,null,null,null,null,null,null,null,null,null,null,null,null,null,"a."]
[19.5,4,null,null,null,null,null,null,null,null,null,null,null,null,null,"a."]
[19.5,5,null,null,null,null,null,null,null,null,null,null,null,null,null,"a."]
[19.5,6,null,null,null,null,null,null,null,null,null,null,null,null,null,"a."]
[19.5,7,null,null,null,null,null,null,null,null,null,null,null,null,null,"a."]
[19.5,8,null,null,null,null,null,null,null,null,null,null,null,null,null,"a."]
[{"$f":"$A$2","v":9}]
[{"$f":"$A$2*2","v":18},"1)","Numer PESEL wpisują podatnicy będący osobami fizycznymi objętymi rejestrem PESEL, nieprowadzący działalności gospodarczej lub niebędący zarejestrowanymi podatnikami podatku od towarów i usług.\nIdentyfikator podatkowy NIP wpisują pozostali podatnicy."]
[{"$f":"$A$2","v":9},"2)","Numer obrębu należy podać wraz z numerem arkusza mapy ewidencyjnej w przypadku, gdy działki numerowane są w ramach arkusza mapy."]
[{"$f":"$A$2*2","v":18},"3)","Powierzchnię w ha należy wykazać wyłącznie w przypadku gruntów pod wodami powierzchniowymi stojącymi lub wodami powierzchniowymi płynącymi jezior i zbiorników sztucznych (z dokładnością\ndo czterech miejsc po przecinku)."]
[{"$f":"$A$8","v":16.5},null,{"$f":"'DN-1'!M10&\".\"&'DN-1'!Q24&Wersja","v":"2023.1.1.15.0.44867"},null,null,null,null,null,null,null,null,null,null,"ZDN-1(1)","1/2"]
[{"$f":"$A$2","v":9}]
[{"$f":"$A$2","v":9},"WYPEŁNIĆ DUŻYMI, DRUKOWANYMI LITERAMI, CZARNYM LUB NIEBIESKIM KOLOREM."]
[4.5]
[{"$f":"$A$8","v":16.5},"B.2.  BUDYNKI LUB ICH CZĘŚCI"]
[{"$f":"$A$8*1.5","v":24.75},"Lp.","Położenie (adres, w tym dzielnica)",null,null,null,null,"Nr księgi wieczystej\n(zbioru dokumentów)","Nr obrębu\n(arkusza mapy)2)","Nr działki","Powierzchnia użytkowa w m2","Stawka Podatku4)",null,"Forma władania5)"]
[{"$f":"$A$2","v":9},null,"a",null,null,null,null,"b","c","d","e","f",null,"g"]
[{"$f":"$A$6","v":19.5},1,null,null,null,null,null,null,null,null,null,null,null,null,null,{"$f":"\"b.\"&L314","v":"b."}]
[19.5,2,null,null,null,null,null,null,null,null,null,null,null,null,null,{"$f":"\"b.\"&L315","v":"b."}]
[19.5,3,null,null,null,null,null,null,null,null,null,null,null,null,null,"b."]
[19.5,4,null,null,null,null,null,null,null,null,null,null,null,null,null,"b."]
[19.5,5,null,null,null,null,null,null,null,null,null,null,null,null,null,"b."]
[19.5,6,null,null,null,null,null,null,null,null,null,null,null,null,null,"b."]
[19.5,7,null,null,null,null,null,null,null,null,null,null,null,null,null,"b."]
[19.5,8,null,null,null,null,null,null,null,null,null,null,null,null,null,"b."]
[{"$f":"$A$8","v":16.5},"B.3.  BUDOWLE LUB ICH CZĘŚCI ZWIĄZANE Z PROWADZENIEM DZIAŁALNOŚCI GOSPODARCZEJ"]
[16.5,"Lp.","Nazwa budowli",null,null,"Nr inwentarzowy","Położenie (adres, w tym dzielnica)",null,"Nr obrębu\n(arkusza mapy)2)","Nr działki","Wartość w zł","Stawka Podatku4)",null,"Forma władania5)"]
[{"$f":"$A$2","v":9},null,"a",null,null,"b",null,"c","d","e","f","g",null,"h"]
[{"$f":"$A$6","v":19.5},1,null,null,null,null,null,null,null,null,null,null,null,null,null,{"$f":"\"c.\"&L325","v":"c."}]
[19.5,2,null,null,null,null,null,null,null,null,null,null,null,null,null,{"$f":"\"c.\"&L326","v":"c."}]
[19.5,3,null,null,null,null,null,null,null,null,null,null,null,null,null,"c."]
[19.5,4,null,null,null,null,null,null,null,null,null,null,null,null,null,"c."]
[19.5,5,null,null,null,null,null,null,null,null,null,null,null,null,null,"c."]
[19.5,6,null,null,null,null,null,null,null,null,null,null,null,null,null,"c."]
[19.5,7,null,null,null,null,null,null,null,null,null,null,null,null,null,"c."]
[19.5,8,null,null,null,null,null,null,null,null,null,null,null,null,null,"c."]
[{"$f":"$A$2","v":9}]
[9,"4)","Należy podać stawkę właściwą dla rodzaju przedmiotu opodatkowania zgodną z uchwałą rady gminy."]
[9,"5)","Należy podać jedną z form władania: własność, użytkowanie wieczyste, posiadanie samoistne, posiadanie zależne lub posiadanie bez tytułu prawnego."]
[{"$f":"$A$2","v":9}]
[9]
[9]
[9]
[{"$f":"$A$8","v":16.5},null,"ZDN-1(1)","2/2",null,null,null,null,null,null,null,null,{"$f":"'DN-1'!M10&\".\"&'DN-1'!Q24&Wersja","v":"2023.1.1.15.0.44867"}]
[9]
[9,"Załącznik nr 6"]
[{"$f":"$A$2","v":9},"WYPEŁNIĆ DUŻYMI, DRUKOWANYMI LITERAMI, CZARNYM LUB NIEBIESKIM KOLOREM."]
[4.5]
[{"$f":"$A$2","v":9},"1. Identyfikator podatkowy NIP/numer PESEL (niepotrzebne skreślić)1)\n└────┴────┴────┴────┴────┴────┴────┴────┴────┴────┴────┘",null,null,null,null,null,null,"2.  Nr dokumentu"]
[{"$f":"$A$6","v":19.5},null,{"$f":"$C$6","v":0}]
[{"$f":"$A$2","v":9}]
[16.5,"ZDN-1"]
[{"$f":"$A$8","v":16.5},"ZAŁĄCZNIK DO DEKLARACJI NA PODATEK OD NIERUCHOMOŚCI"]
["","- DANE O PRZEDMIOTACH OPODATKOWANIA PODLEGAJĄCYCH OPODATKOWANIU"]
[{"$f":"$A$2","v":9},null,null,null,null,null,null,null,null,null,null,null,"3. Nr załącznika"]
[{"$f":"$A$6","v":19.5},null,null,null,null,null,null,null,null,null,null,null,{"$f":"M284+1","v":6},null,null,null,{"$f":"IF(COUNTA(C363:O370,C382:O389,C393:O400)=0,0,1)","v":0}]
[{"$f":"$A$4","v":4.5}]
[{"$f":"$A$4","v":4.5}]
[{"$f":"$A$8*1.5","v":24.75},"A.  DANE PODATNIKA WSKAZANEGO W CZĘŚCI C.1 DEKLARACJI DN-1\n* - dotyczy podatnika niebędącego osobą fizyczną               ** - dotyczy podatnika będącego osobą fizyczną"]
[{"$f":"$A$2","v":9},null,"4. Nazwa pełna * / Nazwisko **",null,null,null,null,null,"5. Nazwa skrócona * / Pierwsze imię **"]
[{"$f":"$A$6","v":19.5},null,{"$f":"\"\"&$C$17","v":""},null,null,null,null,null,{"$f":"\"\"&$I$17","v":""}]
[{"$f":"$A$4","v":4.5}]
[{"$f":"$A$8","v":16.5},"B.  DANE O POSZCZEGÓLNYCH PRZEDMIOTACH OPODATKOWANIA PODLEGAJĄCYCH OPODATKOWANIU"]
[16.5,"B.1.  GRUNTY"]
[{"$f":"$A$8*1.5","v":24.75},"Lp.","Położenie (adres, w tym dzielnica)",null,null,null,null,"Nr księgi wieczystej\n(zbioru dokumentów)","Nr obrębu\n(arkusza mapy)2)","Nr działki","Powierzchnia w m2 / ha3)","Stawka Podatku4)",null,"Forma władania5)"]
[{"$f":"$A$2","v":9},null,"a",null,null,null,null,"b","c","d","e","f",null,"g"]
[{"$f":"$A$6","v":19.5},1,null,null,null,null,null,null,null,null,null,null,null,null,null,{"$f":"\"a.\"&L363","v":"a."}]
[19.5,2,null,null,null,null,null,null,null,null,null,null,null,null,null,{"$f":"\"a.\"&L364","v":"a."}]
[19.5,3,null,null,null,null,null,null,null,null,null,null,null,null,null,"a."]
[19.5,4,null,null,null,null,null,null,null,null,null,null,null,null,null,"a."]
[19.5,5,null,null,null,null,null,null,null,null,null,null,null,null,null,"a."]
[19.5,6,null,null,null,null,null,null,null,null,null,null,null,null,null,"a."]
[19.5,7,null,null,null,null,null,null,null,null,null,null,null,null,null,"a."]
[19.5,8,null,null,null,null,null,null,null,null,null,null,null,null,null,"a."]
[{"$f":"$A$2","v":9}]
[{"$f":"$A$2*2","v":18},"1)","Numer PESEL wpisują podatnicy będący osobami fizycznymi objętymi rejestrem PESEL, nieprowadzący działalności gospodarczej lub niebędący zarejestrowanymi podatnikami podatku od towarów i usług.\nIdentyfikator podatkowy NIP wpisują pozostali podatnicy."]
[{"$f":"$A$2","v":9},"2)","Numer obrębu należy podać wraz z numerem arkusza mapy ewidencyjnej w przypadku, gdy działki numerowane są w ramach arkusza mapy."]
[{"$f":"$A$2*2","v":18},"3)","Powierzchnię w ha należy wykazać wyłącznie w przypadku gruntów pod wodami powierzchniowymi stojącymi lub wodami powierzchniowymi płynącymi jezior i zbiorników sztucznych (z dokładnością\ndo czterech miejsc po przecinku)."]
[{"$f":"$A$8","v":16.5},null,{"$f":"'DN-1'!M10&\".\"&'DN-1'!Q24&Wersja","v":"2023.1.1.15.0.44867"},null,null,null,null,null,null,null,null,null,null,"ZDN-1(1)","1/2"]
[{"$f":"$A$2","v":9}]
[{"$f":"$A$2","v":9},"WYPEŁNIĆ DUŻYMI, DRUKOWANYMI LITERAMI, CZARNYM LUB NIEBIESKIM KOLOREM."]
[4.5]
[{"$f":"$A$8","v":16.5},"B.2.  BUDYNKI LUB ICH CZĘŚCI"]
[{"$f":"$A$8*1.5","v":24.75},"Lp.","Położenie (adres, w tym dzielnica)",null,null,null,null,"Nr księgi wieczystej\n(zbioru dokumentów)","Nr obrębu\n(arkusza mapy)2)","Nr działki","Powierzchnia użytkowa w m2","Stawka Podatku4)",null,"Forma władania5)"]
[{"$f":"$A$2","v":9},null,"a",null,null,null,null,"b","c","d","e","f",null,"g"]
[{"$f":"$A$6","v":19.5},1,null,null,null,null,null,null,null,null,null,null,null,null,null,{"$f":"\"b.\"&L382","v":"b."}]
[19.5,2,null,null,null,null,null,null,null,null,null,null,null,null,null,{"$f":"\"b.\"&L383","v":"b."}]
[19.5,3,null,null,null,null,null,null,null,null,null,null,null,null,null,"b."]
[19.5,4,null,null,null,null,null,null,null,null,null,null,null,null,null,"b."]
[19.5,5,null,null,null,null,null,null,null,null,null,null,null,null,null,"b."]
[19.5,6,null,null,null,null,null,null,null,null,null,null,null,null,null,"b."]
[19.5,7,null,null,null,null,null,null,null,null,null,null,null,null,null,"b."]
[19.5,8,null,null,null,null,null,null,null,null,null,null,null,null,null,"b."]
[{"$f":"$A$8","v":16.5},"B.3.  BUDOWLE LUB ICH CZĘŚCI ZWIĄZANE Z PROWADZENIEM DZIAŁALNOŚCI GOSPODARCZEJ"]
[16.5,"Lp.","Nazwa budowli",null,null,"Nr inwentarzowy","Położenie (adres, w tym dzielnica)",null,"Nr obrębu\n(arkusza mapy)2)","Nr działki","Wartość w zł","Stawka Podatku4)",null,"Forma władania5)"]
[{"$f":"$A$2","v":9},null,"a",null,null,"b",null,"c","d","e","f","g",null,"h"]
[{"$f":"$A$6","v":19.5},1,null,null,null,null,null,null,null,null,null,null,null,null,null,{"$f":"\"c.\"&L393","v":"c."}]
[19.5,2,null,null,null,null,null,null,null,null,null,null,null,null,null,{"$f":"\"c.\"&L394","v":"c."}]
[19.5,3,null,null,null,null,null,null,null,null,null,null,null,null,null,"c."]
[19.5,4,null,null,null,null,null,null,null,null,null,null,null,null,null,"c."]
[19.5,5,null,null,null,null,null,null,null,null,null,null,null,null,null,"c."]
[19.5,6,null,null,null,null,null,null,null,null,null,null,null,null,null,"c."]
[19.5,7,null,null,null,null,null,null,null,null,null,null,null,null,null,"c."]
[19.5,8,null,null,null,null,null,null,null,null,null,null,null,null,null,"c."]
[{"$f":"$A$2","v":9}]
[9,"4)","Należy podać stawkę właściwą dla rodzaju przedmiotu opodatkowania zgodną z uchwałą rady gminy."]
[9,"5)","Należy podać jedną z form władania: własność, użytkowanie wieczyste, posiadanie samoistne, posiadanie zależne lub posiadanie bez tytułu prawnego."]
[{"$f":"$A$2","v":9}]
[9]
[9]
[9]
[{"$f":"$A$8","v":16.5},null,"ZDN-1(1)","2/2",null,null,null,null,null,null,null,null,{"$f":"'DN-1'!M10&\".\"&'DN-1'!Q24&Wersja","v":"2023.1.1.15.0.44867"}]
[9]
[9,"Załącznik nr 6"]
[{"$f":"$A$2","v":9},"WYPEŁNIĆ DUŻYMI, DRUKOWANYMI LITERAMI, CZARNYM LUB NIEBIESKIM KOLOREM."]
[4.5]
[{"$f":"$A$2","v":9},"1. Identyfikator podatkowy NIP/numer PESEL (niepotrzebne skreślić)1)\n└────┴────┴────┴────┴────┴────┴────┴────┴────┴────┴────┘",null,null,null,null,null,null,"2.  Nr dokumentu"]
[{"$f":"$A$6","v":19.5},null,{"$f":"$C$6","v":0}]
[{"$f":"$A$2","v":9}]
[16.5,"ZDN-1"]
[{"$f":"$A$8","v":16.5},"ZAŁĄCZNIK DO DEKLARACJI NA PODATEK OD NIERUCHOMOŚCI"]
["","- DANE O PRZEDMIOTACH OPODATKOWANIA PODLEGAJĄCYCH OPODATKOWANIU"]
[{"$f":"$A$2","v":9},null,null,null,null,null,null,null,null,null,null,null,"3. Nr załącznika"]
[{"$f":"$A$6","v":19.5},null,null,null,null,null,null,null,null,null,null,null,{"$f":"M352+1","v":7},null,null,null,{"$f":"IF(COUNTA(C431:O438,C450:O457,C461:O468)=0,0,1)","v":0}]
[{"$f":"$A$4","v":4.5}]
[{"$f":"$A$4","v":4.5}]
[{"$f":"$A$8*1.5","v":24.75},"A.  DANE PODATNIKA WSKAZANEGO W CZĘŚCI C.1 DEKLARACJI DN-1\n* - dotyczy podatnika niebędącego osobą fizyczną               ** - dotyczy podatnika będącego osobą fizyczną"]
[{"$f":"$A$2","v":9},null,"4. Nazwa pełna * / Nazwisko **",null,null,null,null,null,"5. Nazwa skrócona * / Pierwsze imię **"]
[{"$f":"$A$6","v":19.5},null,{"$f":"\"\"&$C$17","v":""},null,null,null,null,null,{"$f":"\"\"&$I$17","v":""}]
[{"$f":"$A$4","v":4.5}]
[{"$f":"$A$8","v":16.5},"B.  DANE O POSZCZEGÓLNYCH PRZEDMIOTACH OPODATKOWANIA PODLEGAJĄCYCH OPODATKOWANIU"]
[16.5,"B.1.  GRUNTY"]
[{"$f":"$A$8*1.5","v":24.75},"Lp.","Położenie (adres, w tym dzielnica)",null,null,null,null,"Nr księgi wieczystej\n(zbioru dokumentów)","Nr obrębu\n(arkusza mapy)2)","Nr działki","Powierzchnia w m2 / ha3)","Stawka Podatku4)",null,"Forma władania5)"]
[{"$f":"$A$2","v":9},null,"a",null,null,null,null,"b","c","d","e","f",null,"g"]
[{"$f":"$A$6","v":19.5},1,null,null,null,null,null,null,null,null,null,null,null,null,null,{"$f":"\"a.\"&L431","v":"a."}]
[19.5,2,null,null,null,null,null,null,null,null,null,null,null,null,null,{"$f":"\"a.\"&L432","v":"a."}]
[19.5,3,null,null,null,null,null,null,null,null,null,null,null,null,null,"a."]
[19.5,4,null,null,null,null,null,null,null,null,null,null,null,null,null,"a."]
[19.5,5,null,null,null,null,null,null,null,null,null,null,null,null,null,"a."]
[19.5,6,null,null,null,null,null,null,null,null,null,null,null,null,null,"a."]
[19.5,7,null,null,null,null,null,null,null,null,null,null,null,null,null,"a."]
[19.5,8,null,null,null,null,null,null,null,null,null,null,null,null,null,"a."]
[{"$f":"$A$2","v":9}]
[{"$f":"$A$2*2","v":18},"1)","Numer PESEL wpisują podatnicy będący osobami fizycznymi objętymi rejestrem PESEL, nieprowadzący działalności gospodarczej lub niebędący zarejestrowanymi podatnikami podatku od towarów i usług.\nIdentyfikator podatkowy NIP wpisują pozostali podatnicy."]
[{"$f":"$A$2","v":9},"2)","Numer obrębu należy podać wraz z numerem arkusza mapy ewidencyjnej w przypadku, gdy działki numerowane są w ramach arkusza mapy."]
[{"$f":"$A$2*2","v":18},"3)","Powierzchnię w ha należy wykazać wyłącznie w przypadku gruntów pod wodami powierzchniowymi stojącymi lub wodami powierzchniowymi płynącymi jezior i zbiorników sztucznych (z dokładnością\ndo czterech miejsc po przecinku)."]
[{"$f":"$A$8","v":16.5},null,{"$f":"'DN-1'!M10&\".\"&'DN-1'!Q24&Wersja","v":"2023.1.1.15.0.44867"},null,null,null,null,null,null,null,null,null,null,"ZDN-1(1)","1/2"]
[{"$f":"$A$2","v":9}]
[{"$f":"$A$2","v":9},"WYPEŁNIĆ DUŻYMI, DRUKOWANYMI LITERAMI, CZARNYM LUB NIEBIESKIM KOLOREM."]
[4.5]
[{"$f":"$A$8","v":16.5},"B.2.  BUDYNKI LUB ICH CZĘŚCI"]
[{"$f":"$A$8*1.5","v":24.75},"Lp.","Położenie (adres, w tym dzielnica)",null,null,null,null,"Nr księgi wieczystej\n(zbioru dokumentów)","Nr obrębu\n(arkusza mapy)2)","Nr działki","Powierzchnia użytkowa w m2","Stawka Podatku4)",null,"Forma władania5)"]
[{"$f":"$A$2","v":9},null,"a",null,null,null,null,"b","c","d","e","f",null,"g"]
[{"$f":"$A$6","v":19.5},1,null,null,null,null,null,null,null,null,null,null,null,null,null,{"$f":"\"b.\"&L450","v":"b."}]
[19.5,2,null,null,null,null,null,null,null,null,null,null,null,null,null,{"$f":"\"b.\"&L451","v":"b."}]
[19.5,3,null,null,null,null,null,null,null,null,null,null,null,null,null,"b."]
[19.5,4,null,null,null,null,null,null,null,null,null,null,null,null,null,"b."]
[19.5,5,null,null,null,null,null,null,null,null,null,null,null,null,null,"b."]
[19.5,6,null,null,null,null,null,null,null,null,null,null,null,null,null,"b."]
[19.5,7,null,null,null,null,null,null,null,null,null,null,null,null,null,"b."]
[19.5,8,null,null,null,null,null,null,null,null,null,null,null,null,null,"b."]
[{"$f":"$A$8","v":16.5},"B.3.  BUDOWLE LUB ICH CZĘŚCI ZWIĄZANE Z PROWADZENIEM DZIAŁALNOŚCI GOSPODARCZEJ"]
[16.5,"Lp.","Nazwa budowli",null,null,"Nr inwentarzowy","Położenie (adres, w tym dzielnica)",null,"Nr obrębu\n(arkusza mapy)2)","Nr działki","Wartość w zł","Stawka Podatku4)",null,"Forma władania5)"]
[{"$f":"$A$2","v":9},null,"a",null,null,"b",null,"c","d","e","f","g",null,"h"]
[{"$f":"$A$6","v":19.5},1,null,null,null,null,null,null,null,null,null,null,null,null,null,{"$f":"\"c.\"&L461","v":"c."}]
[19.5,2,null,null,null,null,null,null,null,null,null,null,null,null,null,{"$f":"\"c.\"&L462","v":"c."}]
[19.5,3,null,null,null,null,null,null,null,null,null,null,null,null,null,"c."]
[19.5,4,null,null,null,null,null,null,null,null,null,null,null,null,null,"c."]
[19.5,5,null,null,null,null,null,null,null,null,null,null,null,null,null,"c."]
[19.5,6,null,null,null,null,null,null,null,null,null,null,null,null,null,"c."]
[19.5,7,null,null,null,null,null,null,null,null,null,null,null,null,null,"c."]
[19.5,8,null,null,null,null,null,null,null,null,null,null,null,null,null,"c."]
[{"$f":"$A$2","v":9}]
[9,"4)","Należy podać stawkę właściwą dla rodzaju przedmiotu opodatkowania zgodną z uchwałą rady gminy."]
[9,"5)","Należy podać jedną z form władania: własność, użytkowanie wieczyste, posiadanie samoistne, posiadanie zależne lub posiadanie bez tytułu prawnego."]
[{"$f":"$A$2","v":9}]
[9]
[9]
[9]
[{"$f":"$A$8","v":16.5},null,"ZDN-1(1)","2/2",null,null,null,null,null,null,null,null,{"$f":"'DN-1'!M10&\".\"&'DN-1'!Q24&Wersja","v":"2023.1.1.15.0.44867"}]
[9]
[9,"Załącznik nr 6"]
[{"$f":"$A$2","v":9},"WYPEŁNIĆ DUŻYMI, DRUKOWANYMI LITERAMI, CZARNYM LUB NIEBIESKIM KOLOREM."]
[4.5]
[{"$f":"$A$2","v":9},"1. Identyfikator podatkowy NIP/numer PESEL (niepotrzebne skreślić)1)\n└────┴────┴────┴────┴────┴────┴────┴────┴────┴────┴────┘",null,null,null,null,null,null,"2.  Nr dokumentu"]
[{"$f":"$A$6","v":19.5},null,{"$f":"$C$6","v":0}]
[{"$f":"$A$2","v":9}]
[16.5,"ZDN-1"]
[{"$f":"$A$8","v":16.5},"ZAŁĄCZNIK DO DEKLARACJI NA PODATEK OD NIERUCHOMOŚCI"]
["","- DANE O PRZEDMIOTACH OPODATKOWANIA PODLEGAJĄCYCH OPODATKOWANIU"]
[{"$f":"$A$2","v":9},null,null,null,null,null,null,null,null,null,null,null,"3. Nr załącznika"]
[{"$f":"$A$6","v":19.5},null,null,null,null,null,null,null,null,null,null,null,{"$f":"M420+1","v":8},null,null,null,{"$f":"IF(COUNTA(C499:O506,C518:O525,C529:O536)=0,0,1)","v":0}]
[{"$f":"$A$4","v":4.5}]
[{"$f":"$A$4","v":4.5}]
[{"$f":"$A$8*1.5","v":24.75},"A.  DANE PODATNIKA WSKAZANEGO W CZĘŚCI C.1 DEKLARACJI DN-1\n* - dotyczy podatnika niebędącego osobą fizyczną               ** - dotyczy podatnika będącego osobą fizyczną"]
[{"$f":"$A$2","v":9},null,"4. Nazwa pełna * / Nazwisko **",null,null,null,null,null,"5. Nazwa skrócona * / Pierwsze imię **"]
[{"$f":"$A$6","v":19.5},null,{"$f":"\"\"&$C$17","v":""},null,null,null,null,null,{"$f":"\"\"&$I$17","v":""}]
[{"$f":"$A$4","v":4.5}]
[{"$f":"$A$8","v":16.5},"B.  DANE O POSZCZEGÓLNYCH PRZEDMIOTACH OPODATKOWANIA PODLEGAJĄCYCH OPODATKOWANIU"]
[16.5,"B.1.  GRUNTY"]
[{"$f":"$A$8*1.5","v":24.75},"Lp.","Położenie (adres, w tym dzielnica)",null,null,null,null,"Nr księgi wieczystej\n(zbioru dokumentów)","Nr obrębu\n(arkusza mapy)2)","Nr działki","Powierzchnia w m2 / ha3)","Stawka Podatku4)",null,"Forma władania5)"]
[{"$f":"$A$2","v":9},null,"a",null,null,null,null,"b","c","d","e","f",null,"g"]
[{"$f":"$A$6","v":19.5},1,null,null,null,null,null,null,null,null,null,null,null,null,null,{"$f":"\"a.\"&L499","v":"a."}]
[19.5,2,null,null,null,null,null,null,null,null,null,null,null,null,null,{"$f":"\"a.\"&L500","v":"a."}]
[19.5,3,null,null,null,null,null,null,null,null,null,null,null,null,null,"a."]
[19.5,4,null,null,null,null,null,null,null,null,null,null,null,null,null,"a."]
[19.5,5,null,null,null,null,null,null,null,null,null,null,null,null,null,"a."]
[19.5,6,null,null,null,null,null,null,null,null,null,null,null,null,null,"a."]
[19.5,7,null,null,null,null,null,null,null,null,null,null,null,null,null,"a."]
[19.5,8,null,null,null,null,null,null,null,null,null,null,null,null,null,"a."]
[{"$f":"$A$2","v":9}]
[{"$f":"$A$2*2","v":18},"1)","Numer PESEL wpisują podatnicy będący osobami fizycznymi objętymi rejestrem PESEL, nieprowadzący działalności gospodarczej lub niebędący zarejestrowanymi podatnikami podatku od towarów i usług.\nIdentyfikator podatkowy NIP wpisują pozostali podatnicy."]
[{"$f":"$A$2","v":9},"2)","Numer obrębu należy podać wraz z numerem arkusza mapy ewidencyjnej w przypadku, gdy działki numerowane są w ramach arkusza mapy."]
[{"$f":"$A$2*2","v":18},"3)","Powierzchnię w ha należy wykazać wyłącznie w przypadku gruntów pod wodami powierzchniowymi stojącymi lub wodami powierzchniowymi płynącymi jezior i zbiorników sztucznych (z dokładnością\ndo czterech miejsc po przecinku)."]
[{"$f":"$A$8","v":16.5},null,{"$f":"'DN-1'!M10&\".\"&'DN-1'!Q24&Wersja","v":"2023.1.1.15.0.44867"},null,null,null,null,null,null,null,null,null,null,"ZDN-1(1)","1/2"]
[{"$f":"$A$2","v":9}]
[{"$f":"$A$2","v":9},"WYPEŁNIĆ DUŻYMI, DRUKOWANYMI LITERAMI, CZARNYM LUB NIEBIESKIM KOLOREM."]
[4.5]
[{"$f":"$A$8","v":16.5},"B.2.  BUDYNKI LUB ICH CZĘŚCI"]
[{"$f":"$A$8*1.5","v":24.75},"Lp.","Położenie (adres, w tym dzielnica)",null,null,null,null,"Nr księgi wieczystej\n(zbioru dokumentów)","Nr obrębu\n(arkusza mapy)2)","Nr działki","Powierzchnia użytkowa w m2","Stawka Podatku4)",null,"Forma władania5)"]
[{"$f":"$A$2","v":9},null,"a",null,null,null,null,"b","c","d","e","f",null,"g"]
[{"$f":"$A$6","v":19.5},1,null,null,null,null,null,null,null,null,null,null,null,null,null,{"$f":"\"b.\"&L518","v":"b."}]
[19.5,2,null,null,null,null,null,null,null,null,null,null,null,null,null,{"$f":"\"b.\"&L519","v":"b."}]
[19.5,3,null,null,null,null,null,null,null,null,null,null,null,null,null,"b."]
[19.5,4,null,null,null,null,null,null,null,null,null,null,null,null,null,"b."]
[19.5,5,null,null,null,null,null,null,null,null,null,null,null,null,null,"b."]
[19.5,6,null,null,null,null,null,null,null,null,null,null,null,null,null,"b."]
[19.5,7,null,null,null,null,null,null,null,null,null,null,null,null,null,"b."]
[19.5,8,null,null,null,null,null,null,null,null,null,null,null,null,null,"b."]
[{"$f":"$A$8","v":16.5},"B.3.  BUDOWLE LUB ICH CZĘŚCI ZWIĄZANE Z PROWADZENIEM DZIAŁALNOŚCI GOSPODARCZEJ"]
[16.5,"Lp.","Nazwa budowli",null,null,"Nr inwentarzowy","Położenie (adres, w tym dzielnica)",null,"Nr obrębu\n(arkusza mapy)2)","Nr działki","Wartość w zł","Stawka Podatku4)",null,"Forma władania5)"]
[{"$f":"$A$2","v":9},null,"a",null,null,"b",null,"c","d","e","f","g",null,"h"]
[{"$f":"$A$6","v":19.5},1,null,null,null,null,null,null,null,null,null,null,null,null,null,{"$f":"\"c.\"&L529","v":"c."}]
[19.5,2,null,null,null,null,null,null,null,null,null,null,null,null,null,{"$f":"\"c.\"&L530","v":"c."}]
[19.5,3,null,null,null,null,null,null,null,null,null,null,null,null,null,"c."]
[19.5,4,null,null,null,null,null,null,null,null,null,null,null,null,null,"c."]
[19.5,5,null,null,null,null,null,null,null,null,null,null,null,null,null,"c."]
[19.5,6,null,null,null,null,null,null,null,null,null,null,null,null,null,"c."]
[19.5,7,null,null,null,null,null,null,null,null,null,null,null,null,null,"c."]
[19.5,8,null,null,null,null,null,null,null,null,null,null,null,null,null,"c."]
[{"$f":"$A$2","v":9}]
[9,"4)","Należy podać stawkę właściwą dla rodzaju przedmiotu opodatkowania zgodną z uchwałą rady gminy."]
[9,"5)","Należy podać jedną z form władania: własność, użytkowanie wieczyste, posiadanie samoistne, posiadanie zależne lub posiadanie bez tytułu prawnego."]
[{"$f":"$A$2","v":9}]
[9]
[9]
[9]
[{"$f":"$A$8","v":16.5},null,"ZDN-1(1)","2/2",null,null,null,null,null,null,null,null,{"$f":"'DN-1'!M10&\".\"&'DN-1'!Q24&Wersja","v":"2023.1.1.15.0.44867"}]
[9]
[9,"Załącznik nr 6"]
[{"$f":"$A$2","v":9},"WYPEŁNIĆ DUŻYMI, DRUKOWANYMI LITERAMI, CZARNYM LUB NIEBIESKIM KOLOREM."]
[4.5]
[{"$f":"$A$2","v":9},"1. Identyfikator podatkowy NIP/numer PESEL (niepotrzebne skreślić)1)\n└────┴────┴────┴────┴────┴────┴────┴────┴────┴────┴────┘",null,null,null,null,null,null,"2.  Nr dokumentu"]
[{"$f":"$A$6","v":19.5},null,{"$f":"$C$6","v":0}]
[{"$f":"$A$2","v":9}]
[16.5,"ZDN-1"]
[{"$f":"$A$8","v":16.5},"ZAŁĄCZNIK DO DEKLARACJI NA PODATEK OD NIERUCHOMOŚCI"]
["","- DANE O PRZEDMIOTACH OPODATKOWANIA PODLEGAJĄCYCH OPODATKOWANIU"]
[{"$f":"$A$2","v":9},null,null,null,null,null,null,null,null,null,null,null,"3. Nr załącznika"]
[{"$f":"$A$6","v":19.5},null,null,null,null,null,null,null,null,null,null,null,{"$f":"M488+1","v":9},null,null,null,{"$f":"IF(COUNTA(C567:O574,C586:O593,C597:O604)=0,0,1)","v":0}]
[{"$f":"$A$4","v":4.5}]
[{"$f":"$A$4","v":4.5}]
[{"$f":"$A$8*1.5","v":24.75},"A.  DANE PODATNIKA WSKAZANEGO W CZĘŚCI C.1 DEKLARACJI DN-1\n* - dotyczy podatnika niebędącego osobą fizyczną               ** - dotyczy podatnika będącego osobą fizyczną"]
[{"$f":"$A$2","v":9},null,"4. Nazwa pełna * / Nazwisko **",null,null,null,null,null,"5. Nazwa skrócona * / Pierwsze imię **"]
[{"$f":"$A$6","v":19.5},null,{"$f":"\"\"&$C$17","v":""},null,null,null,null,null,{"$f":"\"\"&$I$17","v":""}]
[{"$f":"$A$4","v":4.5}]
[{"$f":"$A$8","v":16.5},"B.  DANE O POSZCZEGÓLNYCH PRZEDMIOTACH OPODATKOWANIA PODLEGAJĄCYCH OPODATKOWANIU"]
[16.5,"B.1.  GRUNTY"]
[{"$f":"$A$8*1.5","v":24.75},"Lp.","Położenie (adres, w tym dzielnica)",null,null,null,null,"Nr księgi wieczystej\n(zbioru dokumentów)","Nr obrębu\n(arkusza mapy)2)","Nr działki","Powierzchnia w m2 / ha3)","Stawka Podatku4)",null,"Forma władania5)"]
[{"$f":"$A$2","v":9},null,"a",null,null,null,null,"b","c","d","e","f",null,"g"]
[{"$f":"$A$6","v":19.5},1,null,null,null,null,null,null,null,null,null,null,null,null,null,{"$f":"\"a.\"&L567","v":"a."}]
[19.5,2,null,null,null,null,null,null,null,null,null,null,null,null,null,{"$f":"\"a.\"&L568","v":"a."}]
[19.5,3,null,null,null,null,null,null,null,null,null,null,null,null,null,"a."]
[19.5,4,null,null,null,null,null,null,null,null,null,null,null,null,null,"a."]
[19.5,5,null,null,null,null,null,null,null,null,null,null,null,null,null,"a."]
[19.5,6,null,null,null,null,null,null,null,null,null,null,null,null,null,"a."]
[19.5,7,null,null,null,null,null,null,null,null,null,null,null,null,null,"a."]
[19.5,8,null,null,null,null,null,null,null,null,null,null,null,null,null,"a."]
[{"$f":"$A$2","v":9}]
[{"$f":"$A$2*2","v":18},"1)","Numer PESEL wpisują podatnicy będący osobami fizycznymi objętymi rejestrem PESEL, nieprowadzący działalności gospodarczej lub niebędący zarejestrowanymi podatnikami podatku od towarów i usług.\nIdentyfikator podatkowy NIP wpisują pozostali podatnicy."]
[{"$f":"$A$2","v":9},"2)","Numer obrębu należy podać wraz z numerem arkusza mapy ewidencyjnej w przypadku, gdy działki numerowane są w ramach arkusza mapy."]
[{"$f":"$A$2*2","v":18},"3)","Powierzchnię w ha należy wykazać wyłącznie w przypadku gruntów pod wodami powierzchniowymi stojącymi lub wodami powierzchniowymi płynącymi jezior i zbiorników sztucznych (z dokładnością\ndo czterech miejsc po przecinku)."]
[{"$f":"$A$8","v":16.5},null,{"$f":"'DN-1'!M10&\".\"&'DN-1'!Q24&Wersja","v":"2023.1.1.15.0.44867"},null,null,null,null,null,null,null,null,null,null,"ZDN-1(1)","1/2"]
[{"$f":"$A$2","v":9}]
[{"$f":"$A$2","v":9},"WYPEŁNIĆ DUŻYMI, DRUKOWANYMI LITERAMI, CZARNYM LUB NIEBIESKIM KOLOREM."]
[4.5]
[{"$f":"$A$8","v":16.5},"B.2.  BUDYNKI LUB ICH CZĘŚCI"]
[{"$f":"$A$8*1.5","v":24.75},"Lp.","Położenie (adres, w tym dzielnica)",null,null,null,null,"Nr księgi wieczystej\n(zbioru dokumentów)","Nr obrębu\n(arkusza mapy)2)","Nr działki","Powierzchnia użytkowa w m2","Stawka Podatku4)",null,"Forma władania5)"]
[{"$f":"$A$2","v":9},null,"a",null,null,null,null,"b","c","d","e","f",null,"g"]
[{"$f":"$A$6","v":19.5},1,null,null,null,null,null,null,null,null,null,null,null,null,null,{"$f":"\"b.\"&L586","v":"b."}]
[19.5,2,null,null,null,null,null,null,null,null,null,null,null,null,null,{"$f":"\"b.\"&L587","v":"b."}]
[19.5,3,null,null,null,null,null,null,null,null,null,null,null,null,null,"b."]
[19.5,4,null,null,null,null,null,null,null,null,null,null,null,null,null,"b."]
[19.5,5,null,null,null,null,null,null,null,null,null,null,null,null,null,"b."]
[19.5,6,null,null,null,null,null,null,null,null,null,null,null,null,null,"b."]
[19.5,7,null,null,null,null,null,null,null,null,null,null,null,null,null,"b."]
[19.5,8,null,null,null,null,null,null,null,null,null,null,null,null,null,"b."]
[{"$f":"$A$8","v":16.5},"B.3.  BUDOWLE LUB ICH CZĘŚCI ZWIĄZANE Z PROWADZENIEM DZIAŁALNOŚCI GOSPODARCZEJ"]
[16.5,"Lp.","Nazwa budowli",null,null,"Nr inwentarzowy","Położenie (adres, w tym dzielnica)",null,"Nr obrębu\n(arkusza mapy)2)","Nr działki","Wartość w zł","Stawka Podatku4)",null,"Forma władania5)"]
[{"$f":"$A$2","v":9},null,"a",null,null,"b",null,"c","d","e","f","g",null,"h"]
[{"$f":"$A$6","v":19.5},1,null,null,null,null,null,null,null,null,null,null,null,null,null,{"$f":"\"c.\"&L597","v":"c."}]
[19.5,2,null,null,null,null,null,null,null,null,null,null,null,null,null,{"$f":"\"c.\"&L598","v":"c."}]
[19.5,3,null,null,null,null,null,null,null,null,null,null,null,null,null,"c."]
[19.5,4,null,null,null,null,null,null,null,null,null,null,null,null,null,"c."]
[19.5,5,null,null,null,null,null,null,null,null,null,null,null,null,null,"c."]
[19.5,6,null,null,null,null,null,null,null,null,null,null,null,null,null,"c."]
[19.5,7,null,null,null,null,null,null,null,null,null,null,null,null,null,"c."]
[19.5,8,null,null,null,null,null,null,null,null,null,null,null,null,null,"c."]
[{"$f":"$A$2","v":9}]
[9,"4)","Należy podać stawkę właściwą dla rodzaju przedmiotu opodatkowania zgodną z uchwałą rady gminy."]
[9,"5)","Należy podać jedną z form władania: własność, użytkowanie wieczyste, posiadanie samoistne, posiadanie zależne lub posiadanie bez tytułu prawnego."]
[{"$f":"$A$2","v":9}]
[9]
[9]
[9]
[{"$f":"$A$8","v":16.5},null,"ZDN-1(1)","2/2",null,null,null,null,null,null,null,null,{"$f":"'DN-1'!M10&\".\"&'DN-1'!Q24&Wersja","v":"2023.1.1.15.0.44867"}]
[9]
[9,"Załącznik nr 6"]
[{"$f":"$A$2","v":9},"WYPEŁNIĆ DUŻYMI, DRUKOWANYMI LITERAMI, CZARNYM LUB NIEBIESKIM KOLOREM."]
[4.5]
[{"$f":"$A$2","v":9},"1. Identyfikator podatkowy NIP/numer PESEL (niepotrzebne skreślić)1)\n└────┴────┴────┴────┴────┴────┴────┴────┴────┴────┴────┘",null,null,null,null,null,null,"2.  Nr dokumentu"]
[{"$f":"$A$6","v":19.5},null,{"$f":"$C$6","v":0}]
[{"$f":"$A$2","v":9}]
[16.5,"ZDN-1"]
[{"$f":"$A$8","v":16.5},"ZAŁĄCZNIK DO DEKLARACJI NA PODATEK OD NIERUCHOMOŚCI"]
["","- DANE O PRZEDMIOTACH OPODATKOWANIA PODLEGAJĄCYCH OPODATKOWANIU"]
[{"$f":"$A$2","v":9},null,null,null,null,null,null,null,null,null,null,null,"3. Nr załącznika"]
[{"$f":"$A$6","v":19.5},null,null,null,null,null,null,null,null,null,null,null,{"$f":"M556+1","v":10},null,null,null,{"$f":"IF(COUNTA(C635:O642,C654:O661,C665:O672)=0,0,1)","v":0}]
[{"$f":"$A$4","v":4.5}]
[{"$f":"$A$4","v":4.5}]
[{"$f":"$A$8*1.5","v":24.75},"A.  DANE PODATNIKA WSKAZANEGO W CZĘŚCI C.1 DEKLARACJI DN-1\n* - dotyczy podatnika niebędącego osobą fizyczną               ** - dotyczy podatnika będącego osobą fizyczną"]
[{"$f":"$A$2","v":9},null,"4. Nazwa pełna * / Nazwisko **",null,null,null,null,null,"5. Nazwa skrócona * / Pierwsze imię **"]
[{"$f":"$A$6","v":19.5},null,{"$f":"\"\"&$C$17","v":""},null,null,null,null,null,{"$f":"\"\"&$I$17","v":""}]
[{"$f":"$A$4","v":4.5}]
[{"$f":"$A$8","v":16.5},"B.  DANE O POSZCZEGÓLNYCH PRZEDMIOTACH OPODATKOWANIA PODLEGAJĄCYCH OPODATKOWANIU"]
[16.5,"B.1.  GRUNTY"]
[{"$f":"$A$8*1.5","v":24.75},"Lp.","Położenie (adres, w tym dzielnica)",null,null,null,null,"Nr księgi wieczystej\n(zbioru dokumentów)","Nr obrębu\n(arkusza mapy)2)","Nr działki","Powierzchnia w m2 / ha3)","Stawka Podatku4)",null,"Forma władania5)"]
[{"$f":"$A$2","v":9},null,"a",null,null,null,null,"b","c","d","e","f",null,"g"]
[{"$f":"$A$6","v":19.5},1,null,null,null,null,null,null,null,null,null,null,null,null,null,{"$f":"\"a.\"&L635","v":"a."}]
[19.5,2,null,null,null,null,null,null,null,null,null,null,null,null,null,{"$f":"\"a.\"&L636","v":"a."}]
[19.5,3,null,null,null,null,null,null,null,null,null,null,null,null,null,"a."]
[19.5,4,null,null,null,null,null,null,null,null,null,null,null,null,null,"a."]
[19.5,5,null,null,null,null,null,null,null,null,null,null,null,null,null,"a."]
[19.5,6,null,null,null,null,null,null,null,null,null,null,null,null,null,"a."]
[19.5,7,null,null,null,null,null,null,null,null,null,null,null,null,null,"a."]
[19.5,8,null,null,null,null,null,null,null,null,null,null,null,null,null,"a."]
[{"$f":"$A$2","v":9}]
[{"$f":"$A$2*2","v":18},"1)","Numer PESEL wpisują podatnicy będący osobami fizycznymi objętymi rejestrem PESEL, nieprowadzący działalności gospodarczej lub niebędący zarejestrowanymi podatnikami podatku od towarów i usług.\nIdentyfikator podatkowy NIP wpisują pozostali podatnicy."]
[{"$f":"$A$2","v":9},"2)","Numer obrębu należy podać wraz z numerem arkusza mapy ewidencyjnej w przypadku, gdy działki numerowane są w ramach arkusza mapy."]
[{"$f":"$A$2*2","v":18},"3)","Powierzchnię w ha należy wykazać wyłącznie w przypadku gruntów pod wodami powierzchniowymi stojącymi lub wodami powierzchniowymi płynącymi jezior i zbiorników sztucznych (z dokładnością\ndo czterech miejsc po przecinku)."]
[{"$f":"$A$8","v":16.5},null,{"$f":"'DN-1'!M10&\".\"&'DN-1'!Q24&Wersja","v":"2023.1.1.15.0.44867"},null,null,null,null,null,null,null,null,null,null,"ZDN-1(1)","1/2"]
[{"$f":"$A$2","v":9}]
[{"$f":"$A$2","v":9},"WYPEŁNIĆ DUŻYMI, DRUKOWANYMI LITERAMI, CZARNYM LUB NIEBIESKIM KOLOREM."]
[4.5]
[{"$f":"$A$8","v":16.5},"B.2.  BUDYNKI LUB ICH CZĘŚCI"]
[{"$f":"$A$8*1.5","v":24.75},"Lp.","Położenie (adres, w tym dzielnica)",null,null,null,null,"Nr księgi wieczystej\n(zbioru dokumentów)","Nr obrębu\n(arkusza mapy)2)","Nr działki","Powierzchnia użytkowa w m2","Stawka Podatku4)",null,"Forma władania5)"]
[{"$f":"$A$2","v":9},null,"a",null,null,null,null,"b","c","d","e","f",null,"g"]
[{"$f":"$A$6","v":19.5},1,null,null,null,null,null,null,null,null,null,null,null,null,null,{"$f":"\"b.\"&L654","v":"b."}]
[19.5,2,null,null,null,null,null,null,null,null,null,null,null,null,null,{"$f":"\"b.\"&L655","v":"b."}]
[19.5,3,null,null,null,null,null,null,null,null,null,null,null,null,null,"b."]
[19.5,4,null,null,null,null,null,null,null,null,null,null,null,null,null,"b."]
[19.5,5,null,null,null,null,null,null,null,null,null,null,null,null,null,"b."]
[19.5,6,null,null,null,null,null,null,null,null,null,null,null,null,null,"b."]
[19.5,7,null,null,null,null,null,null,null,null,null,null,null,null,null,"b."]
[19.5,8,null,null,null,null,null,null,null,null,null,null,null,null,null,"b."]
[{"$f":"$A$8","v":16.5},"B.3.  BUDOWLE LUB ICH CZĘŚCI ZWIĄZANE Z PROWADZENIEM DZIAŁALNOŚCI GOSPODARCZEJ"]
[16.5,"Lp.","Nazwa budowli",null,null,"Nr inwentarzowy","Położenie (adres, w tym dzielnica)",null,"Nr obrębu\n(arkusza mapy)2)","Nr działki","Wartość w zł","Stawka Podatku4)",null,"Forma władania5)"]
[{"$f":"$A$2","v":9},null,"a",null,null,"b",null,"c","d","e","f","g",null,"h"]
[{"$f":"$A$6","v":19.5},1,null,null,null,null,null,null,null,null,null,null,null,null,null,{"$f":"\"c.\"&L665","v":"c."}]
[19.5,2,null,null,null,null,null,null,null,null,null,null,null,null,null,{"$f":"\"c.\"&L666","v":"c."}]
[19.5,3,null,null,null,null,null,null,null,null,null,null,null,null,null,"c."]
[19.5,4,null,null,null,null,null,null,null,null,null,null,null,null,null,"c."]
[19.5,5,null,null,null,null,null,null,null,null,null,null,null,null,null,"c."]
[19.5,6,null,null,null,null,null,null,null,null,null,null,null,null,null,"c."]
[19.5,7,null,null,null,null,null,null,null,null,null,null,null,null,null,"c."]
[19.5,8,null,null,null,null,null,null,null,null,null,null,null,null,null,"c."]
[{"$f":"$A$2","v":9}]
[9,"4)","Należy podać stawkę właściwą dla rodzaju przedmiotu opodatkowania zgodną z uchwałą rady gminy."]
[9,"5)","Należy podać jedną z form władania: własność, użytkowanie wieczyste, posiadanie samoistne, posiadanie zależne lub posiadanie bez tytułu prawnego."]
[{"$f":"$A$2","v":9}]
[9]
[9]
[9]
[{"$f":"$A$8","v":16.5},null,"ZDN-1(1)","2/2",null,null,null,null,null,null,null,null,{"$f":"'DN-1'!M10&\".\"&'DN-1'!Q24&Wersja","v":"2023.1.1.15.0.44867"}]
[9]
[9,"Załącznik nr 6"]
[{"$f":"$A$2","v":9},"WYPEŁNIĆ DUŻYMI, DRUKOWANYMI LITERAMI, CZARNYM LUB NIEBIESKIM KOLOREM."]
[4.5]
[{"$f":"$A$2","v":9},"1. Identyfikator podatkowy NIP/numer PESEL (niepotrzebne skreślić)1)\n└────┴────┴────┴────┴────┴────┴────┴────┴────┴────┴────┘",null,null,null,null,null,null,"2.  Nr dokumentu"]
[{"$f":"$A$6","v":19.5},null,{"$f":"$C$6","v":0}]
[{"$f":"$A$2","v":9}]
[16.5,"ZDN-1"]
[{"$f":"$A$8","v":16.5},"ZAŁĄCZNIK DO DEKLARACJI NA PODATEK OD NIERUCHOMOŚCI"]
["","- DANE O PRZEDMIOTACH OPODATKOWANIA PODLEGAJĄCYCH OPODATKOWANIU"]
[{"$f":"$A$2","v":9},null,null,null,null,null,null,null,null,null,null,null,"3. Nr załącznika"]
[{"$f":"$A$6","v":19.5},null,null,null,null,null,null,null,null,null,null,null,{"$f":"M624+1","v":11},null,null,null,{"$f":"IF(COUNTA(C703:O710,C722:O729,C733:O740)=0,0,1)","v":0}]
[{"$f":"$A$4","v":4.5}]
[{"$f":"$A$4","v":4.5}]
[{"$f":"$A$8*1.5","v":24.75},"A.  DANE PODATNIKA WSKAZANEGO W CZĘŚCI C.1 DEKLARACJI DN-1\n* - dotyczy podatnika niebędącego osobą fizyczną               ** - dotyczy podatnika będącego osobą fizyczną"]
[{"$f":"$A$2","v":9},null,"4. Nazwa pełna * / Nazwisko **",null,null,null,null,null,"5. Nazwa skrócona * / Pierwsze imię **"]
[{"$f":"$A$6","v":19.5},null,{"$f":"\"\"&$C$17","v":""},null,null,null,null,null,{"$f":"\"\"&$I$17","v":""}]
[{"$f":"$A$4","v":4.5}]
[{"$f":"$A$8","v":16.5},"B.  DANE O POSZCZEGÓLNYCH PRZEDMIOTACH OPODATKOWANIA PODLEGAJĄCYCH OPODATKOWANIU"]
[16.5,"B.1.  GRUNTY"]
[{"$f":"$A$8*1.5","v":24.75},"Lp.","Położenie (adres, w tym dzielnica)",null,null,null,null,"Nr księgi wieczystej\n(zbioru dokumentów)","Nr obrębu\n(arkusza mapy)2)","Nr działki","Powierzchnia w m2 / ha3)","Stawka Podatku4)",null,"Forma władania5)"]
[{"$f":"$A$2","v":9},null,"a",null,null,null,null,"b","c","d","e","f",null,"g"]
[{"$f":"$A$6","v":19.5},1,null,null,null,null,null,null,null,null,null,null,null,null,null,{"$f":"\"a.\"&L703","v":"a."}]
[19.5,2,null,null,null,null,null,null,null,null,null,null,null,null,null,{"$f":"\"a.\"&L704","v":"a."}]
[19.5,3,null,null,null,null,null,null,null,null,null,null,null,null,null,"a."]
[19.5,4,null,null,null,null,null,null,null,null,null,null,null,null,null,"a."]
[19.5,5,null,null,null,null,null,null,null,null,null,null,null,null,null,"a."]
[19.5,6,null,null,null,null,null,null,null,null,null,null,null,null,null,"a."]
[19.5,7,null,null,null,null,null,null,null,null,null,null,null,null,null,"a."]
[19.5,8,null,null,null,null,null,null,null,null,null,null,null,null,null,"a."]
[{"$f":"$A$2","v":9}]
[{"$f":"$A$2*2","v":18},"1)","Numer PESEL wpisują podatnicy będący osobami fizycznymi objętymi rejestrem PESEL, nieprowadzący działalności gospodarczej lub niebędący zarejestrowanymi podatnikami podatku od towarów i usług.\nIdentyfikator podatkowy NIP wpisują pozostali podatnicy."]
[{"$f":"$A$2","v":9},"2)","Numer obrębu należy podać wraz z numerem arkusza mapy ewidencyjnej w przypadku, gdy działki numerowane są w ramach arkusza mapy."]
[{"$f":"$A$2*2","v":18},"3)","Powierzchnię w ha należy wykazać wyłącznie w przypadku gruntów pod wodami powierzchniowymi stojącymi lub wodami powierzchniowymi płynącymi jezior i zbiorników sztucznych (z dokładnością\ndo czterech miejsc po przecinku)."]
[{"$f":"$A$8","v":16.5},null,{"$f":"'DN-1'!M10&\".\"&'DN-1'!Q24&Wersja","v":"2023.1.1.15.0.44867"},null,null,null,null,null,null,null,null,null,null,"ZDN-1(1)","1/2"]
[{"$f":"$A$2","v":9}]
[{"$f":"$A$2","v":9},"WYPEŁNIĆ DUŻYMI, DRUKOWANYMI LITERAMI, CZARNYM LUB NIEBIESKIM KOLOREM."]
[4.5]
[{"$f":"$A$8","v":16.5},"B.2.  BUDYNKI LUB ICH CZĘŚCI"]
[{"$f":"$A$8*1.5","v":24.75},"Lp.","Położenie (adres, w tym dzielnica)",null,null,null,null,"Nr księgi wieczystej\n(zbioru dokumentów)","Nr obrębu\n(arkusza mapy)2)","Nr działki","Powierzchnia użytkowa w m2","Stawka Podatku4)",null,"Forma władania5)"]
[{"$f":"$A$2","v":9},null,"a",null,null,null,null,"b","c","d","e","f",null,"g"]
[{"$f":"$A$6","v":19.5},1,null,null,null,null,null,null,null,null,null,null,null,null,null,{"$f":"\"b.\"&L722","v":"b."}]
[19.5,2,null,null,null,null,null,null,null,null,null,null,null,null,null,{"$f":"\"b.\"&L723","v":"b."}]
[19.5,3,null,null,null,null,null,null,null,null,null,null,null,null,null,"b."]
[19.5,4,null,null,null,null,null,null,null,null,null,null,null,null,null,"b."]
[19.5,5,null,null,null,null,null,null,null,null,null,null,null,null,null,"b."]
[19.5,6,null,null,null,null,null,null,null,null,null,null,null,null,null,"b."]
[19.5,7,null,null,null,null,null,null,null,null,null,null,null,null,null,"b."]
[19.5,8,null,null,null,null,null,null,null,null,null,null,null,null,null,"b."]
[{"$f":"$A$8","v":16.5},"B.3.  BUDOWLE LUB ICH CZĘŚCI ZWIĄZANE Z PROWADZENIEM DZIAŁALNOŚCI GOSPODARCZEJ"]
[16.5,"Lp.","Nazwa budowli",null,null,"Nr inwentarzowy","Położenie (adres, w tym dzielnica)",null,"Nr obrębu\n(arkusza mapy)2)","Nr działki","Wartość w zł","Stawka Podatku4)",null,"Forma władania5)"]
[{"$f":"$A$2","v":9},null,"a",null,null,"b",null,"c","d","e","f","g",null,"h"]
[{"$f":"$A$6","v":19.5},1,null,null,null,null,null,null,null,null,null,null,null,null,null,{"$f":"\"c.\"&L733","v":"c."}]
[19.5,2,null,null,null,null,null,null,null,null,null,null,null,null,null,{"$f":"\"c.\"&L734","v":"c."}]
[19.5,3,null,null,null,null,null,null,null,null,null,null,null,null,null,"c."]
[19.5,4,null,null,null,null,null,null,null,null,null,null,null,null,null,"c."]
[19.5,5,null,null,null,null,null,null,null,null,null,null,null,null,null,"c."]
[19.5,6,null,null,null,null,null,null,null,null,null,null,null,null,null,"c."]
[19.5,7,null,null,null,null,null,null,null,null,null,null,null,null,null,"c."]
[19.5,8,null,null,null,null,null,null,null,null,null,null,null,null,null,"c."]
[{"$f":"$A$2","v":9}]
[9,"4)","Należy podać stawkę właściwą dla rodzaju przedmiotu opodatkowania zgodną z uchwałą rady gminy."]
[9,"5)","Należy podać jedną z form władania: własność, użytkowanie wieczyste, posiadanie samoistne, posiadanie zależne lub posiadanie bez tytułu prawnego."]
[{"$f":"$A$2","v":9}]
[9]
[9]
[9]
[{"$f":"$A$8","v":16.5},null,"ZDN-1(1)","2/2",null,null,null,null,null,null,null,null,{"$f":"'DN-1'!M10&\".\"&'DN-1'!Q24&Wersja","v":"2023.1.1.15.0.44867"}]
[9]
[9,"Załącznik nr 6"]
[{"$f":"$A$2","v":9},"WYPEŁNIĆ DUŻYMI, DRUKOWANYMI LITERAMI, CZARNYM LUB NIEBIESKIM KOLOREM."]
[4.5]
[{"$f":"$A$2","v":9},"1. Identyfikator podatkowy NIP/numer PESEL (niepotrzebne skreślić)1)\n└────┴────┴────┴────┴────┴────┴────┴────┴────┴────┴────┘",null,null,null,null,null,null,"2.  Nr dokumentu"]
[{"$f":"$A$6","v":19.5},null,{"$f":"$C$6","v":0}]
[{"$f":"$A$2","v":9}]
[16.5,"ZDN-1"]
[{"$f":"$A$8","v":16.5},"ZAŁĄCZNIK DO DEKLARACJI NA PODATEK OD NIERUCHOMOŚCI"]
["","- DANE O PRZEDMIOTACH OPODATKOWANIA PODLEGAJĄCYCH OPODATKOWANIU"]
[{"$f":"$A$2","v":9},null,null,null,null,null,null,null,null,null,null,null,"3. Nr załącznika"]
[{"$f":"$A$6","v":19.5},null,null,null,null,null,null,null,null,null,null,null,{"$f":"M692+1","v":12},null,null,null,{"$f":"IF(COUNTA(C771:O778,C790:O797,C801:O808)=0,0,1)","v":0}]
[{"$f":"$A$4","v":4.5}]
[{"$f":"$A$4","v":4.5}]
[{"$f":"$A$8*1.5","v":24.75},"A.  DANE PODATNIKA WSKAZANEGO W CZĘŚCI C.1 DEKLARACJI DN-1\n* - dotyczy podatnika niebędącego osobą fizyczną               ** - dotyczy podatnika będącego osobą fizyczną"]
[{"$f":"$A$2","v":9},null,"4. Nazwa pełna * / Nazwisko **",null,null,null,null,null,"5. Nazwa skrócona * / Pierwsze imię **"]
[{"$f":"$A$6","v":19.5},null,{"$f":"\"\"&$C$17","v":""},null,null,null,null,null,{"$f":"\"\"&$I$17","v":""}]
[{"$f":"$A$4","v":4.5}]
[{"$f":"$A$8","v":16.5},"B.  DANE O POSZCZEGÓLNYCH PRZEDMIOTACH OPODATKOWANIA PODLEGAJĄCYCH OPODATKOWANIU"]
[16.5,"B.1.  GRUNTY"]
[{"$f":"$A$8*1.5","v":24.75},"Lp.","Położenie (adres, w tym dzielnica)",null,null,null,null,"Nr księgi wieczystej\n(zbioru dokumentów)","Nr obrębu\n(arkusza mapy)2)","Nr działki","Powierzchnia w m2 / ha3)","Stawka Podatku4)",null,"Forma władania5)"]
[{"$f":"$A$2","v":9},null,"a",null,null,null,null,"b","c","d","e","f",null,"g"]
[{"$f":"$A$6","v":19.5},1,null,null,null,null,null,null,null,null,null,null,null,null,null,{"$f":"\"a.\"&L771","v":"a."}]
[19.5,2,null,null,null,null,null,null,null,null,null,null,null,null,null,{"$f":"\"a.\"&L772","v":"a."}]
[19.5,3,null,null,null,null,null,null,null,null,null,null,null,null,null,"a."]
[19.5,4,null,null,null,null,null,null,null,null,null,null,null,null,null,"a."]
[19.5,5,null,null,null,null,null,null,null,null,null,null,null,null,null,"a."]
[19.5,6,null,null,null,null,null,null,null,null,null,null,null,null,null,"a."]
[19.5,7,null,null,null,null,null,null,null,null,null,null,null,null,null,"a."]
[19.5,8,null,null,null,null,null,null,null,null,null,null,null,null,null,"a."]
[{"$f":"$A$2","v":9}]
[{"$f":"$A$2*2","v":18},"1)","Numer PESEL wpisują podatnicy będący osobami fizycznymi objętymi rejestrem PESEL, nieprowadzący działalności gospodarczej lub niebędący zarejestrowanymi podatnikami podatku od towarów i usług.\nIdentyfikator podatkowy NIP wpisują pozostali podatnicy."]
[{"$f":"$A$2","v":9},"2)","Numer obrębu należy podać wraz z numerem arkusza mapy ewidencyjnej w przypadku, gdy działki numerowane są w ramach arkusza mapy."]
[{"$f":"$A$2*2","v":18},"3)","Powierzchnię w ha należy wykazać wyłącznie w przypadku gruntów pod wodami powierzchniowymi stojącymi lub wodami powierzchniowymi płynącymi jezior i zbiorników sztucznych (z dokładnością\ndo czterech miejsc po przecinku)."]
[{"$f":"$A$8","v":16.5},null,{"$f":"'DN-1'!M10&\".\"&'DN-1'!Q24&Wersja","v":"2023.1.1.15.0.44867"},null,null,null,null,null,null,null,null,null,null,"ZDN-1(1)","1/2"]
[{"$f":"$A$2","v":9}]
[{"$f":"$A$2","v":9},"WYPEŁNIĆ DUŻYMI, DRUKOWANYMI LITERAMI, CZARNYM LUB NIEBIESKIM KOLOREM."]
[4.5]
[{"$f":"$A$8","v":16.5},"B.2.  BUDYNKI LUB ICH CZĘŚCI"]
[{"$f":"$A$8*1.5","v":24.75},"Lp.","Położenie (adres, w tym dzielnica)",null,null,null,null,"Nr księgi wieczystej\n(zbioru dokumentów)","Nr obrębu\n(arkusza mapy)2)","Nr działki","Powierzchnia użytkowa w m2","Stawka Podatku4)",null,"Forma władania5)"]
[{"$f":"$A$2","v":9},null,"a",null,null,null,null,"b","c","d","e","f",null,"g"]
[{"$f":"$A$6","v":19.5},1,null,null,null,null,null,null,null,null,null,null,null,null,null,{"$f":"\"b.\"&L790","v":"b."}]
[19.5,2,null,null,null,null,null,null,null,null,null,null,null,null,null,{"$f":"\"b.\"&L791","v":"b."}]
[19.5,3,null,null,null,null,null,null,null,null,null,null,null,null,null,"b."]
[19.5,4,null,null,null,null,null,null,null,null,null,null,null,null,null,"b."]
[19.5,5,null,null,null,null,null,null,null,null,null,null,null,null,null,"b."]
[19.5,6,null,null,null,null,null,null,null,null,null,null,null,null,null,"b."]
[19.5,7,null,null,null,null,null,null,null,null,null,null,null,null,null,"b."]
[19.5,8,null,null,null,null,null,null,null,null,null,null,null,null,null,"b."]
[{"$f":"$A$8","v":16.5},"B.3.  BUDOWLE LUB ICH CZĘŚCI ZWIĄZANE Z PROWADZENIEM DZIAŁALNOŚCI GOSPODARCZEJ"]
[16.5,"Lp.","Nazwa budowli",null,null,"Nr inwentarzowy","Położenie (adres, w tym dzielnica)",null,"Nr obrębu\n(arkusza mapy)2)","Nr działki","Wartość w zł","Stawka Podatku4)",null,"Forma władania5)"]
[{"$f":"$A$2","v":9},null,"a",null,null,"b",null,"c","d","e","f","g",null,"h"]
[{"$f":"$A$6","v":19.5},1,null,null,null,null,null,null,null,null,null,null,null,null,null,{"$f":"\"c.\"&L801","v":"c."}]
[19.5,2,null,null,null,null,null,null,null,null,null,null,null,null,null,{"$f":"\"c.\"&L802","v":"c."}]
[19.5,3,null,null,null,null,null,null,null,null,null,null,null,null,null,"c."]
[19.5,4,null,null,null,null,null,null,null,null,null,null,null,null,null,"c."]
[19.5,5,null,null,null,null,null,null,null,null,null,null,null,null,null,"c."]
[19.5,6,null,null,null,null,null,null,null,null,null,null,null,null,null,"c."]
[19.5,7,null,null,null,null,null,null,null,null,null,null,null,null,null,"c."]
[19.5,8,null,null,null,null,null,null,null,null,null,null,null,null,null,"c."]
[{"$f":"$A$2","v":9}]
[9,"4)","Należy podać stawkę właściwą dla rodzaju przedmiotu opodatkowania zgodną z uchwałą rady gminy."]
[9,"5)","Należy podać jedną z form władania: własność, użytkowanie wieczyste, posiadanie samoistne, posiadanie zależne lub posiadanie bez tytułu prawnego."]
[{"$f":"$A$2","v":9}]
[9]
[9]
[9]
[{"$f":"$A$8","v":16.5},null,"ZDN-1(1)","2/2",null,null,null,null,null,null,null,null,{"$f":"'DN-1'!M10&\".\"&'DN-1'!Q24&Wersja","v":"2023.1.1.15.0.44867"}]
[9]
[9,"Załącznik nr 6"]
[{"$f":"$A$2","v":9},"WYPEŁNIĆ DUŻYMI, DRUKOWANYMI LITERAMI, CZARNYM LUB NIEBIESKIM KOLOREM."]
[4.5]
[{"$f":"$A$2","v":9},"1. Identyfikator podatkowy NIP/numer PESEL (niepotrzebne skreślić)1)\n└────┴────┴────┴────┴────┴────┴────┴────┴────┴────┴────┘",null,null,null,null,null,null,"2.  Nr dokumentu"]
[{"$f":"$A$6","v":19.5},null,{"$f":"$C$6","v":0}]
[{"$f":"$A$2","v":9}]
[16.5,"ZDN-1"]
[{"$f":"$A$8","v":16.5},"ZAŁĄCZNIK DO DEKLARACJI NA PODATEK OD NIERUCHOMOŚCI"]
["","- DANE O PRZEDMIOTACH OPODATKOWANIA PODLEGAJĄCYCH OPODATKOWANIU"]
[{"$f":"$A$2","v":9},null,null,null,null,null,null,null,null,null,null,null,"3. Nr załącznika"]
[{"$f":"$A$6","v":19.5},null,null,null,null,null,null,null,null,null,null,null,{"$f":"M760+1","v":13},null,null,null,{"$f":"IF(COUNTA(C839:O846,C858:O865,C869:O876)=0,0,1)","v":0}]
[{"$f":"$A$4","v":4.5}]
[{"$f":"$A$4","v":4.5}]
[{"$f":"$A$8*1.5","v":24.75},"A.  DANE PODATNIKA WSKAZANEGO W CZĘŚCI C.1 DEKLARACJI DN-1\n* - dotyczy podatnika niebędącego osobą fizyczną               ** - dotyczy podatnika będącego osobą fizyczną"]
[{"$f":"$A$2","v":9},null,"4. Nazwa pełna * / Nazwisko **",null,null,null,null,null,"5. Nazwa skrócona * / Pierwsze imię **"]
[{"$f":"$A$6","v":19.5},null,{"$f":"\"\"&$C$17","v":""},null,null,null,null,null,{"$f":"\"\"&$I$17","v":""}]
[{"$f":"$A$4","v":4.5}]
[{"$f":"$A$8","v":16.5},"B.  DANE O POSZCZEGÓLNYCH PRZEDMIOTACH OPODATKOWANIA PODLEGAJĄCYCH OPODATKOWANIU"]
[16.5,"B.1.  GRUNTY"]
[{"$f":"$A$8*1.5","v":24.75},"Lp.","Położenie (adres, w tym dzielnica)",null,null,null,null,"Nr księgi wieczystej\n(zbioru dokumentów)","Nr obrębu\n(arkusza mapy)2)","Nr działki","Powierzchnia w m2 / ha3)","Stawka Podatku4)",null,"Forma władania5)"]
[{"$f":"$A$2","v":9},null,"a",null,null,null,null,"b","c","d","e","f",null,"g"]
[{"$f":"$A$6","v":19.5},1,null,null,null,null,null,null,null,null,null,null,null,null,null,{"$f":"\"a.\"&L839","v":"a."}]
[19.5,2,null,null,null,null,null,null,null,null,null,null,null,null,null,{"$f":"\"a.\"&L840","v":"a."}]
[19.5,3,null,null,null,null,null,null,null,null,null,null,null,null,null,"a."]
[19.5,4,null,null,null,null,null,null,null,null,null,null,null,null,null,"a."]
[19.5,5,null,null,null,null,null,null,null,null,null,null,null,null,null,"a."]
[19.5,6,null,null,null,null,null,null,null,null,null,null,null,null,null,"a."]
[19.5,7,null,null,null,null,null,null,null,null,null,null,null,null,null,"a."]
[19.5,8,null,null,null,null,null,null,null,null,null,null,null,null,null,"a."]
[{"$f":"$A$2","v":9}]
[{"$f":"$A$2*2","v":18},"1)","Numer PESEL wpisują podatnicy będący osobami fizycznymi objętymi rejestrem PESEL, nieprowadzący działalności gospodarczej lub niebędący zarejestrowanymi podatnikami podatku od towarów i usług.\nIdentyfikator podatkowy NIP wpisują pozostali podatnicy."]
[{"$f":"$A$2","v":9},"2)","Numer obrębu należy podać wraz z numerem arkusza mapy ewidencyjnej w przypadku, gdy działki numerowane są w ramach arkusza mapy."]
[{"$f":"$A$2*2","v":18},"3)","Powierzchnię w ha należy wykazać wyłącznie w przypadku gruntów pod wodami powierzchniowymi stojącymi lub wodami powierzchniowymi płynącymi jezior i zbiorników sztucznych (z dokładnością\ndo czterech miejsc po przecinku)."]
[{"$f":"$A$8","v":16.5},null,{"$f":"'DN-1'!M10&\".\"&'DN-1'!Q24&Wersja","v":"2023.1.1.15.0.44867"},null,null,null,null,null,null,null,null,null,null,"ZDN-1(1)","1/2"]
[{"$f":"$A$2","v":9}]
[{"$f":"$A$2","v":9},"WYPEŁNIĆ DUŻYMI, DRUKOWANYMI LITERAMI, CZARNYM LUB NIEBIESKIM KOLOREM."]
[4.5]
[{"$f":"$A$8","v":16.5},"B.2.  BUDYNKI LUB ICH CZĘŚCI"]
[{"$f":"$A$8*1.5","v":24.75},"Lp.","Położenie (adres, w tym dzielnica)",null,null,null,null,"Nr księgi wieczystej\n(zbioru dokumentów)","Nr obrębu\n(arkusza mapy)2)","Nr działki","Powierzchnia użytkowa w m2","Stawka Podatku4)",null,"Forma władania5)"]
[{"$f":"$A$2","v":9},null,"a",null,null,null,null,"b","c","d","e","f",null,"g"]
[{"$f":"$A$6","v":19.5},1,null,null,null,null,null,null,null,null,null,null,null,null,null,{"$f":"\"b.\"&L858","v":"b."}]
[19.5,2,null,null,null,null,null,null,null,null,null,null,null,null,null,{"$f":"\"b.\"&L859","v":"b."}]
[19.5,3,null,null,null,null,null,null,null,null,null,null,null,null,null,"b."]
[19.5,4,null,null,null,null,null,null,null,null,null,null,null,null,null,"b."]
[19.5,5,null,null,null,null,null,null,null,null,null,null,null,null,null,"b."]
[19.5,6,null,null,null,null,null,null,null,null,null,null,null,null,null,"b."]
[19.5,7,null,null,null,null,null,null,null,null,null,null,null,null,null,"b."]
[19.5,8,null,null,null,null,null,null,null,null,null,null,null,null,null,"b."]
[{"$f":"$A$8","v":16.5},"B.3.  BUDOWLE LUB ICH CZĘŚCI ZWIĄZANE Z PROWADZENIEM DZIAŁALNOŚCI GOSPODARCZEJ"]
[16.5,"Lp.","Nazwa budowli",null,null,"Nr inwentarzowy","Położenie (adres, w tym dzielnica)",null,"Nr obrębu\n(arkusza mapy)2)","Nr działki","Wartość w zł","Stawka Podatku4)",null,"Forma władania5)"]
[{"$f":"$A$2","v":9},null,"a",null,null,"b",null,"c","d","e","f","g",null,"h"]
[{"$f":"$A$6","v":19.5},1,null,null,null,null,null,null,null,null,null,null,null,null,null,{"$f":"\"c.\"&L869","v":"c."}]
[19.5,2,null,null,null,null,null,null,null,null,null,null,null,null,null,{"$f":"\"c.\"&L870","v":"c."}]
[19.5,3,null,null,null,null,null,null,null,null,null,null,null,null,null,"c."]
[19.5,4,null,null,null,null,null,null,null,null,null,null,null,null,null,"c."]
[19.5,5,null,null,null,null,null,null,null,null,null,null,null,null,null,"c."]
[19.5,6,null,null,null,null,null,null,null,null,null,null,null,null,null,"c."]
[19.5,7,null,null,null,null,null,null,null,null,null,null,null,null,null,"c."]
[19.5,8,null,null,null,null,null,null,null,null,null,null,null,null,null,"c."]
[{"$f":"$A$2","v":9}]
[9,"4)","Należy podać stawkę właściwą dla rodzaju przedmiotu opodatkowania zgodną z uchwałą rady gminy."]
[9,"5)","Należy podać jedną z form władania: własność, użytkowanie wieczyste, posiadanie samoistne, posiadanie zależne lub posiadanie bez tytułu prawnego."]
[{"$f":"$A$2","v":9}]
[9]
[9]
[9]
[{"$f":"$A$8","v":16.5},null,"ZDN-1(1)","2/2",null,null,null,null,null,null,null,null,{"$f":"'DN-1'!M10&\".\"&'DN-1'!Q24&Wersja","v":"2023.1.1.15.0.44867"}]
[9]
[9,"Załącznik nr 6"]
[{"$f":"$A$2","v":9},"WYPEŁNIĆ DUŻYMI, DRUKOWANYMI LITERAMI, CZARNYM LUB NIEBIESKIM KOLOREM."]
[4.5]
[{"$f":"$A$2","v":9},"1. Identyfikator podatkowy NIP/numer PESEL (niepotrzebne skreślić)1)\n└────┴────┴────┴────┴────┴────┴────┴────┴────┴────┴────┘",null,null,null,null,null,null,"2.  Nr dokumentu"]
[{"$f":"$A$6","v":19.5},null,{"$f":"$C$6","v":0}]
[{"$f":"$A$2","v":9}]
[16.5,"ZDN-1"]
[{"$f":"$A$8","v":16.5},"ZAŁĄCZNIK DO DEKLARACJI NA PODATEK OD NIERUCHOMOŚCI"]
["","- DANE O PRZEDMIOTACH OPODATKOWANIA PODLEGAJĄCYCH OPODATKOWANIU"]
[{"$f":"$A$2","v":9},null,null,null,null,null,null,null,null,null,null,null,"3. Nr załącznika"]
[{"$f":"$A$6","v":19.5},null,null,null,null,null,null,null,null,null,null,null,{"$f":"M828+1","v":14},null,null,null,{"$f":"IF(COUNTA(C907:O914,C926:O933,C937:O944)=0,0,1)","v":0}]
[{"$f":"$A$4","v":4.5}]
[{"$f":"$A$4","v":4.5}]
[{"$f":"$A$8*1.5","v":24.75},"A.  DANE PODATNIKA WSKAZANEGO W CZĘŚCI C.1 DEKLARACJI DN-1\n* - dotyczy podatnika niebędącego osobą fizyczną               ** - dotyczy podatnika będącego osobą fizyczną"]
[{"$f":"$A$2","v":9},null,"4. Nazwa pełna * / Nazwisko **",null,null,null,null,null,"5. Nazwa skrócona * / Pierwsze imię **"]
[{"$f":"$A$6","v":19.5},null,{"$f":"\"\"&$C$17","v":""},null,null,null,null,null,{"$f":"\"\"&$I$17","v":""}]
[{"$f":"$A$4","v":4.5}]
[{"$f":"$A$8","v":16.5},"B.  DANE O POSZCZEGÓLNYCH PRZEDMIOTACH OPODATKOWANIA PODLEGAJĄCYCH OPODATKOWANIU"]
[16.5,"B.1.  GRUNTY"]
[{"$f":"$A$8*1.5","v":24.75},"Lp.","Położenie (adres, w tym dzielnica)",null,null,null,null,"Nr księgi wieczystej\n(zbioru dokumentów)","Nr obrębu\n(arkusza mapy)2)","Nr działki","Powierzchnia w m2 / ha3)","Stawka Podatku4)",null,"Forma władania5)"]
[{"$f":"$A$2","v":9},null,"a",null,null,null,null,"b","c","d","e","f",null,"g"]
[{"$f":"$A$6","v":19.5},1,null,null,null,null,null,null,null,null,null,null,null,null,null,{"$f":"\"a.\"&L907","v":"a."}]
[19.5,2,null,null,null,null,null,null,null,null,null,null,null,null,null,{"$f":"\"a.\"&L908","v":"a."}]
[19.5,3,null,null,null,null,null,null,null,null,null,null,null,null,null,"a."]
[19.5,4,null,null,null,null,null,null,null,null,null,null,null,null,null,"a."]
[19.5,5,null,null,null,null,null,null,null,null,null,null,null,null,null,"a."]
[19.5,6,null,null,null,null,null,null,null,null,null,null,null,null,null,"a."]
[19.5,7,null,null,null,null,null,null,null,null,null,null,null,null,null,"a."]
[19.5,8,null,null,null,null,null,null,null,null,null,null,null,null,null,"a."]
[{"$f":"$A$2","v":9}]
[{"$f":"$A$2*2","v":18},"1)","Numer PESEL wpisują podatnicy będący osobami fizycznymi objętymi rejestrem PESEL, nieprowadzący działalności gospodarczej lub niebędący zarejestrowanymi podatnikami podatku od towarów i usług.\nIdentyfikator podatkowy NIP wpisują pozostali podatnicy."]
[{"$f":"$A$2","v":9},"2)","Numer obrębu należy podać wraz z numerem arkusza mapy ewidencyjnej w przypadku, gdy działki numerowane są w ramach arkusza mapy."]
[{"$f":"$A$2*2","v":18},"3)","Powierzchnię w ha należy wykazać wyłącznie w przypadku gruntów pod wodami powierzchniowymi stojącymi lub wodami powierzchniowymi płynącymi jezior i zbiorników sztucznych (z dokładnością\ndo czterech miejsc po przecinku)."]
[{"$f":"$A$8","v":16.5},null,{"$f":"'DN-1'!M10&\".\"&'DN-1'!Q24&Wersja","v":"2023.1.1.15.0.44867"},null,null,null,null,null,null,null,null,null,null,"ZDN-1(1)","1/2"]
[{"$f":"$A$2","v":9}]
[{"$f":"$A$2","v":9},"WYPEŁNIĆ DUŻYMI, DRUKOWANYMI LITERAMI, CZARNYM LUB NIEBIESKIM KOLOREM."]
[4.5]
[{"$f":"$A$8","v":16.5},"B.2.  BUDYNKI LUB ICH CZĘŚCI"]
[{"$f":"$A$8*1.5","v":24.75},"Lp.","Położenie (adres, w tym dzielnica)",null,null,null,null,"Nr księgi wieczystej\n(zbioru dokumentów)","Nr obrębu\n(arkusza mapy)2)","Nr działki","Powierzchnia użytkowa w m2","Stawka Podatku4)",null,"Forma władania5)"]
[{"$f":"$A$2","v":9},null,"a",null,null,null,null,"b","c","d","e","f",null,"g"]
[{"$f":"$A$6","v":19.5},1,null,null,null,null,null,null,null,null,null,null,null,null,null,{"$f":"\"b.\"&L926","v":"b."}]
[19.5,2,null,null,null,null,null,null,null,null,null,null,null,null,null,{"$f":"\"b.\"&L927","v":"b."}]
[19.5,3,null,null,null,null,null,null,null,null,null,null,null,null,null,"b."]
[19.5,4,null,null,null,null,null,null,null,null,null,null,null,null,null,"b."]
[19.5,5,null,null,null,null,null,null,null,null,null,null,null,null,null,"b."]
[19.5,6,null,null,null,null,null,null,null,null,null,null,null,null,null,"b."]
[19.5,7,null,null,null,null,null,null,null,null,null,null,null,null,null,"b."]
[19.5,8,null,null,null,null,null,null,null,null,null,null,null,null,null,"b."]
[{"$f":"$A$8","v":16.5},"B.3.  BUDOWLE LUB ICH CZĘŚCI ZWIĄZANE Z PROWADZENIEM DZIAŁALNOŚCI GOSPODARCZEJ"]
[16.5,"Lp.","Nazwa budowli",null,null,"Nr inwentarzowy","Położenie (adres, w tym dzielnica)",null,"Nr obrębu\n(arkusza mapy)2)","Nr działki","Wartość w zł","Stawka Podatku4)",null,"Forma władania5)"]
[{"$f":"$A$2","v":9},null,"a",null,null,"b",null,"c","d","e","f","g",null,"h"]
[{"$f":"$A$6","v":19.5},1,null,null,null,null,null,null,null,null,null,null,null,null,null,{"$f":"\"c.\"&L937","v":"c."}]
[19.5,2,null,null,null,null,null,null,null,null,null,null,null,null,null,{"$f":"\"c.\"&L938","v":"c."}]
[19.5,3,null,null,null,null,null,null,null,null,null,null,null,null,null,"c."]
[19.5,4,null,null,null,null,null,null,null,null,null,null,null,null,null,"c."]
[19.5,5,null,null,null,null,null,null,null,null,null,null,null,null,null,"c."]
[19.5,6,null,null,null,null,null,null,null,null,null,null,null,null,null,"c."]
[19.5,7,null,null,null,null,null,null,null,null,null,null,null,null,null,"c."]
[19.5,8,null,null,null,null,null,null,null,null,null,null,null,null,null,"c."]
[{"$f":"$A$2","v":9}]
[9,"4)","Należy podać stawkę właściwą dla rodzaju przedmiotu opodatkowania zgodną z uchwałą rady gminy."]
[9,"5)","Należy podać jedną z form władania: własność, użytkowanie wieczyste, posiadanie samoistne, posiadanie zależne lub posiadanie bez tytułu prawnego."]
[{"$f":"$A$2","v":9}]
[9]
[9]
[9]
[{"$f":"$A$8","v":16.5},null,"ZDN-1(1)","2/2",null,null,null,null,null,null,null,null,{"$f":"'DN-1'!M10&\".\"&'DN-1'!Q24&Wersja","v":"2023.1.1.15.0.44867"}]
[9]
[9,"Załącznik nr 6"]
[{"$f":"$A$2","v":9},"WYPEŁNIĆ DUŻYMI, DRUKOWANYMI LITERAMI, CZARNYM LUB NIEBIESKIM KOLOREM."]
[4.5]
[{"$f":"$A$2","v":9},"1. Identyfikator podatkowy NIP/numer PESEL (niepotrzebne skreślić)1)\n└────┴────┴────┴────┴────┴────┴────┴────┴────┴────┴────┘",null,null,null,null,null,null,"2.  Nr dokumentu"]
[{"$f":"$A$6","v":19.5},null,{"$f":"$C$6","v":0}]
[{"$f":"$A$2","v":9}]
[16.5,"ZDN-1"]
[{"$f":"$A$8","v":16.5},"ZAŁĄCZNIK DO DEKLARACJI NA PODATEK OD NIERUCHOMOŚCI"]
["","- DANE O PRZEDMIOTACH OPODATKOWANIA PODLEGAJĄCYCH OPODATKOWANIU"]
[{"$f":"$A$2","v":9},null,null,null,null,null,null,null,null,null,null,null,"3. Nr załącznika"]
[{"$f":"$A$6","v":19.5},null,null,null,null,null,null,null,null,null,null,null,{"$f":"M896+1","v":15},null,null,null,{"$f":"IF(COUNTA(C975:O982,C994:O1001,C1005:O1012)=0,0,1)","v":0}]
[{"$f":"$A$4","v":4.5}]
[{"$f":"$A$4","v":4.5}]
[{"$f":"$A$8*1.5","v":24.75},"A.  DANE PODATNIKA WSKAZANEGO W CZĘŚCI C.1 DEKLARACJI DN-1\n* - dotyczy podatnika niebędącego osobą fizyczną               ** - dotyczy podatnika będącego osobą fizyczną"]
[{"$f":"$A$2","v":9},null,"4. Nazwa pełna * / Nazwisko **",null,null,null,null,null,"5. Nazwa skrócona * / Pierwsze imię **"]
[{"$f":"$A$6","v":19.5},null,{"$f":"\"\"&$C$17","v":""},null,null,null,null,null,{"$f":"\"\"&$I$17","v":""}]
[{"$f":"$A$4","v":4.5}]
[{"$f":"$A$8","v":16.5},"B.  DANE O POSZCZEGÓLNYCH PRZEDMIOTACH OPODATKOWANIA PODLEGAJĄCYCH OPODATKOWANIU"]
[16.5,"B.1.  GRUNTY"]
[{"$f":"$A$8*1.5","v":24.75},"Lp.","Położenie (adres, w tym dzielnica)",null,null,null,null,"Nr księgi wieczystej\n(zbioru dokumentów)","Nr obrębu\n(arkusza mapy)2)","Nr działki","Powierzchnia w m2 / ha3)","Stawka Podatku4)",null,"Forma władania5)"]
[{"$f":"$A$2","v":9},null,"a",null,null,null,null,"b","c","d","e","f",null,"g"]
[{"$f":"$A$6","v":19.5},1,null,null,null,null,null,null,null,null,null,null,null,null,null,{"$f":"\"a.\"&L975","v":"a."}]
[19.5,2,null,null,null,null,null,null,null,null,null,null,null,null,null,{"$f":"\"a.\"&L976","v":"a."}]
[19.5,3,null,null,null,null,null,null,null,null,null,null,null,null,null,"a."]
[19.5,4,null,null,null,null,null,null,null,null,null,null,null,null,null,"a."]
[19.5,5,null,null,null,null,null,null,null,null,null,null,null,null,null,"a."]
[19.5,6,null,null,null,null,null,null,null,null,null,null,null,null,null,"a."]
[19.5,7,null,null,null,null,null,null,null,null,null,null,null,null,null,"a."]
[19.5,8,null,null,null,null,null,null,null,null,null,null,null,null,null,"a."]
[{"$f":"$A$2","v":9}]
[{"$f":"$A$2*2","v":18},"1)","Numer PESEL wpisują podatnicy będący osobami fizycznymi objętymi rejestrem PESEL, nieprowadzący działalności gospodarczej lub niebędący zarejestrowanymi podatnikami podatku od towarów i usług.\nIdentyfikator podatkowy NIP wpisują pozostali podatnicy."]
[{"$f":"$A$2","v":9},"2)","Numer obrębu należy podać wraz z numerem arkusza mapy ewidencyjnej w przypadku, gdy działki numerowane są w ramach arkusza mapy."]
[{"$f":"$A$2*2","v":18},"3)","Powierzchnię w ha należy wykazać wyłącznie w przypadku gruntów pod wodami powierzchniowymi stojącymi lub wodami powierzchniowymi płynącymi jezior i zbiorników sztucznych (z dokładnością\ndo czterech miejsc po przecinku)."]
[{"$f":"$A$8","v":16.5},null,{"$f":"'DN-1'!M10&\".\"&'DN-1'!Q24&Wersja","v":"2023.1.1.15.0.44867"},null,null,null,null,null,null,null,null,null,null,"ZDN-1(1)","1/2"]
[{"$f":"$A$2","v":9}]
[{"$f":"$A$2","v":9},"WYPEŁNIĆ DUŻYMI, DRUKOWANYMI LITERAMI, CZARNYM LUB NIEBIESKIM KOLOREM."]
[4.5]
[{"$f":"$A$8","v":16.5},"B.2.  BUDYNKI LUB ICH CZĘŚCI"]
[{"$f":"$A$8*1.5","v":24.75},"Lp.","Położenie (adres, w tym dzielnica)",null,null,null,null,"Nr księgi wieczystej\n(zbioru dokumentów)","Nr obrębu\n(arkusza mapy)2)","Nr działki","Powierzchnia użytkowa w m2","Stawka Podatku4)",null,"Forma władania5)"]
[{"$f":"$A$2","v":9},null,"a",null,null,null,null,"b","c","d","e","f",null,"g"]
[{"$f":"$A$6","v":19.5},1,null,null,null,null,null,null,null,null,null,null,null,null,null,{"$f":"\"b.\"&L994","v":"b."}]
[19.5,2,null,null,null,null,null,null,null,null,null,null,null,null,null,{"$f":"\"b.\"&L995","v":"b."}]
[19.5,3,null,null,null,null,null,null,null,null,null,null,null,null,null,"b."]
[19.5,4,null,null,null,null,null,null,null,null,null,null,null,null,null,"b."]
[19.5,5,null,null,null,null,null,null,null,null,null,null,null,null,null,"b."]
[19.5,6,null,null,null,null,null,null,null,null,null,null,null,null,null,"b."]
[19.5,7,null,null,null,null,null,null,null,null,null,null,null,null,null,"b."]
[19.5,8,null,null,null,null,null,null,null,null,null,null,null,null,null,"b."]
[{"$f":"$A$8","v":16.5},"B.3.  BUDOWLE LUB ICH CZĘŚCI ZWIĄZANE Z PROWADZENIEM DZIAŁALNOŚCI GOSPODARCZEJ"]
[16.5,"Lp.","Nazwa budowli",null,null,"Nr inwentarzowy","Położenie (adres, w tym dzielnica)",null,"Nr obrębu\n(arkusza mapy)2)","Nr działki","Wartość w zł","Stawka Podatku4)",null,"Forma władania5)"]
[{"$f":"$A$2","v":9},null,"a",null,null,"b",null,"c","d","e","f","g",null,"h"]
[{"$f":"$A$6","v":19.5},1,null,null,null,null,null,null,null,null,null,null,null,null,null,{"$f":"\"c.\"&L1005","v":"c."}]
[19.5,2,null,null,null,null,null,null,null,null,null,null,null,null,null,{"$f":"\"c.\"&L1006","v":"c."}]
[19.5,3,null,null,null,null,null,null,null,null,null,null,null,null,null,"c."]
[19.5,4,null,null,null,null,null,null,null,null,null,null,null,null,null,"c."]
[19.5,5,null,null,null,null,null,null,null,null,null,null,null,null,null,"c."]
[19.5,6,null,null,null,null,null,null,null,null,null,null,null,null,null,"c."]
[19.5,7,null,null,null,null,null,null,null,null,null,null,null,null,null,"c."]
[19.5,8,null,null,null,null,null,null,null,null,null,null,null,null,null,"c."]
[{"$f":"$A$2","v":9}]
[9,"4)","Należy podać stawkę właściwą dla rodzaju przedmiotu opodatkowania zgodną z uchwałą rady gminy."]
[9,"5)","Należy podać jedną z form władania: własność, użytkowanie wieczyste, posiadanie samoistne, posiadanie zależne lub posiadanie bez tytułu prawnego."]
[{"$f":"$A$2","v":9}]
[9]
[9]
[9]
[{"$f":"$A$8","v":16.5},null,"ZDN-1(1)","2/2",null,null,null,null,null,null,null,null,{"$f":"'DN-1'!M10&\".\"&'DN-1'!Q24&Wersja","v":"2023.1.1.15.0.44867"}]
[9]
[9,"Załącznik nr 6"]
[{"$f":"$A$2","v":9},"WYPEŁNIĆ DUŻYMI, DRUKOWANYMI LITERAMI, CZARNYM LUB NIEBIESKIM KOLOREM."]
[4.5]
[{"$f":"$A$2","v":9},"1. Identyfikator podatkowy NIP/numer PESEL (niepotrzebne skreślić)1)\n└────┴────┴────┴────┴────┴────┴────┴────┴────┴────┴────┘",null,null,null,null,null,null,"2.  Nr dokumentu"]
[{"$f":"$A$6","v":19.5},null,{"$f":"$C$6","v":0}]
[{"$f":"$A$2","v":9}]
[16.5,"ZDN-1"]
[{"$f":"$A$8","v":16.5},"ZAŁĄCZNIK DO DEKLARACJI NA PODATEK OD NIERUCHOMOŚCI"]
["","- DANE O PRZEDMIOTACH OPODATKOWANIA PODLEGAJĄCYCH OPODATKOWANIU"]
[{"$f":"$A$2","v":9},null,null,null,null,null,null,null,null,null,null,null,"3. Nr załącznika"]
[{"$f":"$A$6","v":19.5},null,null,null,null,null,null,null,null,null,null,null,{"$f":"M964+1","v":16},null,null,null,{"$f":"IF(COUNTA(C1043:O1050,C1062:O1069,C1073:O1080)=0,0,1)","v":0}]
[{"$f":"$A$4","v":4.5}]
[{"$f":"$A$4","v":4.5}]
[{"$f":"$A$8*1.5","v":24.75},"A.  DANE PODATNIKA WSKAZANEGO W CZĘŚCI C.1 DEKLARACJI DN-1\n* - dotyczy podatnika niebędącego osobą fizyczną               ** - dotyczy podatnika będącego osobą fizyczną"]
[{"$f":"$A$2","v":9},null,"4. Nazwa pełna * / Nazwisko **",null,null,null,null,null,"5. Nazwa skrócona * / Pierwsze imię **"]
[{"$f":"$A$6","v":19.5},null,{"$f":"\"\"&$C$17","v":""},null,null,null,null,null,{"$f":"\"\"&$I$17","v":""}]
[{"$f":"$A$4","v":4.5}]
[{"$f":"$A$8","v":16.5},"B.  DANE O POSZCZEGÓLNYCH PRZEDMIOTACH OPODATKOWANIA PODLEGAJĄCYCH OPODATKOWANIU"]
[16.5,"B.1.  GRUNTY"]
[{"$f":"$A$8*1.5","v":24.75},"Lp.","Położenie (adres, w tym dzielnica)",null,null,null,null,"Nr księgi wieczystej\n(zbioru dokumentów)","Nr obrębu\n(arkusza mapy)2)","Nr działki","Powierzchnia w m2 / ha3)","Stawka Podatku4)",null,"Forma władania5)"]
[{"$f":"$A$2","v":9},null,"a",null,null,null,null,"b","c","d","e","f",null,"g"]
[{"$f":"$A$6","v":19.5},1,null,null,null,null,null,null,null,null,null,null,null,null,null,{"$f":"\"a.\"&L1043","v":"a."}]
[19.5,2,null,null,null,null,null,null,null,null,null,null,null,null,null,{"$f":"\"a.\"&L1044","v":"a."}]
[19.5,3,null,null,null,null,null,null,null,null,null,null,null,null,null,"a."]
[19.5,4,null,null,null,null,null,null,null,null,null,null,null,null,null,"a."]
[19.5,5,null,null,null,null,null,null,null,null,null,null,null,null,null,"a."]
[19.5,6,null,null,null,null,null,null,null,null,null,null,null,null,null,"a."]
[19.5,7,null,null,null,null,null,null,null,null,null,null,null,null,null,"a."]
[19.5,8,null,null,null,null,null,null,null,null,null,null,null,null,null,"a."]
[{"$f":"$A$2","v":9}]
[{"$f":"$A$2*2","v":18},"1)","Numer PESEL wpisują podatnicy będący osobami fizycznymi objętymi rejestrem PESEL, nieprowadzący działalności gospodarczej lub niebędący zarejestrowanymi podatnikami podatku od towarów i usług.\nIdentyfikator podatkowy NIP wpisują pozostali podatnicy."]
[{"$f":"$A$2","v":9},"2)","Numer obrębu należy podać wraz z numerem arkusza mapy ewidencyjnej w przypadku, gdy działki numerowane są w ramach arkusza mapy."]
[{"$f":"$A$2*2","v":18},"3)","Powierzchnię w ha należy wykazać wyłącznie w przypadku gruntów pod wodami powierzchniowymi stojącymi lub wodami powierzchniowymi płynącymi jezior i zbiorników sztucznych (z dokładnością\ndo czterech miejsc po przecinku)."]
[{"$f":"$A$8","v":16.5},null,{"$f":"'DN-1'!M10&\".\"&'DN-1'!Q24&Wersja","v":"2023.1.1.15.0.44867"},null,null,null,null,null,null,null,null,null,null,"ZDN-1(1)","1/2"]
[{"$f":"$A$2","v":9}]
[{"$f":"$A$2","v":9},"WYPEŁNIĆ DUŻYMI, DRUKOWANYMI LITERAMI, CZARNYM LUB NIEBIESKIM KOLOREM."]
[4.5]
[{"$f":"$A$8","v":16.5},"B.2.  BUDYNKI LUB ICH CZĘŚCI"]
[{"$f":"$A$8*1.5","v":24.75},"Lp.","Położenie (adres, w tym dzielnica)",null,null,null,null,"Nr księgi wieczystej\n(zbioru dokumentów)","Nr obrębu\n(arkusza mapy)2)","Nr działki","Powierzchnia użytkowa w m2","Stawka Podatku4)",null,"Forma władania5)"]
[{"$f":"$A$2","v":9},null,"a",null,null,null,null,"b","c","d","e","f",null,"g"]
[{"$f":"$A$6","v":19.5},1,null,null,null,null,null,null,null,null,null,null,null,null,null,{"$f":"\"b.\"&L1062","v":"b."}]
[19.5,2,null,null,null,null,null,null,null,null,null,null,null,null,null,{"$f":"\"b.\"&L1063","v":"b."}]
[19.5,3,null,null,null,null,null,null,null,null,null,null,null,null,null,"b."]
[19.5,4,null,null,null,null,null,null,null,null,null,null,null,null,null,"b."]
[19.5,5,null,null,null,null,null,null,null,null,null,null,null,null,null,"b."]
[19.5,6,null,null,null,null,null,null,null,null,null,null,null,null,null,"b."]
[19.5,7,null,null,null,null,null,null,null,null,null,null,null,null,null,"b."]
[19.5,8,null,null,null,null,null,null,null,null,null,null,null,null,null,"b."]
[{"$f":"$A$8","v":16.5},"B.3.  BUDOWLE LUB ICH CZĘŚCI ZWIĄZANE Z PROWADZENIEM DZIAŁALNOŚCI GOSPODARCZEJ"]
[16.5,"Lp.","Nazwa budowli",null,null,"Nr inwentarzowy","Położenie (adres, w tym dzielnica)",null,"Nr obrębu\n(arkusza mapy)2)","Nr działki","Wartość w zł","Stawka Podatku4)",null,"Forma władania5)"]
[{"$f":"$A$2","v":9},null,"a",null,null,"b",null,"c","d","e","f","g",null,"h"]
[{"$f":"$A$6","v":19.5},1,null,null,null,null,null,null,null,null,null,null,null,null,null,{"$f":"\"c.\"&L1073","v":"c."}]
[19.5,2,null,null,null,null,null,null,null,null,null,null,null,null,null,{"$f":"\"c.\"&L1074","v":"c."}]
[19.5,3,null,null,null,null,null,null,null,null,null,null,null,null,null,"c."]
[19.5,4,null,null,null,null,null,null,null,null,null,null,null,null,null,"c."]
[19.5,5,null,null,null,null,null,null,null,null,null,null,null,null,null,"c."]
[19.5,6,null,null,null,null,null,null,null,null,null,null,null,null,null,"c."]
[19.5,7,null,null,null,null,null,null,null,null,null,null,null,null,null,"c."]
[19.5,8,null,null,null,null,null,null,null,null,null,null,null,null,null,"c."]
[{"$f":"$A$2","v":9}]
[9,"4)","Należy podać stawkę właściwą dla rodzaju przedmiotu opodatkowania zgodną z uchwałą rady gminy."]
[9,"5)","Należy podać jedną z form władania: własność, użytkowanie wieczyste, posiadanie samoistne, posiadanie zależne lub posiadanie bez tytułu prawnego."]
[{"$f":"$A$2","v":9}]
[9]
[9]
[9]
[{"$f":"$A$8","v":16.5},null,"ZDN-1(1)","2/2",null,null,null,null,null,null,null,null,{"$f":"'DN-1'!M10&\".\"&'DN-1'!Q24&Wersja","v":"2023.1.1.15.0.44867"}]
[9]
[9,"Załącznik nr 6"]
[{"$f":"$A$2","v":9},"WYPEŁNIĆ DUŻYMI, DRUKOWANYMI LITERAMI, CZARNYM LUB NIEBIESKIM KOLOREM."]
[4.5]
[{"$f":"$A$2","v":9},"1. Identyfikator podatkowy NIP/numer PESEL (niepotrzebne skreślić)1)\n└────┴────┴────┴────┴────┴────┴────┴────┴────┴────┴────┘",null,null,null,null,null,null,"2.  Nr dokumentu"]
[{"$f":"$A$6","v":19.5},null,{"$f":"$C$6","v":0}]
[{"$f":"$A$2","v":9}]
[16.5,"ZDN-1"]
[{"$f":"$A$8","v":16.5},"ZAŁĄCZNIK DO DEKLARACJI NA PODATEK OD NIERUCHOMOŚCI"]
["","- DANE O PRZEDMIOTACH OPODATKOWANIA PODLEGAJĄCYCH OPODATKOWANIU"]
[{"$f":"$A$2","v":9},null,null,null,null,null,null,null,null,null,null,null,"3. Nr załącznika"]
[{"$f":"$A$6","v":19.5},null,null,null,null,null,null,null,null,null,null,null,{"$f":"M1032+1","v":17},null,null,null,{"$f":"IF(COUNTA(C1111:O1118,C1130:O1137,C1141:O1148)=0,0,1)","v":0}]
[{"$f":"$A$4","v":4.5}]
[{"$f":"$A$4","v":4.5}]
[{"$f":"$A$8*1.5","v":24.75},"A.  DANE PODATNIKA WSKAZANEGO W CZĘŚCI C.1 DEKLARACJI DN-1\n* - dotyczy podatnika niebędącego osobą fizyczną               ** - dotyczy podatnika będącego osobą fizyczną"]
[{"$f":"$A$2","v":9},null,"4. Nazwa pełna * / Nazwisko **",null,null,null,null,null,"5. Nazwa skrócona * / Pierwsze imię **"]
[{"$f":"$A$6","v":19.5},null,{"$f":"\"\"&$C$17","v":""},null,null,null,null,null,{"$f":"\"\"&$I$17","v":""}]
[{"$f":"$A$4","v":4.5}]
[{"$f":"$A$8","v":16.5},"B.  DANE O POSZCZEGÓLNYCH PRZEDMIOTACH OPODATKOWANIA PODLEGAJĄCYCH OPODATKOWANIU"]
[16.5,"B.1.  GRUNTY"]
[{"$f":"$A$8*1.5","v":24.75},"Lp.","Położenie (adres, w tym dzielnica)",null,null,null,null,"Nr księgi wieczystej\n(zbioru dokumentów)","Nr obrębu\n(arkusza mapy)2)","Nr działki","Powierzchnia w m2 / ha3)","Stawka Podatku4)",null,"Forma władania5)"]
[{"$f":"$A$2","v":9},null,"a",null,null,null,null,"b","c","d","e","f",null,"g"]
[{"$f":"$A$6","v":19.5},1,null,null,null,null,null,null,null,null,null,null,null,null,null,{"$f":"\"a.\"&L1111","v":"a."}]
[19.5,2,null,null,null,null,null,null,null,null,null,null,null,null,null,{"$f":"\"a.\"&L1112","v":"a."}]
[19.5,3,null,null,null,null,null,null,null,null,null,null,null,null,null,"a."]
[19.5,4,null,null,null,null,null,null,null,null,null,null,null,null,null,"a."]
[19.5,5,null,null,null,null,null,null,null,null,null,null,null,null,null,"a."]
[19.5,6,null,null,null,null,null,null,null,null,null,null,null,null,null,"a."]
[19.5,7,null,null,null,null,null,null,null,null,null,null,null,null,null,"a."]
[19.5,8,null,null,null,null,null,null,null,null,null,null,null,null,null,"a."]
[{"$f":"$A$2","v":9}]
[{"$f":"$A$2*2","v":18},"1)","Numer PESEL wpisują podatnicy będący osobami fizycznymi objętymi rejestrem PESEL, nieprowadzący działalności gospodarczej lub niebędący zarejestrowanymi podatnikami podatku od towarów i usług.\nIdentyfikator podatkowy NIP wpisują pozostali podatnicy."]
[{"$f":"$A$2","v":9},"2)","Numer obrębu należy podać wraz z numerem arkusza mapy ewidencyjnej w przypadku, gdy działki numerowane są w ramach arkusza mapy."]
[{"$f":"$A$2*2","v":18},"3)","Powierzchnię w ha należy wykazać wyłącznie w przypadku gruntów pod wodami powierzchniowymi stojącymi lub wodami powierzchniowymi płynącymi jezior i zbiorników sztucznych (z dokładnością\ndo czterech miejsc po przecinku)."]
[{"$f":"$A$8","v":16.5},null,{"$f":"'DN-1'!M10&\".\"&'DN-1'!Q24&Wersja","v":"2023.1.1.15.0.44867"},null,null,null,null,null,null,null,null,null,null,"ZDN-1(1)","1/2"]
[{"$f":"$A$2","v":9}]
[{"$f":"$A$2","v":9},"WYPEŁNIĆ DUŻYMI, DRUKOWANYMI LITERAMI, CZARNYM LUB NIEBIESKIM KOLOREM."]
[4.5]
[{"$f":"$A$8","v":16.5},"B.2.  BUDYNKI LUB ICH CZĘŚCI"]
[{"$f":"$A$8*1.5","v":24.75},"Lp.","Położenie (adres, w tym dzielnica)",null,null,null,null,"Nr księgi wieczystej\n(zbioru dokumentów)","Nr obrębu\n(arkusza mapy)2)","Nr działki","Powierzchnia użytkowa w m2","Stawka Podatku4)",null,"Forma władania5)"]
[{"$f":"$A$2","v":9},null,"a",null,null,null,null,"b","c","d","e","f",null,"g"]
[{"$f":"$A$6","v":19.5},1,null,null,null,null,null,null,null,null,null,null,null,null,null,{"$f":"\"b.\"&L1130","v":"b."}]
[19.5,2,null,null,null,null,null,null,null,null,null,null,null,null,null,{"$f":"\"b.\"&L1131","v":"b."}]
[19.5,3,null,null,null,null,null,null,null,null,null,null,null,null,null,"b."]
[19.5,4,null,null,null,null,null,null,null,null,null,null,null,null,null,"b."]
[19.5,5,null,null,null,null,null,null,null,null,null,null,null,null,null,"b."]
[19.5,6,null,null,null,null,null,null,null,null,null,null,null,null,null,"b."]
[19.5,7,null,null,null,null,null,null,null,null,null,null,null,null,null,"b."]
[19.5,8,null,null,null,null,null,null,null,null,null,null,null,null,null,"b."]
[{"$f":"$A$8","v":16.5},"B.3.  BUDOWLE LUB ICH CZĘŚCI ZWIĄZANE Z PROWADZENIEM DZIAŁALNOŚCI GOSPODARCZEJ"]
[16.5,"Lp.","Nazwa budowli",null,null,"Nr inwentarzowy","Położenie (adres, w tym dzielnica)",null,"Nr obrębu\n(arkusza mapy)2)","Nr działki","Wartość w zł","Stawka Podatku4)",null,"Forma władania5)"]
[{"$f":"$A$2","v":9},null,"a",null,null,"b",null,"c","d","e","f","g",null,"h"]
[{"$f":"$A$6","v":19.5},1,null,null,null,null,null,null,null,null,null,null,null,null,null,{"$f":"\"c.\"&L1141","v":"c."}]
[19.5,2,null,null,null,null,null,null,null,null,null,null,null,null,null,{"$f":"\"c.\"&L1142","v":"c."}]
[19.5,3,null,null,null,null,null,null,null,null,null,null,null,null,null,"c."]
[19.5,4,null,null,null,null,null,null,null,null,null,null,null,null,null,"c."]
[19.5,5,null,null,null,null,null,null,null,null,null,null,null,null,null,"c."]
[19.5,6,null,null,null,null,null,null,null,null,null,null,null,null,null,"c."]
[19.5,7,null,null,null,null,null,null,null,null,null,null,null,null,null,"c."]
[19.5,8,null,null,null,null,null,null,null,null,null,null,null,null,null,"c."]
[{"$f":"$A$2","v":9}]
[9,"4)","Należy podać stawkę właściwą dla rodzaju przedmiotu opodatkowania zgodną z uchwałą rady gminy."]
[9,"5)","Należy podać jedną z form władania: własność, użytkowanie wieczyste, posiadanie samoistne, posiadanie zależne lub posiadanie bez tytułu prawnego."]
[{"$f":"$A$2","v":9}]
[9]
[9]
[9]
[{"$f":"$A$8","v":16.5},null,"ZDN-1(1)","2/2",null,null,null,null,null,null,null,null,{"$f":"'DN-1'!M10&\".\"&'DN-1'!Q24&Wersja","v":"2023.1.1.15.0.44867"}]
[9]
[9,"Załącznik nr 6"]
[{"$f":"$A$2","v":9},"WYPEŁNIĆ DUŻYMI, DRUKOWANYMI LITERAMI, CZARNYM LUB NIEBIESKIM KOLOREM."]
[4.5]
[{"$f":"$A$2","v":9},"1. Identyfikator podatkowy NIP/numer PESEL (niepotrzebne skreślić)1)\n└────┴────┴────┴────┴────┴────┴────┴────┴────┴────┴────┘",null,null,null,null,null,null,"2.  Nr dokumentu"]
[{"$f":"$A$6","v":19.5},null,{"$f":"$C$6","v":0}]
[{"$f":"$A$2","v":9}]
[16.5,"ZDN-1"]
[{"$f":"$A$8","v":16.5},"ZAŁĄCZNIK DO DEKLARACJI NA PODATEK OD NIERUCHOMOŚCI"]
["","- DANE O PRZEDMIOTACH OPODATKOWANIA PODLEGAJĄCYCH OPODATKOWANIU"]
[{"$f":"$A$2","v":9},null,null,null,null,null,null,null,null,null,null,null,"3. Nr załącznika"]
[{"$f":"$A$6","v":19.5},null,null,null,null,null,null,null,null,null,null,null,{"$f":"M1100+1","v":18},null,null,null,{"$f":"IF(COUNTA(C1179:O1186,C1198:O1205,C1209:O1216)=0,0,1)","v":0}]
[{"$f":"$A$4","v":4.5}]
[{"$f":"$A$4","v":4.5}]
[{"$f":"$A$8*1.5","v":24.75},"A.  DANE PODATNIKA WSKAZANEGO W CZĘŚCI C.1 DEKLARACJI DN-1\n* - dotyczy podatnika niebędącego osobą fizyczną               ** - dotyczy podatnika będącego osobą fizyczną"]
[{"$f":"$A$2","v":9},null,"4. Nazwa pełna * / Nazwisko **",null,null,null,null,null,"5. Nazwa skrócona * / Pierwsze imię **"]
[{"$f":"$A$6","v":19.5},null,{"$f":"\"\"&$C$17","v":""},null,null,null,null,null,{"$f":"\"\"&$I$17","v":""}]
[{"$f":"$A$4","v":4.5}]
[{"$f":"$A$8","v":16.5},"B.  DANE O POSZCZEGÓLNYCH PRZEDMIOTACH OPODATKOWANIA PODLEGAJĄCYCH OPODATKOWANIU"]
[16.5,"B.1.  GRUNTY"]
[{"$f":"$A$8*1.5","v":24.75},"Lp.","Położenie (adres, w tym dzielnica)",null,null,null,null,"Nr księgi wieczystej\n(zbioru dokumentów)","Nr obrębu\n(arkusza mapy)2)","Nr działki","Powierzchnia w m2 / ha3)","Stawka Podatku4)",null,"Forma władania5)"]
[{"$f":"$A$2","v":9},null,"a",null,null,null,null,"b","c","d","e","f",null,"g"]
[{"$f":"$A$6","v":19.5},1,null,null,null,null,null,null,null,null,null,null,null,null,null,{"$f":"\"a.\"&L1179","v":"a."}]
[19.5,2,null,null,null,null,null,null,null,null,null,null,null,null,null,{"$f":"\"a.\"&L1180","v":"a."}]
[19.5,3,null,null,null,null,null,null,null,null,null,null,null,null,null,"a."]
[19.5,4,null,null,null,null,null,null,null,null,null,null,null,null,null,"a."]
[19.5,5,null,null,null,null,null,null,null,null,null,null,null,null,null,"a."]
[19.5,6,null,null,null,null,null,null,null,null,null,null,null,null,null,"a."]
[19.5,7,null,null,null,null,null,null,null,null,null,null,null,null,null,"a."]
[19.5,8,null,null,null,null,null,null,null,null,null,null,null,null,null,"a."]
[{"$f":"$A$2","v":9}]
[{"$f":"$A$2*2","v":18},"1)","Numer PESEL wpisują podatnicy będący osobami fizycznymi objętymi rejestrem PESEL, nieprowadzący działalności gospodarczej lub niebędący zarejestrowanymi podatnikami podatku od towarów i usług.\nIdentyfikator podatkowy NIP wpisują pozostali podatnicy."]
[{"$f":"$A$2","v":9},"2)","Numer obrębu należy podać wraz z numerem arkusza mapy ewidencyjnej w przypadku, gdy działki numerowane są w ramach arkusza mapy."]
[{"$f":"$A$2*2","v":18},"3)","Powierzchnię w ha należy wykazać wyłącznie w przypadku gruntów pod wodami powierzchniowymi stojącymi lub wodami powierzchniowymi płynącymi jezior i zbiorników sztucznych (z dokładnością\ndo czterech miejsc po przecinku)."]
[{"$f":"$A$8","v":16.5},null,{"$f":"'DN-1'!M10&\".\"&'DN-1'!Q24&Wersja","v":"2023.1.1.15.0.44867"},null,null,null,null,null,null,null,null,null,null,"ZDN-1(1)","1/2"]
[{"$f":"$A$2","v":9}]
[{"$f":"$A$2","v":9},"WYPEŁNIĆ DUŻYMI, DRUKOWANYMI LITERAMI, CZARNYM LUB NIEBIESKIM KOLOREM."]
[4.5]
[{"$f":"$A$8","v":16.5},"B.2.  BUDYNKI LUB ICH CZĘŚCI"]
[{"$f":"$A$8*1.5","v":24.75},"Lp.","Położenie (adres, w tym dzielnica)",null,null,null,null,"Nr księgi wieczystej\n(zbioru dokumentów)","Nr obrębu\n(arkusza mapy)2)","Nr działki","Powierzchnia użytkowa w m2","Stawka Podatku4)",null,"Forma władania5)"]
[{"$f":"$A$2","v":9},null,"a",null,null,null,null,"b","c","d","e","f",null,"g"]
[{"$f":"$A$6","v":19.5},1,null,null,null,null,null,null,null,null,null,null,null,null,null,{"$f":"\"b.\"&L1198","v":"b."}]
[19.5,2,null,null,null,null,null,null,null,null,null,null,null,null,null,{"$f":"\"b.\"&L1199","v":"b."}]
[19.5,3,null,null,null,null,null,null,null,null,null,null,null,null,null,"b."]
[19.5,4,null,null,null,null,null,null,null,null,null,null,null,null,null,"b."]
[19.5,5,null,null,null,null,null,null,null,null,null,null,null,null,null,"b."]
[19.5,6,null,null,null,null,null,null,null,null,null,null,null,null,null,"b."]
[19.5,7,null,null,null,null,null,null,null,null,null,null,null,null,null,"b."]
[19.5,8,null,null,null,null,null,null,null,null,null,null,null,null,null,"b."]
[{"$f":"$A$8","v":16.5},"B.3.  BUDOWLE LUB ICH CZĘŚCI ZWIĄZANE Z PROWADZENIEM DZIAŁALNOŚCI GOSPODARCZEJ"]
[16.5,"Lp.","Nazwa budowli",null,null,"Nr inwentarzowy","Położenie (adres, w tym dzielnica)",null,"Nr obrębu\n(arkusza mapy)2)","Nr działki","Wartość w zł","Stawka Podatku4)",null,"Forma władania5)"]
[{"$f":"$A$2","v":9},null,"a",null,null,"b",null,"c","d","e","f","g",null,"h"]
[{"$f":"$A$6","v":19.5},1,null,null,null,null,null,null,null,null,null,null,null,null,null,{"$f":"\"c.\"&L1209","v":"c."}]
[19.5,2,null,null,null,null,null,null,null,null,null,null,null,null,null,{"$f":"\"c.\"&L1210","v":"c."}]
[19.5,3,null,null,null,null,null,null,null,null,null,null,null,null,null,"c."]
[19.5,4,null,null,null,null,null,null,null,null,null,null,null,null,null,"c."]
[19.5,5,null,null,null,null,null,null,null,null,null,null,null,null,null,"c."]
[19.5,6,null,null,null,null,null,null,null,null,null,null,null,null,null,"c."]
[19.5,7,null,null,null,null,null,null,null,null,null,null,null,null,null,"c."]
[19.5,8,null,null,null,null,null,null,null,null,null,null,null,null,null,"c."]
[{"$f":"$A$2","v":9}]
[9,"4)","Należy podać stawkę właściwą dla rodzaju przedmiotu opodatkowania zgodną z uchwałą rady gminy."]
[9,"5)","Należy podać jedną z form władania: własność, użytkowanie wieczyste, posiadanie samoistne, posiadanie zależne lub posiadanie bez tytułu prawnego."]
[{"$f":"$A$2","v":9}]
[9]
[9]
[9]
[{"$f":"$A$8","v":16.5},null,"ZDN-1(1)","2/2",null,null,null,null,null,null,null,null,{"$f":"'DN-1'!M10&\".\"&'DN-1'!Q24&Wersja","v":"2023.1.1.15.0.44867"}]
[9]
[9,"Załącznik nr 6"]
[{"$f":"$A$2","v":9},"WYPEŁNIĆ DUŻYMI, DRUKOWANYMI LITERAMI, CZARNYM LUB NIEBIESKIM KOLOREM."]
[4.5]
[{"$f":"$A$2","v":9},"1. Identyfikator podatkowy NIP/numer PESEL (niepotrzebne skreślić)1)\n└────┴────┴────┴────┴────┴────┴────┴────┴────┴────┴────┘",null,null,null,null,null,null,"2.  Nr dokumentu"]
[{"$f":"$A$6","v":19.5},null,{"$f":"$C$6","v":0}]
[{"$f":"$A$2","v":9}]
[16.5,"ZDN-1"]
[{"$f":"$A$8","v":16.5},"ZAŁĄCZNIK DO DEKLARACJI NA PODATEK OD NIERUCHOMOŚCI"]
["","- DANE O PRZEDMIOTACH OPODATKOWANIA PODLEGAJĄCYCH OPODATKOWANIU"]
[{"$f":"$A$2","v":9},null,null,null,null,null,null,null,null,null,null,null,"3. Nr załącznika"]
[{"$f":"$A$6","v":19.5},null,null,null,null,null,null,null,null,null,null,null,{"$f":"M1168+1","v":19},null,null,null,{"$f":"IF(COUNTA(C1247:O1254,C1266:O1273,C1277:O1284)=0,0,1)","v":0}]
[{"$f":"$A$4","v":4.5}]
[{"$f":"$A$4","v":4.5}]
[{"$f":"$A$8*1.5","v":24.75},"A.  DANE PODATNIKA WSKAZANEGO W CZĘŚCI C.1 DEKLARACJI DN-1\n* - dotyczy podatnika niebędącego osobą fizyczną               ** - dotyczy podatnika będącego osobą fizyczną"]
[{"$f":"$A$2","v":9},null,"4. Nazwa pełna * / Nazwisko **",null,null,null,null,null,"5. Nazwa skrócona * / Pierwsze imię **"]
[{"$f":"$A$6","v":19.5},null,{"$f":"\"\"&$C$17","v":""},null,null,null,null,null,{"$f":"\"\"&$I$17","v":""}]
[{"$f":"$A$4","v":4.5}]
[{"$f":"$A$8","v":16.5},"B.  DANE O POSZCZEGÓLNYCH PRZEDMIOTACH OPODATKOWANIA PODLEGAJĄCYCH OPODATKOWANIU"]
[16.5,"B.1.  GRUNTY"]
[{"$f":"$A$8*1.5","v":24.75},"Lp.","Położenie (adres, w tym dzielnica)",null,null,null,null,"Nr księgi wieczystej\n(zbioru dokumentów)","Nr obrębu\n(arkusza mapy)2)","Nr działki","Powierzchnia w m2 / ha3)","Stawka Podatku4)",null,"Forma władania5)"]
[{"$f":"$A$2","v":9},null,"a",null,null,null,null,"b","c","d","e","f",null,"g"]
[{"$f":"$A$6","v":19.5},1,null,null,null,null,null,null,null,null,null,null,null,null,null,{"$f":"\"a.\"&L1247","v":"a."}]
[19.5,2,null,null,null,null,null,null,null,null,null,null,null,null,null,{"$f":"\"a.\"&L1248","v":"a."}]
[19.5,3,null,null,null,null,null,null,null,null,null,null,null,null,null,"a."]
[19.5,4,null,null,null,null,null,null,null,null,null,null,null,null,null,"a."]
[19.5,5,null,null,null,null,null,null,null,null,null,null,null,null,null,"a."]
[19.5,6,null,null,null,null,null,null,null,null,null,null,null,null,null,"a."]
[19.5,7,null,null,null,null,null,null,null,null,null,null,null,null,null,"a."]
[19.5,8,null,null,null,null,null,null,null,null,null,null,null,null,null,"a."]
[{"$f":"$A$2","v":9}]
[{"$f":"$A$2*2","v":18},"1)","Numer PESEL wpisują podatnicy będący osobami fizycznymi objętymi rejestrem PESEL, nieprowadzący działalności gospodarczej lub niebędący zarejestrowanymi podatnikami podatku od towarów i usług.\nIdentyfikator podatkowy NIP wpisują pozostali podatnicy."]
[{"$f":"$A$2","v":9},"2)","Numer obrębu należy podać wraz z numerem arkusza mapy ewidencyjnej w przypadku, gdy działki numerowane są w ramach arkusza mapy."]
[{"$f":"$A$2*2","v":18},"3)","Powierzchnię w ha należy wykazać wyłącznie w przypadku gruntów pod wodami powierzchniowymi stojącymi lub wodami powierzchniowymi płynącymi jezior i zbiorników sztucznych (z dokładnością\ndo czterech miejsc po przecinku)."]
[{"$f":"$A$8","v":16.5},null,{"$f":"'DN-1'!M10&\".\"&'DN-1'!Q24&Wersja","v":"2023.1.1.15.0.44867"},null,null,null,null,null,null,null,null,null,null,"ZDN-1(1)","1/2"]
[{"$f":"$A$2","v":9}]
[{"$f":"$A$2","v":9},"WYPEŁNIĆ DUŻYMI, DRUKOWANYMI LITERAMI, CZARNYM LUB NIEBIESKIM KOLOREM."]
[4.5]
[{"$f":"$A$8","v":16.5},"B.2.  BUDYNKI LUB ICH CZĘŚCI"]
[{"$f":"$A$8*1.5","v":24.75},"Lp.","Położenie (adres, w tym dzielnica)",null,null,null,null,"Nr księgi wieczystej\n(zbioru dokumentów)","Nr obrębu\n(arkusza mapy)2)","Nr działki","Powierzchnia użytkowa w m2","Stawka Podatku4)",null,"Forma władania5)"]
[{"$f":"$A$2","v":9},null,"a",null,null,null,null,"b","c","d","e","f",null,"g"]
[{"$f":"$A$6","v":19.5},1,null,null,null,null,null,null,null,null,null,null,null,null,null,{"$f":"\"b.\"&L1266","v":"b."}]
[19.5,2,null,null,null,null,null,null,null,null,null,null,null,null,null,{"$f":"\"b.\"&L1267","v":"b."}]
[19.5,3,null,null,null,null,null,null,null,null,null,null,null,null,null,"b."]
[19.5,4,null,null,null,null,null,null,null,null,null,null,null,null,null,"b."]
[19.5,5,null,null,null,null,null,null,null,null,null,null,null,null,null,"b."]
[19.5,6,null,null,null,null,null,null,null,null,null,null,null,null,null,"b."]
[19.5,7,null,null,null,null,null,null,null,null,null,null,null,null,null,"b."]
[19.5,8,null,null,null,null,null,null,null,null,null,null,null,null,null,"b."]
[{"$f":"$A$8","v":16.5},"B.3.  BUDOWLE LUB ICH CZĘŚCI ZWIĄZANE Z PROWADZENIEM DZIAŁALNOŚCI GOSPODARCZEJ"]
[16.5,"Lp.","Nazwa budowli",null,null,"Nr inwentarzowy","Położenie (adres, w tym dzielnica)",null,"Nr obrębu\n(arkusza mapy)2)","Nr działki","Wartość w zł","Stawka Podatku4)",null,"Forma władania5)"]
[{"$f":"$A$2","v":9},null,"a",null,null,"b",null,"c","d","e","f","g",null,"h"]
[{"$f":"$A$6","v":19.5},1,null,null,null,null,null,null,null,null,null,null,null,null,null,{"$f":"\"c.\"&L1277","v":"c."}]
[19.5,2,null,null,null,null,null,null,null,null,null,null,null,null,null,{"$f":"\"c.\"&L1278","v":"c."}]
[19.5,3,null,null,null,null,null,null,null,null,null,null,null,null,null,"c."]
[19.5,4,null,null,null,null,null,null,null,null,null,null,null,null,null,"c."]
[19.5,5,null,null,null,null,null,null,null,null,null,null,null,null,null,"c."]
[19.5,6,null,null,null,null,null,null,null,null,null,null,null,null,null,"c."]
[19.5,7,null,null,null,null,null,null,null,null,null,null,null,null,null,"c."]
[19.5,8,null,null,null,null,null,null,null,null,null,null,null,null,null,"c."]
[{"$f":"$A$2","v":9}]
[9,"4)","Należy podać stawkę właściwą dla rodzaju przedmiotu opodatkowania zgodną z uchwałą rady gminy."]
[9,"5)","Należy podać jedną z form władania: własność, użytkowanie wieczyste, posiadanie samoistne, posiadanie zależne lub posiadanie bez tytułu prawnego."]
[{"$f":"$A$2","v":9}]
[9]
[9]
[9]
[{"$f":"$A$8","v":16.5},null,"ZDN-1(1)","2/2",null,null,null,null,null,null,null,null,{"$f":"'DN-1'!M10&\".\"&'DN-1'!Q24&Wersja","v":"2023.1.1.15.0.44867"}]
[9]
[9,"Załącznik nr 6"]
[{"$f":"$A$2","v":9},"WYPEŁNIĆ DUŻYMI, DRUKOWANYMI LITERAMI, CZARNYM LUB NIEBIESKIM KOLOREM."]
[4.5]
[{"$f":"$A$2","v":9},"1. Identyfikator podatkowy NIP/numer PESEL (niepotrzebne skreślić)1)\n└────┴────┴────┴────┴────┴────┴────┴────┴────┴────┴────┘",null,null,null,null,null,null,"2.  Nr dokumentu"]
[{"$f":"$A$6","v":19.5},null,{"$f":"$C$6","v":0}]
[{"$f":"$A$2","v":9}]
[16.5,"ZDN-1"]
[{"$f":"$A$8","v":16.5},"ZAŁĄCZNIK DO DEKLARACJI NA PODATEK OD NIERUCHOMOŚCI"]
["","- DANE O PRZEDMIOTACH OPODATKOWANIA PODLEGAJĄCYCH OPODATKOWANIU"]
[{"$f":"$A$2","v":9},null,null,null,null,null,null,null,null,null,null,null,"3. Nr załącznika"]
[{"$f":"$A$6","v":19.5},null,null,null,null,null,null,null,null,null,null,null,{"$f":"M1236+1","v":20},null,null,null,{"$f":"IF(COUNTA(C1315:O1322,C1334:O1341,C1345:O1352)=0,0,1)","v":0}]
[{"$f":"$A$4","v":4.5}]
[{"$f":"$A$4","v":4.5}]
[{"$f":"$A$8*1.5","v":24.75},"A.  DANE PODATNIKA WSKAZANEGO W CZĘŚCI C.1 DEKLARACJI DN-1\n* - dotyczy podatnika niebędącego osobą fizyczną               ** - dotyczy podatnika będącego osobą fizyczną"]
[{"$f":"$A$2","v":9},null,"4. Nazwa pełna * / Nazwisko **",null,null,null,null,null,"5. Nazwa skrócona * / Pierwsze imię **"]
[{"$f":"$A$6","v":19.5},null,{"$f":"\"\"&$C$17","v":""},null,null,null,null,null,{"$f":"\"\"&$I$17","v":""}]
[{"$f":"$A$4","v":4.5}]
[{"$f":"$A$8","v":16.5},"B.  DANE O POSZCZEGÓLNYCH PRZEDMIOTACH OPODATKOWANIA PODLEGAJĄCYCH OPODATKOWANIU"]
[16.5,"B.1.  GRUNTY"]
[{"$f":"$A$8*1.5","v":24.75},"Lp.","Położenie (adres, w tym dzielnica)",null,null,null,null,"Nr księgi wieczystej\n(zbioru dokumentów)","Nr obrębu\n(arkusza mapy)2)","Nr działki","Powierzchnia w m2 / ha3)","Stawka Podatku4)",null,"Forma władania5)"]
[{"$f":"$A$2","v":9},null,"a",null,null,null,null,"b","c","d","e","f",null,"g"]
[{"$f":"$A$6","v":19.5},1,null,null,null,null,null,null,null,null,null,null,null,null,null,{"$f":"\"a.\"&L1315","v":"a."}]
[19.5,2,null,null,null,null,null,null,null,null,null,null,null,null,null,{"$f":"\"a.\"&L1316","v":"a."}]
[19.5,3,null,null,null,null,null,null,null,null,null,null,null,null,null,"a."]
[19.5,4,null,null,null,null,null,null,null,null,null,null,null,null,null,"a."]
[19.5,5,null,null,null,null,null,null,null,null,null,null,null,null,null,"a."]
[19.5,6,null,null,null,null,null,null,null,null,null,null,null,null,null,"a."]
[19.5,7,null,null,null,null,null,null,null,null,null,null,null,null,null,"a."]
[19.5,8,null,null,null,null,null,null,null,null,null,null,null,null,null,"a."]
[{"$f":"$A$2","v":9}]
[{"$f":"$A$2*2","v":18},"1)","Numer PESEL wpisują podatnicy będący osobami fizycznymi objętymi rejestrem PESEL, nieprowadzący działalności gospodarczej lub niebędący zarejestrowanymi podatnikami podatku od towarów i usług.\nIdentyfikator podatkowy NIP wpisują pozostali podatnicy."]
[{"$f":"$A$2","v":9},"2)","Numer obrębu należy podać wraz z numerem arkusza mapy ewidencyjnej w przypadku, gdy działki numerowane są w ramach arkusza mapy."]
[{"$f":"$A$2*2","v":18},"3)","Powierzchnię w ha należy wykazać wyłącznie w przypadku gruntów pod wodami powierzchniowymi stojącymi lub wodami powierzchniowymi płynącymi jezior i zbiorników sztucznych (z dokładnością\ndo czterech miejsc po przecinku)."]
[{"$f":"$A$8","v":16.5},null,{"$f":"'DN-1'!M10&\".\"&'DN-1'!Q24&Wersja","v":"2023.1.1.15.0.44867"},null,null,null,null,null,null,null,null,null,null,"ZDN-1(1)","1/2"]
[{"$f":"$A$2","v":9}]
[{"$f":"$A$2","v":9},"WYPEŁNIĆ DUŻYMI, DRUKOWANYMI LITERAMI, CZARNYM LUB NIEBIESKIM KOLOREM."]
[4.5]
[{"$f":"$A$8","v":16.5},"B.2.  BUDYNKI LUB ICH CZĘŚCI"]
[{"$f":"$A$8*1.5","v":24.75},"Lp.","Położenie (adres, w tym dzielnica)",null,null,null,null,"Nr księgi wieczystej\n(zbioru dokumentów)","Nr obrębu\n(arkusza mapy)2)","Nr działki","Powierzchnia użytkowa w m2","Stawka Podatku4)",null,"Forma władania5)"]
[{"$f":"$A$2","v":9},null,"a",null,null,null,null,"b","c","d","e","f",null,"g"]
[{"$f":"$A$6","v":19.5},1,null,null,null,null,null,null,null,null,null,null,null,null,null,{"$f":"\"b.\"&L1334","v":"b."}]
[19.5,2,null,null,null,null,null,null,null,null,null,null,null,null,null,{"$f":"\"b.\"&L1335","v":"b."}]
[19.5,3,null,null,null,null,null,null,null,null,null,null,null,null,null,"b."]
[19.5,4,null,null,null,null,null,null,null,null,null,null,null,null,null,"b."]
[19.5,5,null,null,null,null,null,null,null,null,null,null,null,null,null,"b."]
[19.5,6,null,null,null,null,null,null,null,null,null,null,null,null,null,"b."]
[19.5,7,null,null,null,null,null,null,null,null,null,null,null,null,null,"b."]
[19.5,8,null,null,null,null,null,null,null,null,null,null,null,null,null,"b."]
[{"$f":"$A$8","v":16.5},"B.3.  BUDOWLE LUB ICH CZĘŚCI ZWIĄZANE Z PROWADZENIEM DZIAŁALNOŚCI GOSPODARCZEJ"]
[16.5,"Lp.","Nazwa budowli",null,null,"Nr inwentarzowy","Położenie (adres, w tym dzielnica)",null,"Nr obrębu\n(arkusza mapy)2)","Nr działki","Wartość w zł","Stawka Podatku4)",null,"Forma władania5)"]
[{"$f":"$A$2","v":9},null,"a",null,null,"b",null,"c","d","e","f","g",null,"h"]
[{"$f":"$A$6","v":19.5},1,null,null,null,null,null,null,null,null,null,null,null,null,null,{"$f":"\"c.\"&L1345","v":"c."}]
[19.5,2,null,null,null,null,null,null,null,null,null,null,null,null,null,{"$f":"\"c.\"&L1346","v":"c."}]
[19.5,3,null,null,null,null,null,null,null,null,null,null,null,null,null,"c."]
[19.5,4,null,null,null,null,null,null,null,null,null,null,null,null,null,"c."]
[19.5,5,null,null,null,null,null,null,null,null,null,null,null,null,null,"c."]
[19.5,6,null,null,null,null,null,null,null,null,null,null,null,null,null,"c."]
[19.5,7,null,null,null,null,null,null,null,null,null,null,null,null,null,"c."]
[19.5,8,null,null,null,null,null,null,null,null,null,null,null,null,null,"c."]
[{"$f":"$A$2","v":9}]
[9,"4)","Należy podać stawkę właściwą dla rodzaju przedmiotu opodatkowania zgodną z uchwałą rady gminy."]
[9,"5)","Należy podać jedną z form władania: własność, użytkowanie wieczyste, posiadanie samoistne, posiadanie zależne lub posiadanie bez tytułu prawnego."]
[{"$f":"$A$2","v":9}]
[9]
[9]
[9]
[{"$f":"$A$8","v":16.5},null,"ZDN-1(1)","2/2",null,null,null,null,null,null,null,null,{"$f":"'DN-1'!M10&\".\"&'DN-1'!Q24&Wersja","v":"2023.1.1.15.0.44867"}]
[9]
[9,"Załącznik nr 6"]
[{"$f":"$A$2","v":9},"WYPEŁNIĆ DUŻYMI, DRUKOWANYMI LITERAMI, CZARNYM LUB NIEBIESKIM KOLOREM."]
[4.5]
[{"$f":"$A$2","v":9},"1. Identyfikator podatkowy NIP/numer PESEL (niepotrzebne skreślić)1)\n└────┴────┴────┴────┴────┴────┴────┴────┴────┴────┴────┘",null,null,null,null,null,null,"2.  Nr dokumentu"]
[{"$f":"$A$6","v":19.5},null,{"$f":"$C$6","v":0}]
[{"$f":"$A$2","v":9}]
[16.5,"ZDN-1"]
[{"$f":"$A$8","v":16.5},"ZAŁĄCZNIK DO DEKLARACJI NA PODATEK OD NIERUCHOMOŚCI"]
["","- DANE O PRZEDMIOTACH OPODATKOWANIA PODLEGAJĄCYCH OPODATKOWANIU"]
[{"$f":"$A$2","v":9},null,null,null,null,null,null,null,null,null,null,null,"3. Nr załącznika"]
[{"$f":"$A$6","v":19.5},null,null,null,null,null,null,null,null,null,null,null,{"$f":"M1304+1","v":21},null,null,null,{"$f":"IF(COUNTA(C1383:O1390,C1402:O1409,C1413:O1420)=0,0,1)","v":0}]
[{"$f":"$A$4","v":4.5}]
[{"$f":"$A$4","v":4.5}]
[{"$f":"$A$8*1.5","v":24.75},"A.  DANE PODATNIKA WSKAZANEGO W CZĘŚCI C.1 DEKLARACJI DN-1\n* - dotyczy podatnika niebędącego osobą fizyczną               ** - dotyczy podatnika będącego osobą fizyczną"]
[{"$f":"$A$2","v":9},null,"4. Nazwa pełna * / Nazwisko **",null,null,null,null,null,"5. Nazwa skrócona * / Pierwsze imię **"]
[{"$f":"$A$6","v":19.5},null,{"$f":"\"\"&$C$17","v":""},null,null,null,null,null,{"$f":"\"\"&$I$17","v":""}]
[{"$f":"$A$4","v":4.5}]
[{"$f":"$A$8","v":16.5},"B.  DANE O POSZCZEGÓLNYCH PRZEDMIOTACH OPODATKOWANIA PODLEGAJĄCYCH OPODATKOWANIU"]
[16.5,"B.1.  GRUNTY"]
[{"$f":"$A$8*1.5","v":24.75},"Lp.","Położenie (adres, w tym dzielnica)",null,null,null,null,"Nr księgi wieczystej\n(zbioru dokumentów)","Nr obrębu\n(arkusza mapy)2)","Nr działki","Powierzchnia w m2 / ha3)","Stawka Podatku4)",null,"Forma władania5)"]
[{"$f":"$A$2","v":9},null,"a",null,null,null,null,"b","c","d","e","f",null,"g"]
[{"$f":"$A$6","v":19.5},1,null,null,null,null,null,null,null,null,null,null,null,null,null,{"$f":"\"a.\"&L1383","v":"a."}]
[19.5,2,null,null,null,null,null,null,null,null,null,null,null,null,null,{"$f":"\"a.\"&L1384","v":"a."}]
[19.5,3,null,null,null,null,null,null,null,null,null,null,null,null,null,"a."]
[19.5,4,null,null,null,null,null,null,null,null,null,null,null,null,null,"a."]
[19.5,5,null,null,null,null,null,null,null,null,null,null,null,null,null,"a."]
[19.5,6,null,null,null,null,null,null,null,null,null,null,null,null,null,"a."]
[19.5,7,null,null,null,null,null,null,null,null,null,null,null,null,null,"a."]
[19.5,8,null,null,null,null,null,null,null,null,null,null,null,null,null,"a."]
[{"$f":"$A$2","v":9}]
[{"$f":"$A$2*2","v":18},"1)","Numer PESEL wpisują podatnicy będący osobami fizycznymi objętymi rejestrem PESEL, nieprowadzący działalności gospodarczej lub niebędący zarejestrowanymi podatnikami podatku od towarów i usług.\nIdentyfikator podatkowy NIP wpisują pozostali podatnicy."]
[{"$f":"$A$2","v":9},"2)","Numer obrębu należy podać wraz z numerem arkusza mapy ewidencyjnej w przypadku, gdy działki numerowane są w ramach arkusza mapy."]
[{"$f":"$A$2*2","v":18},"3)","Powierzchnię w ha należy wykazać wyłącznie w przypadku gruntów pod wodami powierzchniowymi stojącymi lub wodami powierzchniowymi płynącymi jezior i zbiorników sztucznych (z dokładnością\ndo czterech miejsc po przecinku)."]
[{"$f":"$A$8","v":16.5},null,{"$f":"'DN-1'!M10&\".\"&'DN-1'!Q24&Wersja","v":"2023.1.1.15.0.44867"},null,null,null,null,null,null,null,null,null,null,"ZDN-1(1)","1/2"]
[{"$f":"$A$2","v":9}]
[{"$f":"$A$2","v":9},"WYPEŁNIĆ DUŻYMI, DRUKOWANYMI LITERAMI, CZARNYM LUB NIEBIESKIM KOLOREM."]
[4.5]
[{"$f":"$A$8","v":16.5},"B.2.  BUDYNKI LUB ICH CZĘŚCI"]
[{"$f":"$A$8*1.5","v":24.75},"Lp.","Położenie (adres, w tym dzielnica)",null,null,null,null,"Nr księgi wieczystej\n(zbioru dokumentów)","Nr obrębu\n(arkusza mapy)2)","Nr działki","Powierzchnia użytkowa w m2","Stawka Podatku4)",null,"Forma władania5)"]
[{"$f":"$A$2","v":9},null,"a",null,null,null,null,"b","c","d","e","f",null,"g"]
[{"$f":"$A$6","v":19.5},1,null,null,null,null,null,null,null,null,null,null,null,null,null,{"$f":"\"b.\"&L1402","v":"b."}]
[19.5,2,null,null,null,null,null,null,null,null,null,null,null,null,null,{"$f":"\"b.\"&L1403","v":"b."}]
[19.5,3,null,null,null,null,null,null,null,null,null,null,null,null,null,"b."]
[19.5,4,null,null,null,null,null,null,null,null,null,null,null,null,null,"b."]
[19.5,5,null,null,null,null,null,null,null,null,null,null,null,null,null,"b."]
[19.5,6,null,null,null,null,null,null,null,null,null,null,null,null,null,"b."]
[19.5,7,null,null,null,null,null,null,null,null,null,null,null,null,null,"b."]
[19.5,8,null,null,null,null,null,null,null,null,null,null,null,null,null,"b."]
[{"$f":"$A$8","v":16.5},"B.3.  BUDOWLE LUB ICH CZĘŚCI ZWIĄZANE Z PROWADZENIEM DZIAŁALNOŚCI GOSPODARCZEJ"]
[16.5,"Lp.","Nazwa budowli",null,null,"Nr inwentarzowy","Położenie (adres, w tym dzielnica)",null,"Nr obrębu\n(arkusza mapy)2)","Nr działki","Wartość w zł","Stawka Podatku4)",null,"Forma władania5)"]
[{"$f":"$A$2","v":9},null,"a",null,null,"b",null,"c","d","e","f","g",null,"h"]
[{"$f":"$A$6","v":19.5},1,null,null,null,null,null,null,null,null,null,null,null,null,null,{"$f":"\"c.\"&L1413","v":"c."}]
[19.5,2,null,null,null,null,null,null,null,null,null,null,null,null,null,{"$f":"\"c.\"&L1414","v":"c."}]
[19.5,3,null,null,null,null,null,null,null,null,null,null,null,null,null,"c."]
[19.5,4,null,null,null,null,null,null,null,null,null,null,null,null,null,"c."]
[19.5,5,null,null,null,null,null,null,null,null,null,null,null,null,null,"c."]
[19.5,6,null,null,null,null,null,null,null,null,null,null,null,null,null,"c."]
[19.5,7,null,null,null,null,null,null,null,null,null,null,null,null,null,"c."]
[19.5,8,null,null,null,null,null,null,null,null,null,null,null,null,null,"c."]
[{"$f":"$A$2","v":9}]
[9,"4)","Należy podać stawkę właściwą dla rodzaju przedmiotu opodatkowania zgodną z uchwałą rady gminy."]
[9,"5)","Należy podać jedną z form władania: własność, użytkowanie wieczyste, posiadanie samoistne, posiadanie zależne lub posiadanie bez tytułu prawnego."]
[{"$f":"$A$2","v":9}]
[9]
[9]
[9]
[{"$f":"$A$8","v":16.5},null,"ZDN-1(1)","2/2",null,null,null,null,null,null,null,null,{"$f":"'DN-1'!M10&\".\"&'DN-1'!Q24&Wersja","v":"2023.1.1.15.0.44867"}]
[9]
[9,"Załącznik nr 6"]
[{"$f":"$A$2","v":9},"WYPEŁNIĆ DUŻYMI, DRUKOWANYMI LITERAMI, CZARNYM LUB NIEBIESKIM KOLOREM."]
[4.5]
[{"$f":"$A$2","v":9},"1. Identyfikator podatkowy NIP/numer PESEL (niepotrzebne skreślić)1)\n└────┴────┴────┴────┴────┴────┴────┴────┴────┴────┴────┘",null,null,null,null,null,null,"2.  Nr dokumentu"]
[{"$f":"$A$6","v":19.5},null,{"$f":"$C$6","v":0}]
[{"$f":"$A$2","v":9}]
[16.5,"ZDN-1"]
[{"$f":"$A$8","v":16.5},"ZAŁĄCZNIK DO DEKLARACJI NA PODATEK OD NIERUCHOMOŚCI"]
["","- DANE O PRZEDMIOTACH OPODATKOWANIA PODLEGAJĄCYCH OPODATKOWANIU"]
[{"$f":"$A$2","v":9},null,null,null,null,null,null,null,null,null,null,null,"3. Nr załącznika"]
[{"$f":"$A$6","v":19.5},null,null,null,null,null,null,null,null,null,null,null,{"$f":"M1372+1","v":22},null,null,null,{"$f":"IF(COUNTA(C1451:O1458,C1470:O1477,C1481:O1488)=0,0,1)","v":0}]
[{"$f":"$A$4","v":4.5}]
[{"$f":"$A$4","v":4.5}]
[{"$f":"$A$8*1.5","v":24.75},"A.  DANE PODATNIKA WSKAZANEGO W CZĘŚCI C.1 DEKLARACJI DN-1\n* - dotyczy podatnika niebędącego osobą fizyczną               ** - dotyczy podatnika będącego osobą fizyczną"]
[{"$f":"$A$2","v":9},null,"4. Nazwa pełna * / Nazwisko **",null,null,null,null,null,"5. Nazwa skrócona * / Pierwsze imię **"]
[{"$f":"$A$6","v":19.5},null,{"$f":"\"\"&$C$17","v":""},null,null,null,null,null,{"$f":"\"\"&$I$17","v":""}]
[{"$f":"$A$4","v":4.5}]
[{"$f":"$A$8","v":16.5},"B.  DANE O POSZCZEGÓLNYCH PRZEDMIOTACH OPODATKOWANIA PODLEGAJĄCYCH OPODATKOWANIU"]
[16.5,"B.1.  GRUNTY"]
[{"$f":"$A$8*1.5","v":24.75},"Lp.","Położenie (adres, w tym dzielnica)",null,null,null,null,"Nr księgi wieczystej\n(zbioru dokumentów)","Nr obrębu\n(arkusza mapy)2)","Nr działki","Powierzchnia w m2 / ha3)","Stawka Podatku4)",null,"Forma władania5)"]
[{"$f":"$A$2","v":9},null,"a",null,null,null,null,"b","c","d","e","f",null,"g"]
[{"$f":"$A$6","v":19.5},1,null,null,null,null,null,null,null,null,null,null,null,null,null,{"$f":"\"a.\"&L1451","v":"a."}]
[19.5,2,null,null,null,null,null,null,null,null,null,null,null,null,null,{"$f":"\"a.\"&L1452","v":"a."}]
[19.5,3,null,null,null,null,null,null,null,null,null,null,null,null,null,"a."]
[19.5,4,null,null,null,null,null,null,null,null,null,null,null,null,null,"a."]
[19.5,5,null,null,null,null,null,null,null,null,null,null,null,null,null,"a."]
[19.5,6,null,null,null,null,null,null,null,null,null,null,null,null,null,"a."]
[19.5,7,null,null,null,null,null,null,null,null,null,null,null,null,null,"a."]
[19.5,8,null,null,null,null,null,null,null,null,null,null,null,null,null,"a."]
[{"$f":"$A$2","v":9}]
[{"$f":"$A$2*2","v":18},"1)","Numer PESEL wpisują podatnicy będący osobami fizycznymi objętymi rejestrem PESEL, nieprowadzący działalności gospodarczej lub niebędący zarejestrowanymi podatnikami podatku od towarów i usług.\nIdentyfikator podatkowy NIP wpisują pozostali podatnicy."]
[{"$f":"$A$2","v":9},"2)","Numer obrębu należy podać wraz z numerem arkusza mapy ewidencyjnej w przypadku, gdy działki numerowane są w ramach arkusza mapy."]
[{"$f":"$A$2*2","v":18},"3)","Powierzchnię w ha należy wykazać wyłącznie w przypadku gruntów pod wodami powierzchniowymi stojącymi lub wodami powierzchniowymi płynącymi jezior i zbiorników sztucznych (z dokładnością\ndo czterech miejsc po przecinku)."]
[{"$f":"$A$8","v":16.5},null,{"$f":"'DN-1'!M10&\".\"&'DN-1'!Q24&Wersja","v":"2023.1.1.15.0.44867"},null,null,null,null,null,null,null,null,null,null,"ZDN-1(1)","1/2"]
[{"$f":"$A$2","v":9}]
[{"$f":"$A$2","v":9},"WYPEŁNIĆ DUŻYMI, DRUKOWANYMI LITERAMI, CZARNYM LUB NIEBIESKIM KOLOREM."]
[4.5]
[{"$f":"$A$8","v":16.5},"B.2.  BUDYNKI LUB ICH CZĘŚCI"]
[{"$f":"$A$8*1.5","v":24.75},"Lp.","Położenie (adres, w tym dzielnica)",null,null,null,null,"Nr księgi wieczystej\n(zbioru dokumentów)","Nr obrębu\n(arkusza mapy)2)","Nr działki","Powierzchnia użytkowa w m2","Stawka Podatku4)",null,"Forma władania5)"]
[{"$f":"$A$2","v":9},null,"a",null,null,null,null,"b","c","d","e","f",null,"g"]
[{"$f":"$A$6","v":19.5},1,null,null,null,null,null,null,null,null,null,null,null,null,null,{"$f":"\"b.\"&L1470","v":"b."}]
[19.5,2,null,null,null,null,null,null,null,null,null,null,null,null,null,{"$f":"\"b.\"&L1471","v":"b."}]
[19.5,3,null,null,null,null,null,null,null,null,null,null,null,null,null,"b."]
[19.5,4,null,null,null,null,null,null,null,null,null,null,null,null,null,"b."]
[19.5,5,null,null,null,null,null,null,null,null,null,null,null,null,null,"b."]
[19.5,6,null,null,null,null,null,null,null,null,null,null,null,null,null,"b."]
[19.5,7,null,null,null,null,null,null,null,null,null,null,null,null,null,"b."]
[19.5,8,null,null,null,null,null,null,null,null,null,null,null,null,null,"b."]
[{"$f":"$A$8","v":16.5},"B.3.  BUDOWLE LUB ICH CZĘŚCI ZWIĄZANE Z PROWADZENIEM DZIAŁALNOŚCI GOSPODARCZEJ"]
[16.5,"Lp.","Nazwa budowli",null,null,"Nr inwentarzowy","Położenie (adres, w tym dzielnica)",null,"Nr obrębu\n(arkusza mapy)2)","Nr działki","Wartość w zł","Stawka Podatku4)",null,"Forma władania5)"]
[{"$f":"$A$2","v":9},null,"a",null,null,"b",null,"c","d","e","f","g",null,"h"]
[{"$f":"$A$6","v":19.5},1,null,null,null,null,null,null,null,null,null,null,null,null,null,{"$f":"\"c.\"&L1481","v":"c."}]
[19.5,2,null,null,null,null,null,null,null,null,null,null,null,null,null,{"$f":"\"c.\"&L1482","v":"c."}]
[19.5,3,null,null,null,null,null,null,null,null,null,null,null,null,null,"c."]
[19.5,4,null,null,null,null,null,null,null,null,null,null,null,null,null,"c."]
[19.5,5,null,null,null,null,null,null,null,null,null,null,null,null,null,"c."]
[19.5,6,null,null,null,null,null,null,null,null,null,null,null,null,null,"c."]
[19.5,7,null,null,null,null,null,null,null,null,null,null,null,null,null,"c."]
[19.5,8,null,null,null,null,null,null,null,null,null,null,null,null,null,"c."]
[{"$f":"$A$2","v":9}]
[9,"4)","Należy podać stawkę właściwą dla rodzaju przedmiotu opodatkowania zgodną z uchwałą rady gminy."]
[9,"5)","Należy podać jedną z form władania: własność, użytkowanie wieczyste, posiadanie samoistne, posiadanie zależne lub posiadanie bez tytułu prawnego."]
[{"$f":"$A$2","v":9}]
[9]
[9]
[9]
[{"$f":"$A$8","v":16.5},null,"ZDN-1(1)","2/2",null,null,null,null,null,null,null,null,{"$f":"'DN-1'!M10&\".\"&'DN-1'!Q24&Wersja","v":"2023.1.1.15.0.44867"}]
[9]
[9,"Załącznik nr 6"]
[{"$f":"$A$2","v":9},"WYPEŁNIĆ DUŻYMI, DRUKOWANYMI LITERAMI, CZARNYM LUB NIEBIESKIM KOLOREM."]
[4.5]
[{"$f":"$A$2","v":9},"1. Identyfikator podatkowy NIP/numer PESEL (niepotrzebne skreślić)1)\n└────┴────┴────┴────┴────┴────┴────┴────┴────┴────┴────┘",null,null,null,null,null,null,"2.  Nr dokumentu"]
[{"$f":"$A$6","v":19.5},null,{"$f":"$C$6","v":0}]
[{"$f":"$A$2","v":9}]
[16.5,"ZDN-1"]
[{"$f":"$A$8","v":16.5},"ZAŁĄCZNIK DO DEKLARACJI NA PODATEK OD NIERUCHOMOŚCI"]
["","- DANE O PRZEDMIOTACH OPODATKOWANIA PODLEGAJĄCYCH OPODATKOWANIU"]
[{"$f":"$A$2","v":9},null,null,null,null,null,null,null,null,null,null,null,"3. Nr załącznika"]
[{"$f":"$A$6","v":19.5},null,null,null,null,null,null,null,null,null,null,null,{"$f":"M1440+1","v":23},null,null,null,{"$f":"IF(COUNTA(C1519:O1526,C1538:O1545,C1549:O1556)=0,0,1)","v":0}]
[{"$f":"$A$4","v":4.5}]
[{"$f":"$A$4","v":4.5}]
[{"$f":"$A$8*1.5","v":24.75},"A.  DANE PODATNIKA WSKAZANEGO W CZĘŚCI C.1 DEKLARACJI DN-1\n* - dotyczy podatnika niebędącego osobą fizyczną               ** - dotyczy podatnika będącego osobą fizyczną"]
[{"$f":"$A$2","v":9},null,"4. Nazwa pełna * / Nazwisko **",null,null,null,null,null,"5. Nazwa skrócona * / Pierwsze imię **"]
[{"$f":"$A$6","v":19.5},null,{"$f":"\"\"&$C$17","v":""},null,null,null,null,null,{"$f":"\"\"&$I$17","v":""}]
[{"$f":"$A$4","v":4.5}]
[{"$f":"$A$8","v":16.5},"B.  DANE O POSZCZEGÓLNYCH PRZEDMIOTACH OPODATKOWANIA PODLEGAJĄCYCH OPODATKOWANIU"]
[16.5,"B.1.  GRUNTY"]
[{"$f":"$A$8*1.5","v":24.75},"Lp.","Położenie (adres, w tym dzielnica)",null,null,null,null,"Nr księgi wieczystej\n(zbioru dokumentów)","Nr obrębu\n(arkusza mapy)2)","Nr działki","Powierzchnia w m2 / ha3)","Stawka Podatku4)",null,"Forma władania5)"]
[{"$f":"$A$2","v":9},null,"a",null,null,null,null,"b","c","d","e","f",null,"g"]
[{"$f":"$A$6","v":19.5},1,null,null,null,null,null,null,null,null,null,null,null,null,null,{"$f":"\"a.\"&L1519","v":"a."}]
[19.5,2,null,null,null,null,null,null,null,null,null,null,null,null,null,{"$f":"\"a.\"&L1520","v":"a."}]
[19.5,3,null,null,null,null,null,null,null,null,null,null,null,null,null,"a."]
[19.5,4,null,null,null,null,null,null,null,null,null,null,null,null,null,"a."]
[19.5,5,null,null,null,null,null,null,null,null,null,null,null,null,null,"a."]
[19.5,6,null,null,null,null,null,null,null,null,null,null,null,null,null,"a."]
[19.5,7,null,null,null,null,null,null,null,null,null,null,null,null,null,"a."]
[19.5,8,null,null,null,null,null,null,null,null,null,null,null,null,null,"a."]
[{"$f":"$A$2","v":9}]
[{"$f":"$A$2*2","v":18},"1)","Numer PESEL wpisują podatnicy będący osobami fizycznymi objętymi rejestrem PESEL, nieprowadzący działalności gospodarczej lub niebędący zarejestrowanymi podatnikami podatku od towarów i usług.\nIdentyfikator podatkowy NIP wpisują pozostali podatnicy."]
[{"$f":"$A$2","v":9},"2)","Numer obrębu należy podać wraz z numerem arkusza mapy ewidencyjnej w przypadku, gdy działki numerowane są w ramach arkusza mapy."]
[{"$f":"$A$2*2","v":18},"3)","Powierzchnię w ha należy wykazać wyłącznie w przypadku gruntów pod wodami powierzchniowymi stojącymi lub wodami powierzchniowymi płynącymi jezior i zbiorników sztucznych (z dokładnością\ndo czterech miejsc po przecinku)."]
[{"$f":"$A$8","v":16.5},null,{"$f":"'DN-1'!M10&\".\"&'DN-1'!Q24&Wersja","v":"2023.1.1.15.0.44867"},null,null,null,null,null,null,null,null,null,null,"ZDN-1(1)","1/2"]
[{"$f":"$A$2","v":9}]
[{"$f":"$A$2","v":9},"WYPEŁNIĆ DUŻYMI, DRUKOWANYMI LITERAMI, CZARNYM LUB NIEBIESKIM KOLOREM."]
[4.5]
[{"$f":"$A$8","v":16.5},"B.2.  BUDYNKI LUB ICH CZĘŚCI"]
[{"$f":"$A$8*1.5","v":24.75},"Lp.","Położenie (adres, w tym dzielnica)",null,null,null,null,"Nr księgi wieczystej\n(zbioru dokumentów)","Nr obrębu\n(arkusza mapy)2)","Nr działki","Powierzchnia użytkowa w m2","Stawka Podatku4)",null,"Forma władania5)"]
[{"$f":"$A$2","v":9},null,"a",null,null,null,null,"b","c","d","e","f",null,"g"]
[{"$f":"$A$6","v":19.5},1,null,null,null,null,null,null,null,null,null,null,null,null,null,{"$f":"\"b.\"&L1538","v":"b."}]
[19.5,2,null,null,null,null,null,null,null,null,null,null,null,null,null,{"$f":"\"b.\"&L1539","v":"b."}]
[19.5,3,null,null,null,null,null,null,null,null,null,null,null,null,null,"b."]
[19.5,4,null,null,null,null,null,null,null,null,null,null,null,null,null,"b."]
[19.5,5,null,null,null,null,null,null,null,null,null,null,null,null,null,"b."]
[19.5,6,null,null,null,null,null,null,null,null,null,null,null,null,null,"b."]
[19.5,7,null,null,null,null,null,null,null,null,null,null,null,null,null,"b."]
[19.5,8,null,null,null,null,null,null,null,null,null,null,null,null,null,"b."]
[{"$f":"$A$8","v":16.5},"B.3.  BUDOWLE LUB ICH CZĘŚCI ZWIĄZANE Z PROWADZENIEM DZIAŁALNOŚCI GOSPODARCZEJ"]
[16.5,"Lp.","Nazwa budowli",null,null,"Nr inwentarzowy","Położenie (adres, w tym dzielnica)",null,"Nr obrębu\n(arkusza mapy)2)","Nr działki","Wartość w zł","Stawka Podatku4)",null,"Forma władania5)"]
[{"$f":"$A$2","v":9},null,"a",null,null,"b",null,"c","d","e","f","g",null,"h"]
[{"$f":"$A$6","v":19.5},1,null,null,null,null,null,null,null,null,null,null,null,null,null,{"$f":"\"c.\"&L1549","v":"c."}]
[19.5,2,null,null,null,null,null,null,null,null,null,null,null,null,null,{"$f":"\"c.\"&L1550","v":"c."}]
[19.5,3,null,null,null,null,null,null,null,null,null,null,null,null,null,"c."]
[19.5,4,null,null,null,null,null,null,null,null,null,null,null,null,null,"c."]
[19.5,5,null,null,null,null,null,null,null,null,null,null,null,null,null,"c."]
[19.5,6,null,null,null,null,null,null,null,null,null,null,null,null,null,"c."]
[19.5,7,null,null,null,null,null,null,null,null,null,null,null,null,null,"c."]
[19.5,8,null,null,null,null,null,null,null,null,null,null,null,null,null,"c."]
[{"$f":"$A$2","v":9}]
[9,"4)","Należy podać stawkę właściwą dla rodzaju przedmiotu opodatkowania zgodną z uchwałą rady gminy."]
[9,"5)","Należy podać jedną z form władania: własność, użytkowanie wieczyste, posiadanie samoistne, posiadanie zależne lub posiadanie bez tytułu prawnego."]
[{"$f":"$A$2","v":9}]
[9]
[9]
[9]
[{"$f":"$A$8","v":16.5},null,"ZDN-1(1)","2/2",null,null,null,null,null,null,null,null,{"$f":"'DN-1'!M10&\".\"&'DN-1'!Q24&Wersja","v":"2023.1.1.15.0.44867"}]
[9]
[9,"Załącznik nr 6"]
[{"$f":"$A$2","v":9},"WYPEŁNIĆ DUŻYMI, DRUKOWANYMI LITERAMI, CZARNYM LUB NIEBIESKIM KOLOREM."]
[4.5]
[{"$f":"$A$2","v":9},"1. Identyfikator podatkowy NIP/numer PESEL (niepotrzebne skreślić)1)\n└────┴────┴────┴────┴────┴────┴────┴────┴────┴────┴────┘",null,null,null,null,null,null,"2.  Nr dokumentu"]
[{"$f":"$A$6","v":19.5},null,{"$f":"$C$6","v":0}]
[{"$f":"$A$2","v":9}]
[16.5,"ZDN-1"]
[{"$f":"$A$8","v":16.5},"ZAŁĄCZNIK DO DEKLARACJI NA PODATEK OD NIERUCHOMOŚCI"]
["","- DANE O PRZEDMIOTACH OPODATKOWANIA PODLEGAJĄCYCH OPODATKOWANIU"]
[{"$f":"$A$2","v":9},null,null,null,null,null,null,null,null,null,null,null,"3. Nr załącznika"]
[{"$f":"$A$6","v":19.5},null,null,null,null,null,null,null,null,null,null,null,{"$f":"M1508+1","v":24},null,null,null,{"$f":"IF(COUNTA(C1587:O1594,C1606:O1613,C1617:O1624)=0,0,1)","v":0}]
[{"$f":"$A$4","v":4.5}]
[{"$f":"$A$4","v":4.5}]
[{"$f":"$A$8*1.5","v":24.75},"A.  DANE PODATNIKA WSKAZANEGO W CZĘŚCI C.1 DEKLARACJI DN-1\n* - dotyczy podatnika niebędącego osobą fizyczną               ** - dotyczy podatnika będącego osobą fizyczną"]
[{"$f":"$A$2","v":9},null,"4. Nazwa pełna * / Nazwisko **",null,null,null,null,null,"5. Nazwa skrócona * / Pierwsze imię **"]
[{"$f":"$A$6","v":19.5},null,{"$f":"\"\"&$C$17","v":""},null,null,null,null,null,{"$f":"\"\"&$I$17","v":""}]
[{"$f":"$A$4","v":4.5}]
[{"$f":"$A$8","v":16.5},"B.  DANE O POSZCZEGÓLNYCH PRZEDMIOTACH OPODATKOWANIA PODLEGAJĄCYCH OPODATKOWANIU"]
[16.5,"B.1.  GRUNTY"]
[{"$f":"$A$8*1.5","v":24.75},"Lp.","Położenie (adres, w tym dzielnica)",null,null,null,null,"Nr księgi wieczystej\n(zbioru dokumentów)","Nr obrębu\n(arkusza mapy)2)","Nr działki","Powierzchnia w m2 / ha3)","Stawka Podatku4)",null,"Forma władania5)"]
[{"$f":"$A$2","v":9},null,"a",null,null,null,null,"b","c","d","e","f",null,"g"]
[{"$f":"$A$6","v":19.5},1,null,null,null,null,null,null,null,null,null,null,null,null,null,{"$f":"\"a.\"&L1587","v":"a."}]
[19.5,2,null,null,null,null,null,null,null,null,null,null,null,null,null,{"$f":"\"a.\"&L1588","v":"a."}]
[19.5,3,null,null,null,null,null,null,null,null,null,null,null,null,null,"a."]
[19.5,4,null,null,null,null,null,null,null,null,null,null,null,null,null,"a."]
[19.5,5,null,null,null,null,null,null,null,null,null,null,null,null,null,"a."]
[19.5,6,null,null,null,null,null,null,null,null,null,null,null,null,null,"a."]
[19.5,7,null,null,null,null,null,null,null,null,null,null,null,null,null,"a."]
[19.5,8,null,null,null,null,null,null,null,null,null,null,null,null,null,"a."]
[{"$f":"$A$2","v":9}]
[{"$f":"$A$2*2","v":18},"1)","Numer PESEL wpisują podatnicy będący osobami fizycznymi objętymi rejestrem PESEL, nieprowadzący działalności gospodarczej lub niebędący zarejestrowanymi podatnikami podatku od towarów i usług.\nIdentyfikator podatkowy NIP wpisują pozostali podatnicy."]
[{"$f":"$A$2","v":9},"2)","Numer obrębu należy podać wraz z numerem arkusza mapy ewidencyjnej w przypadku, gdy działki numerowane są w ramach arkusza mapy."]
[{"$f":"$A$2*2","v":18},"3)","Powierzchnię w ha należy wykazać wyłącznie w przypadku gruntów pod wodami powierzchniowymi stojącymi lub wodami powierzchniowymi płynącymi jezior i zbiorników sztucznych (z dokładnością\ndo czterech miejsc po przecinku)."]
[{"$f":"$A$8","v":16.5},null,{"$f":"'DN-1'!M10&\".\"&'DN-1'!Q24&Wersja","v":"2023.1.1.15.0.44867"},null,null,null,null,null,null,null,null,null,null,"ZDN-1(1)","1/2"]
[{"$f":"$A$2","v":9}]
[{"$f":"$A$2","v":9},"WYPEŁNIĆ DUŻYMI, DRUKOWANYMI LITERAMI, CZARNYM LUB NIEBIESKIM KOLOREM."]
[4.5]
[{"$f":"$A$8","v":16.5},"B.2.  BUDYNKI LUB ICH CZĘŚCI"]
[{"$f":"$A$8*1.5","v":24.75},"Lp.","Położenie (adres, w tym dzielnica)",null,null,null,null,"Nr księgi wieczystej\n(zbioru dokumentów)","Nr obrębu\n(arkusza mapy)2)","Nr działki","Powierzchnia użytkowa w m2","Stawka Podatku4)",null,"Forma władania5)"]
[{"$f":"$A$2","v":9},null,"a",null,null,null,null,"b","c","d","e","f",null,"g"]
[{"$f":"$A$6","v":19.5},1,null,null,null,null,null,null,null,null,null,null,null,null,null,{"$f":"\"b.\"&L1606","v":"b."}]
[19.5,2,null,null,null,null,null,null,null,null,null,null,null,null,null,{"$f":"\"b.\"&L1607","v":"b."}]
[19.5,3,null,null,null,null,null,null,null,null,null,null,null,null,null,"b."]
[19.5,4,null,null,null,null,null,null,null,null,null,null,null,null,null,"b."]
[19.5,5,null,null,null,null,null,null,null,null,null,null,null,null,null,"b."]
[19.5,6,null,null,null,null,null,null,null,null,null,null,null,null,null,"b."]
[19.5,7,null,null,null,null,null,null,null,null,null,null,null,null,null,"b."]
[19.5,8,null,null,null,null,null,null,null,null,null,null,null,null,null,"b."]
[{"$f":"$A$8","v":16.5},"B.3.  BUDOWLE LUB ICH CZĘŚCI ZWIĄZANE Z PROWADZENIEM DZIAŁALNOŚCI GOSPODARCZEJ"]
[16.5,"Lp.","Nazwa budowli",null,null,"Nr inwentarzowy","Położenie (adres, w tym dzielnica)",null,"Nr obrębu\n(arkusza mapy)2)","Nr działki","Wartość w zł","Stawka Podatku4)",null,"Forma władania5)"]
[{"$f":"$A$2","v":9},null,"a",null,null,"b",null,"c","d","e","f","g",null,"h"]
[{"$f":"$A$6","v":19.5},1,null,null,null,null,null,null,null,null,null,null,null,null,null,{"$f":"\"c.\"&L1617","v":"c."}]
[19.5,2,null,null,null,null,null,null,null,null,null,null,null,null,null,{"$f":"\"c.\"&L1618","v":"c."}]
[19.5,3,null,null,null,null,null,null,null,null,null,null,null,null,null,"c."]
[19.5,4,null,null,null,null,null,null,null,null,null,null,null,null,null,"c."]
[19.5,5,null,null,null,null,null,null,null,null,null,null,null,null,null,"c."]
[19.5,6,null,null,null,null,null,null,null,null,null,null,null,null,null,"c."]
[19.5,7,null,null,null,null,null,null,null,null,null,null,null,null,null,"c."]
[19.5,8,null,null,null,null,null,null,null,null,null,null,null,null,null,"c."]
[{"$f":"$A$2","v":9}]
[9,"4)","Należy podać stawkę właściwą dla rodzaju przedmiotu opodatkowania zgodną z uchwałą rady gminy."]
[9,"5)","Należy podać jedną z form władania: własność, użytkowanie wieczyste, posiadanie samoistne, posiadanie zależne lub posiadanie bez tytułu prawnego."]
[{"$f":"$A$2","v":9}]
[9]
[9]
[9]
[{"$f":"$A$8","v":16.5},null,"ZDN-1(1)","2/2",null,null,null,null,null,null,null,null,{"$f":"'DN-1'!M10&\".\"&'DN-1'!Q24&Wersja","v":"2023.1.1.15.0.44867"}]
[9]
[9,"Załącznik nr 6"]
[{"$f":"$A$2","v":9},"WYPEŁNIĆ DUŻYMI, DRUKOWANYMI LITERAMI, CZARNYM LUB NIEBIESKIM KOLOREM."]
[4.5]
[{"$f":"$A$2","v":9},"1. Identyfikator podatkowy NIP/numer PESEL (niepotrzebne skreślić)1)\n└────┴────┴────┴────┴────┴────┴────┴────┴────┴────┴────┘",null,null,null,null,null,null,"2.  Nr dokumentu"]
[{"$f":"$A$6","v":19.5},null,{"$f":"$C$6","v":0}]
[{"$f":"$A$2","v":9}]
[16.5,"ZDN-1"]
[{"$f":"$A$8","v":16.5},"ZAŁĄCZNIK DO DEKLARACJI NA PODATEK OD NIERUCHOMOŚCI"]
["","- DANE O PRZEDMIOTACH OPODATKOWANIA PODLEGAJĄCYCH OPODATKOWANIU"]
[{"$f":"$A$2","v":9},null,null,null,null,null,null,null,null,null,null,null,"3. Nr załącznika"]
[{"$f":"$A$6","v":19.5},null,null,null,null,null,null,null,null,null,null,null,{"$f":"M1576+1","v":25},null,null,null,{"$f":"IF(COUNTA(C1655:O1662,C1674:O1681,C1685:O1692)=0,0,1)","v":0}]
[{"$f":"$A$4","v":4.5}]
[{"$f":"$A$4","v":4.5}]
[{"$f":"$A$8*1.5","v":24.75},"A.  DANE PODATNIKA WSKAZANEGO W CZĘŚCI C.1 DEKLARACJI DN-1\n* - dotyczy podatnika niebędącego osobą fizyczną               ** - dotyczy podatnika będącego osobą fizyczną"]
[{"$f":"$A$2","v":9},null,"4. Nazwa pełna * / Nazwisko **",null,null,null,null,null,"5. Nazwa skrócona * / Pierwsze imię **"]
[{"$f":"$A$6","v":19.5},null,{"$f":"\"\"&$C$17","v":""},null,null,null,null,null,{"$f":"\"\"&$I$17","v":""}]
[{"$f":"$A$4","v":4.5}]
[{"$f":"$A$8","v":16.5},"B.  DANE O POSZCZEGÓLNYCH PRZEDMIOTACH OPODATKOWANIA PODLEGAJĄCYCH OPODATKOWANIU"]
[16.5,"B.1.  GRUNTY"]
[{"$f":"$A$8*1.5","v":24.75},"Lp.","Położenie (adres, w tym dzielnica)",null,null,null,null,"Nr księgi wieczystej\n(zbioru dokumentów)","Nr obrębu\n(arkusza mapy)2)","Nr działki","Powierzchnia w m2 / ha3)","Stawka Podatku4)",null,"Forma władania5)"]
[{"$f":"$A$2","v":9},null,"a",null,null,null,null,"b","c","d","e","f",null,"g"]
[{"$f":"$A$6","v":19.5},1,null,null,null,null,null,null,null,null,null,null,null,null,null,{"$f":"\"a.\"&L1655","v":"a."}]
[19.5,2,null,null,null,null,null,null,null,null,null,null,null,null,null,{"$f":"\"a.\"&L1656","v":"a."}]
[19.5,3,null,null,null,null,null,null,null,null,null,null,null,null,null,"a."]
[19.5,4,null,null,null,null,null,null,null,null,null,null,null,null,null,"a."]
[19.5,5,null,null,null,null,null,null,null,null,null,null,null,null,null,"a."]
[19.5,6,null,null,null,null,null,null,null,null,null,null,null,null,null,"a."]
[19.5,7,null,null,null,null,null,null,null,null,null,null,null,null,null,"a."]
[19.5,8,null,null,null,null,null,null,null,null,null,null,null,null,null,"a."]
[{"$f":"$A$2","v":9}]
[{"$f":"$A$2*2","v":18},"1)","Numer PESEL wpisują podatnicy będący osobami fizycznymi objętymi rejestrem PESEL, nieprowadzący działalności gospodarczej lub niebędący zarejestrowanymi podatnikami podatku od towarów i usług.\nIdentyfikator podatkowy NIP wpisują pozostali podatnicy."]
[{"$f":"$A$2","v":9},"2)","Numer obrębu należy podać wraz z numerem arkusza mapy ewidencyjnej w przypadku, gdy działki numerowane są w ramach arkusza mapy."]
[{"$f":"$A$2*2","v":18},"3)","Powierzchnię w ha należy wykazać wyłącznie w przypadku gruntów pod wodami powierzchniowymi stojącymi lub wodami powierzchniowymi płynącymi jezior i zbiorników sztucznych (z dokładnością\ndo czterech miejsc po przecinku)."]
[{"$f":"$A$8","v":16.5},null,{"$f":"'DN-1'!M10&\".\"&'DN-1'!Q24&Wersja","v":"2023.1.1.15.0.44867"},null,null,null,null,null,null,null,null,null,null,"ZDN-1(1)","1/2"]
[{"$f":"$A$2","v":9}]
[{"$f":"$A$2","v":9},"WYPEŁNIĆ DUŻYMI, DRUKOWANYMI LITERAMI, CZARNYM LUB NIEBIESKIM KOLOREM."]
[4.5]
[{"$f":"$A$8","v":16.5},"B.2.  BUDYNKI LUB ICH CZĘŚCI"]
[{"$f":"$A$8*1.5","v":24.75},"Lp.","Położenie (adres, w tym dzielnica)",null,null,null,null,"Nr księgi wieczystej\n(zbioru dokumentów)","Nr obrębu\n(arkusza mapy)2)","Nr działki","Powierzchnia użytkowa w m2","Stawka Podatku4)",null,"Forma władania5)"]
[{"$f":"$A$2","v":9},null,"a",null,null,null,null,"b","c","d","e","f",null,"g"]
[{"$f":"$A$6","v":19.5},1,null,null,null,null,null,null,null,null,null,null,null,null,null,{"$f":"\"b.\"&L1674","v":"b."}]
[19.5,2,null,null,null,null,null,null,null,null,null,null,null,null,null,{"$f":"\"b.\"&L1675","v":"b."}]
[19.5,3,null,null,null,null,null,null,null,null,null,null,null,null,null,"b."]
[19.5,4,null,null,null,null,null,null,null,null,null,null,null,null,null,"b."]
[19.5,5,null,null,null,null,null,null,null,null,null,null,null,null,null,"b."]
[19.5,6,null,null,null,null,null,null,null,null,null,null,null,null,null,"b."]
[19.5,7,null,null,null,null,null,null,null,null,null,null,null,null,null,"b."]
[19.5,8,null,null,null,null,null,null,null,null,null,null,null,null,null,"b."]
[{"$f":"$A$8","v":16.5},"B.3.  BUDOWLE LUB ICH CZĘŚCI ZWIĄZANE Z PROWADZENIEM DZIAŁALNOŚCI GOSPODARCZEJ"]
[16.5,"Lp.","Nazwa budowli",null,null,"Nr inwentarzowy","Położenie (adres, w tym dzielnica)",null,"Nr obrębu\n(arkusza mapy)2)","Nr działki","Wartość w zł","Stawka Podatku4)",null,"Forma władania5)"]
[{"$f":"$A$2","v":9},null,"a",null,null,"b",null,"c","d","e","f","g",null,"h"]
[{"$f":"$A$6","v":19.5},1,null,null,null,null,null,null,null,null,null,null,null,null,null,{"$f":"\"c.\"&L1685","v":"c."}]
[19.5,2,null,null,null,null,null,null,null,null,null,null,null,null,null,{"$f":"\"c.\"&L1686","v":"c."}]
[19.5,3,null,null,null,null,null,null,null,null,null,null,null,null,null,"c."]
[19.5,4,null,null,null,null,null,null,null,null,null,null,null,null,null,"c."]
[19.5,5,null,null,null,null,null,null,null,null,null,null,null,null,null,"c."]
[19.5,6,null,null,null,null,null,null,null,null,null,null,null,null,null,"c."]
[19.5,7,null,null,null,null,null,null,null,null,null,null,null,null,null,"c."]
[19.5,8,null,null,null,null,null,null,null,null,null,null,null,null,null,"c."]
[{"$f":"$A$2","v":9}]
[9,"4)","Należy podać stawkę właściwą dla rodzaju przedmiotu opodatkowania zgodną z uchwałą rady gminy."]
[9,"5)","Należy podać jedną z form władania: własność, użytkowanie wieczyste, posiadanie samoistne, posiadanie zależne lub posiadanie bez tytułu prawnego."]
[{"$f":"$A$2","v":9}]
[9]
[9]
[9]
[{"$f":"$A$8","v":16.5},null,"ZDN-1(1)","2/2",null,null,null,null,null,null,null,null,{"$f":"'DN-1'!M10&\".\"&'DN-1'!Q24&Wersja","v":"2023.1.1.15.0.44867"}]
[9]
[9,"Załącznik nr 6"]
[{"$f":"$A$2","v":9},"WYPEŁNIĆ DUŻYMI, DRUKOWANYMI LITERAMI, CZARNYM LUB NIEBIESKIM KOLOREM."]
[4.5]
[{"$f":"$A$2","v":9},"1. Identyfikator podatkowy NIP/numer PESEL (niepotrzebne skreślić)1)\n└────┴────┴────┴────┴────┴────┴────┴────┴────┴────┴────┘",null,null,null,null,null,null,"2.  Nr dokumentu"]
[{"$f":"$A$6","v":19.5},null,{"$f":"$C$6","v":0}]
[{"$f":"$A$2","v":9}]
[16.5,"ZDN-1"]
[{"$f":"$A$8","v":16.5},"ZAŁĄCZNIK DO DEKLARACJI NA PODATEK OD NIERUCHOMOŚCI"]
["","- DANE O PRZEDMIOTACH OPODATKOWANIA PODLEGAJĄCYCH OPODATKOWANIU"]
[{"$f":"$A$2","v":9},null,null,null,null,null,null,null,null,null,null,null,"3. Nr załącznika"]
[{"$f":"$A$6","v":19.5},null,null,null,null,null,null,null,null,null,null,null,{"$f":"M1644+1","v":26},null,null,null,{"$f":"IF(COUNTA(C1723:O1730,C1742:O1749,C1753:O1760)=0,0,1)","v":0}]
[{"$f":"$A$4","v":4.5}]
[{"$f":"$A$4","v":4.5}]
[{"$f":"$A$8*1.5","v":24.75},"A.  DANE PODATNIKA WSKAZANEGO W CZĘŚCI C.1 DEKLARACJI DN-1\n* - dotyczy podatnika niebędącego osobą fizyczną               ** - dotyczy podatnika będącego osobą fizyczną"]
[{"$f":"$A$2","v":9},null,"4. Nazwa pełna * / Nazwisko **",null,null,null,null,null,"5. Nazwa skrócona * / Pierwsze imię **"]
[{"$f":"$A$6","v":19.5},null,{"$f":"\"\"&$C$17","v":""},null,null,null,null,null,{"$f":"\"\"&$I$17","v":""}]
[{"$f":"$A$4","v":4.5}]
[{"$f":"$A$8","v":16.5},"B.  DANE O POSZCZEGÓLNYCH PRZEDMIOTACH OPODATKOWANIA PODLEGAJĄCYCH OPODATKOWANIU"]
[16.5,"B.1.  GRUNTY"]
[{"$f":"$A$8*1.5","v":24.75},"Lp.","Położenie (adres, w tym dzielnica)",null,null,null,null,"Nr księgi wieczystej\n(zbioru dokumentów)","Nr obrębu\n(arkusza mapy)2)","Nr działki","Powierzchnia w m2 / ha3)","Stawka Podatku4)",null,"Forma władania5)"]
[{"$f":"$A$2","v":9},null,"a",null,null,null,null,"b","c","d","e","f",null,"g"]
[{"$f":"$A$6","v":19.5},1,null,null,null,null,null,null,null,null,null,null,null,null,null,{"$f":"\"a.\"&L1723","v":"a."}]
[19.5,2,null,null,null,null,null,null,null,null,null,null,null,null,null,{"$f":"\"a.\"&L1724","v":"a."}]
[19.5,3,null,null,null,null,null,null,null,null,null,null,null,null,null,"a."]
[19.5,4,null,null,null,null,null,null,null,null,null,null,null,null,null,"a."]
[19.5,5,null,null,null,null,null,null,null,null,null,null,null,null,null,"a."]
[19.5,6,null,null,null,null,null,null,null,null,null,null,null,null,null,"a."]
[19.5,7,null,null,null,null,null,null,null,null,null,null,null,null,null,"a."]
[19.5,8,null,null,null,null,null,null,null,null,null,null,null,null,null,"a."]
[{"$f":"$A$2","v":9}]
[{"$f":"$A$2*2","v":18},"1)","Numer PESEL wpisują podatnicy będący osobami fizycznymi objętymi rejestrem PESEL, nieprowadzący działalności gospodarczej lub niebędący zarejestrowanymi podatnikami podatku od towarów i usług.\nIdentyfikator podatkowy NIP wpisują pozostali podatnicy."]
[{"$f":"$A$2","v":9},"2)","Numer obrębu należy podać wraz z numerem arkusza mapy ewidencyjnej w przypadku, gdy działki numerowane są w ramach arkusza mapy."]
[{"$f":"$A$2*2","v":18},"3)","Powierzchnię w ha należy wykazać wyłącznie w przypadku gruntów pod wodami powierzchniowymi stojącymi lub wodami powierzchniowymi płynącymi jezior i zbiorników sztucznych (z dokładnością\ndo czterech miejsc po przecinku)."]
[{"$f":"$A$8","v":16.5},null,{"$f":"'DN-1'!M10&\".\"&'DN-1'!Q24&Wersja","v":"2023.1.1.15.0.44867"},null,null,null,null,null,null,null,null,null,null,"ZDN-1(1)","1/2"]
[{"$f":"$A$2","v":9}]
[{"$f":"$A$2","v":9},"WYPEŁNIĆ DUŻYMI, DRUKOWANYMI LITERAMI, CZARNYM LUB NIEBIESKIM KOLOREM."]
[4.5]
[{"$f":"$A$8","v":16.5},"B.2.  BUDYNKI LUB ICH CZĘŚCI"]
[{"$f":"$A$8*1.5","v":24.75},"Lp.","Położenie (adres, w tym dzielnica)",null,null,null,null,"Nr księgi wieczystej\n(zbioru dokumentów)","Nr obrębu\n(arkusza mapy)2)","Nr działki","Powierzchnia użytkowa w m2","Stawka Podatku4)",null,"Forma władania5)"]
[{"$f":"$A$2","v":9},null,"a",null,null,null,null,"b","c","d","e","f",null,"g"]
[{"$f":"$A$6","v":19.5},1,null,null,null,null,null,null,null,null,null,null,null,null,null,{"$f":"\"b.\"&L1742","v":"b."}]
[19.5,2,null,null,null,null,null,null,null,null,null,null,null,null,null,{"$f":"\"b.\"&L1743","v":"b."}]
[19.5,3,null,null,null,null,null,null,null,null,null,null,null,null,null,"b."]
[19.5,4,null,null,null,null,null,null,null,null,null,null,null,null,null,"b."]
[19.5,5,null,null,null,null,null,null,null,null,null,null,null,null,null,"b."]
[19.5,6,null,null,null,null,null,null,null,null,null,null,null,null,null,"b."]
[19.5,7,null,null,null,null,null,null,null,null,null,null,null,null,null,"b."]
[19.5,8,null,null,null,null,null,null,null,null,null,null,null,null,null,"b."]
[{"$f":"$A$8","v":16.5},"B.3.  BUDOWLE LUB ICH CZĘŚCI ZWIĄZANE Z PROWADZENIEM DZIAŁALNOŚCI GOSPODARCZEJ"]
[16.5,"Lp.","Nazwa budowli",null,null,"Nr inwentarzowy","Położenie (adres, w tym dzielnica)",null,"Nr obrębu\n(arkusza mapy)2)","Nr działki","Wartość w zł","Stawka Podatku4)",null,"Forma władania5)"]
[{"$f":"$A$2","v":9},null,"a",null,null,"b",null,"c","d","e","f","g",null,"h"]
[{"$f":"$A$6","v":19.5},1,null,null,null,null,null,null,null,null,null,null,null,null,null,{"$f":"\"c.\"&L1753","v":"c."}]
[19.5,2,null,null,null,null,null,null,null,null,null,null,null,null,null,{"$f":"\"c.\"&L1754","v":"c."}]
[19.5,3,null,null,null,null,null,null,null,null,null,null,null,null,null,"c."]
[19.5,4,null,null,null,null,null,null,null,null,null,null,null,null,null,"c."]
[19.5,5,null,null,null,null,null,null,null,null,null,null,null,null,null,"c."]
[19.5,6,null,null,null,null,null,null,null,null,null,null,null,null,null,"c."]
[19.5,7,null,null,null,null,null,null,null,null,null,null,null,null,null,"c."]
[19.5,8,null,null,null,null,null,null,null,null,null,null,null,null,null,"c."]
[{"$f":"$A$2","v":9}]
[9,"4)","Należy podać stawkę właściwą dla rodzaju przedmiotu opodatkowania zgodną z uchwałą rady gminy."]
[9,"5)","Należy podać jedną z form władania: własność, użytkowanie wieczyste, posiadanie samoistne, posiadanie zależne lub posiadanie bez tytułu prawnego."]
[{"$f":"$A$2","v":9}]
[9]
[9]
[9]
[{"$f":"$A$8","v":16.5},null,"ZDN-1(1)","2/2",null,null,null,null,null,null,null,null,{"$f":"'DN-1'!M10&\".\"&'DN-1'!Q24&Wersja","v":"2023.1.1.15.0.44867"}]
[9]
[9,"Załącznik nr 6"]
[{"$f":"$A$2","v":9},"WYPEŁNIĆ DUŻYMI, DRUKOWANYMI LITERAMI, CZARNYM LUB NIEBIESKIM KOLOREM."]
[4.5]
[{"$f":"$A$2","v":9},"1. Identyfikator podatkowy NIP/numer PESEL (niepotrzebne skreślić)1)\n└────┴────┴────┴────┴────┴────┴────┴────┴────┴────┴────┘",null,null,null,null,null,null,"2.  Nr dokumentu"]
[{"$f":"$A$6","v":19.5},null,{"$f":"$C$6","v":0}]
[{"$f":"$A$2","v":9}]
[16.5,"ZDN-1"]
[{"$f":"$A$8","v":16.5},"ZAŁĄCZNIK DO DEKLARACJI NA PODATEK OD NIERUCHOMOŚCI"]
["","- DANE O PRZEDMIOTACH OPODATKOWANIA PODLEGAJĄCYCH OPODATKOWANIU"]
[{"$f":"$A$2","v":9},null,null,null,null,null,null,null,null,null,null,null,"3. Nr załącznika"]
[{"$f":"$A$6","v":19.5},null,null,null,null,null,null,null,null,null,null,null,{"$f":"M1712+1","v":27},null,null,null,{"$f":"IF(COUNTA(C1791:O1798,C1810:O1817,C1821:O1828)=0,0,1)","v":0}]
[{"$f":"$A$4","v":4.5}]
[{"$f":"$A$4","v":4.5}]
[{"$f":"$A$8*1.5","v":24.75},"A.  DANE PODATNIKA WSKAZANEGO W CZĘŚCI C.1 DEKLARACJI DN-1\n* - dotyczy podatnika niebędącego osobą fizyczną               ** - dotyczy podatnika będącego osobą fizyczną"]
[{"$f":"$A$2","v":9},null,"4. Nazwa pełna * / Nazwisko **",null,null,null,null,null,"5. Nazwa skrócona * / Pierwsze imię **"]
[{"$f":"$A$6","v":19.5},null,{"$f":"\"\"&$C$17","v":""},null,null,null,null,null,{"$f":"\"\"&$I$17","v":""}]
[{"$f":"$A$4","v":4.5}]
[{"$f":"$A$8","v":16.5},"B.  DANE O POSZCZEGÓLNYCH PRZEDMIOTACH OPODATKOWANIA PODLEGAJĄCYCH OPODATKOWANIU"]
[16.5,"B.1.  GRUNTY"]
[{"$f":"$A$8*1.5","v":24.75},"Lp.","Położenie (adres, w tym dzielnica)",null,null,null,null,"Nr księgi wieczystej\n(zbioru dokumentów)","Nr obrębu\n(arkusza mapy)2)","Nr działki","Powierzchnia w m2 / ha3)","Stawka Podatku4)",null,"Forma władania5)"]
[{"$f":"$A$2","v":9},null,"a",null,null,null,null,"b","c","d","e","f",null,"g"]
[{"$f":"$A$6","v":19.5},1,null,null,null,null,null,null,null,null,null,null,null,null,null,{"$f":"\"a.\"&L1791","v":"a."}]
[19.5,2,null,null,null,null,null,null,null,null,null,null,null,null,null,{"$f":"\"a.\"&L1792","v":"a."}]
[19.5,3,null,null,null,null,null,null,null,null,null,null,null,null,null,"a."]
[19.5,4,null,null,null,null,null,null,null,null,null,null,null,null,null,"a."]
[19.5,5,null,null,null,null,null,null,null,null,null,null,null,null,null,"a."]
[19.5,6,null,null,null,null,null,null,null,null,null,null,null,null,null,"a."]
[19.5,7,null,null,null,null,null,null,null,null,null,null,null,null,null,"a."]
[19.5,8,null,null,null,null,null,null,null,null,null,null,null,null,null,"a."]
[{"$f":"$A$2","v":9}]
[{"$f":"$A$2*2","v":18},"1)","Numer PESEL wpisują podatnicy będący osobami fizycznymi objętymi rejestrem PESEL, nieprowadzący działalności gospodarczej lub niebędący zarejestrowanymi podatnikami podatku od towarów i usług.\nIdentyfikator podatkowy NIP wpisują pozostali podatnicy."]
[{"$f":"$A$2","v":9},"2)","Numer obrębu należy podać wraz z numerem arkusza mapy ewidencyjnej w przypadku, gdy działki numerowane są w ramach arkusza mapy."]
[{"$f":"$A$2*2","v":18},"3)","Powierzchnię w ha należy wykazać wyłącznie w przypadku gruntów pod wodami powierzchniowymi stojącymi lub wodami powierzchniowymi płynącymi jezior i zbiorników sztucznych (z dokładnością\ndo czterech miejsc po przecinku)."]
[{"$f":"$A$8","v":16.5},null,{"$f":"'DN-1'!M10&\".\"&'DN-1'!Q24&Wersja","v":"2023.1.1.15.0.44867"},null,null,null,null,null,null,null,null,null,null,"ZDN-1(1)","1/2"]
[{"$f":"$A$2","v":9}]
[{"$f":"$A$2","v":9},"WYPEŁNIĆ DUŻYMI, DRUKOWANYMI LITERAMI, CZARNYM LUB NIEBIESKIM KOLOREM."]
[4.5]
[{"$f":"$A$8","v":16.5},"B.2.  BUDYNKI LUB ICH CZĘŚCI"]
[{"$f":"$A$8*1.5","v":24.75},"Lp.","Położenie (adres, w tym dzielnica)",null,null,null,null,"Nr księgi wieczystej\n(zbioru dokumentów)","Nr obrębu\n(arkusza mapy)2)","Nr działki","Powierzchnia użytkowa w m2","Stawka Podatku4)",null,"Forma władania5)"]
[{"$f":"$A$2","v":9},null,"a",null,null,null,null,"b","c","d","e","f",null,"g"]
[{"$f":"$A$6","v":19.5},1,null,null,null,null,null,null,null,null,null,null,null,null,null,{"$f":"\"b.\"&L1810","v":"b."}]
[19.5,2,null,null,null,null,null,null,null,null,null,null,null,null,null,{"$f":"\"b.\"&L1811","v":"b."}]
[19.5,3,null,null,null,null,null,null,null,null,null,null,null,null,null,"b."]
[19.5,4,null,null,null,null,null,null,null,null,null,null,null,null,null,"b."]
[19.5,5,null,null,null,null,null,null,null,null,null,null,null,null,null,"b."]
[19.5,6,null,null,null,null,null,null,null,null,null,null,null,null,null,"b."]
[19.5,7,null,null,null,null,null,null,null,null,null,null,null,null,null,"b."]
[19.5,8,null,null,null,null,null,null,null,null,null,null,null,null,null,"b."]
[{"$f":"$A$8","v":16.5},"B.3.  BUDOWLE LUB ICH CZĘŚCI ZWIĄZANE Z PROWADZENIEM DZIAŁALNOŚCI GOSPODARCZEJ"]
[16.5,"Lp.","Nazwa budowli",null,null,"Nr inwentarzowy","Położenie (adres, w tym dzielnica)",null,"Nr obrębu\n(arkusza mapy)2)","Nr działki","Wartość w zł","Stawka Podatku4)",null,"Forma władania5)"]
[{"$f":"$A$2","v":9},null,"a",null,null,"b",null,"c","d","e","f","g",null,"h"]
[{"$f":"$A$6","v":19.5},1,null,null,null,null,null,null,null,null,null,null,null,null,null,{"$f":"\"c.\"&L1821","v":"c."}]
[19.5,2,null,null,null,null,null,null,null,null,null,null,null,null,null,{"$f":"\"c.\"&L1822","v":"c."}]
[19.5,3,null,null,null,null,null,null,null,null,null,null,null,null,null,"c."]
[19.5,4,null,null,null,null,null,null,null,null,null,null,null,null,null,"c."]
[19.5,5,null,null,null,null,null,null,null,null,null,null,null,null,null,"c."]
[19.5,6,null,null,null,null,null,null,null,null,null,null,null,null,null,"c."]
[19.5,7,null,null,null,null,null,null,null,null,null,null,null,null,null,"c."]
[19.5,8,null,null,null,null,null,null,null,null,null,null,null,null,null,"c."]
[{"$f":"$A$2","v":9}]
[9,"4)","Należy podać stawkę właściwą dla rodzaju przedmiotu opodatkowania zgodną z uchwałą rady gminy."]
[9,"5)","Należy podać jedną z form władania: własność, użytkowanie wieczyste, posiadanie samoistne, posiadanie zależne lub posiadanie bez tytułu prawnego."]
[{"$f":"$A$2","v":9}]
[9]
[9]
[9]
[{"$f":"$A$8","v":16.5},null,"ZDN-1(1)","2/2",null,null,null,null,null,null,null,null,{"$f":"'DN-1'!M10&\".\"&'DN-1'!Q24&Wersja","v":"2023.1.1.15.0.44867"}]
[9]
[9,"Załącznik nr 6"]
[{"$f":"$A$2","v":9},"WYPEŁNIĆ DUŻYMI, DRUKOWANYMI LITERAMI, CZARNYM LUB NIEBIESKIM KOLOREM."]
[4.5]
[{"$f":"$A$2","v":9},"1. Identyfikator podatkowy NIP/numer PESEL (niepotrzebne skreślić)1)\n└────┴────┴────┴────┴────┴────┴────┴────┴────┴────┴────┘",null,null,null,null,null,null,"2.  Nr dokumentu"]
[{"$f":"$A$6","v":19.5},null,{"$f":"$C$6","v":0}]
[{"$f":"$A$2","v":9}]
[16.5,"ZDN-1"]
[{"$f":"$A$8","v":16.5},"ZAŁĄCZNIK DO DEKLARACJI NA PODATEK OD NIERUCHOMOŚCI"]
["","- DANE O PRZEDMIOTACH OPODATKOWANIA PODLEGAJĄCYCH OPODATKOWANIU"]
[{"$f":"$A$2","v":9},null,null,null,null,null,null,null,null,null,null,null,"3. Nr załącznika"]
[{"$f":"$A$6","v":19.5},null,null,null,null,null,null,null,null,null,null,null,{"$f":"M1780+1","v":28},null,null,null,{"$f":"IF(COUNTA(C1859:O1866,C1878:O1885,C1889:O1896)=0,0,1)","v":0}]
[{"$f":"$A$4","v":4.5}]
[{"$f":"$A$4","v":4.5}]
[{"$f":"$A$8*1.5","v":24.75},"A.  DANE PODATNIKA WSKAZANEGO W CZĘŚCI C.1 DEKLARACJI DN-1\n* - dotyczy podatnika niebędącego osobą fizyczną               ** - dotyczy podatnika będącego osobą fizyczną"]
[{"$f":"$A$2","v":9},null,"4. Nazwa pełna * / Nazwisko **",null,null,null,null,null,"5. Nazwa skrócona * / Pierwsze imię **"]
[{"$f":"$A$6","v":19.5},null,{"$f":"\"\"&$C$17","v":""},null,null,null,null,null,{"$f":"\"\"&$I$17","v":""}]
[{"$f":"$A$4","v":4.5}]
[{"$f":"$A$8","v":16.5},"B.  DANE O POSZCZEGÓLNYCH PRZEDMIOTACH OPODATKOWANIA PODLEGAJĄCYCH OPODATKOWANIU"]
[16.5,"B.1.  GRUNTY"]
[{"$f":"$A$8*1.5","v":24.75},"Lp.","Położenie (adres, w tym dzielnica)",null,null,null,null,"Nr księgi wieczystej\n(zbioru dokumentów)","Nr obrębu\n(arkusza mapy)2)","Nr działki","Powierzchnia w m2 / ha3)","Stawka Podatku4)",null,"Forma władania5)"]
[{"$f":"$A$2","v":9},null,"a",null,null,null,null,"b","c","d","e","f",null,"g"]
[{"$f":"$A$6","v":19.5},1,null,null,null,null,null,null,null,null,null,null,null,null,null,{"$f":"\"a.\"&L1859","v":"a."}]
[19.5,2,null,null,null,null,null,null,null,null,null,null,null,null,null,{"$f":"\"a.\"&L1860","v":"a."}]
[19.5,3,null,null,null,null,null,null,null,null,null,null,null,null,null,"a."]
[19.5,4,null,null,null,null,null,null,null,null,null,null,null,null,null,"a."]
[19.5,5,null,null,null,null,null,null,null,null,null,null,null,null,null,"a."]
[19.5,6,null,null,null,null,null,null,null,null,null,null,null,null,null,"a."]
[19.5,7,null,null,null,null,null,null,null,null,null,null,null,null,null,"a."]
[19.5,8,null,null,null,null,null,null,null,null,null,null,null,null,null,"a."]
[{"$f":"$A$2","v":9}]
[{"$f":"$A$2*2","v":18},"1)","Numer PESEL wpisują podatnicy będący osobami fizycznymi objętymi rejestrem PESEL, nieprowadzący działalności gospodarczej lub niebędący zarejestrowanymi podatnikami podatku od towarów i usług.\nIdentyfikator podatkowy NIP wpisują pozostali podatnicy."]
[{"$f":"$A$2","v":9},"2)","Numer obrębu należy podać wraz z numerem arkusza mapy ewidencyjnej w przypadku, gdy działki numerowane są w ramach arkusza mapy."]
[{"$f":"$A$2*2","v":18},"3)","Powierzchnię w ha należy wykazać wyłącznie w przypadku gruntów pod wodami powierzchniowymi stojącymi lub wodami powierzchniowymi płynącymi jezior i zbiorników sztucznych (z dokładnością\ndo czterech miejsc po przecinku)."]
[{"$f":"$A$8","v":16.5},null,{"$f":"'DN-1'!M10&\".\"&'DN-1'!Q24&Wersja","v":"2023.1.1.15.0.44867"},null,null,null,null,null,null,null,null,null,null,"ZDN-1(1)","1/2"]
[{"$f":"$A$2","v":9}]
[{"$f":"$A$2","v":9},"WYPEŁNIĆ DUŻYMI, DRUKOWANYMI LITERAMI, CZARNYM LUB NIEBIESKIM KOLOREM."]
[4.5]
[{"$f":"$A$8","v":16.5},"B.2.  BUDYNKI LUB ICH CZĘŚCI"]
[{"$f":"$A$8*1.5","v":24.75},"Lp.","Położenie (adres, w tym dzielnica)",null,null,null,null,"Nr księgi wieczystej\n(zbioru dokumentów)","Nr obrębu\n(arkusza mapy)2)","Nr działki","Powierzchnia użytkowa w m2","Stawka Podatku4)",null,"Forma władania5)"]
[{"$f":"$A$2","v":9},null,"a",null,null,null,null,"b","c","d","e","f",null,"g"]
[{"$f":"$A$6","v":19.5},1,null,null,null,null,null,null,null,null,null,null,null,null,null,{"$f":"\"b.\"&L1878","v":"b."}]
[19.5,2,null,null,null,null,null,null,null,null,null,null,null,null,null,{"$f":"\"b.\"&L1879","v":"b."}]
[19.5,3,null,null,null,null,null,null,null,null,null,null,null,null,null,"b."]
[19.5,4,null,null,null,null,null,null,null,null,null,null,null,null,null,"b."]
[19.5,5,null,null,null,null,null,null,null,null,null,null,null,null,null,"b."]
[19.5,6,null,null,null,null,null,null,null,null,null,null,null,null,null,"b."]
[19.5,7,null,null,null,null,null,null,null,null,null,null,null,null,null,"b."]
[19.5,8,null,null,null,null,null,null,null,null,null,null,null,null,null,"b."]
[{"$f":"$A$8","v":16.5},"B.3.  BUDOWLE LUB ICH CZĘŚCI ZWIĄZANE Z PROWADZENIEM DZIAŁALNOŚCI GOSPODARCZEJ"]
[16.5,"Lp.","Nazwa budowli",null,null,"Nr inwentarzowy","Położenie (adres, w tym dzielnica)",null,"Nr obrębu\n(arkusza mapy)2)","Nr działki","Wartość w zł","Stawka Podatku4)",null,"Forma władania5)"]
[{"$f":"$A$2","v":9},null,"a",null,null,"b",null,"c","d","e","f","g",null,"h"]
[{"$f":"$A$6","v":19.5},1,null,null,null,null,null,null,null,null,null,null,null,null,null,{"$f":"\"c.\"&L1889","v":"c."}]
[19.5,2,null,null,null,null,null,null,null,null,null,null,null,null,null,{"$f":"\"c.\"&L1890","v":"c."}]
[19.5,3,null,null,null,null,null,null,null,null,null,null,null,null,null,"c."]
[19.5,4,null,null,null,null,null,null,null,null,null,null,null,null,null,"c."]
[19.5,5,null,null,null,null,null,null,null,null,null,null,null,null,null,"c."]
[19.5,6,null,null,null,null,null,null,null,null,null,null,null,null,null,"c."]
[19.5,7,null,null,null,null,null,null,null,null,null,null,null,null,null,"c."]
[19.5,8,null,null,null,null,null,null,null,null,null,null,null,null,null,"c."]
[{"$f":"$A$2","v":9}]
[9,"4)","Należy podać stawkę właściwą dla rodzaju przedmiotu opodatkowania zgodną z uchwałą rady gminy."]
[9,"5)","Należy podać jedną z form władania: własność, użytkowanie wieczyste, posiadanie samoistne, posiadanie zależne lub posiadanie bez tytułu prawnego."]
[{"$f":"$A$2","v":9}]
[9]
[9]
[9]
[{"$f":"$A$8","v":16.5},null,"ZDN-1(1)","2/2",null,null,null,null,null,null,null,null,{"$f":"'DN-1'!M10&\".\"&'DN-1'!Q24&Wersja","v":"2023.1.1.15.0.44867"}]
[9]
[9,"Załącznik nr 6"]
[{"$f":"$A$2","v":9},"WYPEŁNIĆ DUŻYMI, DRUKOWANYMI LITERAMI, CZARNYM LUB NIEBIESKIM KOLOREM."]
[4.5]
[{"$f":"$A$2","v":9},"1. Identyfikator podatkowy NIP/numer PESEL (niepotrzebne skreślić)1)\n└────┴────┴────┴────┴────┴────┴────┴────┴────┴────┴────┘",null,null,null,null,null,null,"2.  Nr dokumentu"]
[{"$f":"$A$6","v":19.5},null,{"$f":"$C$6","v":0}]
[{"$f":"$A$2","v":9}]
[16.5,"ZDN-1"]
[{"$f":"$A$8","v":16.5},"ZAŁĄCZNIK DO DEKLARACJI NA PODATEK OD NIERUCHOMOŚCI"]
["","- DANE O PRZEDMIOTACH OPODATKOWANIA PODLEGAJĄCYCH OPODATKOWANIU"]
[{"$f":"$A$2","v":9},null,null,null,null,null,null,null,null,null,null,null,"3. Nr załącznika"]
[{"$f":"$A$6","v":19.5},null,null,null,null,null,null,null,null,null,null,null,{"$f":"M1848+1","v":29},null,null,null,{"$f":"IF(COUNTA(C1927:O1934,C1946:O1953,C1957:O1964)=0,0,1)","v":0}]
[{"$f":"$A$4","v":4.5}]
[{"$f":"$A$4","v":4.5}]
[{"$f":"$A$8*1.5","v":24.75},"A.  DANE PODATNIKA WSKAZANEGO W CZĘŚCI C.1 DEKLARACJI DN-1\n* - dotyczy podatnika niebędącego osobą fizyczną               ** - dotyczy podatnika będącego osobą fizyczną"]
[{"$f":"$A$2","v":9},null,"4. Nazwa pełna * / Nazwisko **",null,null,null,null,null,"5. Nazwa skrócona * / Pierwsze imię **"]
[{"$f":"$A$6","v":19.5},null,{"$f":"\"\"&$C$17","v":""},null,null,null,null,null,{"$f":"\"\"&$I$17","v":""}]
[{"$f":"$A$4","v":4.5}]
[{"$f":"$A$8","v":16.5},"B.  DANE O POSZCZEGÓLNYCH PRZEDMIOTACH OPODATKOWANIA PODLEGAJĄCYCH OPODATKOWANIU"]
[16.5,"B.1.  GRUNTY"]
[{"$f":"$A$8*1.5","v":24.75},"Lp.","Położenie (adres, w tym dzielnica)",null,null,null,null,"Nr księgi wieczystej\n(zbioru dokumentów)","Nr obrębu\n(arkusza mapy)2)","Nr działki","Powierzchnia w m2 / ha3)","Stawka Podatku4)",null,"Forma władania5)"]
[{"$f":"$A$2","v":9},null,"a",null,null,null,null,"b","c","d","e","f",null,"g"]
[{"$f":"$A$6","v":19.5},1,null,null,null,null,null,null,null,null,null,null,null,null,null,{"$f":"\"a.\"&L1927","v":"a."}]
[19.5,2,null,null,null,null,null,null,null,null,null,null,null,null,null,{"$f":"\"a.\"&L1928","v":"a."}]
[19.5,3,null,null,null,null,null,null,null,null,null,null,null,null,null,"a."]
[19.5,4,null,null,null,null,null,null,null,null,null,null,null,null,null,"a."]
[19.5,5,null,null,null,null,null,null,null,null,null,null,null,null,null,"a."]
[19.5,6,null,null,null,null,null,null,null,null,null,null,null,null,null,"a."]
[19.5,7,null,null,null,null,null,null,null,null,null,null,null,null,null,"a."]
[19.5,8,null,null,null,null,null,null,null,null,null,null,null,null,null,"a."]
[{"$f":"$A$2","v":9}]
[{"$f":"$A$2*2","v":18},"1)","Numer PESEL wpisują podatnicy będący osobami fizycznymi objętymi rejestrem PESEL, nieprowadzący działalności gospodarczej lub niebędący zarejestrowanymi podatnikami podatku od towarów i usług.\nIdentyfikator podatkowy NIP wpisują pozostali podatnicy."]
[{"$f":"$A$2","v":9},"2)","Numer obrębu należy podać wraz z numerem arkusza mapy ewidencyjnej w przypadku, gdy działki numerowane są w ramach arkusza mapy."]
[{"$f":"$A$2*2","v":18},"3)","Powierzchnię w ha należy wykazać wyłącznie w przypadku gruntów pod wodami powierzchniowymi stojącymi lub wodami powierzchniowymi płynącymi jezior i zbiorników sztucznych (z dokładnością\ndo czterech miejsc po przecinku)."]
[{"$f":"$A$8","v":16.5},null,{"$f":"'DN-1'!M10&\".\"&'DN-1'!Q24&Wersja","v":"2023.1.1.15.0.44867"},null,null,null,null,null,null,null,null,null,null,"ZDN-1(1)","1/2"]
[{"$f":"$A$2","v":9}]
[{"$f":"$A$2","v":9},"WYPEŁNIĆ DUŻYMI, DRUKOWANYMI LITERAMI, CZARNYM LUB NIEBIESKIM KOLOREM."]
[4.5]
[{"$f":"$A$8","v":16.5},"B.2.  BUDYNKI LUB ICH CZĘŚCI"]
[{"$f":"$A$8*1.5","v":24.75},"Lp.","Położenie (adres, w tym dzielnica)",null,null,null,null,"Nr księgi wieczystej\n(zbioru dokumentów)","Nr obrębu\n(arkusza mapy)2)","Nr działki","Powierzchnia użytkowa w m2","Stawka Podatku4)",null,"Forma władania5)"]
[{"$f":"$A$2","v":9},null,"a",null,null,null,null,"b","c","d","e","f",null,"g"]
[{"$f":"$A$6","v":19.5},1,null,null,null,null,null,null,null,null,null,null,null,null,null,{"$f":"\"b.\"&L1946","v":"b."}]
[19.5,2,null,null,null,null,null,null,null,null,null,null,null,null,null,{"$f":"\"b.\"&L1947","v":"b."}]
[19.5,3,null,null,null,null,null,null,null,null,null,null,null,null,null,"b."]
[19.5,4,null,null,null,null,null,null,null,null,null,null,null,null,null,"b."]
[19.5,5,null,null,null,null,null,null,null,null,null,null,null,null,null,"b."]
[19.5,6,null,null,null,null,null,null,null,null,null,null,null,null,null,"b."]
[19.5,7,null,null,null,null,null,null,null,null,null,null,null,null,null,"b."]
[19.5,8,null,null,null,null,null,null,null,null,null,null,null,null,null,"b."]
[{"$f":"$A$8","v":16.5},"B.3.  BUDOWLE LUB ICH CZĘŚCI ZWIĄZANE Z PROWADZENIEM DZIAŁALNOŚCI GOSPODARCZEJ"]
[16.5,"Lp.","Nazwa budowli",null,null,"Nr inwentarzowy","Położenie (adres, w tym dzielnica)",null,"Nr obrębu\n(arkusza mapy)2)","Nr działki","Wartość w zł","Stawka Podatku4)",null,"Forma władania5)"]
[{"$f":"$A$2","v":9},null,"a",null,null,"b",null,"c","d","e","f","g",null,"h"]
[{"$f":"$A$6","v":19.5},1,null,null,null,null,null,null,null,null,null,null,null,null,null,{"$f":"\"c.\"&L1957","v":"c."}]
[19.5,2,null,null,null,null,null,null,null,null,null,null,null,null,null,{"$f":"\"c.\"&L1958","v":"c."}]
[19.5,3,null,null,null,null,null,null,null,null,null,null,null,null,null,"c."]
[19.5,4,null,null,null,null,null,null,null,null,null,null,null,null,null,"c."]
[19.5,5,null,null,null,null,null,null,null,null,null,null,null,null,null,"c."]
[19.5,6,null,null,null,null,null,null,null,null,null,null,null,null,null,"c."]
[19.5,7,null,null,null,null,null,null,null,null,null,null,null,null,null,"c."]
[19.5,8,null,null,null,null,null,null,null,null,null,null,null,null,null,"c."]
[{"$f":"$A$2","v":9}]
[9,"4)","Należy podać stawkę właściwą dla rodzaju przedmiotu opodatkowania zgodną z uchwałą rady gminy."]
[9,"5)","Należy podać jedną z form władania: własność, użytkowanie wieczyste, posiadanie samoistne, posiadanie zależne lub posiadanie bez tytułu prawnego."]
[{"$f":"$A$2","v":9}]
[9]
[9]
[9]
[{"$f":"$A$8","v":16.5},null,"ZDN-1(1)","2/2",null,null,null,null,null,null,null,null,{"$f":"'DN-1'!M10&\".\"&'DN-1'!Q24&Wersja","v":"2023.1.1.15.0.44867"}]
[9]
[9,"Załącznik nr 6"]
[{"$f":"$A$2","v":9},"WYPEŁNIĆ DUŻYMI, DRUKOWANYMI LITERAMI, CZARNYM LUB NIEBIESKIM KOLOREM."]
[4.5]
[{"$f":"$A$2","v":9},"1. Identyfikator podatkowy NIP/numer PESEL (niepotrzebne skreślić)1)\n└────┴────┴────┴────┴────┴────┴────┴────┴────┴────┴────┘",null,null,null,null,null,null,"2.  Nr dokumentu"]
[{"$f":"$A$6","v":19.5},null,{"$f":"$C$6","v":0}]
[{"$f":"$A$2","v":9}]
[16.5,"ZDN-1"]
[{"$f":"$A$8","v":16.5},"ZAŁĄCZNIK DO DEKLARACJI NA PODATEK OD NIERUCHOMOŚCI"]
["","- DANE O PRZEDMIOTACH OPODATKOWANIA PODLEGAJĄCYCH OPODATKOWANIU"]
[{"$f":"$A$2","v":9},null,null,null,null,null,null,null,null,null,null,null,"3. Nr załącznika"]
[{"$f":"$A$6","v":19.5},null,null,null,null,null,null,null,null,null,null,null,{"$f":"M1916+1","v":30},null,null,null,{"$f":"IF(COUNTA(C1995:O2002,C2014:O2021,C2025:O2032)=0,0,1)","v":0}]
[{"$f":"$A$4","v":4.5}]
[{"$f":"$A$4","v":4.5}]
[{"$f":"$A$8*1.5","v":24.75},"A.  DANE PODATNIKA WSKAZANEGO W CZĘŚCI C.1 DEKLARACJI DN-1\n* - dotyczy podatnika niebędącego osobą fizyczną               ** - dotyczy podatnika będącego osobą fizyczną"]
[{"$f":"$A$2","v":9},null,"4. Nazwa pełna * / Nazwisko **",null,null,null,null,null,"5. Nazwa skrócona * / Pierwsze imię **"]
[{"$f":"$A$6","v":19.5},null,{"$f":"\"\"&$C$17","v":""},null,null,null,null,null,{"$f":"\"\"&$I$17","v":""}]
[{"$f":"$A$4","v":4.5}]
[{"$f":"$A$8","v":16.5},"B.  DANE O POSZCZEGÓLNYCH PRZEDMIOTACH OPODATKOWANIA PODLEGAJĄCYCH OPODATKOWANIU"]
[16.5,"B.1.  GRUNTY"]
[{"$f":"$A$8*1.5","v":24.75},"Lp.","Położenie (adres, w tym dzielnica)",null,null,null,null,"Nr księgi wieczystej\n(zbioru dokumentów)","Nr obrębu\n(arkusza mapy)2)","Nr działki","Powierzchnia w m2 / ha3)","Stawka Podatku4)",null,"Forma władania5)"]
[{"$f":"$A$2","v":9},null,"a",null,null,null,null,"b","c","d","e","f",null,"g"]
[{"$f":"$A$6","v":19.5},1,null,null,null,null,null,null,null,null,null,null,null,null,null,{"$f":"\"a.\"&L1995","v":"a."}]
[19.5,2,null,null,null,null,null,null,null,null,null,null,null,null,null,{"$f":"\"a.\"&L1996","v":"a."}]
[19.5,3,null,null,null,null,null,null,null,null,null,null,null,null,null,"a."]
[19.5,4,null,null,null,null,null,null,null,null,null,null,null,null,null,"a."]
[19.5,5,null,null,null,null,null,null,null,null,null,null,null,null,null,"a."]
[19.5,6,null,null,null,null,null,null,null,null,null,null,null,null,null,"a."]
[19.5,7,null,null,null,null,null,null,null,null,null,null,null,null,null,"a."]
[19.5,8,null,null,null,null,null,null,null,null,null,null,null,null,null,"a."]
[{"$f":"$A$2","v":9}]
[{"$f":"$A$2*2","v":18},"1)","Numer PESEL wpisują podatnicy będący osobami fizycznymi objętymi rejestrem PESEL, nieprowadzący działalności gospodarczej lub niebędący zarejestrowanymi podatnikami podatku od towarów i usług.\nIdentyfikator podatkowy NIP wpisują pozostali podatnicy."]
[{"$f":"$A$2","v":9},"2)","Numer obrębu należy podać wraz z numerem arkusza mapy ewidencyjnej w przypadku, gdy działki numerowane są w ramach arkusza mapy."]
[{"$f":"$A$2*2","v":18},"3)","Powierzchnię w ha należy wykazać wyłącznie w przypadku gruntów pod wodami powierzchniowymi stojącymi lub wodami powierzchniowymi płynącymi jezior i zbiorników sztucznych (z dokładnością\ndo czterech miejsc po przecinku)."]
[{"$f":"$A$8","v":16.5},null,{"$f":"'DN-1'!M10&\".\"&'DN-1'!Q24&Wersja","v":"2023.1.1.15.0.44867"},null,null,null,null,null,null,null,null,null,null,"ZDN-1(1)","1/2"]
[{"$f":"$A$2","v":9}]
[{"$f":"$A$2","v":9},"WYPEŁNIĆ DUŻYMI, DRUKOWANYMI LITERAMI, CZARNYM LUB NIEBIESKIM KOLOREM."]
[4.5]
[{"$f":"$A$8","v":16.5},"B.2.  BUDYNKI LUB ICH CZĘŚCI"]
[{"$f":"$A$8*1.5","v":24.75},"Lp.","Położenie (adres, w tym dzielnica)",null,null,null,null,"Nr księgi wieczystej\n(zbioru dokumentów)","Nr obrębu\n(arkusza mapy)2)","Nr działki","Powierzchnia użytkowa w m2","Stawka Podatku4)",null,"Forma władania5)"]
[{"$f":"$A$2","v":9},null,"a",null,null,null,null,"b","c","d","e","f",null,"g"]
[{"$f":"$A$6","v":19.5},1,null,null,null,null,null,null,null,null,null,null,null,null,null,{"$f":"\"b.\"&L2014","v":"b."}]
[19.5,2,null,null,null,null,null,null,null,null,null,null,null,null,null,{"$f":"\"b.\"&L2015","v":"b."}]
[19.5,3,null,null,null,null,null,null,null,null,null,null,null,null,null,"b."]
[19.5,4,null,null,null,null,null,null,null,null,null,null,null,null,null,"b."]
[19.5,5,null,null,null,null,null,null,null,null,null,null,null,null,null,"b."]
[19.5,6,null,null,null,null,null,null,null,null,null,null,null,null,null,"b."]
[19.5,7,null,null,null,null,null,null,null,null,null,null,null,null,null,"b."]
[19.5,8,null,null,null,null,null,null,null,null,null,null,null,null,null,"b."]
[{"$f":"$A$8","v":16.5},"B.3.  BUDOWLE LUB ICH CZĘŚCI ZWIĄZANE Z PROWADZENIEM DZIAŁALNOŚCI GOSPODARCZEJ"]
[16.5,"Lp.","Nazwa budowli",null,null,"Nr inwentarzowy","Położenie (adres, w tym dzielnica)",null,"Nr obrębu\n(arkusza mapy)2)","Nr działki","Wartość w zł","Stawka Podatku4)",null,"Forma władania5)"]
[{"$f":"$A$2","v":9},null,"a",null,null,"b",null,"c","d","e","f","g",null,"h"]
[{"$f":"$A$6","v":19.5},1,null,null,null,null,null,null,null,null,null,null,null,null,null,{"$f":"\"c.\"&L2025","v":"c."}]
[19.5,2,null,null,null,null,null,null,null,null,null,null,null,null,null,{"$f":"\"c.\"&L2026","v":"c."}]
[19.5,3,null,null,null,null,null,null,null,null,null,null,null,null,null,"c."]
[19.5,4,null,null,null,null,null,null,null,null,null,null,null,null,null,"c."]
[19.5,5,null,null,null,null,null,null,null,null,null,null,null,null,null,"c."]
[19.5,6,null,null,null,null,null,null,null,null,null,null,null,null,null,"c."]
[19.5,7,null,null,null,null,null,null,null,null,null,null,null,null,null,"c."]
[19.5,8,null,null,null,null,null,null,null,null,null,null,null,null,null,"c."]
[{"$f":"$A$2","v":9}]
[9,"4)","Należy podać stawkę właściwą dla rodzaju przedmiotu opodatkowania zgodną z uchwałą rady gminy."]
[9,"5)","Należy podać jedną z form władania: własność, użytkowanie wieczyste, posiadanie samoistne, posiadanie zależne lub posiadanie bez tytułu prawnego."]
[{"$f":"$A$2","v":9}]
[9]
[9]
[9]
[{"$f":"$A$8","v":16.5},null,"ZDN-1(1)","2/2",null,null,null,null,null,null,null,null,{"$f":"'DN-1'!M10&\".\"&'DN-1'!Q24&Wersja","v":"2023.1.1.15.0.44867"}]
[9]

{"sheet":"ZDN-2","index":2,"n_rows":2041,"n_cols":17,"rows_kept":2041,"cut":false,"hidden":false,"merged":[[2034,2,2034,14],[2039,12,2039,13],[2028,2,2028,4],[2028,6,2028,7],[2028,11,2028,12],[2028,13,2028,14],[2029,2,2029,4],[2029,6,2029,7],[2029,11,2029,12],[2029,13,2029,14],[2030,2,2030,4],[2030,6,2030,7],[2030,11,2030,12],[2030,13,2030,14],[2031,2,2031,4],[2031,6,2031,7],[2031,11,2031,12],[2031,13,2031,14],[2033,2,2033,14],[2023,2,2023,4],[2023,11,2023,12],[2023,13,2023,14],[2024,2,2024,4],[2024,6,2024,7],[2024,11,2024,12],[2024,13,2024,14],[2025,2,2025,4],[2025,6,2025,7],[2025,11,2025,12],[2025,13,2025,14],[2026,2,2026,4],[2026,6,2026,7],[2026,11,2026,12],[2026,13,2026,14],[2027,2,2027,4],[2027,6,2027,7],[2027,11,2027,12],[2027,13,2027,14],[2016,2,2016,6],[2016,11,2016,12],[2016,13,2016,14],[2017,2,2017,6],[2017,11,2017,12],[2017,13,2017,14],[2018,2,2018,6],[2018,11,2018,12],[2018,13,2018,14],[2019,2,2019,6],[2019,11,2019,12],[2019,13,2019,14],[2020,2,2020,6],[2020,11,2020,12],[2020,13,2020,14],[2021,1,2021,14],[2022,2,2022,4],[2022,6,2022,7],[2022,11,2022,12],[2022,13,2022,14],[2005,2,2005,14],[2006,2,2006,3],[2008,1,2008,14],[2010,1,2010,14],[2011,2,2011,6],[2011,11,2011,12],[2011,13,2011,14],[2012,2,2012,6],[2012,11,2012,12],[2012,13,2012,14],[2013,2,2013,6],[2013,11,2013,12],[2013,13,2013,14],[2014,2,2014,6],[2014,11,2014,12],[2014,13,2014,14],[2015,2,2015,6],[2015,11,2015,12],[2015,13,2015,14],[1997,2,1997,6],[1997,11,1997,12],[1997,13,1997,14],[1998,2,1998,6],[1998,11,1998,12],[1998,13,1998,14],[1999,2,1999,6],[1999,11,1999,12],[1999,13,1999,14],[2000,2,2000,6],[2000,11,2000,12],[2000,13,2000,14],[2001,2,2001,6],[2001,11,2001,12],[2001,13,2001,14],[2003,2,2003,14],[2004,2,2004,14],[1989,1,1989,14],[1990,1,1990,14],[1991,1,1991,14],[1992,2,1992,6],[1992,11,1992,12],[1992,13,1992,14],[1993,2,1993,6],[1993,11,1993,12],[1993,13,1993,14],[1994,2,1994,6],[1994,11,1994,12],[1994,13,1994,14],[1995,2,1995,6],[1995,11,1995,12],[1995,13,1995,14],[1996,2,1996,6],[1996,11,1996,12],[1996,13,1996,14],[1966,2,1966,14],[1971,12,1971,13],[1973,1,1973,14],[1974,1,1974,14],[1976,1,1976,7],[1976,8,1976,14],[1977,2,1977,6],[1977,8,1977,14],[1980,1,1980,13],[1981,1,1981,13],[1982,12,1982,14],[1983,12,1983,13],[1985,1,1985,14],[1986,1,1986,14],[1987,2,1987,7],[1987,8,1987,14],[1988,2,1988,7],[1988,8,1988,14],[1960,2,1960,4],[1960,6,1960,7],[1960,11,1960,12],[1960,13,1960,14],[1961,2,1961,4],[1961,6,1961,7],[1961,11,1961,12],[1961,13,1961,14],[1962,2,1962,4],[1962,6,1962,7],[1962,11,1962,12],[1962,13,1962,14],[1963,2,1963,4],[1963,6,1963,7],[1963,11,1963,12],[1963,13,1963,14],[1965,2,1965,14],[1955,2,1955,4],[1955,11,1955,12],[1955,13,1955,14],[1956,2,1956,4],[1956,6,1956,7],[1956,11,1956,12],[1956,13,1956,14],[1957,2,1957,4],[1957,6,1957,7],[1957,11,1957,12],[1957,13,1957,14],[1958,2,1958,4],[1958,6,1958,7],[1958,11,1958,12],[1958,13,1958,14],[1959,2,1959,4],[1959,6,1959,7],[1959,11,1959,12],[1959,13,1959,14],[1948,2,1948,6],[1948,11,1948,12],[1948,13,1948,14],[1949,2,1949,6],[1949,11,1949,12],[1949,13,1949,14],[1950,2,1950,6],[1950,11,1950,12],[1950,13,1950,14],[1951,2,1951,6],[1951,11,1951,12],[1951,13,1951,14],[1952,2,1952,6],[1952,11,1952,12],[1952,13,1952,14],[1953,1,1953,14],[1954,2,1954,4],[1954,6,1954,7],[1954,11,1954,12],[1954,13,1954,14],[1937,2,1937,14],[1938,2,1938,3],[1940,1,1940,14],[1942,1,1942,14],[1943,2,1943,6],[1943,11,1943,12],[1943,13,1943,14],[1944,2,1944,6],[1944,11,1944,12],[1944,13,1944,14],[1945,2,1945,6],[1945,11,1945,12],[1945,13,1945,14],[1946,2,1946,6],[1946,11,1946,12],[1946,13,1946,14],[1947,2,1947,6],[1947,11,1947,12],[1947,13,1947,14],[1929,2,1929,6],[1929,11,1929,12],[1929,13,1929,14],[1930,2,1930,6],[1930,11,1930,12],[1930,13,1930,14],[1931,2,1931,6],[1931,11,1931,12],[1931,13,1931,14],[1932,2,1932,6],[1932,11,1932,12],[1932,13,1932,14],[1933,2,1933,6],[1933,11,1933,12],[1933,13,1933,14],[1935,2,1935,14],[1936,2,1936,14],[1921,1,1921,14],[1922,1,1922,14],[1923,1,1923,14],[1924,2,1924,6],[1924,11,1924,12],[1924,13,1924,14],[1925,2,1925,6],[1925,11,1925,12],[1925,13,1925,14],[1926,2,1926,6],[1926,11,1926,12],[1926,13,1926,14],[1927,2,1927,6],[1927,11,1927,12],[1927,13,1927,14],[1928,2,1928,6],[1928,11,1928,12],[1928,13,1928,14],[1898,2,1898,14],[1903,12,1903,13],[1905,1,1905,14],[1906,1,1906,14],[1908,1,1908,7],[1908,8,1908,14],[1909,2,1909,6],[1909,8,1909,14],[1912,1,1912,13],[1913,1,1913,13],[1914,12,1914,14],[1915,12,1915,13],[1917,1,1917,14],[1918,1,1918,14],[1919,2,1919,7],[1919,8,1919,14],[1920,2,1920,7],[1920,8,1920,14],[1892,2,1892,4],[1892,6,1892,7],[1892,11,1892,12],[1892,13,1892,14],[1893,2,1893,4],[1893,6,1893,7],[1893,11,1893,12],[1893,13,1893,14],[1894,2,1894,4],[1894,6,1894,7],[1894,11,1894,12],[1894,13,1894,14],[1895,2,1895,4],[1895,6,1895,7],[1895,11,1895,12],[1895,13,1895,14],[1897,2,1897,14],[1887,2,1887,4],[1887,11,1887,12],[1887,13,1887,14],[1888,2,1888,4],[1888,6,1888,7],[1888,11,1888,12],[1888,13,1888,14],[1889,2,1889,4],[1889,6,1889,7],[1889,11,1889,12],[1889,13,1889,14],[1890,2,1890,4],[1890,6,1890,7],[1890,11,1890,12],[1890,13,1890,14],[1891,2,1891,4],[1891,6,1891,7],[1891,11,1891,12],[1891,13,1891,14],[1880,2,1880,6],[1880,11,1880,12],[1880,13,1880,14],[1881,2,1881,6],[1881,11,1881,12],[1881,13,1881,14],[1882,2,1882,6],[1882,11,1882,12],[1882,13,1882,14],[1883,2,1883,6],[1883,11,1883,12],[1883,13,1883,14],[1884,2,1884,6],[1884,11,1884,12],[1884,13,1884,14],[1885,1,1885,14],[1886,2,1886,4],[1886,6,1886,7],[1886,11,1886,12],[1886,13,1886,14],[1869,2,1869,14],[1870,2,1870,3],[1872,1,1872,14],[1874,1,1874,14],[1875,2,1875,6],[1875,11,1875,12],[1875,13,1875,14],[1876,2,1876,6],[1876,11,1876,12],[1876,13,1876,14],[1877,2,1877,6],[1877,11,1877,12],[1877,13,1877,14],[1878,2,1878,6],[1878,11,1878,12],[1878,13,1878,14],[1879,2,1879,6],[1879,11,1879,12],[1879,13,1879,14],[1861,2,1861,6],[1861,11,1861,12],[1861,13,1861,14],[1862,2,1862,6],[1862,11,1862,12],[1862,13,1862,14],[1863,2,1863,6],[1863,11,1863,12],[1863,13,1863,14],[1864,2,1864,6],[1864,11,1864,12],[1864,13,1864,14],[1865,2,1865,6],[1865,11,1865,12],[1865,13,1865,14],[1867,2,1867,14],[1868,2,1868,14],[1853,1,1853,14],[1854,1,1854,14],[1855,1,1855,14],[1856,2,1856,6],[1856,11,1856,12],[1856,13,1856,14],[1857,2,1857,6],[1857,11,1857,12],[1857,13,1857,14],[1858,2,1858,6],[1858,11,1858,12],[1858,13,1858,14],[1859,2,1859,6],[1859,11,1859,12],[1859,13,1859,14],[1860,2,1860,6],[1860,11,1860,12],[1860,13,1860,14],[1830,2,1830,14],[1835,12,1835,13],[1837,1,1837,14],[1838,1,1838,14],[1840,1,1840,7],[1840,8,1840,14],[1841,2,1841,6],[1841,8,1841,14],[1844,1,1844,13],[1845,1,1845,13],[1846,12,1846,14],[1847,12,1847,13],[1849,1,1849,14],[1850,1,1850,14],[1851,2,1851,7],[1851,8,1851,14],[1852,2,1852,7],[1852,8,1852,14],[1824,2,1824,4],[1824,6,1824,7],[1824,11,1824,12],[1824,13,1824,14],[1825,2,1825,4],[1825,6,1825,7],[1825,11,1825,12],[1825,13,1825,14],[1826,2,1826,4],[1826,6,1826,7],[1826,11,1826,12],[1826,13,1826,14],[1827,2,1827,4],[1827,6,1827,7],[1827,11,1827,12],[1827,13,1827,14],[1829,2,1829,14],[1819,2,1819,4],[1819,11,1819,12],[1819,13,1819,14],[1820,2,1820,4],[1820,6,1820,7],[1820,11,1820,12],[1820,13,1820,14],[1821,2,1821,4],[1821,6,1821,7],[1821,11,1821,12],[1821,13,1821,14],[1822,2,1822,4],[1822,6,1822,7],[1822,11,1822,12],[1822,13,1822,14],[1823,2,1823,4],[1823,6,1823,7],[1823,11,1823,12],[1823,13,1823,14],[1812,2,1812,6],[1812,11,1812,12],[1812,13,1812,14],[1813,2,1813,6],[1813,11,1813,12],[1813,13,1813,14],[1814,2,1814,6],[1814,11,1814,12],[1814,13,1814,14],[1815,2,1815,6],[1815,11,1815,12],[1815,13,1815,14],[1816,2,1816,6],[1816,11,1816,12],[1816,13,1816,14],[1817,1,1817,14],[1818,2,1818,4],[1818,6,1818,7],[1818,11,1818,12],[1818,13,1818,14],[1801,2,1801,14],[1802,2,1802,3],[1804,1,1804,14],[1806,1,1806,14],[1807,2,1807,6],[1807,11,1807,12],[1807,13,1807,14],[1808,2,1808,6],[1808,11,1808,12],[1808,13,1808,14],[1809,2,1809,6],[1809,11,1809,12],[1809,13,1809,14],[1810,2,1810,6],[1810,11,1810,12],[1810,13,1810,14],[1811,2,1811,6],[1811,11,1811,12],[1811,13,1811,14],[1793,2,1793,6],[1793,11,1793,12],[1793,13,1793,14],[1794,2,1794,6],[1794,11,1794,12],[1794,13,1794,14],[1795,2,1795,6],[1795,11,1795,12],[1795,13,1795,14],[1796,2,1796,6],[1796,11,1796,12],[1796,13,1796,14],[1797,2,1797,6],[1797,11,1797,12],[1797,13,1797,14],[1799,2,1799,14],[1800,2,1800,14],[1785,1,1785,14],[1786,1,1786,14],[1787,1,1787,14],[1788,2,1788,6],[1788,11,1788,12],[1788,13,1788,14],[1789,2,1789,6],[1789,11,1789,12],[1789,13,1789,14],[1790,2,1790,6],[1790,11,1790,12],[1790,13,1790,14],[1791,2,1791,6],[1791,11,1791,12],[1791,13,1791,14],[1792,2,1792,6],[1792,11,1792,12],[1792,13,1792,14],[1762,2,1762,14],[1767,12,1767,13],[1769,1,1769,14],[1770,1,1770,14],[1772,1,1772,7],[1772,8,1772,14],[1773,2,1773,6],[1773,8,1773,14],[1776,1,1776,13],[1777,1,1777,13],[1778,12,1778,14],[1779,12,1779,13],[1781,1,1781,14],[1782,1,1782,14],[1783,2,1783,7],[1783,8,1783,14],[1784,2,1784,7],[1784,8,1784,14],[1756,2,1756,4],[1756,6,1756,7],[1756,11,1756,12],[1756,13,1756,14],[1757,2,1757,4],[1757,6,1757,7],[1757,11,1757,12],[1757,13,1757,14],[1758,2,1758,4],[1758,6,1758,7],[1758,11,1758,12],[1758,13,1758,14],[1759,2,1759,4],[1759,6,1759,7],[1759,11,1759,12],[1759,13,1759,14],[1761,2,1761,14],[1751,2,1751,4],[1751,11,1751,12],[1751,13,1751,14],[1752,2,1752,4],[1752,6,1752,7],[1752,11,1752,12],[1752,13,1752,14],[1753,2,1753,4],[1753,6,1753,7],[1753,11,1753,12],[1753,13,1753,14],[1754,2,1754,4],[1754,6,1754,7],[1754,11,1754,12],[1754,13,1754,14],[1755,2,1755,4],[1755,6,1755,7],[1755,11,1755,12],[1755,13,1755,14],[1744,2,1744,6],[1744,11,1744,12],[1744,13,1744,14],[1745,2,1745,6],[1745,11,1745,12],[1745,13,1745,14],[1746,2,1746,6],[1746,11,1746,12],[1746,13,1746,14],[1747,2,1747,6],[1747,11,1747,12],[1747,13,1747,14],[1748,2,1748,6],[1748,11,1748,12],[1748,13,1748,14],[1749,1,1749,14],[1750,2,1750,4],[1750,6,1750,7],[1750,11,1750,12],[1750,13,1750,14],[1733,2,1733,14],[1734,2,1734,3],[1736,1,1736,14],[1738,1,1738,14],[1739,2,1739,6],[1739,11,1739,12],[1739,13,1739,14],[1740,2,1740,6],[1740,11,1740,12],[1740,13,1740,14],[1741,2,1741,6],[1741,11,1741,12],[1741,13,1741,14],[1742,2,1742,6],[1742,11,1742,12],[1742,13,1742,14],[1743,2,1743,6],[1743,11,1743,12],[1743,13,1743,14],[1725,2,1725,6],[1725,11,1725,12],[1725,13,1725,14],[1726,2,1726,6],[1726,11,1726,12],[1726,13,1726,14],[1727,2,1727,6],[1727,11,1727,12],[1727,13,1727,14],[1728,2,1728,6],[1728,11,1728,12],[1728,13,1728,14],[1729,2,1729,6],[1729,11,1729,12],[1729,13,1729,14],[1731,2,1731,14],[1732,2,1732,14],[1717,1,1717,14],[1718,1,1718,14],[1719,1,1719,14],[1720,2,1720,6],[1720,11,1720,12],[1720,13,1720,14],[1721,2,1721,6],[1721,11,1721,12],[1721,13,1721,14],[1722,2,1722,6],[1722,11,1722,12],[1722,13,1722,14],[1723,2,1723,6],[1723,11,1723,12],[1723,13,1723,14],[1724,2,1724,6],[1724,11,1724,12],[1724,13,1724,14],[1694,2,1694,14],[1699,12,1699,13],[1701,1,1701,14],[1702,1,1702,14],[1704,1,1704,7],[1704,8,1704,14],[1705,2,1705,6],[1705,8,1705,14],[1708,1,1708,13],[1709,1,1709,13],[1710,12,1710,14],[1711,12,1711,13],[1713,1,1713,14],[1714,1,1714,14],[1715,2,1715,7],[1715,8,1715,14],[1716,2,1716,7],[1716,8,1716,14],[1688,2,1688,4],[1688,6,1688,7],[1688,11,1688,12],[1688,13,1688,14],[1689,2,1689,4],[1689,6,1689,7],[1689,11,1689,12],[1689,13,1689,14],[1690,2,1690,4],[1690,6,1690,7],[1690,11,1690,12],[1690,13,1690,14],[1691,2,1691,4],[1691,6,1691,7],[1691,11,1691,12],[1691,13,1691,14],[1693,2,1693,14],[1683,2,1683,4],[1683,11,1683,12],[1683,13,1683,14],[1684,2,1684,4],[1684,6,1684,7],[1684,11,1684,12],[1684,13,1684,14],[1685,2,1685,4],[1685,6,1685,7],[1685,11,1685,12],[1685,13,1685,14],[1686,2,1686,4],[1686,6,1686,7],[1686,11,1686,12],[1686,13,1686,14],[1687,2,1687,4],[1687,6,1687,7],[1687,11,1687,12],[1687,13,1687,14],[1676,2,1676,6],[1676,11,1676,12],[1676,13,1676,14],[1677,2,1677,6],[1677,11,1677,12],[1677,13,1677,14],[1678,2,1678,6],[1678,11,1678,12],[1678,13,1678,14],[1679,2,1679,6],[1679,11,1679,12],[1679,13,1679,14],[1680,2,1680,6],[1680,11,1680,12],[1680,13,1680,14],[1681,1,1681,14],[1682,2,1682,4],[1682,6,1682,7],[1682,11,1682,12],[1682,13,1682,14],[1665,2,1665,14],[1666,2,1666,3],[1668,1,1668,14],[1670,1,1670,14],[1671,2,1671,6],[1671,11,1671,12],[1671,13,1671,14],[1672,2,1672,6],[1672,11,1672,12],[1672,13,1672,14],[1673,2,1673,6],[1673,11,1673,12],[1673,13,1673,14],[1674,2,1674,6],[1674,11,1674,12],[1674,13,1674,14],[1675,2,1675,6],[1675,11,1675,12],[1675,13,1675,14],[1657,2,1657,6],[1657,11,1657,12],[1657,13,1657,14],[1658,2,1658,6],[1658,11,1658,12],[1658,13,1658,14],[1659,2,1659,6],[1659,11,1659,12],[1659,13,1659,14],[1660,2,1660,6],[1660,11,1660,12],[1660,13,1660,14],[1661,2,1661,6],[1661,11,1661,12],[1661,13,1661,14],[1663,2,1663,14],[1664,2,1664,14],[1649,1,1649,14],[1650,1,1650,14],[1651,1,1651,14],[1652,2,1652,6],[1652,11,1652,12],[1652,13,1652,14],[1653,2,1653,6],[1653,11,1653,12],[1653,13,1653,14],[1654,2,1654,6],[1654,11,1654,12],[1654,13,1654,14],[1655,2,1655,6],[1655,11,1655,12],[1655,13,1655,14],[1656,2,1656,6],[1656,11,1656,12],[1656,13,1656,14],[1626,2,1626,14],[1631,12,1631,13],[1633,1,1633,14],[1634,1,1634,14],[1636,1,1636,7],[1636,8,1636,14],[1637,2,1637,6],[1637,8,1637,14],[1640,1,1640,13],[1641,1,1641,13],[1642,12,1642,14],[1643,12,1643,13],[1645,1,1645,14],[1646,1,1646,14],[1647,2,1647,7],[1647,8,1647,14],[1648,2,1648,7],[1648,8,1648,14],[1620,2,1620,4],[1620,6,1620,7],[1620,11,1620,12],[1620,13,1620,14],[1621,2,1621,4],[1621,6,1621,7],[1621,11,1621,12],[1621,13,1621,14],[1622,2,1622,4],[1622,6,1622,7],[1622,11,1622,12],[1622,13,1622,14],[1623,2,1623,4],[1623,6,1623,7],[1623,11,1623,12],[1623,13,1623,14],[1625,2,1625,14],[1615,2,1615,4],[1615,11,1615,12],[1615,13,1615,14],[1616,2,1616,4],[1616,6,1616,7],[1616,11,1616,12],[1616,13,1616,14],[1617,2,1617,4],[1617,6,1617,7],[1617,11,1617,12],[1617,13,1617,14],[1618,2,1618,4],[1618,6,1618,7],[1618,11,1618,12],[1618,13,1618,14],[1619,2,1619,4],[1619,6,1619,7],[1619,11,1619,12],[1619,13,1619,14],[1608,2,1608,6],[1608,11,1608,12],[1608,13,1608,14],[1609,2,1609,6],[1609,11,1609,12],[1609,13,1609,14],[1610,2,1610,6],[1610,11,1610,12],[1610,13,1610,14],[1611,2,1611,6],[1611,11,1611,12],[1611,13,1611,14],[1612,2,1612,6],[1612,11,1612,12],[1612,13,1612,14],[1613,1,1613,14],[1614,2,1614,4],[1614,6,1614,7],[1614,11,1614,12],[1614,13,1614,14],[1597,2,1597,14],[1598,2,1598,3],[1600,1,1600,14],[1602,1,1602,14],[1603,2,1603,6],[1603,11,1603,12],[1603,13,1603,14],[1604,2,1604,6],[1604,11,1604,12],[1604,13,1604,14],[1605,2,1605,6],[1605,11,1605,12],[1605,13,1605,14],[1606,2,1606,6],[1606,11,1606,12],[1606,13,1606,14],[1607,2,1607,6],[1607,11,1607,12],[1607,13,1607,14],[1589,2,1589,6],[1589,11,1589,12],[1589,13,1589,14],[1590,2,1590,6],[1590,11,1590,12],[1590,13,1590,14],[1591,2,1591,6],[1591,11,1591,12],[1591,13,1591,14],[1592,2,1592,6],[1592,11,1592,12],[1592,13,1592,14],[1593,2,1593,6],[1593,11,1593,12],[1593,13,1593,14],[1595,2,1595,14],[1596,2,1596,14],[1581,1,1581,14],[1582,1,1582,14],[1583,1,1583,14],[1584,2,1584,6],[1584,11,1584,12],[1584,13,1584,14],[1585,2,1585,6],[1585,11,1585,12],[1585,13,1585,14],[1586,2,1586,6],[1586,11,1586,12],[1586,13,1586,14],[1587,2,1587,6],[1587,11,1587,12],[1587,13,1587,14],[1588,2,1588,6],[1588,11,1588,12],[1588,13,1588,14],[1558,2,1558,14],[1563,12,1563,13],[1565,1,1565,14],[1566,1,1566,14],[1568,1,1568,7],[1568,8,1568,14],[1569,2,1569,6],[1569,8,1569,14],[1572,1,1572,13],[1573,1,1573,13],[1574,12,1574,14],[1575,12,1575,13],[1577,1,1577,14],[1578,1,1578,14],[1579,2,1579,7],[1579,8,1579,14],[1580,2,1580,7],[1580,8,1580,14],[1552,2,1552,4],[1552,6,1552,7],[1552,11,1552,12],[1552,13,1552,14],[1553,2,1553,4],[1553,6,1553,7],[1553,11,1553,12],[1553,13,1553,14],[1554,2,1554,4],[1554,6,1554,7],[1554,11,1554,12],[1554,13,1554,14],[1555,2,1555,4],[1555,6,1555,7],[1555,11,1555,12],[1555,13,1555,14],[1557,2,1557,14],[1547,2,1547,4],[1547,11,1547,12],[1547,13,1547,14],[1548,2,1548,4],[1548,6,1548,7],[1548,11,1548,12],[1548,13,1548,14],[1549,2,1549,4],[1549,6,1549,7],[1549,11,1549,12],[1549,13,1549,14],[1550,2,1550,4],[1550,6,1550,7],[1550,11,1550,12],[1550,13,1550,14],[1551,2,1551,4],[1551,6,1551,7],[1551,11,1551,12],[1551,13,1551,14],[1540,2,1540,6],[1540,11,1540,12],[1540,13,1540,14],[1541,2,1541,6],[1541,11,1541,12],[1541,13,1541,14],[1542,2,1542,6],[1542,11,1542,12],[1542,13,1542,14],[1543,2,1543,6],[1543,11,1543,12],[1543,13,1543,14],[1544,2,1544,6],[1544,11,1544,12],[1544,13,1544,14],[1545,1,1545,14],[1546,2,1546,4],[1546,6,1546,7],[1546,11,1546,12],[1546,13,1546,14],[1529,2,1529,14],[1530,2,1530,3],[1532,1,1532,14],[1534,1,1534,14],[1535,2,1535,6],[1535,11,1535,12],[1535,13,1535,14],[1536,2,1536,6],[1536,11,1536,12],[1536,13,1536,14],[1537,2,1537,6],[1537,11,1537,12],[1537,13,1537,14],[1538,2,1538,6],[1538,11,1538,12],[1538,13,1538,14],[1539,2,1539,6],[1539,11,1539,12],[1539,13,1539,14],[1521,2,1521,6],[1521,11,1521,12],[1521,13,1521,14],[1522,2,1522,6],[1522,11,1522,12],[1522,13,1522,14],[1523,2,1523,6],[1523,11,1523,12],[1523,13,1523,14],[1524,2,1524,6],[1524,11,1524,12],[1524,13,1524,14],[1525,2,1525,6],[1525,11,1525,12],[1525,13,1525,14],[1527,2,1527,14],[1528,2,1528,14],[1513,1,1513,14],[1514,1,1514,14],[1515,1,1515,14],[1516,2,1516,6],[1516,11,1516,12],[1516,13,1516,14],[1517,2,1517,6],[1517,11,1517,12],[1517,13,1517,14],[1518,2,1518,6]],"merged_total":3841,"flags":["merged_cut"]}
[17,2.5,{"$f":"$A$1-D1","v":11},6,{"$f":"$A$1*0.5","v":8.5},{"$f":"$A$1*0.6","v":10.199999999999999},{"$f":"$A$1","v":17},{"$f":"$A$1","v":17},{"$f":"$A$1*0.6","v":10.199999999999999},{"$f":"$A$1*0.6","v":10.199999999999999},{"$f":"$A$1","v":17},{"$f":"$A$1*0.3","v":5.0999999999999996},{"$f":"$A$1-O1","v":11},{"$f":"$A$1*0.3","v":5.0999999999999996},6]
[9,"Załącznik nr 7"]
[{"$f":"$A$2","v":9},"WYPEŁNIĆ DUŻYMI, DRUKOWANYMI LITERAMI, CZARNYM LUB NIEBIESKIM KOLOREM."]
[4.5]
[{"$f":"$A$2","v":9},"1. Identyfikator podatkowy NIP/numer PESEL (niepotrzebne skreślić)1)\n└────┴────┴────┴────┴────┴────┴────┴────┴────┴────┴────┘",null,null,null,null,null,null,"2.  Nr dokumentu"]
[19.5]
[{"$f":"$A$2","v":9}]
[16.5,"ZDN-2"]
[{"$f":"$A$8","v":16.5},"ZAŁĄCZNIK DO DEKLARACJI NA PODATEK OD NIERUCHOMOŚCI"]
[{"$f":"$A$8","v":16.5},"- DANE O PRZEDMIOTACH OPODATKOWANIA ZWOLNIONYCH Z OPODATKOWANIA"]
[{"$f":"$A$2","v":9},null,null,null,null,null,null,null,null,null,null,null,"3. Nr załącznika"]
[{"$f":"$A$6","v":19.5},null,null,null,null,null,null,null,null,null,null,null,1,null,null,null,{"$f":"IF(COUNTA(C23:O30,C42:O49,C53:O60)=0,0,1)","v":0}]
[{"$f":"$A$4","v":4.5}]
[{"$f":"$A$4","v":4.5}]
[{"$f":"$A$8*1.5","v":24.75},"A.  DANE PODATNIKA WSKAZANEGO W CZĘŚCI C.1 DEKLARACJI DN-1\n* - dotyczy podatnika niebędącego osobą fizyczną               ** - dotyczy podatnika będącego osobą fizyczną"]
[{"$f":"$A$2","v":9},null,"4. Nazwa pełna * / Nazwisko **",null,null,null,null,null,"5. Nazwa skrócona * / Pierwsze imię **"]
[{"$f":"$A$6","v":19.5}]
[{"$f":"$A$4","v":4.5}]
[{"$f":"$A$8","v":16.5},"B.  DANE O POSZCZEGÓLNYCH PRZEDMIOTACH OPODATKOWANIA ZWOLNIONYCH Z OPODATKOWANIA"]
[16.5,"B.1.  GRUNTY"]
[{"$f":"$A$8*1.5","v":24.75},"Lp.","Położenie (adres, w tym dzielnica)",null,null,null,null,"Nr księgi wieczystej\n(zbioru dokumentów)","Nr obrębu\n(arkusza mapy)2)","Nr działki","Powierzchnia w m2 / ha3)","Podstawa prawna zwolnienia4)",null,"Stawka Podatku5)"]
[{"$f":"$A$2","v":9},null,"a",null,null,null,null,"b","c","d","e","f",null,"g"]
[{"$f":"$A$6","v":19.5},1]
[19.5,2]
[19.5,3]
[19.5,4]
[19.5,5]
[19.5,6]
[19.5,7]
[19.5,8]
[{"$f":"$A$2","v":9}]
[{"$f":"$A$2*2","v":18},"1)"," Numer PESEL wpisują podatnicy będący osobami fizycznymi objętymi rejestrem PESEL, nieprowadzący działalności gospodarczej lub niebędący zarejestrowanymi podatnikami podatku od towarów i usług.\nIdentyfikator podatkowy NIP wpisują pozostali podatnicy."]
[{"$f":"$A$2","v":9},"2)","Numer obrębu należy podać wraz z numerem arkusza mapy ewidencyjnej w przypadku, gdy działki numerowane są w ramach arkusza mapy."]
[{"$f":"$A$2*2","v":18},"3)"," Powierzchnię w ha należy wykazać wyłącznie w przypadku gruntów pod wodami powierzchniowymi stojącymi lub wodami powierzchniowymi płynącymi jezior i zbiorników sztucznych (z dokładnością\ndo czterech miejsc po przecinku)."]
[{"$f":"$A$8","v":16.5},null,{"$f":"'DN-1'!M10&\".\"&'DN-1'!Q24&Wersja","v":"2023.1.1.15.0.44867"},null,null,null,null,null,null,null,null,null,"ZDN-2(1)","1/2"]
[{"$f":"$A$2","v":9}]
[{"$f":"$A$2","v":9},"WYPEŁNIĆ DUŻYMI, DRUKOWANYMI LITERAMI, CZARNYM LUB NIEBIESKIM KOLOREM."]
[{"$f":"$A$4","v":4.5}]
[{"$f":"$A$8","v":16.5},"B.2.  BUDYNKI LUB ICH CZĘŚCI"]
[{"$f":"$A$8*1.5","v":24.75},"Lp.","Położenie (adres, w tym dzielnica)",null,null,null,null,"Nr księgi wieczystej\n(zbioru dokumentów)","Nr obrębu\n(arkusza mapy)2)","Nr działki","Powierzchnia użytkowa w m2","Podstawa prawna zwolnienia4)",null,"Stawka Podatku5)"]
[{"$f":"$A$2","v":9},null,"a",null,null,null,null,"b","c","d","e","f",null,"g"]
[{"$f":"$A$6","v":19.5},1]
[19.5,2]
[19.5,3]
[19.5,4]
[19.5,5]
[19.5,6]
[19.5,7]
[19.5,8]
[{"$f":"$A$8","v":16.5},"B.3.  BUDOWLE LUB ICH CZĘŚCI ZWIĄZANE Z PROWADZENIEM DZIAŁALNOŚCI GOSPODARCZEJ"]
[{"$f":"$A$8*1.5","v":24.75},"Lp.","Nazwa budowli",null,null,"Nr inwentarzowy","Położenie (adres, w tym dzielnica)",null,"Nr obrębu\n(arkusza mapy)2)","Nr działki","Wartość w zł","Podstawa prawna zwolnienia4)",null,"Stawka Podatku5)"]
[{"$f":"$A$2","v":9},null,"a",null,null,"b",null,"c","d","e","f","g",null,"h"]
[{"$f":"$A$6","v":19.5},1]
[19.5,2]
[19.5,3]
[19.5,4]
[19.5,5]
[19.5,6]
[19.5,7]
[19.5,8]
[{"$f":"$A$2","v":9}]
[9,"4)","Należy podać jednostkę redakcyjną z ustawy lub uchwały rady gminy."]
[9,"5)","Należy podać stawkę właściwą dla rodzaju przedmiotu opodatkowania zgodną z uchwałą rady gminy."]
[{"$f":"$A$2","v":9}]
[9]
[9]
[9]
[{"$f":"$A$8","v":16.5},null,"ZDN-2(1)","2/2",null,null,null,null,null,null,null,null,{"$f":"'DN-1'!M10&\".\"&'DN-1'!Q24&Wersja","v":"2023.1.1.15.0.44867"}]
[9]
[9,"Załącznik nr 7"]
[{"$f":"$A$2","v":9},"WYPEŁNIĆ DUŻYMI, DRUKOWANYMI LITERAMI, CZARNYM LUB NIEBIESKIM KOLOREM."]
[{"$f":"$A$4","v":4.5}]
[{"$f":"$A$2","v":9},"1. Identyfikator podatkowy NIP/numer PESEL (niepotrzebne skreślić)1)\n└────┴────┴────┴────┴────┴────┴────┴────┴────┴────┴────┘",null,null,null,null,null,null,"2.  Nr dokumentu"]
[{"$f":"$A$6","v":19.5},null,{"$f":"$C$6","v":0}]
[{"$f":"$A$2","v":9}]
[16.5,"ZDN-2"]
[{"$f":"$A$8","v":16.5},"ZAŁĄCZNIK DO DEKLARACJI NA PODATEK OD NIERUCHOMOŚCI"]
[{"$f":"$A$8","v":16.5},"- DANE O PRZEDMIOTACH OPODATKOWANIA ZWOLNIONYCH Z OPODATKOWANIA"]
[{"$f":"$A$2","v":9},null,null,null,null,null,null,null,null,null,null,null,"3. Nr załącznika"]
[{"$f":"$A$6","v":19.5},null,null,null,null,null,null,null,null,null,null,null,{"$f":"M12+1","v":2},null,null,null,{"$f":"IF(COUNTA(C91:O98,C110:O117,C121:O128)=0,0,1)","v":0}]
[{"$f":"$A$4","v":4.5}]
[{"$f":"$A$4","v":4.5}]
[{"$f":"$A$8*1.5","v":24.75},"A.  DANE PODATNIKA WSKAZANEGO W CZĘŚCI C.1 DEKLARACJI DN-1\n* - dotyczy podatnika niebędącego osobą fizyczną               ** - dotyczy podatnika będącego osobą fizyczną"]
[{"$f":"$A$2","v":9},null,"4. Nazwa pełna * / Nazwisko **",null,null,null,null,null,"5. Nazwa skrócona * / Pierwsze imię **"]
[{"$f":"$A$6","v":19.5},null,{"$f":"\"\"&$C$17","v":""},null,null,null,null,null,{"$f":"\"\"&$I$17","v":""}]
[{"$f":"$A$4","v":4.5}]
[{"$f":"$A$8","v":16.5},"B.  DANE O POSZCZEGÓLNYCH PRZEDMIOTACH OPODATKOWANIA ZWOLNIONYCH Z OPODATKOWANIA"]
[16.5,"B.1.  GRUNTY"]
[{"$f":"$A$8*1.5","v":24.75},"Lp.","Położenie (adres, w tym dzielnica)",null,null,null,null,"Nr księgi wieczystej\n(zbioru dokumentów)","Nr obrębu\n(arkusza mapy)2)","Nr działki","Powierzchnia w m2 / ha3)","Podstawa prawna zwolnienia4)",null,"Stawka Podatku5)"]
[{"$f":"$A$2","v":9},null,"a",null,null,null,null,"b","c","d","e","f",null,"g"]
[{"$f":"$A$6","v":19.5},1]
[19.5,2]
[19.5,3]
[19.5,4]
[19.5,5]
[19.5,6]
[19.5,7]
[19.5,8]
[{"$f":"$A$2","v":9}]
[{"$f":"$A$2*2","v":18},"1)"," Numer PESEL wpisują podatnicy będący osobami fizycznymi objętymi rejestrem PESEL, nieprowadzący działalności gospodarczej lub niebędący zarejestrowanymi podatnikami podatku od towarów i usług.\nIdentyfikator podatkowy NIP wpisują pozostali podatnicy."]
[{"$f":"$A$2","v":9},"2)","Numer obrębu należy podać wraz z numerem arkusza mapy ewidencyjnej w przypadku, gdy działki numerowane są w ramach arkusza mapy."]
[{"$f":"$A$2*2","v":18},"3)"," Powierzchnię w ha należy wykazać wyłącznie w przypadku gruntów pod wodami powierzchniowymi stojącymi lub wodami powierzchniowymi płynącymi jezior i zbiorników sztucznych (z dokładnością\ndo czterech miejsc po przecinku)."]
[{"$f":"$A$8","v":16.5},null,{"$f":"'DN-1'!M10&\".\"&'DN-1'!Q24&Wersja","v":"2023.1.1.15.0.44867"},null,null,null,null,null,null,null,null,null,"ZDN-2(1)","1/2"]
[{"$f":"$A$2","v":9}]
[{"$f":"$A$2","v":9},"WYPEŁNIĆ DUŻYMI, DRUKOWANYMI LITERAMI, CZARNYM LUB NIEBIESKIM KOLOREM."]
[{"$f":"$A$4","v":4.5}]
[{"$f":"$A$8","v":16.5},"B.2.  BUDYNKI LUB ICH CZĘŚCI"]
[{"$f":"$A$8*1.5","v":24.75},"Lp.","Położenie (adres, w tym dzielnica)",null,null,null,null,"Nr księgi wieczystej\n(zbioru dokumentów)","Nr obrębu\n(arkusza mapy)2)","Nr działki","Powierzchnia użytkowa w m2","Podstawa prawna zwolnienia4)",null,"Stawka Podatku5)"]
[{"$f":"$A$2","v":9},null,"a",null,null,null,null,"b","c","d","e","f",null,"g"]
[{"$f":"$A$6","v":19.5},1]
[19.5,2]
[19.5,3]
[19.5,4]
[19.5,5]
[19.5,6]
[19.5,7]
[19.5,8]
[{"$f":"$A$8","v":16.5},"B.3.  BUDOWLE LUB ICH CZĘŚCI ZWIĄZANE Z PROWADZENIEM DZIAŁALNOŚCI GOSPODARCZEJ"]
[{"$f":"$A$8*1.5","v":24.75},"Lp.","Nazwa budowli",null,null,"Nr inwentarzowy","Położenie (adres, w tym dzielnica)",null,"Nr obrębu\n(arkusza mapy)2)","Nr działki","Wartość w zł","Podstawa prawna zwolnienia4)",null,"Stawka Podatku5)"]
[{"$f":"$A$2","v":9},null,"a",null,null,"b",null,"c","d","e","f","g",null,"h"]
[{"$f":"$A$6","v":19.5},1]
[19.5,2]
[19.5,3]
[19.5,4]
[19.5,5]
[19.5,6]
[19.5,7]
[19.5,8]
[{"$f":"$A$2","v":9}]
[9,"4)","Należy podać jednostkę redakcyjną z ustawy lub uchwały rady gminy."]
[9,"5)","Należy podać stawkę właściwą dla rodzaju przedmiotu opodatkowania zgodną z uchwałą rady gminy."]
[{"$f":"$A$2","v":9}]
[9]
[9]
[9]
[{"$f":"$A$8","v":16.5},null,"ZDN-2(1)","2/2",null,null,null,null,null,null,null,null,{"$f":"'DN-1'!M10&\".\"&'DN-1'!Q24&Wersja","v":"2023.1.1.15.0.44867"}]
[9]
[9,"Załącznik nr 7"]
[{"$f":"$A$2","v":9},"WYPEŁNIĆ DUŻYMI, DRUKOWANYMI LITERAMI, CZARNYM LUB NIEBIESKIM KOLOREM."]
[{"$f":"$A$4","v":4.5}]
[{"$f":"$A$2","v":9},"1. Identyfikator podatkowy NIP/numer PESEL (niepotrzebne skreślić)1)\n└────┴────┴────┴────┴────┴────┴────┴────┴────┴────┴────┘",null,null,null,null,null,null,"2.  Nr dokumentu"]
[{"$f":"$A$6","v":19.5},null,{"$f":"$C$6","v":0}]
[{"$f":"$A$2","v":9}]
[16.5,"ZDN-2"]
[{"$f":"$A$8","v":16.5},"ZAŁĄCZNIK DO DEKLARACJI NA PODATEK OD NIERUCHOMOŚCI"]
[{"$f":"$A$8","v":16.5},"- DANE O PRZEDMIOTACH OPODATKOWANIA ZWOLNIONYCH Z OPODATKOWANIA"]
[{"$f":"$A$2","v":9},null,null,null,null,null,null,null,null,null,null,null,"3. Nr załącznika"]
[{"$f":"$A$6","v":19.5},null,null,null,null,null,null,null,null,null,null,null,{"$f":"M80+1","v":3},null,null,null,{"$f":"IF(COUNTA(C159:O166,C178:O185,C189:O196)=0,0,1)","v":0}]
[{"$f":"$A$4","v":4.5}]
[{"$f":"$A$4","v":4.5}]
[{"$f":"$A$8*1.5","v":24.75},"A.  DANE PODATNIKA WSKAZANEGO W CZĘŚCI C.1 DEKLARACJI DN-1\n* - dotyczy podatnika niebędącego osobą fizyczną               ** - dotyczy podatnika będącego osobą fizyczną"]
[{"$f":"$A$2","v":9},null,"4. Nazwa pełna * / Nazwisko **",null,null,null,null,null,"5. Nazwa skrócona * / Pierwsze imię **"]
[{"$f":"$A$6","v":19.5},null,{"$f":"\"\"&$C$17","v":""},null,null,null,null,null,{"$f":"\"\"&$I$17","v":""}]
[{"$f":"$A$4","v":4.5}]
[{"$f":"$A$8","v":16.5},"B.  DANE O POSZCZEGÓLNYCH PRZEDMIOTACH OPODATKOWANIA ZWOLNIONYCH Z OPODATKOWANIA"]
[16.5,"B.1.  GRUNTY"]
[{"$f":"$A$8*1.5","v":24.75},"Lp.","Położenie (adres, w tym dzielnica)",null,null,null,null,"Nr księgi wieczystej\n(zbioru dokumentów)","Nr obrębu\n(arkusza mapy)2)","Nr działki","Powierzchnia w m2 / ha3)","Podstawa prawna zwolnienia4)",null,"Stawka Podatku5)"]
[{"$f":"$A$2","v":9},null,"a",null,null,null,null,"b","c","d","e","f",null,"g"]
[{"$f":"$A$6","v":19.5},1]
[19.5,2]
[19.5,3]
[19.5,4]
[19.5,5]
[19.5,6]
[19.5,7]
[19.5,8]
[{"$f":"$A$2","v":9}]
[{"$f":"$A$2*2","v":18},"1)"," Numer PESEL wpisują podatnicy będący osobami fizycznymi objętymi rejestrem PESEL, nieprowadzący działalności gospodarczej lub niebędący zarejestrowanymi podatnikami podatku od towarów i usług.\nIdentyfikator podatkowy NIP wpisują pozostali podatnicy."]
[{"$f":"$A$2","v":9},"2)","Numer obrębu należy podać wraz z numerem arkusza mapy ewidencyjnej w przypadku, gdy działki numerowane są w ramach arkusza mapy."]
[{"$f":"$A$2*2","v":18},"3)"," Powierzchnię w ha należy wykazać wyłącznie w przypadku gruntów pod wodami powierzchniowymi stojącymi lub wodami powierzchniowymi płynącymi jezior i zbiorników sztucznych (z dokładnością\ndo czterech miejsc po przecinku)."]
[{"$f":"$A$8","v":16.5},null,{"$f":"'DN-1'!M10&\".\"&'DN-1'!Q24&Wersja","v":"2023.1.1.15.0.44867"},null,null,null,null,null,null,null,null,null,"ZDN-2(1)","1/2"]
[{"$f":"$A$2","v":9}]
[{"$f":"$A$2","v":9},"WYPEŁNIĆ DUŻYMI, DRUKOWANYMI LITERAMI, CZARNYM LUB NIEBIESKIM KOLOREM."]
[{"$f":"$A$4","v":4.5}]
[{"$f":"$A$8","v":16.5},"B.2.  BUDYNKI LUB ICH CZĘŚCI"]
[{"$f":"$A$8*1.5","v":24.75},"Lp.","Położenie (adres, w tym dzielnica)",null,null,null,null,"Nr księgi wieczystej\n(zbioru dokumentów)","Nr obrębu\n(arkusza mapy)2)","Nr działki","Powierzchnia użytkowa w m2","Podstawa prawna zwolnienia4)",null,"Stawka Podatku5)"]
[{"$f":"$A$2","v":9},null,"a",null,null,null,null,"b","c","d","e","f",null,"g"]
[{"$f":"$A$6","v":19.5},1]
[19.5,2]
[19.5,3]
[19.5,4]
[19.5,5]
[19.5,6]
[19.5,7]
[19.5,8]
[{"$f":"$A$8","v":16.5},"B.3.  BUDOWLE LUB ICH CZĘŚCI ZWIĄZANE Z PROWADZENIEM DZIAŁALNOŚCI GOSPODARCZEJ"]
[{"$f":"$A$8*1.5","v":24.75},"Lp.","Nazwa budowli",null,null,"Nr inwentarzowy","Położenie (adres, w tym dzielnica)",null,"Nr obrębu\n(arkusza mapy)2)","Nr działki","Wartość w zł","Podstawa prawna zwolnienia4)",null,"Stawka Podatku5)"]
[{"$f":"$A$2","v":9},null,"a",null,null,"b",null,"c","d","e","f","g",null,"h"]
[{"$f":"$A$6","v":19.5},1]
[19.5,2]
[19.5,3]
[19.5,4]
[19.5,5]
[19.5,6]
[19.5,7]
[19.5,8]
[{"$f":"$A$2","v":9}]
[9,"4)","Należy podać jednostkę redakcyjną z ustawy lub uchwały rady gminy."]
[9,"5)","Należy podać stawkę właściwą dla rodzaju przedmiotu opodatkowania zgodną z uchwałą rady gminy."]
[{"$f":"$A$2","v":9}]
[9]
[9]
[9]
[{"$f":"$A$8","v":16.5},null,"ZDN-2(1)","2/2",null,null,null,null,null,null,null,null,{"$f":"'DN-1'!M10&\".\"&'DN-1'!Q24&Wersja","v":"2023.1.1.15.0.44867"}]
[9]
[9,"Załącznik nr 7"]
[{"$f":"$A$2","v":9},"WYPEŁNIĆ DUŻYMI, DRUKOWANYMI LITERAMI, CZARNYM LUB NIEBIESKIM KOLOREM."]
[{"$f":"$A$4","v":4.5}]
[{"$f":"$A$2","v":9},"1. Identyfikator podatkowy NIP/numer PESEL (niepotrzebne skreślić)1)\n└────┴────┴────┴────┴────┴────┴────┴────┴────┴────┴────┘",null,null,null,null,null,null,"2.  Nr dokumentu"]
[{"$f":"$A$6","v":19.5},null,{"$f":"$C$6","v":0}]
[{"$f":"$A$2","v":9}]
[16.5,"ZDN-2"]
[{"$f":"$A$8","v":16.5},"ZAŁĄCZNIK DO DEKLARACJI NA PODATEK OD NIERUCHOMOŚCI"]
[{"$f":"$A$8","v":16.5},"- DANE O PRZEDMIOTACH OPODATKOWANIA ZWOLNIONYCH Z OPODATKOWANIA"]
[{"$f":"$A$2","v":9},null,null,null,null,null,null,null,null,null,null,null,"3. Nr załącznika"]
[{"$f":"$A$6","v":19.5},null,null,null,null,null,null,null,null,null,null,null,{"$f":"M148+1","v":4},null,null,null,{"$f":"IF(COUNTA(C227:O234,C246:O253,C257:O264)=0,0,1)","v":0}]
[{"$f":"$A$4","v":4.5}]
[{"$f":"$A$4","v":4.5}]
[{"$f":"$A$8*1.5","v":24.75},"A.  DANE PODATNIKA WSKAZANEGO W CZĘŚCI C.1 DEKLARACJI DN-1\n* - dotyczy podatnika niebędącego osobą fizyczną               ** - dotyczy podatnika będącego osobą fizyczną"]
[{"$f":"$A$2","v":9},null,"4. Nazwa pełna * / Nazwisko **",null,null,null,null,null,"5. Nazwa skrócona * / Pierwsze imię **"]
[{"$f":"$A$6","v":19.5},null,{"$f":"\"\"&$C$17","v":""},null,null,null,null,null,{"$f":"\"\"&$I$17","v":""}]
[{"$f":"$A$4","v":4.5}]
[{"$f":"$A$8","v":16.5},"B.  DANE O POSZCZEGÓLNYCH PRZEDMIOTACH OPODATKOWANIA ZWOLNIONYCH Z OPODATKOWANIA"]
[16.5,"B.1.  GRUNTY"]
[{"$f":"$A$8*1.5","v":24.75},"Lp.","Położenie (adres, w tym dzielnica)",null,null,null,null,"Nr księgi wieczystej\n(zbioru dokumentów)","Nr obrębu\n(arkusza mapy)2)","Nr działki","Powierzchnia w m2 / ha3)","Podstawa prawna zwolnienia4)",null,"Stawka Podatku5)"]
[{"$f":"$A$2","v":9},null,"a",null,null,null,null,"b","c","d","e","f",null,"g"]
[{"$f":"$A$6","v":19.5},1]
[19.5,2]
[19.5,3]
[19.5,4]
[19.5,5]
[19.5,6]
[19.5,7]
[19.5,8]
[{"$f":"$A$2","v":9}]
[{"$f":"$A$2*2","v":18},"1)"," Numer PESEL wpisują podatnicy będący osobami fizycznymi objętymi rejestrem PESEL, nieprowadzący działalności gospodarczej lub niebędący zarejestrowanymi podatnikami podatku od towarów i usług.\nIdentyfikator podatkowy NIP wpisują pozostali podatnicy."]
[{"$f":"$A$2","v":9},"2)","Numer obrębu należy podać wraz z numerem arkusza mapy ewidencyjnej w przypadku, gdy działki numerowane są w ramach arkusza mapy."]
[{"$f":"$A$2*2","v":18},"3)"," Powierzchnię w ha należy wykazać wyłącznie w przypadku gruntów pod wodami powierzchniowymi stojącymi lub wodami powierzchniowymi płynącymi jezior i zbiorników sztucznych (z dokładnością\ndo czterech miejsc po przecinku)."]
[{"$f":"$A$8","v":16.5},null,{"$f":"'DN-1'!M10&\".\"&'DN-1'!Q24&Wersja","v":"2023.1.1.15.0.44867"},null,null,null,null,null,null,null,null,null,"ZDN-2(1)","1/2"]
[{"$f":"$A$2","v":9}]
[{"$f":"$A$2","v":9},"WYPEŁNIĆ DUŻYMI, DRUKOWANYMI LITERAMI, CZARNYM LUB NIEBIESKIM KOLOREM."]
[{"$f":"$A$4","v":4.5}]
[{"$f":"$A$8","v":16.5},"B.2.  BUDYNKI LUB ICH CZĘŚCI"]
[{"$f":"$A$8*1.5","v":24.75},"Lp.","Położenie (adres, w tym dzielnica)",null,null,null,null,"Nr księgi wieczystej\n(zbioru dokumentów)","Nr obrębu\n(arkusza mapy)2)","Nr działki","Powierzchnia użytkowa w m2","Podstawa prawna zwolnienia4)",null,"Stawka Podatku5)"]
[{"$f":"$A$2","v":9},null,"a",null,null,null,null,"b","c","d","e","f",null,"g"]
[{"$f":"$A$6","v":19.5},1]
[19.5,2]
[19.5,3]
[19.5,4]
[19.5,5]
[19.5,6]
[19.5,7]
[19.5,8]
[{"$f":"$A$8","v":16.5},"B.3.  BUDOWLE LUB ICH CZĘŚCI ZWIĄZANE Z PROWADZENIEM DZIAŁALNOŚCI GOSPODARCZEJ"]
[{"$f":"$A$8*1.5","v":24.75},"Lp.","Nazwa budowli",null,null,"Nr inwentarzowy","Położenie (adres, w tym dzielnica)",null,"Nr obrębu\n(arkusza mapy)2)","Nr działki","Wartość w zł","Podstawa prawna zwolnienia4)",null,"Stawka Podatku5)"]
[{"$f":"$A$2","v":9},null,"a",null,null,"b",null,"c","d","e","f","g",null,"h"]
[{"$f":"$A$6","v":19.5},1]
[19.5,2]
[19.5,3]
[19.5,4]
[19.5,5]
[19.5,6]
[19.5,7]
[19.5,8]
[{"$f":"$A$2","v":9}]
[9,"4)","Należy podać jednostkę redakcyjną z ustawy lub uchwały rady gminy."]
[9,"5)","Należy podać stawkę właściwą dla rodzaju przedmiotu opodatkowania zgodną z uchwałą rady gminy."]
[{"$f":"$A$2","v":9}]
[9]
[9]
[9]
[{"$f":"$A$8","v":16.5},null,"ZDN-2(1)","2/2",null,null,null,null,null,null,null,null,{"$f":"'DN-1'!M10&\".\"&'DN-1'!Q24&Wersja","v":"2023.1.1.15.0.44867"}]
[9]
[9,"Załącznik nr 7"]
[{"$f":"$A$2","v":9},"WYPEŁNIĆ DUŻYMI, DRUKOWANYMI LITERAMI, CZARNYM LUB NIEBIESKIM KOLOREM."]
[{"$f":"$A$4","v":4.5}]
[{"$f":"$A$2","v":9},"1. Identyfikator podatkowy NIP/numer PESEL (niepotrzebne skreślić)1)\n└────┴────┴────┴────┴────┴────┴────┴────┴────┴────┴────┘",null,null,null,null,null,null,"2.  Nr dokumentu"]
[{"$f":"$A$6","v":19.5},null,{"$f":"$C$6","v":0}]
[{"$f":"$A$2","v":9}]
[16.5,"ZDN-2"]
[{"$f":"$A$8","v":16.5},"ZAŁĄCZNIK DO DEKLARACJI NA PODATEK OD NIERUCHOMOŚCI"]
[{"$f":"$A$8","v":16.5},"- DANE O PRZEDMIOTACH OPODATKOWANIA ZWOLNIONYCH Z OPODATKOWANIA"]
[{"$f":"$A$2","v":9},null,null,null,null,null,null,null,null,null,null,null,"3. Nr załącznika"]
[{"$f":"$A$6","v":19.5},null,null,null,null,null,null,null,null,null,null,null,{"$f":"M216+1","v":5},null,null,null,{"$f":"IF(COUNTA(C295:O302,C314:O321,C325:O332)=0,0,1)","v":0}]
[{"$f":"$A$4","v":4.5}]
[{"$f":"$A$4","v":4.5}]
[{"$f":"$A$8*1.5","v":24.75},"A.  DANE PODATNIKA WSKAZANEGO W CZĘŚCI C.1 DEKLARACJI DN-1\n* - dotyczy podatnika niebędącego osobą fizyczną               ** - dotyczy podatnika będącego osobą fizyczną"]
[{"$f":"$A$2","v":9},null,"4. Nazwa pełna * / Nazwisko **",null,null,null,null,null,"5. Nazwa skrócona * / Pierwsze imię **"]
[{"$f":"$A$6","v":19.5},null,{"$f":"\"\"&$C$17","v":""},null,null,null,null,null,{"$f":"\"\"&$I$17","v":""}]
[{"$f":"$A$4","v":4.5}]
[{"$f":"$A$8","v":16.5},"B.  DANE O POSZCZEGÓLNYCH PRZEDMIOTACH OPODATKOWANIA ZWOLNIONYCH Z OPODATKOWANIA"]
[16.5,"B.1.  GRUNTY"]
[{"$f":"$A$8*1.5","v":24.75},"Lp.","Położenie (adres, w tym dzielnica)",null,null,null,null,"Nr księgi wieczystej\n(zbioru dokumentów)","Nr obrębu\n(arkusza mapy)2)","Nr działki","Powierzchnia w m2 / ha3)","Podstawa prawna zwolnienia4)",null,"Stawka Podatku5)"]
[{"$f":"$A$2","v":9},null,"a",null,null,null,null,"b","c","d","e","f",null,"g"]
[{"$f":"$A$6","v":19.5},1]
[19.5,2]
[19.5,3]
[19.5,4]
[19.5,5]
[19.5,6]
[19.5,7]
[19.5,8]
[{"$f":"$A$2","v":9}]
[{"$f":"$A$2*2","v":18},"1)"," Numer PESEL wpisują podatnicy będący osobami fizycznymi objętymi rejestrem PESEL, nieprowadzący działalności gospodarczej lub niebędący zarejestrowanymi podatnikami podatku od towarów i usług.\nIdentyfikator podatkowy NIP wpisują pozostali podatnicy."]
[{"$f":"$A$2","v":9},"2)","Numer obrębu należy podać wraz z numerem arkusza mapy ewidencyjnej w przypadku, gdy działki numerowane są w ramach arkusza mapy."]
[{"$f":"$A$2*2","v":18},"3)"," Powierzchnię w ha należy wykazać wyłącznie w przypadku gruntów pod wodami powierzchniowymi stojącymi lub wodami powierzchniowymi płynącymi jezior i zbiorników sztucznych (z dokładnością\ndo czterech miejsc po przecinku)."]
[{"$f":"$A$8","v":16.5},null,{"$f":"'DN-1'!M10&\".\"&'DN-1'!Q24&Wersja","v":"2023.1.1.15.0.44867"},null,null,null,null,null,null,null,null,null,"ZDN-2(1)","1/2"]
[{"$f":"$A$2","v":9}]
[{"$f":"$A$2","v":9},"WYPEŁNIĆ DUŻYMI, DRUKOWANYMI LITERAMI, CZARNYM LUB NIEBIESKIM KOLOREM."]
[{"$f":"$A$4","v":4.5}]
[{"$f":"$A$8","v":16.5},"B.2.  BUDYNKI LUB ICH CZĘŚCI"]
[{"$f":"$A$8*1.5","v":24.75},"Lp.","Położenie (adres, w tym dzielnica)",null,null,null,null,"Nr księgi wieczystej\n(zbioru dokumentów)","Nr obrębu\n(arkusza mapy)2)","Nr działki","Powierzchnia użytkowa w m2","Podstawa prawna zwolnienia4)",null,"Stawka Podatku5)"]
[{"$f":"$A$2","v":9},null,"a",null,null,null,null,"b","c","d","e","f",null,"g"]
[{"$f":"$A$6","v":19.5},1]
[19.5,2]
[19.5,3]
[19.5,4]
[19.5,5]
[19.5,6]
[19.5,7]
[19.5,8]
[{"$f":"$A$8","v":16.5},"B.3.  BUDOWLE LUB ICH CZĘŚCI ZWIĄZANE Z PROWADZENIEM DZIAŁALNOŚCI GOSPODARCZEJ"]
[{"$f":"$A$8*1.5","v":24.75},"Lp.","Nazwa budowli",null,null,"Nr inwentarzowy","Położenie (adres, w tym dzielnica)",null,"Nr obrębu\n(arkusza mapy)2)","Nr działki","Wartość w zł","Podstawa prawna zwolnienia4)",null,"Stawka Podatku5)"]
[{"$f":"$A$2","v":9},null,"a",null,null,"b",null,"c","d","e","f","g",null,"h"]
[{"$f":"$A$6","v":19.5},1]
[19.5,2]
[19.5,3]
[19.5,4]
[19.5,5]
[19.5,6]
[19.5,7]
[19.5,8]
[{"$f":"$A$2","v":9}]
[9,"4)","Należy podać jednostkę redakcyjną z ustawy lub uchwały rady gminy."]
[9,"5)","Należy podać stawkę właściwą dla rodzaju przedmiotu opodatkowania zgodną z uchwałą rady gminy."]
[{"$f":"$A$2","v":9}]
[9]
[9]
[9]
[{"$f":"$A$8","v":16.5},null,"ZDN-2(1)","2/2",null,null,null,null,null,null,null,null,{"$f":"'DN-1'!M10&\".\"&'DN-1'!Q24&Wersja","v":"2023.1.1.15.0.44867"}]
[9]
[9,"Załącznik nr 7"]
[{"$f":"$A$2","v":9},"WYPEŁNIĆ DUŻYMI, DRUKOWANYMI LITERAMI, CZARNYM LUB NIEBIESKIM KOLOREM."]
[{"$f":"$A$4","v":4.5}]
[{"$f":"$A$2","v":9},"1. Identyfikator podatkowy NIP/numer PESEL (niepotrzebne skreślić)1)\n└────┴────┴────┴────┴────┴────┴────┴────┴────┴────┴────┘",null,null,null,null,null,null,"2.  Nr dokumentu"]
[{"$f":"$A$6","v":19.5},null,{"$f":"$C$6","v":0}]
[{"$f":"$A$2","v":9}]
[16.5,"ZDN-2"]
[{"$f":"$A$8","v":16.5},"ZAŁĄCZNIK DO DEKLARACJI NA PODATEK OD NIERUCHOMOŚCI"]
[{"$f":"$A$8","v":16.5},"- DANE O PRZEDMIOTACH OPODATKOWANIA ZWOLNIONYCH Z OPODATKOWANIA"]
[{"$f":"$A$2","v":9},null,null,null,null,null,null,null,null,null,null,null,"3. Nr załącznika"]
[{"$f":"$A$6","v":19.5},null,null,null,null,null,null,null,null,null,null,null,{"$f":"M284+1","v":6},null,null,null,{"$f":"IF(COUNTA(C363:O370,C382:O389,C393:O400)=0,0,1)","v":0}]
[{"$f":"$A$4","v":4.5}]
[{"$f":"$A$4","v":4.5}]
[{"$f":"$A$8*1.5","v":24.75},"A.  DANE PODATNIKA WSKAZANEGO W CZĘŚCI C.1 DEKLARACJI DN-1\n* - dotyczy podatnika niebędącego osobą fizyczną               ** - dotyczy podatnika będącego osobą fizyczną"]
[{"$f":"$A$2","v":9},null,"4. Nazwa pełna * / Nazwisko **",null,null,null,null,null,"5. Nazwa skrócona * / Pierwsze imię **"]
[{"$f":"$A$6","v":19.5},null,{"$f":"\"\"&$C$17","v":""},null,null,null,null,null,{"$f":"\"\"&$I$17","v":""}]
[{"$f":"$A$4","v":4.5}]
[{"$f":"$A$8","v":16.5},"B.  DANE O POSZCZEGÓLNYCH PRZEDMIOTACH OPODATKOWANIA ZWOLNIONYCH Z OPODATKOWANIA"]
[16.5,"B.1.  GRUNTY"]
[{"$f":"$A$8*1.5","v":24.75},"Lp.","Położenie (adres, w tym dzielnica)",null,null,null,null,"Nr księgi wieczystej\n(zbioru dokumentów)","Nr obrębu\n(arkusza mapy)2)","Nr działki","Powierzchnia w m2 / ha3)","Podstawa prawna zwolnienia4)",null,"Stawka Podatku5)"]
[{"$f":"$A$2","v":9},null,"a",null,null,null,null,"b","c","d","e","f",null,"g"]
[{"$f":"$A$6","v":19.5},1]
[19.5,2]
[19.5,3]
[19.5,4]
[19.5,5]
[19.5,6]
[19.5,7]
[19.5,8]
[{"$f":"$A$2","v":9}]
[{"$f":"$A$2*2","v":18},"1)"," Numer PESEL wpisują podatnicy będący osobami fizycznymi objętymi rejestrem PESEL, nieprowadzący działalności gospodarczej lub niebędący zarejestrowanymi podatnikami podatku od towarów i usług.\nIdentyfikator podatkowy NIP wpisują pozostali podatnicy."]
[{"$f":"$A$2","v":9},"2)","Numer obrębu należy podać wraz z numerem arkusza mapy ewidencyjnej w przypadku, gdy działki numerowane są w ramach arkusza mapy."]
[{"$f":"$A$2*2","v":18},"3)"," Powierzchnię w ha należy wykazać wyłącznie w przypadku gruntów pod wodami powierzchniowymi stojącymi lub wodami powierzchniowymi płynącymi jezior i zbiorników sztucznych (z dokładnością\ndo czterech miejsc po przecinku)."]
[{"$f":"$A$8","v":16.5},null,{"$f":"'DN-1'!M10&\".\"&'DN-1'!Q24&Wersja","v":"2023.1.1.15.0.44867"},null,null,null,null,null,null,null,null,null,"ZDN-2(1)","1/2"]
[{"$f":"$A$2","v":9}]
[{"$f":"$A$2","v":9},"WYPEŁNIĆ DUŻYMI, DRUKOWANYMI LITERAMI, CZARNYM LUB NIEBIESKIM KOLOREM."]
[{"$f":"$A$4","v":4.5}]
[{"$f":"$A$8","v":16.5},"B.2.  BUDYNKI LUB ICH CZĘŚCI"]
[{"$f":"$A$8*1.5","v":24.75},"Lp.","Położenie (adres, w tym dzielnica)",null,null,null,null,"Nr księgi wieczystej\n(zbioru dokumentów)","Nr obrębu\n(arkusza mapy)2)","Nr działki","Powierzchnia użytkowa w m2","Podstawa prawna zwolnienia4)",null,"Stawka Podatku5)"]
[{"$f":"$A$2","v":9},null,"a",null,null,null,null,"b","c","d","e","f",null,"g"]
[{"$f":"$A$6","v":19.5},1]
[19.5,2]
[19.5,3]
[19.5,4]
[19.5,5]
[19.5,6]
[19.5,7]
[19.5,8]
[{"$f":"$A$8","v":16.5},"B.3.  BUDOWLE LUB ICH CZĘŚCI ZWIĄZANE Z PROWADZENIEM DZIAŁALNOŚCI GOSPODARCZEJ"]
[{"$f":"$A$8*1.5","v":24.75},"Lp.","Nazwa budowli",null,null,"Nr inwentarzowy","Położenie (adres, w tym dzielnica)",null,"Nr obrębu\n(arkusza mapy)2)","Nr działki","Wartość w zł","Podstawa prawna zwolnienia4)",null,"Stawka Podatku5)"]
[{"$f":"$A$2","v":9},null,"a",null,null,"b",null,"c","d","e","f","g",null,"h"]
[{"$f":"$A$6","v":19.5},1]
[19.5,2]
[19.5,3]
[19.5,4]
[19.5,5]
[19.5,6]
[19.5,7]
[19.5,8]
[{"$f":"$A$2","v":9}]
[9,"4)","Należy podać jednostkę redakcyjną z ustawy lub uchwały rady gminy."]
[9,"5)","Należy podać stawkę właściwą dla rodzaju przedmiotu opodatkowania zgodną z uchwałą rady gminy."]
[{"$f":"$A$2","v":9}]
[9]
[9]
[9]
[{"$f":"$A$8","v":16.5},null,"ZDN-2(1)","2/2",null,null,null,null,null,null,null,null,{"$f":"'DN-1'!M10&\".\"&'DN-1'!Q24&Wersja","v":"2023.1.1.15.0.44867"}]
[9]
[9,"Załącznik nr 7"]
[{"$f":"$A$2","v":9},"WYPEŁNIĆ DUŻYMI, DRUKOWANYMI LITERAMI, CZARNYM LUB NIEBIESKIM KOLOREM."]
[{"$f":"$A$4","v":4.5}]
[{"$f":"$A$2","v":9},"1. Identyfikator podatkowy NIP/numer PESEL (niepotrzebne skreślić)1)\n└────┴────┴────┴────┴────┴────┴────┴────┴────┴────┴────┘",null,null,null,null,null,null,"2.  Nr dokumentu"]
[{"$f":"$A$6","v":19.5},null,{"$f":"$C$6","v":0}]
[{"$f":"$A$2","v":9}]
[16.5,"ZDN-2"]
[{"$f":"$A$8","v":16.5},"ZAŁĄCZNIK DO DEKLARACJI NA PODATEK OD NIERUCHOMOŚCI"]
[{"$f":"$A$8","v":16.5},"- DANE O PRZEDMIOTACH OPODATKOWANIA ZWOLNIONYCH Z OPODATKOWANIA"]
[{"$f":"$A$2","v":9},null,null,null,null,null,null,null,null,null,null,null,"3. Nr załącznika"]
[{"$f":"$A$6","v":19.5},null,null,null,null,null,null,null,null,null,null,null,{"$f":"M352+1","v":7},null,null,null,{"$f":"IF(COUNTA(C431:O438,C450:O457,C461:O468)=0,0,1)","v":0}]
[{"$f":"$A$4","v":4.5}]
[{"$f":"$A$4","v":4.5}]
[{"$f":"$A$8*1.5","v":24.75},"A.  DANE PODATNIKA WSKAZANEGO W CZĘŚCI C.1 DEKLARACJI DN-1\n* - dotyczy podatnika niebędącego osobą fizyczną               ** - dotyczy podatnika będącego osobą fizyczną"]
[{"$f":"$A$2","v":9},null,"4. Nazwa pełna * / Nazwisko **",null,null,null,null,null,"5. Nazwa skrócona * / Pierwsze imię **"]
[{"$f":"$A$6","v":19.5},null,{"$f":"\"\"&$C$17","v":""},null,null,null,null,null,{"$f":"\"\"&$I$17","v":""}]
[{"$f":"$A$4","v":4.5}]
[{"$f":"$A$8","v":16.5},"B.  DANE O POSZCZEGÓLNYCH PRZEDMIOTACH OPODATKOWANIA ZWOLNIONYCH Z OPODATKOWANIA"]
[16.5,"B.1.  GRUNTY"]
[{"$f":"$A$8*1.5","v":24.75},"Lp.","Położenie (adres, w tym dzielnica)",null,null,null,null,"Nr księgi wieczystej\n(zbioru dokumentów)","Nr obrębu\n(arkusza mapy)2)","Nr działki","Powierzchnia w m2 / ha3)","Podstawa prawna zwolnienia4)",null,"Stawka Podatku5)"]
[{"$f":"$A$2","v":9},null,"a",null,null,null,null,"b","c","d","e","f",null,"g"]
[{"$f":"$A$6","v":19.5},1]
[19.5,2]
[19.5,3]
[19.5,4]
[19.5,5]
[19.5,6]
[19.5,7]
[19.5,8]
[{"$f":"$A$2","v":9}]
[{"$f":"$A$2*2","v":18},"1)"," Numer PESEL wpisują podatnicy będący osobami fizycznymi objętymi rejestrem PESEL, nieprowadzący działalności gospodarczej lub niebędący zarejestrowanymi podatnikami podatku od towarów i usług.\nIdentyfikator podatkowy NIP wpisują pozostali podatnicy."]
[{"$f":"$A$2","v":9},"2)","Numer obrębu należy podać wraz z numerem arkusza mapy ewidencyjnej w przypadku, gdy działki numerowane są w ramach arkusza mapy."]
[{"$f":"$A$2*2","v":18},"3)"," Powierzchnię w ha należy wykazać wyłącznie w przypadku gruntów pod wodami powierzchniowymi stojącymi lub wodami powierzchniowymi płynącymi jezior i zbiorników sztucznych (z dokładnością\ndo czterech miejsc po przecinku)."]
[{"$f":"$A$8","v":16.5},null,{"$f":"'DN-1'!M10&\".\"&'DN-1'!Q24&Wersja","v":"2023.1.1.15.0.44867"},null,null,null,null,null,null,null,null,null,"ZDN-2(1)","1/2"]
[{"$f":"$A$2","v":9}]
[{"$f":"$A$2","v":9},"WYPEŁNIĆ DUŻYMI, DRUKOWANYMI LITERAMI, CZARNYM LUB NIEBIESKIM KOLOREM."]
[{"$f":"$A$4","v":4.5}]
[{"$f":"$A$8","v":16.5},"B.2.  BUDYNKI LUB ICH CZĘŚCI"]
[{"$f":"$A$8*1.5","v":24.75},"Lp.","Położenie (adres, w tym dzielnica)",null,null,null,null,"Nr księgi wieczystej\n(zbioru dokumentów)","Nr obrębu\n(arkusza mapy)2)","Nr działki","Powierzchnia użytkowa w m2","Podstawa prawna zwolnienia4)",null,"Stawka Podatku5)"]
[{"$f":"$A$2","v":9},null,"a",null,null,null,null,"b","c","d","e","f",null,"g"]
[{"$f":"$A$6","v":19.5},1]
[19.5,2]
[19.5,3]
[19.5,4]
[19.5,5]
[19.5,6]
[19.5,7]
[19.5,8]
[{"$f":"$A$8","v":16.5},"B.3.  BUDOWLE LUB ICH CZĘŚCI ZWIĄZANE Z PROWADZENIEM DZIAŁALNOŚCI GOSPODARCZEJ"]
[{"$f":"$A$8*1.5","v":24.75},"Lp.","Nazwa budowli",null,null,"Nr inwentarzowy","Położenie (adres, w tym dzielnica)",null,"Nr obrębu\n(arkusza mapy)2)","Nr działki","Wartość w zł","Podstawa prawna zwolnienia4)",null,"Stawka Podatku5)"]
[{"$f":"$A$2","v":9},null,"a",null,null,"b",null,"c","d","e","f","g",null,"h"]
[{"$f":"$A$6","v":19.5},1]
[19.5,2]
[19.5,3]
[19.5,4]
[19.5,5]
[19.5,6]
[19.5,7]
[19.5,8]
[{"$f":"$A$2","v":9}]
[9,"4)","Należy podać jednostkę redakcyjną z ustawy lub uchwały rady gminy."]
[9,"5)","Należy podać stawkę właściwą dla rodzaju przedmiotu opodatkowania zgodną z uchwałą rady gminy."]
[{"$f":"$A$2","v":9}]
[9]
[9]
[9]
[{"$f":"$A$8","v":16.5},null,"ZDN-2(1)","2/2",null,null,null,null,null,null,null,null,{"$f":"'DN-1'!M10&\".\"&'DN-1'!Q24&Wersja","v":"2023.1.1.15.0.44867"}]
[9]
[9,"Załącznik nr 7"]
[{"$f":"$A$2","v":9},"WYPEŁNIĆ DUŻYMI, DRUKOWANYMI LITERAMI, CZARNYM LUB NIEBIESKIM KOLOREM."]
[{"$f":"$A$4","v":4.5}]
[{"$f":"$A$2","v":9},"1. Identyfikator podatkowy NIP/numer PESEL (niepotrzebne skreślić)1)\n└────┴────┴────┴────┴────┴────┴────┴────┴────┴────┴────┘",null,null,null,null,null,null,"2.  Nr dokumentu"]
[{"$f":"$A$6","v":19.5},null,{"$f":"$C$6","v":0}]
[{"$f":"$A$2","v":9}]
[16.5,"ZDN-2"]
[{"$f":"$A$8","v":16.5},"ZAŁĄCZNIK DO DEKLARACJI NA PODATEK OD NIERUCHOMOŚCI"]
[{"$f":"$A$8","v":16.5},"- DANE O PRZEDMIOTACH OPODATKOWANIA ZWOLNIONYCH Z OPODATKOWANIA"]
[{"$f":"$A$2","v":9},null,null,null,null,null,null,null,null,null,null,null,"3. Nr załącznika"]
[{"$f":"$A$6","v":19.5},null,null,null,null,null,null,null,null,null,null,null,{"$f":"M420+1","v":8},null,null,null,{"$f":"IF(COUNTA(C499:O506,C518:O525,C529:O536)=0,0,1)","v":0}]
[{"$f":"$A$4","v":4.5}]
[{"$f":"$A$4","v":4.5}]
[{"$f":"$A$8*1.5","v":24.75},"A.  DANE PODATNIKA WSKAZANEGO W CZĘŚCI C.1 DEKLARACJI DN-1\n* - dotyczy podatnika niebędącego osobą fizyczną               ** - dotyczy podatnika będącego osobą fizyczną"]
[{"$f":"$A$2","v":9},null,"4. Nazwa pełna * / Nazwisko **",null,null,null,null,null,"5. Nazwa skrócona * / Pierwsze imię **"]
[{"$f":"$A$6","v":19.5},null,{"$f":"\"\"&$C$17","v":""},null,null,null,null,null,{"$f":"\"\"&$I$17","v":""}]
[{"$f":"$A$4","v":4.5}]
[{"$f":"$A$8","v":16.5},"B.  DANE O POSZCZEGÓLNYCH PRZEDMIOTACH OPODATKOWANIA ZWOLNIONYCH Z OPODATKOWANIA"]
[16.5,"B.1.  GRUNTY"]
[{"$f":"$A$8*1.5","v":24.75},"Lp.","Położenie (adres, w tym dzielnica)",null,null,null,null,"Nr księgi wieczystej\n(zbioru dokumentów)","Nr obrębu\n(arkusza mapy)2)","Nr działki","Powierzchnia w m2 / ha3)","Podstawa prawna zwolnienia4)",null,"Stawka Podatku5)"]
[{"$f":"$A$2","v":9},null,"a",null,null,null,null,"b","c","d","e","f",null,"g"]
[{"$f":"$A$6","v":19.5},1]
[19.5,2]
[19.5,3]
[19.5,4]
[19.5,5]
[19.5,6]
[19.5,7]
[19.5,8]
[{"$f":"$A$2","v":9}]
[{"$f":"$A$2*2","v":18},"1)"," Numer PESEL wpisują podatnicy będący osobami fizycznymi objętymi rejestrem PESEL, nieprowadzący działalności gospodarczej lub niebędący zarejestrowanymi podatnikami podatku od towarów i usług.\nIdentyfikator podatkowy NIP wpisują pozostali podatnicy."]
[{"$f":"$A$2","v":9},"2)","Numer obrębu należy podać wraz z numerem arkusza mapy ewidencyjnej w przypadku, gdy działki numerowane są w ramach arkusza mapy."]
[{"$f":"$A$2*2","v":18},"3)"," Powierzchnię w ha należy wykazać wyłącznie w przypadku gruntów pod wodami powierzchniowymi stojącymi lub wodami powierzchniowymi płynącymi jezior i zbiorników sztucznych (z dokładnością\ndo czterech miejsc po przecinku)."]
[{"$f":"$A$8","v":16.5},null,{"$f":"'DN-1'!M10&\".\"&'DN-1'!Q24&Wersja","v":"2023.1.1.15.0.44867"},null,null,null,null,null,null,null,null,null,"ZDN-2(1)","1/2"]
[{"$f":"$A$2","v":9}]
[{"$f":"$A$2","v":9},"WYPEŁNIĆ DUŻYMI, DRUKOWANYMI LITERAMI, CZARNYM LUB NIEBIESKIM KOLOREM."]
[{"$f":"$A$4","v":4.5}]
[{"$f":"$A$8","v":16.5},"B.2.  BUDYNKI LUB ICH CZĘŚCI"]
[{"$f":"$A$8*1.5","v":24.75},"Lp.","Położenie (adres, w tym dzielnica)",null,null,null,null,"Nr księgi wieczystej\n(zbioru dokumentów)","Nr obrębu\n(arkusza mapy)2)","Nr działki","Powierzchnia użytkowa w m2","Podstawa prawna zwolnienia4)",null,"Stawka Podatku5)"]
[{"$f":"$A$2","v":9},null,"a",null,null,null,null,"b","c","d","e","f",null,"g"]
[{"$f":"$A$6","v":19.5},1]
[19.5,2]
[19.5,3]
[19.5,4]
[19.5,5]
[19.5,6]
[19.5,7]
[19.5,8]
[{"$f":"$A$8","v":16.5},"B.3.  BUDOWLE LUB ICH CZĘŚCI ZWIĄZANE Z PROWADZENIEM DZIAŁALNOŚCI GOSPODARCZEJ"]
[{"$f":"$A$8*1.5","v":24.75},"Lp.","Nazwa budowli",null,null,"Nr inwentarzowy","Położenie (adres, w tym dzielnica)",null,"Nr obrębu\n(arkusza mapy)2)","Nr działki","Wartość w zł","Podstawa prawna zwolnienia4)",null,"Stawka Podatku5)"]
[{"$f":"$A$2","v":9},null,"a",null,null,"b",null,"c","d","e","f","g",null,"h"]
[{"$f":"$A$6","v":19.5},1]
[19.5,2]
[19.5,3]
[19.5,4]
[19.5,5]
[19.5,6]
[19.5,7]
[19.5,8]
[{"$f":"$A$2","v":9}]
[9,"4)","Należy podać jednostkę redakcyjną z ustawy lub uchwały rady gminy."]
[9,"5)","Należy podać stawkę właściwą dla rodzaju przedmiotu opodatkowania zgodną z uchwałą rady gminy."]
[{"$f":"$A$2","v":9}]
[9]
[9]
[9]
[{"$f":"$A$8","v":16.5},null,"ZDN-2(1)","2/2",null,null,null,null,null,null,null,null,{"$f":"'DN-1'!M10&\".\"&'DN-1'!Q24&Wersja","v":"2023.1.1.15.0.44867"}]
[9]
[9,"Załącznik nr 7"]
[{"$f":"$A$2","v":9},"WYPEŁNIĆ DUŻYMI, DRUKOWANYMI LITERAMI, CZARNYM LUB NIEBIESKIM KOLOREM."]
[{"$f":"$A$4","v":4.5}]
[{"$f":"$A$2","v":9},"1. Identyfikator podatkowy NIP/numer PESEL (niepotrzebne skreślić)1)\n└────┴────┴────┴────┴────┴────┴────┴────┴────┴────┴────┘",null,null,null,null,null,null,"2.  Nr dokumentu"]
[{"$f":"$A$6","v":19.5},null,{"$f":"$C$6","v":0}]
[{"$f":"$A$2","v":9}]
[16.5,"ZDN-2"]
[{"$f":"$A$8","v":16.5},"ZAŁĄCZNIK DO DEKLARACJI NA PODATEK OD NIERUCHOMOŚCI"]
[{"$f":"$A$8","v":16.5},"- DANE O PRZEDMIOTACH OPODATKOWANIA ZWOLNIONYCH Z OPODATKOWANIA"]
[{"$f":"$A$2","v":9},null,null,null,null,null,null,null,null,null,null,null,"3. Nr załącznika"]
[{"$f":"$A$6","v":19.5},null,null,null,null,null,null,null,null,null,null,null,{"$f":"M488+1","v":9},null,null,null,{"$f":"IF(COUNTA(C567:O574,C586:O593,C597:O604)=0,0,1)","v":0}]
[{"$f":"$A$4","v":4.5}]
[{"$f":"$A$4","v":4.5}]
[{"$f":"$A$8*1.5","v":24.75},"A.  DANE PODATNIKA WSKAZANEGO W CZĘŚCI C.1 DEKLARACJI DN-1\n* - dotyczy podatnika niebędącego osobą fizyczną               ** - dotyczy podatnika będącego osobą fizyczną"]
[{"$f":"$A$2","v":9},null,"4. Nazwa pełna * / Nazwisko **",null,null,null,null,null,"5. Nazwa skrócona * / Pierwsze imię **"]
[{"$f":"$A$6","v":19.5},null,{"$f":"\"\"&$C$17","v":""},null,null,null,null,null,{"$f":"\"\"&$I$17","v":""}]
[{"$f":"$A$4","v":4.5}]
[{"$f":"$A$8","v":16.5},"B.  DANE O POSZCZEGÓLNYCH PRZEDMIOTACH OPODATKOWANIA ZWOLNIONYCH Z OPODATKOWANIA"]
[16.5,"B.1.  GRUNTY"]
[{"$f":"$A$8*1.5","v":24.75},"Lp.","Położenie (adres, w tym dzielnica)",null,null,null,null,"Nr księgi wieczystej\n(zbioru dokumentów)","Nr obrębu\n(arkusza mapy)2)","Nr działki","Powierzchnia w m2 / ha3)","Podstawa prawna zwolnienia4)",null,"Stawka Podatku5)"]
[{"$f":"$A$2","v":9},null,"a",null,null,null,null,"b","c","d","e","f",null,"g"]
[{"$f":"$A$6","v":19.5},1]
[19.5,2]
[19.5,3]
[19.5,4]
[19.5,5]
[19.5,6]
[19.5,7]
[19.5,8]
[{"$f":"$A$2","v":9}]
[{"$f":"$A$2*2","v":18},"1)"," Numer PESEL wpisują podatnicy będący osobami fizycznymi objętymi rejestrem PESEL, nieprowadzący działalności gospodarczej lub niebędący zarejestrowanymi podatnikami podatku od towarów i usług.\nIdentyfikator podatkowy NIP wpisują pozostali podatnicy."]
[{"$f":"$A$2","v":9},"2)","Numer obrębu należy podać wraz z numerem arkusza mapy ewidencyjnej w przypadku, gdy działki numerowane są w ramach arkusza mapy."]
[{"$f":"$A$2*2","v":18},"3)"," Powierzchnię w ha należy wykazać wyłącznie w przypadku gruntów pod wodami powierzchniowymi stojącymi lub wodami powierzchniowymi płynącymi jezior i zbiorników sztucznych (z dokładnością\ndo czterech miejsc po przecinku)."]
[{"$f":"$A$8","v":16.5},null,{"$f":"'DN-1'!M10&\".\"&'DN-1'!Q24&Wersja","v":"2023.1.1.15.0.44867"},null,null,null,null,null,null,null,null,null,"ZDN-2(1)","1/2"]
[{"$f":"$A$2","v":9}]
[{"$f":"$A$2","v":9},"WYPEŁNIĆ DUŻYMI, DRUKOWANYMI LITERAMI, CZARNYM LUB NIEBIESKIM KOLOREM."]
[{"$f":"$A$4","v":4.5}]
[{"$f":"$A$8","v":16.5},"B.2.  BUDYNKI LUB ICH CZĘŚCI"]
[{"$f":"$A$8*1.5","v":24.75},"Lp.","Położenie (adres, w tym dzielnica)",null,null,null,null,"Nr księgi wieczystej\n(zbioru dokumentów)","Nr obrębu\n(arkusza mapy)2)","Nr działki","Powierzchnia użytkowa w m2","Podstawa prawna zwolnienia4)",null,"Stawka Podatku5)"]
[{"$f":"$A$2","v":9},null,"a",null,null,null,null,"b","c","d","e","f",null,"g"]
[{"$f":"$A$6","v":19.5},1]
[19.5,2]
[19.5,3]
[19.5,4]
[19.5,5]
[19.5,6]
[19.5,7]
[19.5,8]
[{"$f":"$A$8","v":16.5},"B.3.  BUDOWLE LUB ICH CZĘŚCI ZWIĄZANE Z PROWADZENIEM DZIAŁALNOŚCI GOSPODARCZEJ"]
[{"$f":"$A$8*1.5","v":24.75},"Lp.","Nazwa budowli",null,null,"Nr inwentarzowy","Położenie (adres, w tym dzielnica)",null,"Nr obrębu\n(arkusza mapy)2)","Nr działki","Wartość w zł","Podstawa prawna zwolnienia4)",null,"Stawka Podatku5)"]
[{"$f":"$A$2","v":9},null,"a",null,null,"b",null,"c","d","e","f","g",null,"h"]
[{"$f":"$A$6","v":19.5},1]
[19.5,2]
[19.5,3]
[19.5,4]
[19.5,5]
[19.5,6]
[19.5,7]
[19.5,8]
[{"$f":"$A$2","v":9}]
[9,"4)","Należy podać jednostkę redakcyjną z ustawy lub uchwały rady gminy."]
[9,"5)","Należy podać stawkę właściwą dla rodzaju przedmiotu opodatkowania zgodną z uchwałą rady gminy."]
[{"$f":"$A$2","v":9}]
[9]
[9]
[9]
[{"$f":"$A$8","v":16.5},null,"ZDN-2(1)","2/2",null,null,null,null,null,null,null,null,{"$f":"'DN-1'!M10&\".\"&'DN-1'!Q24&Wersja","v":"2023.1.1.15.0.44867"}]
[9]
[9,"Załącznik nr 7"]
[{"$f":"$A$2","v":9},"WYPEŁNIĆ DUŻYMI, DRUKOWANYMI LITERAMI, CZARNYM LUB NIEBIESKIM KOLOREM."]
[{"$f":"$A$4","v":4.5}]
[{"$f":"$A$2","v":9},"1. Identyfikator podatkowy NIP/numer PESEL (niepotrzebne skreślić)1)\n└────┴────┴────┴────┴────┴────┴────┴────┴────┴────┴────┘",null,null,null,null,null,null,"2.  Nr dokumentu"]
[{"$f":"$A$6","v":19.5},null,{"$f":"$C$6","v":0}]
[{"$f":"$A$2","v":9}]
[16.5,"ZDN-2"]
[{"$f":"$A$8","v":16.5},"ZAŁĄCZNIK DO DEKLARACJI NA PODATEK OD NIERUCHOMOŚCI"]
[{"$f":"$A$8","v":16.5},"- DANE O PRZEDMIOTACH OPODATKOWANIA ZWOLNIONYCH Z OPODATKOWANIA"]
[{"$f":"$A$2","v":9},null,null,null,null,null,null,null,null,null,null,null,"3. Nr załącznika"]
[{"$f":"$A$6","v":19.5},null,null,null,null,null,null,null,null,null,null,null,{"$f":"M556+1","v":10},null,null,null,{"$f":"IF(COUNTA(C635:O642,C654:O661,C665:O672)=0,0,1)","v":0}]
[{"$f":"$A$4","v":4.5}]
[{"$f":"$A$4","v":4.5}]
[{"$f":"$A$8*1.5","v":24.75},"A.  DANE PODATNIKA WSKAZANEGO W CZĘŚCI C.1 DEKLARACJI DN-1\n* - dotyczy podatnika niebędącego osobą fizyczną               ** - dotyczy podatnika będącego osobą fizyczną"]
[{"$f":"$A$2","v":9},null,"4. Nazwa pełna * / Nazwisko **",null,null,null,null,null,"5. Nazwa skrócona * / Pierwsze imię **"]
[{"$f":"$A$6","v":19.5},null,{"$f":"\"\"&$C$17","v":""},null,null,null,null,null,{"$f":"\"\"&$I$17","v":""}]
[{"$f":"$A$4","v":4.5}]
[{"$f":"$A$8","v":16.5},"B.  DANE O POSZCZEGÓLNYCH PRZEDMIOTACH OPODATKOWANIA ZWOLNIONYCH Z OPODATKOWANIA"]
[16.5,"B.1.  GRUNTY"]
[{"$f":"$A$8*1.5","v":24.75},"Lp.","Położenie (adres, w tym dzielnica)",null,null,null,null,"Nr księgi wieczystej\n(zbioru dokumentów)","Nr obrębu\n(arkusza mapy)2)","Nr działki","Powierzchnia w m2 / ha3)","Podstawa prawna zwolnienia4)",null,"Stawka Podatku5)"]
[{"$f":"$A$2","v":9},null,"a",null,null,null,null,"b","c","d","e","f",null,"g"]
[{"$f":"$A$6","v":19.5},1]
[19.5,2]
[19.5,3]
[19.5,4]
[19.5,5]
[19.5,6]
[19.5,7]
[19.5,8]
[{"$f":"$A$2","v":9}]
[{"$f":"$A$2*2","v":18},"1)"," Numer PESEL wpisują podatnicy będący osobami fizycznymi objętymi rejestrem PESEL, nieprowadzący działalności gospodarczej lub niebędący zarejestrowanymi podatnikami podatku od towarów i usług.\nIdentyfikator podatkowy NIP wpisują pozostali podatnicy."]
[{"$f":"$A$2","v":9},"2)","Numer obrębu należy podać wraz z numerem arkusza mapy ewidencyjnej w przypadku, gdy działki numerowane są w ramach arkusza mapy."]
[{"$f":"$A$2*2","v":18},"3)"," Powierzchnię w ha należy wykazać wyłącznie w przypadku gruntów pod wodami powierzchniowymi stojącymi lub wodami powierzchniowymi płynącymi jezior i zbiorników sztucznych (z dokładnością\ndo czterech miejsc po przecinku)."]
[{"$f":"$A$8","v":16.5},null,{"$f":"'DN-1'!M10&\".\"&'DN-1'!Q24&Wersja","v":"2023.1.1.15.0.44867"},null,null,null,null,null,null,null,null,null,"ZDN-2(1)","1/2"]
[{"$f":"$A$2","v":9}]
[{"$f":"$A$2","v":9},"WYPEŁNIĆ DUŻYMI, DRUKOWANYMI LITERAMI, CZARNYM LUB NIEBIESKIM KOLOREM."]
[{"$f":"$A$4","v":4.5}]
[{"$f":"$A$8","v":16.5},"B.2.  BUDYNKI LUB ICH CZĘŚCI"]
[{"$f":"$A$8*1.5","v":24.75},"Lp.","Położenie (adres, w tym dzielnica)",null,null,null,null,"Nr księgi wieczystej\n(zbioru dokumentów)","Nr obrębu\n(arkusza mapy)2)","Nr działki","Powierzchnia użytkowa w m2","Podstawa prawna zwolnienia4)",null,"Stawka Podatku5)"]
[{"$f":"$A$2","v":9},null,"a",null,null,null,null,"b","c","d","e","f",null,"g"]
[{"$f":"$A$6","v":19.5},1]
[19.5,2]
[19.5,3]
[19.5,4]
[19.5,5]
[19.5,6]
[19.5,7]
[19.5,8]
[{"$f":"$A$8","v":16.5},"B.3.  BUDOWLE LUB ICH CZĘŚCI ZWIĄZANE Z PROWADZENIEM DZIAŁALNOŚCI GOSPODARCZEJ"]
[{"$f":"$A$8*1.5","v":24.75},"Lp.","Nazwa budowli",null,null,"Nr inwentarzowy","Położenie (adres, w tym dzielnica)",null,"Nr obrębu\n(arkusza mapy)2)","Nr działki","Wartość w zł","Podstawa prawna zwolnienia4)",null,"Stawka Podatku5)"]
[{"$f":"$A$2","v":9},null,"a",null,null,"b",null,"c","d","e","f","g",null,"h"]
[{"$f":"$A$6","v":19.5},1]
[19.5,2]
[19.5,3]
[19.5,4]
[19.5,5]
[19.5,6]
[19.5,7]
[19.5,8]
[{"$f":"$A$2","v":9}]
[9,"4)","Należy podać jednostkę redakcyjną z ustawy lub uchwały rady gminy."]
[9,"5)","Należy podać stawkę właściwą dla rodzaju przedmiotu opodatkowania zgodną z uchwałą rady gminy."]
[{"$f":"$A$2","v":9}]
[9]
[9]
[9]
[{"$f":"$A$8","v":16.5},null,"ZDN-2(1)","2/2",null,null,null,null,null,null,null,null,{"$f":"'DN-1'!M10&\".\"&'DN-1'!Q24&Wersja","v":"2023.1.1.15.0.44867"}]
[9]
[9,"Załącznik nr 7"]
[{"$f":"$A$2","v":9},"WYPEŁNIĆ DUŻYMI, DRUKOWANYMI LITERAMI, CZARNYM LUB NIEBIESKIM KOLOREM."]
[{"$f":"$A$4","v":4.5}]
[{"$f":"$A$2","v":9},"1. Identyfikator podatkowy NIP/numer PESEL (niepotrzebne skreślić)1)\n└────┴────┴────┴────┴────┴────┴────┴────┴────┴────┴────┘",null,null,null,null,null,null,"2.  Nr dokumentu"]
[{"$f":"$A$6","v":19.5},null,{"$f":"$C$6","v":0}]
[{"$f":"$A$2","v":9}]
[16.5,"ZDN-2"]
[{"$f":"$A$8","v":16.5},"ZAŁĄCZNIK DO DEKLARACJI NA PODATEK OD NIERUCHOMOŚCI"]
[{"$f":"$A$8","v":16.5},"- DANE O PRZEDMIOTACH OPODATKOWANIA ZWOLNIONYCH Z OPODATKOWANIA"]
[{"$f":"$A$2","v":9},null,null,null,null,null,null,null,null,null,null,null,"3. Nr załącznika"]
[{"$f":"$A$6","v":19.5},null,null,null,null,null,null,null,null,null,null,null,{"$f":"M624+1","v":11},null,null,null,{"$f":"IF(COUNTA(C703:O710,C722:O729,C733:O740)=0,0,1)","v":0}]
[{"$f":"$A$4","v":4.5}]
[{"$f":"$A$4","v":4.5}]
[{"$f":"$A$8*1.5","v":24.75},"A.  DANE PODATNIKA WSKAZANEGO W CZĘŚCI C.1 DEKLARACJI DN-1\n* - dotyczy podatnika niebędącego osobą fizyczną               ** - dotyczy podatnika będącego osobą fizyczną"]
[{"$f":"$A$2","v":9},null,"4. Nazwa pełna * / Nazwisko **",null,null,null,null,null,"5. Nazwa skrócona * / Pierwsze imię **"]
[{"$f":"$A$6","v":19.5},null,{"$f":"\"\"&$C$17","v":""},null,null,null,null,null,{"$f":"\"\"&$I$17","v":""}]
[{"$f":"$A$4","v":4.5}]
[{"$f":"$A$8","v":16.5},"B.  DANE O POSZCZEGÓLNYCH PRZEDMIOTACH OPODATKOWANIA ZWOLNIONYCH Z OPODATKOWANIA"]
[16.5,"B.1.  GRUNTY"]
[{"$f":"$A$8*1.5","v":24.75},"Lp.","Położenie (adres, w tym dzielnica)",null,null,null,null,"Nr księgi wieczystej\n(zbioru dokumentów)","Nr obrębu\n(arkusza mapy)2)","Nr działki","Powierzchnia w m2 / ha3)","Podstawa prawna zwolnienia4)",null,"Stawka Podatku5)"]
[{"$f":"$A$2","v":9},null,"a",null,null,null,null,"b","c","d","e","f",null,"g"]
[{"$f":"$A$6","v":19.5},1]
[19.5,2]
[19.5,3]
[19.5,4]
[19.5,5]
[19.5,6]
[19.5,7]
[19.5,8]
[{"$f":"$A$2","v":9}]
[{"$f":"$A$2*2","v":18},"1)"," Numer PESEL wpisują podatnicy będący osobami fizycznymi objętymi rejestrem PESEL, nieprowadzący działalności gospodarczej lub niebędący zarejestrowanymi podatnikami podatku od towarów i usług.\nIdentyfikator podatkowy NIP wpisują pozostali podatnicy."]
[{"$f":"$A$2","v":9},"2)","Numer obrębu należy podać wraz z numerem arkusza mapy ewidencyjnej w przypadku, gdy działki numerowane są w ramach arkusza mapy."]
[{"$f":"$A$2*2","v":18},"3)"," Powierzchnię w ha należy wykazać wyłącznie w przypadku gruntów pod wodami powierzchniowymi stojącymi lub wodami powierzchniowymi płynącymi jezior i zbiorników sztucznych (z dokładnością\ndo czterech miejsc po przecinku)."]
[{"$f":"$A$8","v":16.5},null,{"$f":"'DN-1'!M10&\".\"&'DN-1'!Q24&Wersja","v":"2023.1.1.15.0.44867"},null,null,null,null,null,null,null,null,null,"ZDN-2(1)","1/2"]
[{"$f":"$A$2","v":9}]
[{"$f":"$A$2","v":9},"WYPEŁNIĆ DUŻYMI, DRUKOWANYMI LITERAMI, CZARNYM LUB NIEBIESKIM KOLOREM."]
[{"$f":"$A$4","v":4.5}]
[{"$f":"$A$8","v":16.5},"B.2.  BUDYNKI LUB ICH CZĘŚCI"]
[{"$f":"$A$8*1.5","v":24.75},"Lp.","Położenie (adres, w tym dzielnica)",null,null,null,null,"Nr księgi wieczystej\n(zbioru dokumentów)","Nr obrębu\n(arkusza mapy)2)","Nr działki","Powierzchnia użytkowa w m2","Podstawa prawna zwolnienia4)",null,"Stawka Podatku5)"]
[{"$f":"$A$2","v":9},null,"a",null,null,null,null,"b","c","d","e","f",null,"g"]
[{"$f":"$A$6","v":19.5},1]
[19.5,2]
[19.5,3]
[19.5,4]
[19.5,5]
[19.5,6]
[19.5,7]
[19.5,8]
[{"$f":"$A$8","v":16.5},"B.3.  BUDOWLE LUB ICH CZĘŚCI ZWIĄZANE Z PROWADZENIEM DZIAŁALNOŚCI GOSPODARCZEJ"]
[{"$f":"$A$8*1.5","v":24.75},"Lp.","Nazwa budowli",null,null,"Nr inwentarzowy","Położenie (adres, w tym dzielnica)",null,"Nr obrębu\n(arkusza mapy)2)","Nr działki","Wartość w zł","Podstawa prawna zwolnienia4)",null,"Stawka Podatku5)"]
[{"$f":"$A$2","v":9},null,"a",null,null,"b",null,"c","d","e","f","g",null,"h"]
[{"$f":"$A$6","v":19.5},1]
[19.5,2]
[19.5,3]
[19.5,4]
[19.5,5]
[19.5,6]
[19.5,7]
[19.5,8]
[{"$f":"$A$2","v":9}]
[9,"4)","Należy podać jednostkę redakcyjną z ustawy lub uchwały rady gminy."]
[9,"5)","Należy podać stawkę właściwą dla rodzaju przedmiotu opodatkowania zgodną z uchwałą rady gminy."]
[{"$f":"$A$2","v":9}]
[9]
[9]
[9]
[{"$f":"$A$8","v":16.5},null,"ZDN-2(1)","2/2",null,null,null,null,null,null,null,null,{"$f":"'DN-1'!M10&\".\"&'DN-1'!Q24&Wersja","v":"2023.1.1.15.0.44867"}]
[9]
[9,"Załącznik nr 7"]
[{"$f":"$A$2","v":9},"WYPEŁNIĆ DUŻYMI, DRUKOWANYMI LITERAMI, CZARNYM LUB NIEBIESKIM KOLOREM."]
[{"$f":"$A$4","v":4.5}]
[{"$f":"$A$2","v":9},"1. Identyfikator podatkowy NIP/numer PESEL (niepotrzebne skreślić)1)\n└────┴────┴────┴────┴────┴────┴────┴────┴────┴────┴────┘",null,null,null,null,null,null,"2.  Nr dokumentu"]
[{"$f":"$A$6","v":19.5},null,{"$f":"$C$6","v":0}]
[{"$f":"$A$2","v":9}]
[16.5,"ZDN-2"]
[{"$f":"$A$8","v":16.5},"ZAŁĄCZNIK DO DEKLARACJI NA PODATEK OD NIERUCHOMOŚCI"]
[{"$f":"$A$8","v":16.5},"- DANE O PRZEDMIOTACH OPODATKOWANIA ZWOLNIONYCH Z OPODATKOWANIA"]
[{"$f":"$A$2","v":9},null,null,null,null,null,null,null,null,null,null,null,"3. Nr załącznika"]
[{"$f":"$A$6","v":19.5},null,null,null,null,null,null,null,null,null,null,null,{"$f":"M692+1","v":12},null,null,null,{"$f":"IF(COUNTA(C771:O778,C790:O797,C801:O808)=0,0,1)","v":0}]
[{"$f":"$A$4","v":4.5}]
[{"$f":"$A$4","v":4.5}]
[{"$f":"$A$8*1.5","v":24.75},"A.  DANE PODATNIKA WSKAZANEGO W CZĘŚCI C.1 DEKLARACJI DN-1\n* - dotyczy podatnika niebędącego osobą fizyczną               ** - dotyczy podatnika będącego osobą fizyczną"]
[{"$f":"$A$2","v":9},null,"4. Nazwa pełna * / Nazwisko **",null,null,null,null,null,"5. Nazwa skrócona * / Pierwsze imię **"]
[{"$f":"$A$6","v":19.5},null,{"$f":"\"\"&$C$17","v":""},null,null,null,null,null,{"$f":"\"\"&$I$17","v":""}]
[{"$f":"$A$4","v":4.5}]
[{"$f":"$A$8","v":16.5},"B.  DANE O POSZCZEGÓLNYCH PRZEDMIOTACH OPODATKOWANIA ZWOLNIONYCH Z OPODATKOWANIA"]
[16.5,"B.1.  GRUNTY"]
[{"$f":"$A$8*1.5","v":24.75},"Lp.","Położenie (adres, w tym dzielnica)",null,null,null,null,"Nr księgi wieczystej\n(zbioru dokumentów)","Nr obrębu\n(arkusza mapy)2)","Nr działki","Powierzchnia w m2 / ha3)","Podstawa prawna zwolnienia4)",null,"Stawka Podatku5)"]
[{"$f":"$A$2","v":9},null,"a",null,null,null,null,"b","c","d","e","f",null,"g"]
[{"$f":"$A$6","v":19.5},1]
[19.5,2]
[19.5,3]
[19.5,4]
[19.5,5]
[19.5,6]
[19.5,7]
[19.5,8]
[{"$f":"$A$2","v":9}]
[{"$f":"$A$2*2","v":18},"1)"," Numer PESEL wpisują podatnicy będący osobami fizycznymi objętymi rejestrem PESEL, nieprowadzący działalności gospodarczej lub niebędący zarejestrowanymi podatnikami podatku od towarów i usług.\nIdentyfikator podatkowy NIP wpisują pozostali podatnicy."]
[{"$f":"$A$2","v":9},"2)","Numer obrębu należy podać wraz z numerem arkusza mapy ewidencyjnej w przypadku, gdy działki numerowane są w ramach arkusza mapy."]
[{"$f":"$A$2*2","v":18},"3)"," Powierzchnię w ha należy wykazać wyłącznie w przypadku gruntów pod wodami powierzchniowymi stojącymi lub wodami powierzchniowymi płynącymi jezior i zbiorników sztucznych (z dokładnością\ndo czterech miejsc po przecinku)."]
[{"$f":"$A$8","v":16.5},null,{"$f":"'DN-1'!M10&\".\"&'DN-1'!Q24&Wersja","v":"2023.1.1.15.0.44867"},null,null,null,null,null,null,null,null,null,"ZDN-2(1)","1/2"]
[{"$f":"$A$2","v":9}]
[{"$f":"$A$2","v":9},"WYPEŁNIĆ DUŻYMI, DRUKOWANYMI LITERAMI, CZARNYM LUB NIEBIESKIM KOLOREM."]
[{"$f":"$A$4","v":4.5}]
[{"$f":"$A$8","v":16.5},"B.2.  BUDYNKI LUB ICH CZĘŚCI"]
[{"$f":"$A$8*1.5","v":24.75},"Lp.","Położenie (adres, w tym dzielnica)",null,null,null,null,"Nr księgi wieczystej\n(zbioru dokumentów)","Nr obrębu\n(arkusza mapy)2)","Nr działki","Powierzchnia użytkowa w m2","Podstawa prawna zwolnienia4)",null,"Stawka Podatku5)"]
[{"$f":"$A$2","v":9},null,"a",null,null,null,null,"b","c","d","e","f",null,"g"]
[{"$f":"$A$6","v":19.5},1]
[19.5,2]
[19.5,3]
[19.5,4]
[19.5,5]
[19.5,6]
[19.5,7]
[19.5,8]
[{"$f":"$A$8","v":16.5},"B.3.  BUDOWLE LUB ICH CZĘŚCI ZWIĄZANE Z PROWADZENIEM DZIAŁALNOŚCI GOSPODARCZEJ"]
[{"$f":"$A$8*1.5","v":24.75},"Lp.","Nazwa budowli",null,null,"Nr inwentarzowy","Położenie (adres, w tym dzielnica)",null,"Nr obrębu\n(arkusza mapy)2)","Nr działki","Wartość w zł","Podstawa prawna zwolnienia4)",null,"Stawka Podatku5)"]
[{"$f":"$A$2","v":9},null,"a",null,null,"b",null,"c","d","e","f","g",null,"h"]
[{"$f":"$A$6","v":19.5},1]
[19.5,2]
[19.5,3]
[19.5,4]
[19.5,5]
[19.5,6]
[19.5,7]
[19.5,8]
[{"$f":"$A$2","v":9}]
[9,"4)","Należy podać jednostkę redakcyjną z ustawy lub uchwały rady gminy."]
[9,"5)","Należy podać stawkę właściwą dla rodzaju przedmiotu opodatkowania zgodną z uchwałą rady gminy."]
[{"$f":"$A$2","v":9}]
[9]
[9]
[9]
[{"$f":"$A$8","v":16.5},null,"ZDN-2(1)","2/2",null,null,null,null,null,null,null,null,{"$f":"'DN-1'!M10&\".\"&'DN-1'!Q24&Wersja","v":"2023.1.1.15.0.44867"}]
[9]
[9,"Załącznik nr 7"]
[{"$f":"$A$2","v":9},"WYPEŁNIĆ DUŻYMI, DRUKOWANYMI LITERAMI, CZARNYM LUB NIEBIESKIM KOLOREM."]
[{"$f":"$A$4","v":4.5}]
[{"$f":"$A$2","v":9},"1. Identyfikator podatkowy NIP/numer PESEL (niepotrzebne skreślić)1)\n└────┴────┴────┴────┴────┴────┴────┴────┴────┴────┴────┘",null,null,null,null,null,null,"2.  Nr dokumentu"]
[{"$f":"$A$6","v":19.5},null,{"$f":"$C$6","v":0}]
[{"$f":"$A$2","v":9}]
[16.5,"ZDN-2"]
[{"$f":"$A$8","v":16.5},"ZAŁĄCZNIK DO DEKLARACJI NA PODATEK OD NIERUCHOMOŚCI"]
[{"$f":"$A$8","v":16.5},"- DANE O PRZEDMIOTACH OPODATKOWANIA ZWOLNIONYCH Z OPODATKOWANIA"]
[{"$f":"$A$2","v":9},null,null,null,null,null,null,null,null,null,null,null,"3. Nr załącznika"]
[{"$f":"$A$6","v":19.5},null,null,null,null,null,null,null,null,null,null,null,{"$f":"M760+1","v":13},null,null,null,{"$f":"IF(COUNTA(C839:O846,C858:O865,C869:O876)=0,0,1)","v":0}]
[{"$f":"$A$4","v":4.5}]
[{"$f":"$A$4","v":4.5}]
[{"$f":"$A$8*1.5","v":24.75},"A.  DANE PODATNIKA WSKAZANEGO W CZĘŚCI C.1 DEKLARACJI DN-1\n* - dotyczy podatnika niebędącego osobą fizyczną               ** - dotyczy podatnika będącego osobą fizyczną"]
[{"$f":"$A$2","v":9},null,"4. Nazwa pełna * / Nazwisko **",null,null,null,null,null,"5. Nazwa skrócona * / Pierwsze imię **"]
[{"$f":"$A$6","v":19.5},null,{"$f":"\"\"&$C$17","v":""},null,null,null,null,null,{"$f":"\"\"&$I$17","v":""}]
[{"$f":"$A$4","v":4.5}]
[{"$f":"$A$8","v":16.5},"B.  DANE O POSZCZEGÓLNYCH PRZEDMIOTACH OPODATKOWANIA ZWOLNIONYCH Z OPODATKOWANIA"]
[16.5,"B.1.  GRUNTY"]
[{"$f":"$A$8*1.5","v":24.75},"Lp.","Położenie (adres, w tym dzielnica)",null,null,null,null,"Nr księgi wieczystej\n(zbioru dokumentów)","Nr obrębu\n(arkusza mapy)2)","Nr działki","Powierzchnia w m2 / ha3)","Podstawa prawna zwolnienia4)",null,"Stawka Podatku5)"]
[{"$f":"$A$2","v":9},null,"a",null,null,null,null,"b","c","d","e","f",null,"g"]
[{"$f":"$A$6","v":19.5},1]
[19.5,2]
[19.5,3]
[19.5,4]
[19.5,5]
[19.5,6]
[19.5,7]
[19.5,8]
[{"$f":"$A$2","v":9}]
[{"$f":"$A$2*2","v":18},"1)"," Numer PESEL wpisują podatnicy będący osobami fizycznymi objętymi rejestrem PESEL, nieprowadzący działalności gospodarczej lub niebędący zarejestrowanymi podatnikami podatku od towarów i usług.\nIdentyfikator podatkowy NIP wpisują pozostali podatnicy."]
[{"$f":"$A$2","v":9},"2)","Numer obrębu należy podać wraz z numerem arkusza mapy ewidencyjnej w przypadku, gdy działki numerowane są w ramach arkusza mapy."]
[{"$f":"$A$2*2","v":18},"3)"," Powierzchnię w ha należy wykazać wyłącznie w przypadku gruntów pod wodami powierzchniowymi stojącymi lub wodami powierzchniowymi płynącymi jezior i zbiorników sztucznych (z dokładnością\ndo czterech miejsc po przecinku)."]
[{"$f":"$A$8","v":16.5},null,{"$f":"'DN-1'!M10&\".\"&'DN-1'!Q24&Wersja","v":"2023.1.1.15.0.44867"},null,null,null,null,null,null,null,null,null,"ZDN-2(1)","1/2"]
[{"$f":"$A$2","v":9}]
[{"$f":"$A$2","v":9},"WYPEŁNIĆ DUŻYMI, DRUKOWANYMI LITERAMI, CZARNYM LUB NIEBIESKIM KOLOREM."]
[{"$f":"$A$4","v":4.5}]
[{"$f":"$A$8","v":16.5},"B.2.  BUDYNKI LUB ICH CZĘŚCI"]
[{"$f":"$A$8*1.5","v":24.75},"Lp.","Położenie (adres, w tym dzielnica)",null,null,null,null,"Nr księgi wieczystej\n(zbioru dokumentów)","Nr obrębu\n(arkusza mapy)2)","Nr działki","Powierzchnia użytkowa w m2","Podstawa prawna zwolnienia4)",null,"Stawka Podatku5)"]
[{"$f":"$A$2","v":9},null,"a",null,null,null,null,"b","c","d","e","f",null,"g"]
[{"$f":"$A$6","v":19.5},1]
[19.5,2]
[19.5,3]
[19.5,4]
[19.5,5]
[19.5,6]
[19.5,7]
[19.5,8]
[{"$f":"$A$8","v":16.5},"B.3.  BUDOWLE LUB ICH CZĘŚCI ZWIĄZANE Z PROWADZENIEM DZIAŁALNOŚCI GOSPODARCZEJ"]
[{"$f":"$A$8*1.5","v":24.75},"Lp.","Nazwa budowli",null,null,"Nr inwentarzowy","Położenie (adres, w tym dzielnica)",null,"Nr obrębu\n(arkusza mapy)2)","Nr działki","Wartość w zł","Podstawa prawna zwolnienia4)",null,"Stawka Podatku5)"]
[{"$f":"$A$2","v":9},null,"a",null,null,"b",null,"c","d","e","f","g",null,"h"]
[{"$f":"$A$6","v":19.5},1]
[19.5,2]
[19.5,3]
[19.5,4]
[19.5,5]
[19.5,6]
[19.5,7]
[19.5,8]
[{"$f":"$A$2","v":9}]
[9,"4)","Należy podać jednostkę redakcyjną z ustawy lub uchwały rady gminy."]
[9,"5)","Należy podać stawkę właściwą dla rodzaju przedmiotu opodatkowania zgodną z uchwałą rady gminy."]
[{"$f":"$A$2","v":9}]
[9]
[9]
[9]
[{"$f":"$A$8","v":16.5},null,"ZDN-2(1)","2/2",null,null,null,null,null,null,null,null,{"$f":"'DN-1'!M10&\".\"&'DN-1'!Q24&Wersja","v":"2023.1.1.15.0.44867"}]
[9]
[9,"Załącznik nr 7"]
[{"$f":"$A$2","v":9},"WYPEŁNIĆ DUŻYMI, DRUKOWANYMI LITERAMI, CZARNYM LUB NIEBIESKIM KOLOREM."]
[{"$f":"$A$4","v":4.5}]
[{"$f":"$A$2","v":9},"1. Identyfikator podatkowy NIP/numer PESEL (niepotrzebne skreślić)1)\n└────┴────┴────┴────┴────┴────┴────┴────┴────┴────┴────┘",null,null,null,null,null,null,"2.  Nr dokumentu"]
[{"$f":"$A$6","v":19.5},null,{"$f":"$C$6","v":0}]
[{"$f":"$A$2","v":9}]
[16.5,"ZDN-2"]
[{"$f":"$A$8","v":16.5},"ZAŁĄCZNIK DO DEKLARACJI NA PODATEK OD NIERUCHOMOŚCI"]
[{"$f":"$A$8","v":16.5},"- DANE O PRZEDMIOTACH OPODATKOWANIA ZWOLNIONYCH Z OPODATKOWANIA"]
[{"$f":"$A$2","v":9},null,null,null,null,null,null,null,null,null,null,null,"3. Nr załącznika"]
[{"$f":"$A$6","v":19.5},null,null,null,null,null,null,null,null,null,null,null,{"$f":"M828+1","v":14},null,null,null,{"$f":"IF(COUNTA(C907:O914,C926:O933,C937:O944)=0,0,1)","v":0}]
[{"$f":"$A$4","v":4.5}]
[{"$f":"$A$4","v":4.5}]
[{"$f":"$A$8*1.5","v":24.75},"A.  DANE PODATNIKA WSKAZANEGO W CZĘŚCI C.1 DEKLARACJI DN-1\n* - dotyczy podatnika niebędącego osobą fizyczną               ** - dotyczy podatnika będącego osobą fizyczną"]
[{"$f":"$A$2","v":9},null,"4. Nazwa pełna * / Nazwisko **",null,null,null,null,null,"5. Nazwa skrócona * / Pierwsze imię **"]
[{"$f":"$A$6","v":19.5},null,{"$f":"\"\"&$C$17","v":""},null,null,null,null,null,{"$f":"\"\"&$I$17","v":""}]
[{"$f":"$A$4","v":4.5}]
[{"$f":"$A$8","v":16.5},"B.  DANE O POSZCZEGÓLNYCH PRZEDMIOTACH OPODATKOWANIA ZWOLNIONYCH Z OPODATKOWANIA"]
[16.5,"B.1.  GRUNTY"]
[{"$f":"$A$8*1.5","v":24.75},"Lp.","Położenie (adres, w tym dzielnica)",null,null,null,null,"Nr księgi wieczystej\n(zbioru dokumentów)","Nr obrębu\n(arkusza mapy)2)","Nr działki","Powierzchnia w m2 / ha3)","Podstawa prawna zwolnienia4)",null,"Stawka Podatku5)"]
[{"$f":"$A$2","v":9},null,"a",null,null,null,null,"b","c","d","e","f",null,"g"]
[{"$f":"$A$6","v":19.5},1]
[19.5,2]
[19.5,3]
[19.5,4]
[19.5,5]
[19.5,6]
[19.5,7]
[19.5,8]
[{"$f":"$A$2","v":9}]
[{"$f":"$A$2*2","v":18},"1)"," Numer PESEL wpisują podatnicy będący osobami fizycznymi objętymi rejestrem PESEL, nieprowadzący działalności gospodarczej lub niebędący zarejestrowanymi podatnikami podatku od towarów i usług.\nIdentyfikator podatkowy NIP wpisują pozostali podatnicy."]
[{"$f":"$A$2","v":9},"2)","Numer obrębu należy podać wraz z numerem arkusza mapy ewidencyjnej w przypadku, gdy działki numerowane są w ramach arkusza mapy."]
[{"$f":"$A$2*2","v":18},"3)"," Powierzchnię w ha należy wykazać wyłącznie w przypadku gruntów pod wodami powierzchniowymi stojącymi lub wodami powierzchniowymi płynącymi jezior i zbiorników sztucznych (z dokładnością\ndo czterech miejsc po przecinku)."]
[{"$f":"$A$8","v":16.5},null,{"$f":"'DN-1'!M10&\".\"&'DN-1'!Q24&Wersja","v":"2023.1.1.15.0.44867"},null,null,null,null,null,null,null,null,null,"ZDN-2(1)","1/2"]
[{"$f":"$A$2","v":9}]
[{"$f":"$A$2","v":9},"WYPEŁNIĆ DUŻYMI, DRUKOWANYMI LITERAMI, CZARNYM LUB NIEBIESKIM KOLOREM."]
[{"$f":"$A$4","v":4.5}]
[{"$f":"$A$8","v":16.5},"B.2.  BUDYNKI LUB ICH CZĘŚCI"]
[{"$f":"$A$8*1.5","v":24.75},"Lp.","Położenie (adres, w tym dzielnica)",null,null,null,null,"Nr księgi wieczystej\n(zbioru dokumentów)","Nr obrębu\n(arkusza mapy)2)","Nr działki","Powierzchnia użytkowa w m2","Podstawa prawna zwolnienia4)",null,"Stawka Podatku5)"]
[{"$f":"$A$2","v":9},null,"a",null,null,null,null,"b","c","d","e","f",null,"g"]
[{"$f":"$A$6","v":19.5},1]
[19.5,2]
[19.5,3]
[19.5,4]
[19.5,5]
[19.5,6]
[19.5,7]
[19.5,8]
[{"$f":"$A$8","v":16.5},"B.3.  BUDOWLE LUB ICH CZĘŚCI ZWIĄZANE Z PROWADZENIEM DZIAŁALNOŚCI GOSPODARCZEJ"]
[{"$f":"$A$8*1.5","v":24.75},"Lp.","Nazwa budowli",null,null,"Nr inwentarzowy","Położenie (adres, w tym dzielnica)",null,"Nr obrębu\n(arkusza mapy)2)","Nr działki","Wartość w zł","Podstawa prawna zwolnienia4)",null,"Stawka Podatku5)"]
[{"$f":"$A$2","v":9},null,"a",null,null,"b",null,"c","d","e","f","g",null,"h"]
[{"$f":"$A$6","v":19.5},1]
[19.5,2]
[19.5,3]
[19.5,4]
[19.5,5]
[19.5,6]
[19.5,7]
[19.5,8]
[{"$f":"$A$2","v":9}]
[9,"4)","Należy podać jednostkę redakcyjną z ustawy lub uchwały rady gminy."]
[9,"5)","Należy podać stawkę właściwą dla rodzaju przedmiotu opodatkowania zgodną z uchwałą rady gminy."]
[{"$f":"$A$2","v":9}]
[9]
[9]
[9]
[{"$f":"$A$8","v":16.5},null,"ZDN-2(1)","2/2",null,null,null,null,null,null,null,null,{"$f":"'DN-1'!M10&\".\"&'DN-1'!Q24&Wersja","v":"2023.1.1.15.0.44867"}]
[9]
[9,"Załącznik nr 7"]
[{"$f":"$A$2","v":9},"WYPEŁNIĆ DUŻYMI, DRUKOWANYMI LITERAMI, CZARNYM LUB NIEBIESKIM KOLOREM."]
[{"$f":"$A$4","v":4.5}]
[{"$f":"$A$2","v":9},"1. Identyfikator podatkowy NIP/numer PESEL (niepotrzebne skreślić)1)\n└────┴────┴────┴────┴────┴────┴────┴────┴────┴────┴────┘",null,null,null,null,null,null,"2.  Nr dokumentu"]
[{"$f":"$A$6","v":19.5},null,{"$f":"$C$6","v":0}]
[{"$f":"$A$2","v":9}]
[16.5,"ZDN-2"]
[{"$f":"$A$8","v":16.5},"ZAŁĄCZNIK DO DEKLARACJI NA PODATEK OD NIERUCHOMOŚCI"]
[{"$f":"$A$8","v":16.5},"- DANE O PRZEDMIOTACH OPODATKOWANIA ZWOLNIONYCH Z OPODATKOWANIA"]
[{"$f":"$A$2","v":9},null,null,null,null,null,null,null,null,null,null,null,"3. Nr załącznika"]
[{"$f":"$A$6","v":19.5},null,null,null,null,null,null,null,null,null,null,null,{"$f":"M896+1","v":15},null,null,null,{"$f":"IF(COUNTA(C975:O982,C994:O1001,C1005:O1012)=0,0,1)","v":0}]
[{"$f":"$A$4","v":4.5}]
[{"$f":"$A$4","v":4.5}]
[{"$f":"$A$8*1.5","v":24.75},"A.  DANE PODATNIKA WSKAZANEGO W CZĘŚCI C.1 DEKLARACJI DN-1\n* - dotyczy podatnika niebędącego osobą fizyczną               ** - dotyczy podatnika będącego osobą fizyczną"]
[{"$f":"$A$2","v":9},null,"4. Nazwa pełna * / Nazwisko **",null,null,null,null,null,"5. Nazwa skrócona * / Pierwsze imię **"]
[{"$f":"$A$6","v":19.5},null,{"$f":"\"\"&$C$17","v":""},null,null,null,null,null,{"$f":"\"\"&$I$17","v":""}]
[{"$f":"$A$4","v":4.5}]
[{"$f":"$A$8","v":16.5},"B.  DANE O POSZCZEGÓLNYCH PRZEDMIOTACH OPODATKOWANIA ZWOLNIONYCH Z OPODATKOWANIA"]
[16.5,"B.1.  GRUNTY"]
[{"$f":"$A$8*1.5","v":24.75},"Lp.","Położenie (adres, w tym dzielnica)",null,null,null,null,"Nr księgi wieczystej\n(zbioru dokumentów)","Nr obrębu\n(arkusza mapy)2)","Nr działki","Powierzchnia w m2 / ha3)","Podstawa prawna zwolnienia4)",null,"Stawka Podatku5)"]
[{"$f":"$A$2","v":9},null,"a",null,null,null,null,"b","c","d","e","f",null,"g"]
[{"$f":"$A$6","v":19.5},1]
[19.5,2]
[19.5,3]
[19.5,4]
[19.5,5]
[19.5,6]
[19.5,7]
[19.5,8]
[{"$f":"$A$2","v":9}]
[{"$f":"$A$2*2","v":18},"1)"," Numer PESEL wpisują podatnicy będący osobami fizycznymi objętymi rejestrem PESEL, nieprowadzący działalności gospodarczej lub niebędący zarejestrowanymi podatnikami podatku od towarów i usług.\nIdentyfikator podatkowy NIP wpisują pozostali podatnicy."]
[{"$f":"$A$2","v":9},"2)","Numer obrębu należy podać wraz z numerem arkusza mapy ewidencyjnej w przypadku, gdy działki numerowane są w ramach arkusza mapy."]
[{"$f":"$A$2*2","v":18},"3)"," Powierzchnię w ha należy wykazać wyłącznie w przypadku gruntów pod wodami powierzchniowymi stojącymi lub wodami powierzchniowymi płynącymi jezior i zbiorników sztucznych (z dokładnością\ndo czterech miejsc po przecinku)."]
[{"$f":"$A$8","v":16.5},null,{"$f":"'DN-1'!M10&\".\"&'DN-1'!Q24&Wersja","v":"2023.1.1.15.0.44867"},null,null,null,null,null,null,null,null,null,"ZDN-2(1)","1/2"]
[{"$f":"$A$2","v":9}]
[{"$f":"$A$2","v":9},"WYPEŁNIĆ DUŻYMI, DRUKOWANYMI LITERAMI, CZARNYM LUB NIEBIESKIM KOLOREM."]
[{"$f":"$A$4","v":4.5}]
[{"$f":"$A$8","v":16.5},"B.2.  BUDYNKI LUB ICH CZĘŚCI"]
[{"$f":"$A$8*1.5","v":24.75},"Lp.","Położenie (adres, w tym dzielnica)",null,null,null,null,"Nr księgi wieczystej\n(zbioru dokumentów)","Nr obrębu\n(arkusza mapy)2)","Nr działki","Powierzchnia użytkowa w m2","Podstawa prawna zwolnienia4)",null,"Stawka Podatku5)"]
[{"$f":"$A$2","v":9},null,"a",null,null,null,null,"b","c","d","e","f",null,"g"]
[{"$f":"$A$6","v":19.5},1]
[19.5,2]
[19.5,3]
[19.5,4]
[19.5,5]
[19.5,6]
[19.5,7]
[19.5,8]
[{"$f":"$A$8","v":16.5},"B.3.  BUDOWLE LUB ICH CZĘŚCI ZWIĄZANE Z PROWADZENIEM DZIAŁALNOŚCI GOSPODARCZEJ"]
[{"$f":"$A$8*1.5","v":24.75},"Lp.","Nazwa budowli",null,null,"Nr inwentarzowy","Położenie (adres, w tym dzielnica)",null,"Nr obrębu\n(arkusza mapy)2)","Nr działki","Wartość w zł","Podstawa prawna zwolnienia4)",null,"Stawka Podatku5)"]
[{"$f":"$A$2","v":9},null,"a",null,null,"b",null,"c","d","e","f","g",null,"h"]
[{"$f":"$A$6","v":19.5},1]
[19.5,2]
[19.5,3]
[19.5,4]
[19.5,5]
[19.5,6]
[19.5,7]
[19.5,8]
[{"$f":"$A$2","v":9}]
[9,"4)","Należy podać jednostkę redakcyjną z ustawy lub uchwały rady gminy."]
[9,"5)","Należy podać stawkę właściwą dla rodzaju przedmiotu opodatkowania zgodną z uchwałą rady gminy."]
[{"$f":"$A$2","v":9}]
[9]
[9]
[9]
[{"$f":"$A$8","v":16.5},null,"ZDN-2(1)","2/2",null,null,null,null,null,null,null,null,{"$f":"'DN-1'!M10&\".\"&'DN-1'!Q24&Wersja","v":"2023.1.1.15.0.44867"}]
[9]
[9,"Załącznik nr 7"]
[{"$f":"$A$2","v":9},"WYPEŁNIĆ DUŻYMI, DRUKOWANYMI LITERAMI, CZARNYM LUB NIEBIESKIM KOLOREM."]
[{"$f":"$A$4","v":4.5}]
[{"$f":"$A$2","v":9},"1. Identyfikator podatkowy NIP/numer PESEL (niepotrzebne skreślić)1)\n└────┴────┴────┴────┴────┴────┴────┴────┴────┴────┴────┘",null,null,null,null,null,null,"2.  Nr dokumentu"]
[{"$f":"$A$6","v":19.5},null,{"$f":"$C$6","v":0}]
[{"$f":"$A$2","v":9}]
[16.5,"ZDN-2"]
[{"$f":"$A$8","v":16.5},"ZAŁĄCZNIK DO DEKLARACJI NA PODATEK OD NIERUCHOMOŚCI"]
[{"$f":"$A$8","v":16.5},"- DANE O PRZEDMIOTACH OPODATKOWANIA ZWOLNIONYCH Z OPODATKOWANIA"]
[{"$f":"$A$2","v":9},null,null,null,null,null,null,null,null,null,null,null,"3. Nr załącznika"]
[{"$f":"$A$6","v":19.5},null,null,null,null,null,null,null,null,null,null,null,{"$f":"M964+1","v":16},null,null,null,{"$f":"IF(COUNTA(C1043:O1050,C1062:O1069,C1073:O1080)=0,0,1)","v":0}]
[{"$f":"$A$4","v":4.5}]
[{"$f":"$A$4","v":4.5}]
[{"$f":"$A$8*1.5","v":24.75},"A.  DANE PODATNIKA WSKAZANEGO W CZĘŚCI C.1 DEKLARACJI DN-1\n* - dotyczy podatnika niebędącego osobą fizyczną               ** - dotyczy podatnika będącego osobą fizyczną"]
[{"$f":"$A$2","v":9},null,"4. Nazwa pełna * / Nazwisko **",null,null,null,null,null,"5. Nazwa skrócona * / Pierwsze imię **"]
[{"$f":"$A$6","v":19.5},null,{"$f":"\"\"&$C$17","v":""},null,null,null,null,null,{"$f":"\"\"&$I$17","v":""}]
[{"$f":"$A$4","v":4.5}]
[{"$f":"$A$8","v":16.5},"B.  DANE O POSZCZEGÓLNYCH PRZEDMIOTACH OPODATKOWANIA ZWOLNIONYCH Z OPODATKOWANIA"]
[16.5,"B.1.  GRUNTY"]
[{"$f":"$A$8*1.5","v":24.75},"Lp.","Położenie (adres, w tym dzielnica)",null,null,null,null,"Nr księgi wieczystej\n(zbioru dokumentów)","Nr obrębu\n(arkusza mapy)2)","Nr działki","Powierzchnia w m2 / ha3)","Podstawa prawna zwolnienia4)",null,"Stawka Podatku5)"]
[{"$f":"$A$2","v":9},null,"a",null,null,null,null,"b","c","d","e","f",null,"g"]
[{"$f":"$A$6","v":19.5},1]
[19.5,2]
[19.5,3]
[19.5,4]
[19.5,5]
[19.5,6]
[19.5,7]
[19.5,8]
[{"$f":"$A$2","v":9}]
[{"$f":"$A$2*2","v":18},"1)"," Numer PESEL wpisują podatnicy będący osobami fizycznymi objętymi rejestrem PESEL, nieprowadzący działalności gospodarczej lub niebędący zarejestrowanymi podatnikami podatku od towarów i usług.\nIdentyfikator podatkowy NIP wpisują pozostali podatnicy."]
[{"$f":"$A$2","v":9},"2)","Numer obrębu należy podać wraz z numerem arkusza mapy ewidencyjnej w przypadku, gdy działki numerowane są w ramach arkusza mapy."]
[{"$f":"$A$2*2","v":18},"3)"," Powierzchnię w ha należy wykazać wyłącznie w przypadku gruntów pod wodami powierzchniowymi stojącymi lub wodami powierzchniowymi płynącymi jezior i zbiorników sztucznych (z dokładnością\ndo czterech miejsc po przecinku)."]
[{"$f":"$A$8","v":16.5},null,{"$f":"'DN-1'!M10&\".\"&'DN-1'!Q24&Wersja","v":"2023.1.1.15.0.44867"},null,null,null,null,null,null,null,null,null,"ZDN-2(1)","1/2"]
[{"$f":"$A$2","v":9}]
[{"$f":"$A$2","v":9},"WYPEŁNIĆ DUŻYMI, DRUKOWANYMI LITERAMI, CZARNYM LUB NIEBIESKIM KOLOREM."]
[{"$f":"$A$4","v":4.5}]
[{"$f":"$A$8","v":16.5},"B.2.  BUDYNKI LUB ICH CZĘŚCI"]
[{"$f":"$A$8*1.5","v":24.75},"Lp.","Położenie (adres, w tym dzielnica)",null,null,null,null,"Nr księgi wieczystej\n(zbioru dokumentów)","Nr obrębu\n(arkusza mapy)2)","Nr działki","Powierzchnia użytkowa w m2","Podstawa prawna zwolnienia4)",null,"Stawka Podatku5)"]
[{"$f":"$A$2","v":9},null,"a",null,null,null,null,"b","c","d","e","f",null,"g"]
[{"$f":"$A$6","v":19.5},1]
[19.5,2]
[19.5,3]
[19.5,4]
[19.5,5]
[19.5,6]
[19.5,7]
[19.5,8]
[{"$f":"$A$8","v":16.5},"B.3.  BUDOWLE LUB ICH CZĘŚCI ZWIĄZANE Z PROWADZENIEM DZIAŁALNOŚCI GOSPODARCZEJ"]
[{"$f":"$A$8*1.5","v":24.75},"Lp.","Nazwa budowli",null,null,"Nr inwentarzowy","Położenie (adres, w tym dzielnica)",null,"Nr obrębu\n(arkusza mapy)2)","Nr działki","Wartość w zł","Podstawa prawna zwolnienia4)",null,"Stawka Podatku5)"]
[{"$f":"$A$2","v":9},null,"a",null,null,"b",null,"c","d","e","f","g",null,"h"]
[{"$f":"$A$6","v":19.5},1]
[19.5,2]
[19.5,3]
[19.5,4]
[19.5,5]
[19.5,6]
[19.5,7]
[19.5,8]
[{"$f":"$A$2","v":9}]
[9,"4)","Należy podać jednostkę redakcyjną z ustawy lub uchwały rady gminy."]
[9,"5)","Należy podać stawkę właściwą dla rodzaju przedmiotu opodatkowania zgodną z uchwałą rady gminy."]
[{"$f":"$A$2","v":9}]
[9]
[9]
[9]
[{"$f":"$A$8","v":16.5},null,"ZDN-2(1)","2/2",null,null,null,null,null,null,null,null,{"$f":"'DN-1'!M10&\".\"&'DN-1'!Q24&Wersja","v":"2023.1.1.15.0.44867"}]
[9]
[9,"Załącznik nr 7"]
[{"$f":"$A$2","v":9},"WYPEŁNIĆ DUŻYMI, DRUKOWANYMI LITERAMI, CZARNYM LUB NIEBIESKIM KOLOREM."]
[{"$f":"$A$4","v":4.5}]
[{"$f":"$A$2","v":9},"1. Identyfikator podatkowy NIP/numer PESEL (niepotrzebne skreślić)1)\n└────┴────┴────┴────┴────┴────┴────┴────┴────┴────┴────┘",null,null,null,null,null,null,"2.  Nr dokumentu"]
[{"$f":"$A$6","v":19.5},null,{"$f":"$C$6","v":0}]
[{"$f":"$A$2","v":9}]
[16.5,"ZDN-2"]
[{"$f":"$A$8","v":16.5},"ZAŁĄCZNIK DO DEKLARACJI NA PODATEK OD NIERUCHOMOŚCI"]
[{"$f":"$A$8","v":16.5},"- DANE O PRZEDMIOTACH OPODATKOWANIA ZWOLNIONYCH Z OPODATKOWANIA"]
[{"$f":"$A$2","v":9},null,null,null,null,null,null,null,null,null,null,null,"3. Nr załącznika"]
[{"$f":"$A$6","v":19.5},null,null,null,null,null,null,null,null,null,null,null,{"$f":"M1032+1","v":17},null,null,null,{"$f":"IF(COUNTA(C1111:O1118,C1130:O1137,C1141:O1148)=0,0,1)","v":0}]
[{"$f":"$A$4","v":4.5}]
[{"$f":"$A$4","v":4.5}]
[{"$f":"$A$8*1.5","v":24.75},"A.  DANE PODATNIKA WSKAZANEGO W CZĘŚCI C.1 DEKLARACJI DN-1\n* - dotyczy podatnika niebędącego osobą fizyczną               ** - dotyczy podatnika będącego osobą fizyczną"]
[{"$f":"$A$2","v":9},null,"4. Nazwa pełna * / Nazwisko **",null,null,null,null,null,"5. Nazwa skrócona * / Pierwsze imię **"]
[{"$f":"$A$6","v":19.5},null,{"$f":"\"\"&$C$17","v":""},null,null,null,null,null,{"$f":"\"\"&$I$17","v":""}]
[{"$f":"$A$4","v":4.5}]
[{"$f":"$A$8","v":16.5},"B.  DANE O POSZCZEGÓLNYCH PRZEDMIOTACH OPODATKOWANIA ZWOLNIONYCH Z OPODATKOWANIA"]
[16.5,"B.1.  GRUNTY"]
[{"$f":"$A$8*1.5","v":24.75},"Lp.","Położenie (adres, w tym dzielnica)",null,null,null,null,"Nr księgi wieczystej\n(zbioru dokumentów)","Nr obrębu\n(arkusza mapy)2)","Nr działki","Powierzchnia w m2 / ha3)","Podstawa prawna zwolnienia4)",null,"Stawka Podatku5)"]
[{"$f":"$A$2","v":9},null,"a",null,null,null,null,"b","c","d","e","f",null,"g"]
[{"$f":"$A$6","v":19.5},1]
[19.5,2]
[19.5,3]
[19.5,4]
[19.5,5]
[19.5,6]
[19.5,7]
[19.5,8]
[{"$f":"$A$2","v":9}]
[{"$f":"$A$2*2","v":18},"1)"," Numer PESEL wpisują podatnicy będący osobami fizycznymi objętymi rejestrem PESEL, nieprowadzący działalności gospodarczej lub niebędący zarejestrowanymi podatnikami podatku od towarów i usług.\nIdentyfikator podatkowy NIP wpisują pozostali podatnicy."]
[{"$f":"$A$2","v":9},"2)","Numer obrębu należy podać wraz z numerem arkusza mapy ewidencyjnej w przypadku, gdy działki numerowane są w ramach arkusza mapy."]
[{"$f":"$A$2*2","v":18},"3)"," Powierzchnię w ha należy wykazać wyłącznie w przypadku gruntów pod wodami powierzchniowymi stojącymi lub wodami powierzchniowymi płynącymi jezior i zbiorników sztucznych (z dokładnością\ndo czterech miejsc po przecinku)."]
[{"$f":"$A$8","v":16.5},null,{"$f":"'DN-1'!M10&\".\"&'DN-1'!Q24&Wersja","v":"2023.1.1.15.0.44867"},null,null,null,null,null,null,null,null,null,"ZDN-2(1)","1/2"]
[{"$f":"$A$2","v":9}]
[{"$f":"$A$2","v":9},"WYPEŁNIĆ DUŻYMI, DRUKOWANYMI LITERAMI, CZARNYM LUB NIEBIESKIM KOLOREM."]
[{"$f":"$A$4","v":4.5}]
[{"$f":"$A$8","v":16.5},"B.2.  BUDYNKI LUB ICH CZĘŚCI"]
[{"$f":"$A$8*1.5","v":24.75},"Lp.","Położenie (adres, w tym dzielnica)",null,null,null,null,"Nr księgi wieczystej\n(zbioru dokumentów)","Nr obrębu\n(arkusza mapy)2)","Nr działki","Powierzchnia użytkowa w m2","Podstawa prawna zwolnienia4)",null,"Stawka Podatku5)"]
[{"$f":"$A$2","v":9},null,"a",null,null,null,null,"b","c","d","e","f",null,"g"]
[{"$f":"$A$6","v":19.5},1]
[19.5,2]
[19.5,3]
[19.5,4]
[19.5,5]
[19.5,6]
[19.5,7]
[19.5,8]
[{"$f":"$A$8","v":16.5},"B.3.  BUDOWLE LUB ICH CZĘŚCI ZWIĄZANE Z PROWADZENIEM DZIAŁALNOŚCI GOSPODARCZEJ"]
[{"$f":"$A$8*1.5","v":24.75},"Lp.","Nazwa budowli",null,null,"Nr inwentarzowy","Położenie (adres, w tym dzielnica)",null,"Nr obrębu\n(arkusza mapy)2)","Nr działki","Wartość w zł","Podstawa prawna zwolnienia4)",null,"Stawka Podatku5)"]
[{"$f":"$A$2","v":9},null,"a",null,null,"b",null,"c","d","e","f","g",null,"h"]
[{"$f":"$A$6","v":19.5},1]
[19.5,2]
[19.5,3]
[19.5,4]
[19.5,5]
[19.5,6]
[19.5,7]
[19.5,8]
[{"$f":"$A$2","v":9}]
[9,"4)","Należy podać jednostkę redakcyjną z ustawy lub uchwały rady gminy."]
[9,"5)","Należy podać stawkę właściwą dla rodzaju przedmiotu opodatkowania zgodną z uchwałą rady gminy."]
[{"$f":"$A$2","v":9}]
[9]
[9]
[9]
[{"$f":"$A$8","v":16.5},null,"ZDN-2(1)","2/2",null,null,null,null,null,null,null,null,{"$f":"'DN-1'!M10&\".\"&'DN-1'!Q24&Wersja","v":"2023.1.1.15.0.44867"}]
[9]
[9,"Załącznik nr 7"]
[{"$f":"$A$2","v":9},"WYPEŁNIĆ DUŻYMI, DRUKOWANYMI LITERAMI, CZARNYM LUB NIEBIESKIM KOLOREM."]
[{"$f":"$A$4","v":4.5}]
[{"$f":"$A$2","v":9},"1. Identyfikator podatkowy NIP/numer PESEL (niepotrzebne skreślić)1)\n└────┴────┴────┴────┴────┴────┴────┴────┴────┴────┴────┘",null,null,null,null,null,null,"2.  Nr dokumentu"]
[{"$f":"$A$6","v":19.5},null,{"$f":"$C$6","v":0}]
[{"$f":"$A$2","v":9}]
[16.5,"ZDN-2"]
[{"$f":"$A$8","v":16.5},"ZAŁĄCZNIK DO DEKLARACJI NA PODATEK OD NIERUCHOMOŚCI"]
[{"$f":"$A$8","v":16.5},"- DANE O PRZEDMIOTACH OPODATKOWANIA ZWOLNIONYCH Z OPODATKOWANIA"]
[{"$f":"$A$2","v":9},null,null,null,null,null,null,null,null,null,null,null,"3. Nr załącznika"]
[{"$f":"$A$6","v":19.5},null,null,null,null,null,null,null,null,null,null,null,{"$f":"M1100+1","v":18},null,null,null,{"$f":"IF(COUNTA(C1179:O1186,C1198:O1205,C1209:O1216)=0,0,1)","v":0}]
[{"$f":"$A$4","v":4.5}]
[{"$f":"$A$4","v":4.5}]
[{"$f":"$A$8*1.5","v":24.75},"A.  DANE PODATNIKA WSKAZANEGO W CZĘŚCI C.1 DEKLARACJI DN-1\n* - dotyczy podatnika niebędącego osobą fizyczną               ** - dotyczy podatnika będącego osobą fizyczną"]
[{"$f":"$A$2","v":9},null,"4. Nazwa pełna * / Nazwisko **",null,null,null,null,null,"5. Nazwa skrócona * / Pierwsze imię **"]
[{"$f":"$A$6","v":19.5},null,{"$f":"\"\"&$C$17","v":""},null,null,null,null,null,{"$f":"\"\"&$I$17","v":""}]
[{"$f":"$A$4","v":4.5}]
[{"$f":"$A$8","v":16.5},"B.  DANE O POSZCZEGÓLNYCH PRZEDMIOTACH OPODATKOWANIA ZWOLNIONYCH Z OPODATKOWANIA"]
[16.5,"B.1.  GRUNTY"]
[{"$f":"$A$8*1.5","v":24.75},"Lp.","Położenie (adres, w tym dzielnica)",null,null,null,null,"Nr księgi wieczystej\n(zbioru dokumentów)","Nr obrębu\n(arkusza mapy)2)","Nr działki","Powierzchnia w m2 / ha3)","Podstawa prawna zwolnienia4)",null,"Stawka Podatku5)"]
[{"$f":"$A$2","v":9},null,"a",null,null,null,null,"b","c","d","e","f",null,"g"]
[{"$f":"$A$6","v":19.5},1]
[19.5,2]
[19.5,3]
[19.5,4]
[19.5,5]
[19.5,6]
[19.5,7]
[19.5,8]
[{"$f":"$A$2","v":9}]
[{"$f":"$A$2*2","v":18},"1)"," Numer PESEL wpisują podatnicy będący osobami fizycznymi objętymi rejestrem PESEL, nieprowadzący działalności gospodarczej lub niebędący zarejestrowanymi podatnikami podatku od towarów i usług.\nIdentyfikator podatkowy NIP wpisują pozostali podatnicy."]
[{"$f":"$A$2","v":9},"2)","Numer obrębu należy podać wraz z numerem arkusza mapy ewidencyjnej w przypadku, gdy działki numerowane są w ramach arkusza mapy."]
[{"$f":"$A$2*2","v":18},"3)"," Powierzchnię w ha należy wykazać wyłącznie w przypadku gruntów pod wodami powierzchniowymi stojącymi lub wodami powierzchniowymi płynącymi jezior i zbiorników sztucznych (z dokładnością\ndo czterech miejsc po przecinku)."]
[{"$f":"$A$8","v":16.5},null,{"$f":"'DN-1'!M10&\".\"&'DN-1'!Q24&Wersja","v":"2023.1.1.15.0.44867"},null,null,null,null,null,null,null,null,null,"ZDN-2(1)","1/2"]
[{"$f":"$A$2","v":9}]
[{"$f":"$A$2","v":9},"WYPEŁNIĆ DUŻYMI, DRUKOWANYMI LITERAMI, CZARNYM LUB NIEBIESKIM KOLOREM."]
[{"$f":"$A$4","v":4.5}]
[{"$f":"$A$8","v":16.5},"B.2.  BUDYNKI LUB ICH CZĘŚCI"]
[{"$f":"$A$8*1.5","v":24.75},"Lp.","Położenie (adres, w tym dzielnica)",null,null,null,null,"Nr księgi wieczystej\n(zbioru dokumentów)","Nr obrębu\n(arkusza mapy)2)","Nr działki","Powierzchnia użytkowa w m2","Podstawa prawna zwolnienia4)",null,"Stawka Podatku5)"]
[{"$f":"$A$2","v":9},null,"a",null,null,null,null,"b","c","d","e","f",null,"g"]
[{"$f":"$A$6","v":19.5},1]
[19.5,2]
[19.5,3]
[19.5,4]
[19.5,5]
[19.5,6]
[19.5,7]
[19.5,8]
[{"$f":"$A$8","v":16.5},"B.3.  BUDOWLE LUB ICH CZĘŚCI ZWIĄZANE Z PROWADZENIEM DZIAŁALNOŚCI GOSPODARCZEJ"]
[{"$f":"$A$8*1.5","v":24.75},"Lp.","Nazwa budowli",null,null,"Nr inwentarzowy","Położenie (adres, w tym dzielnica)",null,"Nr obrębu\n(arkusza mapy)2)","Nr działki","Wartość w zł","Podstawa prawna zwolnienia4)",null,"Stawka Podatku5)"]
[{"$f":"$A$2","v":9},null,"a",null,null,"b",null,"c","d","e","f","g",null,"h"]
[{"$f":"$A$6","v":19.5},1]
[19.5,2]
[19.5,3]
[19.5,4]
[19.5,5]
[19.5,6]
[19.5,7]
[19.5,8]
[{"$f":"$A$2","v":9}]
[9,"4)","Należy podać jednostkę redakcyjną z ustawy lub uchwały rady gminy."]
[9,"5)","Należy podać stawkę właściwą dla rodzaju przedmiotu opodatkowania zgodną z uchwałą rady gminy."]
[{"$f":"$A$2","v":9}]
[9]
[9]
[9]
[{"$f":"$A$8","v":16.5},null,"ZDN-2(1)","2/2",null,null,null,null,null,null,null,null,{"$f":"'DN-1'!M10&\".\"&'DN-1'!Q24&Wersja","v":"2023.1.1.15.0.44867"}]
[9]
[9,"Załącznik nr 7"]
[{"$f":"$A$2","v":9},"WYPEŁNIĆ DUŻYMI, DRUKOWANYMI LITERAMI, CZARNYM LUB NIEBIESKIM KOLOREM."]
[{"$f":"$A$4","v":4.5}]
[{"$f":"$A$2","v":9},"1. Identyfikator podatkowy NIP/numer PESEL (niepotrzebne skreślić)1)\n└────┴────┴────┴────┴────┴────┴────┴────┴────┴────┴────┘",null,null,null,null,null,null,"2.  Nr dokumentu"]
[{"$f":"$A$6","v":19.5},null,{"$f":"$C$6","v":0}]
[{"$f":"$A$2","v":9}]
[16.5,"ZDN-2"]
[{"$f":"$A$8","v":16.5},"ZAŁĄCZNIK DO DEKLARACJI NA PODATEK OD NIERUCHOMOŚCI"]
[{"$f":"$A$8","v":16.5},"- DANE O PRZEDMIOTACH OPODATKOWANIA ZWOLNIONYCH Z OPODATKOWANIA"]
[{"$f":"$A$2","v":9},null,null,null,null,null,null,null,null,null,null,null,"3. Nr załącznika"]
[{"$f":"$A$6","v":19.5},null,null,null,null,null,null,null,null,null,null,null,{"$f":"M1168+1","v":19},null,null,null,{"$f":"IF(COUNTA(C1247:O1254,C1266:O1273,C1277:O1284)=0,0,1)","v":0}]
[{"$f":"$A$4","v":4.5}]
[{"$f":"$A$4","v":4.5}]
[{"$f":"$A$8*1.5","v":24.75},"A.  DANE PODATNIKA WSKAZANEGO W CZĘŚCI C.1 DEKLARACJI DN-1\n* - dotyczy podatnika niebędącego osobą fizyczną               ** - dotyczy podatnika będącego osobą fizyczną"]
[{"$f":"$A$2","v":9},null,"4. Nazwa pełna * / Nazwisko **",null,null,null,null,null,"5. Nazwa skrócona * / Pierwsze imię **"]
[{"$f":"$A$6","v":19.5},null,{"$f":"\"\"&$C$17","v":""},null,null,null,null,null,{"$f":"\"\"&$I$17","v":""}]
[{"$f":"$A$4","v":4.5}]
[{"$f":"$A$8","v":16.5},"B.  DANE O POSZCZEGÓLNYCH PRZEDMIOTACH OPODATKOWANIA ZWOLNIONYCH Z OPODATKOWANIA"]
[16.5,"B.1.  GRUNTY"]
[{"$f":"$A$8*1.5","v":24.75},"Lp.","Położenie (adres, w tym dzielnica)",null,null,null,null,"Nr księgi wieczystej\n(zbioru dokumentów)","Nr obrębu\n(arkusza mapy)2)","Nr działki","Powierzchnia w m2 / ha3)","Podstawa prawna zwolnienia4)",null,"Stawka Podatku5)"]
[{"$f":"$A$2","v":9},null,"a",null,null,null,null,"b","c","d","e","f",null,"g"]
[{"$f":"$A$6","v":19.5},1]
[19.5,2]
[19.5,3]
[19.5,4]
[19.5,5]
[19.5,6]
[19.5,7]
[19.5,8]
[{"$f":"$A$2","v":9}]
[{"$f":"$A$2*2","v":18},"1)"," Numer PESEL wpisują podatnicy będący osobami fizycznymi objętymi rejestrem PESEL, nieprowadzący działalności gospodarczej lub niebędący zarejestrowanymi podatnikami podatku od towarów i usług.\nIdentyfikator podatkowy NIP wpisują pozostali podatnicy."]
[{"$f":"$A$2","v":9},"2)","Numer obrębu należy podać wraz z numerem arkusza mapy ewidencyjnej w przypadku, gdy działki numerowane są w ramach arkusza mapy."]
[{"$f":"$A$2*2","v":18},"3)"," Powierzchnię w ha należy wykazać wyłącznie w przypadku gruntów pod wodami powierzchniowymi stojącymi lub wodami powierzchniowymi płynącymi jezior i zbiorników sztucznych (z dokładnością\ndo czterech miejsc po przecinku)."]
[{"$f":"$A$8","v":16.5},null,{"$f":"'DN-1'!M10&\".\"&'DN-1'!Q24&Wersja","v":"2023.1.1.15.0.44867"},null,null,null,null,null,null,null,null,null,"ZDN-2(1)","1/2"]
[{"$f":"$A$2","v":9}]
[{"$f":"$A$2","v":9},"WYPEŁNIĆ DUŻYMI, DRUKOWANYMI LITERAMI, CZARNYM LUB NIEBIESKIM KOLOREM."]
[{"$f":"$A$4","v":4.5}]
[{"$f":"$A$8","v":16.5},"B.2.  BUDYNKI LUB ICH CZĘŚCI"]
[{"$f":"$A$8*1.5","v":24.75},"Lp.","Położenie (adres, w tym dzielnica)",null,null,null,null,"Nr księgi wieczystej\n(zbioru dokumentów)","Nr obrębu\n(arkusza mapy)2)","Nr działki","Powierzchnia użytkowa w m2","Podstawa prawna zwolnienia4)",null,"Stawka Podatku5)"]
[{"$f":"$A$2","v":9},null,"a",null,null,null,null,"b","c","d","e","f",null,"g"]
[{"$f":"$A$6","v":19.5},1]
[19.5,2]
[19.5,3]
[19.5,4]
[19.5,5]
[19.5,6]
[19.5,7]
[19.5,8]
[{"$f":"$A$8","v":16.5},"B.3.  BUDOWLE LUB ICH CZĘŚCI ZWIĄZANE Z PROWADZENIEM DZIAŁALNOŚCI GOSPODARCZEJ"]
[{"$f":"$A$8*1.5","v":24.75},"Lp.","Nazwa budowli",null,null,"Nr inwentarzowy","Położenie (adres, w tym dzielnica)",null,"Nr obrębu\n(arkusza mapy)2)","Nr działki","Wartość w zł","Podstawa prawna zwolnienia4)",null,"Stawka Podatku5)"]
[{"$f":"$A$2","v":9},null,"a",null,null,"b",null,"c","d","e","f","g",null,"h"]
[{"$f":"$A$6","v":19.5},1]
[19.5,2]
[19.5,3]
[19.5,4]
[19.5,5]
[19.5,6]
[19.5,7]
[19.5,8]
[{"$f":"$A$2","v":9}]
[9,"4)","Należy podać jednostkę redakcyjną z ustawy lub uchwały rady gminy."]
[9,"5)","Należy podać stawkę właściwą dla rodzaju przedmiotu opodatkowania zgodną z uchwałą rady gminy."]
[{"$f":"$A$2","v":9}]
[9]
[9]
[9]
[{"$f":"$A$8","v":16.5},null,"ZDN-2(1)","2/2",null,null,null,null,null,null,null,null,{"$f":"'DN-1'!M10&\".\"&'DN-1'!Q24&Wersja","v":"2023.1.1.15.0.44867"}]
[9]
[9,"Załącznik nr 7"]
[{"$f":"$A$2","v":9},"WYPEŁNIĆ DUŻYMI, DRUKOWANYMI LITERAMI, CZARNYM LUB NIEBIESKIM KOLOREM."]
[{"$f":"$A$4","v":4.5}]
[{"$f":"$A$2","v":9},"1. Identyfikator podatkowy NIP/numer PESEL (niepotrzebne skreślić)1)\n└────┴────┴────┴────┴────┴────┴────┴────┴────┴────┴────┘",null,null,null,null,null,null,"2.  Nr dokumentu"]
[{"$f":"$A$6","v":19.5},null,{"$f":"$C$6","v":0}]
[{"$f":"$A$2","v":9}]
[16.5,"ZDN-2"]
[{"$f":"$A$8","v":16.5},"ZAŁĄCZNIK DO DEKLARACJI NA PODATEK OD NIERUCHOMOŚCI"]
[{"$f":"$A$8","v":16.5},"- DANE O PRZEDMIOTACH OPODATKOWANIA ZWOLNIONYCH Z OPODATKOWANIA"]
[{"$f":"$A$2","v":9},null,null,null,null,null,null,null,null,null,null,null,"3. Nr załącznika"]
[{"$f":"$A$6","v":19.5},null,null,null,null,null,null,null,null,null,null,null,{"$f":"M1236+1","v":20},null,null,null,{"$f":"IF(COUNTA(C1315:O1322,C1334:O1341,C1345:O1352)=0,0,1)","v":0}]
[{"$f":"$A$4","v":4.5}]
[{"$f":"$A$4","v":4.5}]
[{"$f":"$A$8*1.5","v":24.75},"A.  DANE PODATNIKA WSKAZANEGO W CZĘŚCI C.1 DEKLARACJI DN-1\n* - dotyczy podatnika niebędącego osobą fizyczną               ** - dotyczy podatnika będącego osobą fizyczną"]
[{"$f":"$A$2","v":9},null,"4. Nazwa pełna * / Nazwisko **",null,null,null,null,null,"5. Nazwa skrócona * / Pierwsze imię **"]
[{"$f":"$A$6","v":19.5},null,{"$f":"\"\"&$C$17","v":""},null,null,null,null,null,{"$f":"\"\"&$I$17","v":""}]
[{"$f":"$A$4","v":4.5}]
[{"$f":"$A$8","v":16.5},"B.  DANE O POSZCZEGÓLNYCH PRZEDMIOTACH OPODATKOWANIA ZWOLNIONYCH Z OPODATKOWANIA"]
[16.5,"B.1.  GRUNTY"]
[{"$f":"$A$8*1.5","v":24.75},"Lp.","Położenie (adres, w tym dzielnica)",null,null,null,null,"Nr księgi wieczystej\n(zbioru dokumentów)","Nr obrębu\n(arkusza mapy)2)","Nr działki","Powierzchnia w m2 / ha3)","Podstawa prawna zwolnienia4)",null,"Stawka Podatku5)"]
[{"$f":"$A$2","v":9},null,"a",null,null,null,null,"b","c","d","e","f",null,"g"]
[{"$f":"$A$6","v":19.5},1]
[19.5,2]
[19.5,3]
[19.5,4]
[19.5,5]
[19.5,6]
[19.5,7]
[19.5,8]
[{"$f":"$A$2","v":9}]
[{"$f":"$A$2*2","v":18},"1)"," Numer PESEL wpisują podatnicy będący osobami fizycznymi objętymi rejestrem PESEL, nieprowadzący działalności gospodarczej lub niebędący zarejestrowanymi podatnikami podatku od towarów i usług.\nIdentyfikator podatkowy NIP wpisują pozostali podatnicy."]
[{"$f":"$A$2","v":9},"2)","Numer obrębu należy podać wraz z numerem arkusza mapy ewidencyjnej w przypadku, gdy działki numerowane są w ramach arkusza mapy."]
[{"$f":"$A$2*2","v":18},"3)"," Powierzchnię w ha należy wykazać wyłącznie w przypadku gruntów pod wodami powierzchniowymi stojącymi lub wodami powierzchniowymi płynącymi jezior i zbiorników sztucznych (z dokładnością\ndo czterech miejsc po przecinku)."]
[{"$f":"$A$8","v":16.5},null,{"$f":"'DN-1'!M10&\".\"&'DN-1'!Q24&Wersja","v":"2023.1.1.15.0.44867"},null,null,null,null,null,null,null,null,null,"ZDN-2(1)","1/2"]
[{"$f":"$A$2","v":9}]
[{"$f":"$A$2","v":9},"WYPEŁNIĆ DUŻYMI, DRUKOWANYMI LITERAMI, CZARNYM LUB NIEBIESKIM KOLOREM."]
[{"$f":"$A$4","v":4.5}]
[{"$f":"$A$8","v":16.5},"B.2.  BUDYNKI LUB ICH CZĘŚCI"]
[{"$f":"$A$8*1.5","v":24.75},"Lp.","Położenie (adres, w tym dzielnica)",null,null,null,null,"Nr księgi wieczystej\n(zbioru dokumentów)","Nr obrębu\n(arkusza mapy)2)","Nr działki","Powierzchnia użytkowa w m2","Podstawa prawna zwolnienia4)",null,"Stawka Podatku5)"]
[{"$f":"$A$2","v":9},null,"a",null,null,null,null,"b","c","d","e","f",null,"g"]
[{"$f":"$A$6","v":19.5},1]
[19.5,2]
[19.5,3]
[19.5,4]
[19.5,5]
[19.5,6]
[19.5,7]
[19.5,8]
[{"$f":"$A$8","v":16.5},"B.3.  BUDOWLE LUB ICH CZĘŚCI ZWIĄZANE Z PROWADZENIEM DZIAŁALNOŚCI GOSPODARCZEJ"]
[{"$f":"$A$8*1.5","v":24.75},"Lp.","Nazwa budowli",null,null,"Nr inwentarzowy","Położenie (adres, w tym dzielnica)",null,"Nr obrębu\n(arkusza mapy)2)","Nr działki","Wartość w zł","Podstawa prawna zwolnienia4)",null,"Stawka Podatku5)"]
[{"$f":"$A$2","v":9},null,"a",null,null,"b",null,"c","d","e","f","g",null,"h"]
[{"$f":"$A$6","v":19.5},1]
[19.5,2]
[19.5,3]
[19.5,4]
[19.5,5]
[19.5,6]
[19.5,7]
[19.5,8]
[{"$f":"$A$2","v":9}]
[9,"4)","Należy podać jednostkę redakcyjną z ustawy lub uchwały rady gminy."]
[9,"5)","Należy podać stawkę właściwą dla rodzaju przedmiotu opodatkowania zgodną z uchwałą rady gminy."]
[{"$f":"$A$2","v":9}]
[9]
[9]
[9]
[{"$f":"$A$8","v":16.5},null,"ZDN-2(1)","2/2",null,null,null,null,null,null,null,null,{"$f":"'DN-1'!M10&\".\"&'DN-1'!Q24&Wersja","v":"2023.1.1.15.0.44867"}]
[9]
[9,"Załącznik nr 7"]
[{"$f":"$A$2","v":9},"WYPEŁNIĆ DUŻYMI, DRUKOWANYMI LITERAMI, CZARNYM LUB NIEBIESKIM KOLOREM."]
[{"$f":"$A$4","v":4.5}]
[{"$f":"$A$2","v":9},"1. Identyfikator podatkowy NIP/numer PESEL (niepotrzebne skreślić)1)\n└────┴────┴────┴────┴────┴────┴────┴────┴────┴────┴────┘",null,null,null,null,null,null,"2.  Nr dokumentu"]
[{"$f":"$A$6","v":19.5},null,{"$f":"$C$6","v":0}]
[{"$f":"$A$2","v":9}]
[16.5,"ZDN-2"]
[{"$f":"$A$8","v":16.5},"ZAŁĄCZNIK DO DEKLARACJI NA PODATEK OD NIERUCHOMOŚCI"]
[{"$f":"$A$8","v":16.5},"- DANE O PRZEDMIOTACH OPODATKOWANIA ZWOLNIONYCH Z OPODATKOWANIA"]
[{"$f":"$A$2","v":9},null,null,null,null,null,null,null,null,null,null,null,"3. Nr załącznika"]
[{"$f":"$A$6","v":19.5},null,null,null,null,null,null,null,null,null,null,null,{"$f":"M1304+1","v":21},null,null,null,{"$f":"IF(COUNTA(C1383:O1390,C1402:O1409,C1413:O1420)=0,0,1)","v":0}]
[{"$f":"$A$4","v":4.5}]
[{"$f":"$A$4","v":4.5}]
[{"$f":"$A$8*1.5","v":24.75},"A.  DANE PODATNIKA WSKAZANEGO W CZĘŚCI C.1 DEKLARACJI DN-1\n* - dotyczy podatnika niebędącego osobą fizyczną               ** - dotyczy podatnika będącego osobą fizyczną"]
[{"$f":"$A$2","v":9},null,"4. Nazwa pełna * / Nazwisko **",null,null,null,null,null,"5. Nazwa skrócona * / Pierwsze imię **"]
[{"$f":"$A$6","v":19.5},null,{"$f":"\"\"&$C$17","v":""},null,null,null,null,null,{"$f":"\"\"&$I$17","v":""}]
[{"$f":"$A$4","v":4.5}]
[{"$f":"$A$8","v":16.5},"B.  DANE O POSZCZEGÓLNYCH PRZEDMIOTACH OPODATKOWANIA ZWOLNIONYCH Z OPODATKOWANIA"]
[16.5,"B.1.  GRUNTY"]
[{"$f":"$A$8*1.5","v":24.75},"Lp.","Położenie (adres, w tym dzielnica)",null,null,null,null,"Nr księgi wieczystej\n(zbioru dokumentów)","Nr obrębu\n(arkusza mapy)2)","Nr działki","Powierzchnia w m2 / ha3)","Podstawa prawna zwolnienia4)",null,"Stawka Podatku5)"]
[{"$f":"$A$2","v":9},null,"a",null,null,null,null,"b","c","d","e","f",null,"g"]
[{"$f":"$A$6","v":19.5},1]
[19.5,2]
[19.5,3]
[19.5,4]
[19.5,5]
[19.5,6]
[19.5,7]
[19.5,8]
[{"$f":"$A$2","v":9}]
[{"$f":"$A$2*2","v":18},"1)"," Numer PESEL wpisują podatnicy będący osobami fizycznymi objętymi rejestrem PESEL, nieprowadzący działalności gospodarczej lub niebędący zarejestrowanymi podatnikami podatku od towarów i usług.\nIdentyfikator podatkowy NIP wpisują pozostali podatnicy."]
[{"$f":"$A$2","v":9},"2)","Numer obrębu należy podać wraz z numerem arkusza mapy ewidencyjnej w przypadku, gdy działki numerowane są w ramach arkusza mapy."]
[{"$f":"$A$2*2","v":18},"3)"," Powierzchnię w ha należy wykazać wyłącznie w przypadku gruntów pod wodami powierzchniowymi stojącymi lub wodami powierzchniowymi płynącymi jezior i zbiorników sztucznych (z dokładnością\ndo czterech miejsc po przecinku)."]
[{"$f":"$A$8","v":16.5},null,{"$f":"'DN-1'!M10&\".\"&'DN-1'!Q24&Wersja","v":"2023.1.1.15.0.44867"},null,null,null,null,null,null,null,null,null,"ZDN-2(1)","1/2"]
[{"$f":"$A$2","v":9}]
[{"$f":"$A$2","v":9},"WYPEŁNIĆ DUŻYMI, DRUKOWANYMI LITERAMI, CZARNYM LUB NIEBIESKIM KOLOREM."]
[{"$f":"$A$4","v":4.5}]
[{"$f":"$A$8","v":16.5},"B.2.  BUDYNKI LUB ICH CZĘŚCI"]
[{"$f":"$A$8*1.5","v":24.75},"Lp.","Położenie (adres, w tym dzielnica)",null,null,null,null,"Nr księgi wieczystej\n(zbioru dokumentów)","Nr obrębu\n(arkusza mapy)2)","Nr działki","Powierzchnia użytkowa w m2","Podstawa prawna zwolnienia4)",null,"Stawka Podatku5)"]
[{"$f":"$A$2","v":9},null,"a",null,null,null,null,"b","c","d","e","f",null,"g"]
[{"$f":"$A$6","v":19.5},1]
[19.5,2]
[19.5,3]
[19.5,4]
[19.5,5]
[19.5,6]
[19.5,7]
[19.5,8]
[{"$f":"$A$8","v":16.5},"B.3.  BUDOWLE LUB ICH CZĘŚCI ZWIĄZANE Z PROWADZENIEM DZIAŁALNOŚCI GOSPODARCZEJ"]
[{"$f":"$A$8*1.5","v":24.75},"Lp.","Nazwa budowli",null,null,"Nr inwentarzowy","Położenie (adres, w tym dzielnica)",null,"Nr obrębu\n(arkusza mapy)2)","Nr działki","Wartość w zł","Podstawa prawna zwolnienia4)",null,"Stawka Podatku5)"]
[{"$f":"$A$2","v":9},null,"a",null,null,"b",null,"c","d","e","f","g",null,"h"]
[{"$f":"$A$6","v":19.5},1]
[19.5,2]
[19.5,3]
[19.5,4]
[19.5,5]
[19.5,6]
[19.5,7]
[19.5,8]
[{"$f":"$A$2","v":9}]
[9,"4)","Należy podać jednostkę redakcyjną z ustawy lub uchwały rady gminy."]
[9,"5)","Należy podać stawkę właściwą dla rodzaju przedmiotu opodatkowania zgodną z uchwałą rady gminy."]
[{"$f":"$A$2","v":9}]
[9]
[9]
[9]
[{"$f":"$A$8","v":16.5},null,"ZDN-2(1)","2/2",null,null,null,null,null,null,null,null,{"$f":"'DN-1'!M10&\".\"&'DN-1'!Q24&Wersja","v":"2023.1.1.15.0.44867"}]
[9]
[9,"Załącznik nr 7"]
[{"$f":"$A$2","v":9},"WYPEŁNIĆ DUŻYMI, DRUKOWANYMI LITERAMI, CZARNYM LUB NIEBIESKIM KOLOREM."]
[{"$f":"$A$4","v":4.5}]
[{"$f":"$A$2","v":9},"1. Identyfikator podatkowy NIP/numer PESEL (niepotrzebne skreślić)1)\n└────┴────┴────┴────┴────┴────┴────┴────┴────┴────┴────┘",null,null,null,null,null,null,"2.  Nr dokumentu"]
[{"$f":"$A$6","v":19.5},null,{"$f":"$C$6","v":0}]
[{"$f":"$A$2","v":9}]
[16.5,"ZDN-2"]
[{"$f":"$A$8","v":16.5},"ZAŁĄCZNIK DO DEKLARACJI NA PODATEK OD NIERUCHOMOŚCI"]
[{"$f":"$A$8","v":16.5},"- DANE O PRZEDMIOTACH OPODATKOWANIA ZWOLNIONYCH Z OPODATKOWANIA"]
[{"$f":"$A$2","v":9},null,null,null,null,null,null,null,null,null,null,null,"3. Nr załącznika"]
[{"$f":"$A$6","v":19.5},null,null,null,null,null,null,null,null,null,null,null,{"$f":"M1372+1","v":22},null,null,null,{"$f":"IF(COUNTA(C1451:O1458,C1470:O1477,C1481:O1488)=0,0,1)","v":0}]
[{"$f":"$A$4","v":4.5}]
[{"$f":"$A$4","v":4.5}]
[{"$f":"$A$8*1.5","v":24.75},"A.  DANE PODATNIKA WSKAZANEGO W CZĘŚCI C.1 DEKLARACJI DN-1\n* - dotyczy podatnika niebędącego osobą fizyczną               ** - dotyczy podatnika będącego osobą fizyczną"]
[{"$f":"$A$2","v":9},null,"4. Nazwa pełna * / Nazwisko **",null,null,null,null,null,"5. Nazwa skrócona * / Pierwsze imię **"]
[{"$f":"$A$6","v":19.5},null,{"$f":"\"\"&$C$17","v":""},null,null,null,null,null,{"$f":"\"\"&$I$17","v":""}]
[{"$f":"$A$4","v":4.5}]
[{"$f":"$A$8","v":16.5},"B.  DANE O POSZCZEGÓLNYCH PRZEDMIOTACH OPODATKOWANIA ZWOLNIONYCH Z OPODATKOWANIA"]
[16.5,"B.1.  GRUNTY"]
[{"$f":"$A$8*1.5","v":24.75},"Lp.","Położenie (adres, w tym dzielnica)",null,null,null,null,"Nr księgi wieczystej\n(zbioru dokumentów)","Nr obrębu\n(arkusza mapy)2)","Nr działki","Powierzchnia w m2 / ha3)","Podstawa prawna zwolnienia4)",null,"Stawka Podatku5)"]
[{"$f":"$A$2","v":9},null,"a",null,null,null,null,"b","c","d","e","f",null,"g"]
[{"$f":"$A$6","v":19.5},1]
[19.5,2]
[19.5,3]
[19.5,4]
[19.5,5]
[19.5,6]
[19.5,7]
[19.5,8]
[{"$f":"$A$2","v":9}]
[{"$f":"$A$2*2","v":18},"1)"," Numer PESEL wpisują podatnicy będący osobami fizycznymi objętymi rejestrem PESEL, nieprowadzący działalności gospodarczej lub niebędący zarejestrowanymi podatnikami podatku od towarów i usług.\nIdentyfikator podatkowy NIP wpisują pozostali podatnicy."]
[{"$f":"$A$2","v":9},"2)","Numer obrębu należy podać wraz z numerem arkusza mapy ewidencyjnej w przypadku, gdy działki numerowane są w ramach arkusza mapy."]
[{"$f":"$A$2*2","v":18},"3)"," Powierzchnię w ha należy wykazać wyłącznie w przypadku gruntów pod wodami powierzchniowymi stojącymi lub wodami powierzchniowymi płynącymi jezior i zbiorników sztucznych (z dokładnością\ndo czterech miejsc po przecinku)."]
[{"$f":"$A$8","v":16.5},null,{"$f":"'DN-1'!M10&\".\"&'DN-1'!Q24&Wersja","v":"2023.1.1.15.0.44867"},null,null,null,null,null,null,null,null,null,"ZDN-2(1)","1/2"]
[{"$f":"$A$2","v":9}]
[{"$f":"$A$2","v":9},"WYPEŁNIĆ DUŻYMI, DRUKOWANYMI LITERAMI, CZARNYM LUB NIEBIESKIM KOLOREM."]
[{"$f":"$A$4","v":4.5}]
[{"$f":"$A$8","v":16.5},"B.2.  BUDYNKI LUB ICH CZĘŚCI"]
[{"$f":"$A$8*1.5","v":24.75},"Lp.","Położenie (adres, w tym dzielnica)",null,null,null,null,"Nr księgi wieczystej\n(zbioru dokumentów)","Nr obrębu\n(arkusza mapy)2)","Nr działki","Powierzchnia użytkowa w m2","Podstawa prawna zwolnienia4)",null,"Stawka Podatku5)"]
[{"$f":"$A$2","v":9},null,"a",null,null,null,null,"b","c","d","e","f",null,"g"]
[{"$f":"$A$6","v":19.5},1]
[19.5,2]
[19.5,3]
[19.5,4]
[19.5,5]
[19.5,6]
[19.5,7]
[19.5,8]
[{"$f":"$A$8","v":16.5},"B.3.  BUDOWLE LUB ICH CZĘŚCI ZWIĄZANE Z PROWADZENIEM DZIAŁALNOŚCI GOSPODARCZEJ"]
[{"$f":"$A$8*1.5","v":24.75},"Lp.","Nazwa budowli",null,null,"Nr inwentarzowy","Położenie (adres, w tym dzielnica)",null,"Nr obrębu\n(arkusza mapy)2)","Nr działki","Wartość w zł","Podstawa prawna zwolnienia4)",null,"Stawka Podatku5)"]
[{"$f":"$A$2","v":9},null,"a",null,null,"b",null,"c","d","e","f","g",null,"h"]
[{"$f":"$A$6","v":19.5},1]
[19.5,2]
[19.5,3]
[19.5,4]
[19.5,5]
[19.5,6]
[19.5,7]
[19.5,8]
[{"$f":"$A$2","v":9}]
[9,"4)","Należy podać jednostkę redakcyjną z ustawy lub uchwały rady gminy."]
[9,"5)","Należy podać stawkę właściwą dla rodzaju przedmiotu opodatkowania zgodną z uchwałą rady gminy."]
[{"$f":"$A$2","v":9}]
[9]
[9]
[9]
[{"$f":"$A$8","v":16.5},null,"ZDN-2(1)","2/2",null,null,null,null,null,null,null,null,{"$f":"'DN-1'!M10&\".\"&'DN-1'!Q24&Wersja","v":"2023.1.1.15.0.44867"}]
[9]
[9,"Załącznik nr 7"]
[{"$f":"$A$2","v":9},"WYPEŁNIĆ DUŻYMI, DRUKOWANYMI LITERAMI, CZARNYM LUB NIEBIESKIM KOLOREM."]
[{"$f":"$A$4","v":4.5}]
[{"$f":"$A$2","v":9},"1. Identyfikator podatkowy NIP/numer PESEL (niepotrzebne skreślić)1)\n└────┴────┴────┴────┴────┴────┴────┴────┴────┴────┴────┘",null,null,null,null,null,null,"2.  Nr dokumentu"]
[{"$f":"$A$6","v":19.5},null,{"$f":"$C$6","v":0}]
[{"$f":"$A$2","v":9}]
[16.5,"ZDN-2"]
[{"$f":"$A$8","v":16.5},"ZAŁĄCZNIK DO DEKLARACJI NA PODATEK OD NIERUCHOMOŚCI"]
[{"$f":"$A$8","v":16.5},"- DANE O PRZEDMIOTACH OPODATKOWANIA ZWOLNIONYCH Z OPODATKOWANIA"]
[{"$f":"$A$2","v":9},null,null,null,null,null,null,null,null,null,null,null,"3. Nr załącznika"]
[{"$f":"$A$6","v":19.5},null,null,null,null,null,null,null,null,null,null,null,{"$f":"M1440+1","v":23},null,null,null,{"$f":"IF(COUNTA(C1519:O1526,C1538:O1545,C1549:O1556)=0,0,1)","v":0}]
[{"$f":"$A$4","v":4.5}]
[{"$f":"$A$4","v":4.5}]
[{"$f":"$A$8*1.5","v":24.75},"A.  DANE PODATNIKA WSKAZANEGO W CZĘŚCI C.1 DEKLARACJI DN-1\n* - dotyczy podatnika niebędącego osobą fizyczną               ** - dotyczy podatnika będącego osobą fizyczną"]
[{"$f":"$A$2","v":9},null,"4. Nazwa pełna * / Nazwisko **",null,null,null,null,null,"5. Nazwa skrócona * / Pierwsze imię **"]
[{"$f":"$A$6","v":19.5},null,{"$f":"\"\"&$C$17","v":""},null,null,null,null,null,{"$f":"\"\"&$I$17","v":""}]
[{"$f":"$A$4","v":4.5}]
[{"$f":"$A$8","v":16.5},"B.  DANE O POSZCZEGÓLNYCH PRZEDMIOTACH OPODATKOWANIA ZWOLNIONYCH Z OPODATKOWANIA"]
[16.5,"B.1.  GRUNTY"]
[{"$f":"$A$8*1.5","v":24.75},"Lp.","Położenie (adres, w tym dzielnica)",null,null,null,null,"Nr księgi wieczystej\n(zbioru dokumentów)","Nr obrębu\n(arkusza mapy)2)","Nr działki","Powierzchnia w m2 / ha3)","Podstawa prawna zwolnienia4)",null,"Stawka Podatku5)"]
[{"$f":"$A$2","v":9},null,"a",null,null,null,null,"b","c","d","e","f",null,"g"]
[{"$f":"$A$6","v":19.5},1]
[19.5,2]
[19.5,3]
[19.5,4]
[19.5,5]
[19.5,6]
[19.5,7]
[19.5,8]
[{"$f":"$A$2","v":9}]
[{"$f":"$A$2*2","v":18},"1)"," Numer PESEL wpisują podatnicy będący osobami fizycznymi objętymi rejestrem PESEL, nieprowadzący działalności gospodarczej lub niebędący zarejestrowanymi podatnikami podatku od towarów i usług.\nIdentyfikator podatkowy NIP wpisują pozostali podatnicy."]
[{"$f":"$A$2","v":9},"2)","Numer obrębu należy podać wraz z numerem arkusza mapy ewidencyjnej w przypadku, gdy działki numerowane są w ramach arkusza mapy."]
[{"$f":"$A$2*2","v":18},"3)"," Powierzchnię w ha należy wykazać wyłącznie w przypadku gruntów pod wodami powierzchniowymi stojącymi lub wodami powierzchniowymi płynącymi jezior i zbiorników sztucznych (z dokładnością\ndo czterech miejsc po przecinku)."]
[{"$f":"$A$8","v":16.5},null,{"$f":"'DN-1'!M10&\".\"&'DN-1'!Q24&Wersja","v":"2023.1.1.15.0.44867"},null,null,null,null,null,null,null,null,null,"ZDN-2(1)","1/2"]
[{"$f":"$A$2","v":9}]
[{"$f":"$A$2","v":9},"WYPEŁNIĆ DUŻYMI, DRUKOWANYMI LITERAMI, CZARNYM LUB NIEBIESKIM KOLOREM."]
[{"$f":"$A$4","v":4.5}]
[{"$f":"$A$8","v":16.5},"B.2.  BUDYNKI LUB ICH CZĘŚCI"]
[{"$f":"$A$8*1.5","v":24.75},"Lp.","Położenie (adres, w tym dzielnica)",null,null,null,null,"Nr księgi wieczystej\n(zbioru dokumentów)","Nr obrębu\n(arkusza mapy)2)","Nr działki","Powierzchnia użytkowa w m2","Podstawa prawna zwolnienia4)",null,"Stawka Podatku5)"]
[{"$f":"$A$2","v":9},null,"a",null,null,null,null,"b","c","d","e","f",null,"g"]
[{"$f":"$A$6","v":19.5},1]
[19.5,2]
[19.5,3]
[19.5,4]
[19.5,5]
[19.5,6]
[19.5,7]
[19.5,8]
[{"$f":"$A$8","v":16.5},"B.3.  BUDOWLE LUB ICH CZĘŚCI ZWIĄZANE Z PROWADZENIEM DZIAŁALNOŚCI GOSPODARCZEJ"]
[{"$f":"$A$8*1.5","v":24.75},"Lp.","Nazwa budowli",null,null,"Nr inwentarzowy","Położenie (adres, w tym dzielnica)",null,"Nr obrębu\n(arkusza mapy)2)","Nr działki","Wartość w zł","Podstawa prawna zwolnienia4)",null,"Stawka Podatku5)"]
[{"$f":"$A$2","v":9},null,"a",null,null,"b",null,"c","d","e","f","g",null,"h"]
[{"$f":"$A$6","v":19.5},1]
[19.5,2]
[19.5,3]
[19.5,4]
[19.5,5]
[19.5,6]
[19.5,7]
[19.5,8]
[{"$f":"$A$2","v":9}]
[9,"4)","Należy podać jednostkę redakcyjną z ustawy lub uchwały rady gminy."]
[9,"5)","Należy podać stawkę właściwą dla rodzaju przedmiotu opodatkowania zgodną z uchwałą rady gminy."]
[{"$f":"$A$2","v":9}]
[9]
[9]
[9]
[{"$f":"$A$8","v":16.5},null,"ZDN-2(1)","2/2",null,null,null,null,null,null,null,null,{"$f":"'DN-1'!M10&\".\"&'DN-1'!Q24&Wersja","v":"2023.1.1.15.0.44867"}]
[9]
[9,"Załącznik nr 7"]
[{"$f":"$A$2","v":9},"WYPEŁNIĆ DUŻYMI, DRUKOWANYMI LITERAMI, CZARNYM LUB NIEBIESKIM KOLOREM."]
[{"$f":"$A$4","v":4.5}]
[{"$f":"$A$2","v":9},"1. Identyfikator podatkowy NIP/numer PESEL (niepotrzebne skreślić)1)\n└────┴────┴────┴────┴────┴────┴────┴────┴────┴────┴────┘",null,null,null,null,null,null,"2.  Nr dokumentu"]
[{"$f":"$A$6","v":19.5},null,{"$f":"$C$6","v":0}]
[{"$f":"$A$2","v":9}]
[16.5,"ZDN-2"]
[{"$f":"$A$8","v":16.5},"ZAŁĄCZNIK DO DEKLARACJI NA PODATEK OD NIERUCHOMOŚCI"]
[{"$f":"$A$8","v":16.5},"- DANE O PRZEDMIOTACH OPODATKOWANIA ZWOLNIONYCH Z OPODATKOWANIA"]
[{"$f":"$A$2","v":9},null,null,null,null,null,null,null,null,null,null,null,"3. Nr załącznika"]
[{"$f":"$A$6","v":19.5},null,null,null,null,null,null,null,null,null,null,null,{"$f":"M1508+1","v":24},null,null,null,{"$f":"IF(COUNTA(C1587:O1594,C1606:O1613,C1617:O1624)=0,0,1)","v":0}]
[{"$f":"$A$4","v":4.5}]
[{"$f":"$A$4","v":4.5}]
[{"$f":"$A$8*1.5","v":24.75},"A.  DANE PODATNIKA WSKAZANEGO W CZĘŚCI C.1 DEKLARACJI DN-1\n* - dotyczy podatnika niebędącego osobą fizyczną               ** - dotyczy podatnika będącego osobą fizyczną"]
[{"$f":"$A$2","v":9},null,"4. Nazwa pełna * / Nazwisko **",null,null,null,null,null,"5. Nazwa skrócona * / Pierwsze imię **"]
[{"$f":"$A$6","v":19.5},null,{"$f":"\"\"&$C$17","v":""},null,null,null,null,null,{"$f":"\"\"&$I$17","v":""}]
[{"$f":"$A$4","v":4.5}]
[{"$f":"$A$8","v":16.5},"B.  DANE O POSZCZEGÓLNYCH PRZEDMIOTACH OPODATKOWANIA ZWOLNIONYCH Z OPODATKOWANIA"]
[16.5,"B.1.  GRUNTY"]
[{"$f":"$A$8*1.5","v":24.75},"Lp.","Położenie (adres, w tym dzielnica)",null,null,null,null,"Nr księgi wieczystej\n(zbioru dokumentów)","Nr obrębu\n(arkusza mapy)2)","Nr działki","Powierzchnia w m2 / ha3)","Podstawa prawna zwolnienia4)",null,"Stawka Podatku5)"]
[{"$f":"$A$2","v":9},null,"a",null,null,null,null,"b","c","d","e","f",null,"g"]
[{"$f":"$A$6","v":19.5},1]
[19.5,2]
[19.5,3]
[19.5,4]
[19.5,5]
[19.5,6]
[19.5,7]
[19.5,8]
[{"$f":"$A$2","v":9}]
[{"$f":"$A$2*2","v":18},"1)"," Numer PESEL wpisują podatnicy będący osobami fizycznymi objętymi rejestrem PESEL, nieprowadzący działalności gospodarczej lub niebędący zarejestrowanymi podatnikami podatku od towarów i usług.\nIdentyfikator podatkowy NIP wpisują pozostali podatnicy."]
[{"$f":"$A$2","v":9},"2)","Numer obrębu należy podać wraz z numerem arkusza mapy ewidencyjnej w przypadku, gdy działki numerowane są w ramach arkusza mapy."]
[{"$f":"$A$2*2","v":18},"3)"," Powierzchnię w ha należy wykazać wyłącznie w przypadku gruntów pod wodami powierzchniowymi stojącymi lub wodami powierzchniowymi płynącymi jezior i zbiorników sztucznych (z dokładnością\ndo czterech miejsc po przecinku)."]
[{"$f":"$A$8","v":16.5},null,{"$f":"'DN-1'!M10&\".\"&'DN-1'!Q24&Wersja","v":"2023.1.1.15.0.44867"},null,null,null,null,null,null,null,null,null,"ZDN-2(1)","1/2"]
[{"$f":"$A$2","v":9}]
[{"$f":"$A$2","v":9},"WYPEŁNIĆ DUŻYMI, DRUKOWANYMI LITERAMI, CZARNYM LUB NIEBIESKIM KOLOREM."]
[{"$f":"$A$4","v":4.5}]
[{"$f":"$A$8","v":16.5},"B.2.  BUDYNKI LUB ICH CZĘŚCI"]
[{"$f":"$A$8*1.5","v":24.75},"Lp.","Położenie (adres, w tym dzielnica)",null,null,null,null,"Nr księgi wieczystej\n(zbioru dokumentów)","Nr obrębu\n(arkusza mapy)2)","Nr działki","Powierzchnia użytkowa w m2","Podstawa prawna zwolnienia4)",null,"Stawka Podatku5)"]
[{"$f":"$A$2","v":9},null,"a",null,null,null,null,"b","c","d","e","f",null,"g"]
[{"$f":"$A$6","v":19.5},1]
[19.5,2]
[19.5,3]
[19.5,4]
[19.5,5]
[19.5,6]
[19.5,7]
[19.5,8]
[{"$f":"$A$8","v":16.5},"B.3.  BUDOWLE LUB ICH CZĘŚCI ZWIĄZANE Z PROWADZENIEM DZIAŁALNOŚCI GOSPODARCZEJ"]
[{"$f":"$A$8*1.5","v":24.75},"Lp.","Nazwa budowli",null,null,"Nr inwentarzowy","Położenie (adres, w tym dzielnica)",null,"Nr obrębu\n(arkusza mapy)2)","Nr działki","Wartość w zł","Podstawa prawna zwolnienia4)",null,"Stawka Podatku5)"]
[{"$f":"$A$2","v":9},null,"a",null,null,"b",null,"c","d","e","f","g",null,"h"]
[{"$f":"$A$6","v":19.5},1]
[19.5,2]
[19.5,3]
[19.5,4]
[19.5,5]
[19.5,6]
[19.5,7]
[19.5,8]
[{"$f":"$A$2","v":9}]
[9,"4)","Należy podać jednostkę redakcyjną z ustawy lub uchwały rady gminy."]
[9,"5)","Należy podać stawkę właściwą dla rodzaju przedmiotu opodatkowania zgodną z uchwałą rady gminy."]
[{"$f":"$A$2","v":9}]
[9]
[9]
[9]
[{"$f":"$A$8","v":16.5},null,"ZDN-2(1)","2/2",null,null,null,null,null,null,null,null,{"$f":"'DN-1'!M10&\".\"&'DN-1'!Q24&Wersja","v":"2023.1.1.15.0.44867"}]
[9]
[9,"Załącznik nr 7"]
[{"$f":"$A$2","v":9},"WYPEŁNIĆ DUŻYMI, DRUKOWANYMI LITERAMI, CZARNYM LUB NIEBIESKIM KOLOREM."]
[{"$f":"$A$4","v":4.5}]
[{"$f":"$A$2","v":9},"1. Identyfikator podatkowy NIP/numer PESEL (niepotrzebne skreślić)1)\n└────┴────┴────┴────┴────┴────┴────┴────┴────┴────┴────┘",null,null,null,null,null,null,"2.  Nr dokumentu"]
[{"$f":"$A$6","v":19.5},null,{"$f":"$C$6","v":0}]
[{"$f":"$A$2","v":9}]
[16.5,"ZDN-2"]
[{"$f":"$A$8","v":16.5},"ZAŁĄCZNIK DO DEKLARACJI NA PODATEK OD NIERUCHOMOŚCI"]
[{"$f":"$A$8","v":16.5},"- DANE O PRZEDMIOTACH OPODATKOWANIA ZWOLNIONYCH Z OPODATKOWANIA"]
[{"$f":"$A$2","v":9},null,null,null,null,null,null,null,null,null,null,null,"3. Nr załącznika"]
[{"$f":"$A$6","v":19.5},null,null,null,null,null,null,null,null,null,null,null,{"$f":"M1576+1","v":25},null,null,null,{"$f":"IF(COUNTA(C1655:O1662,C1674:O1681,C1685:O1692)=0,0,1)","v":0}]
[{"$f":"$A$4","v":4.5}]
[{"$f":"$A$4","v":4.5}]
[{"$f":"$A$8*1.5","v":24.75},"A.  DANE PODATNIKA WSKAZANEGO W CZĘŚCI C.1 DEKLARACJI DN-1\n* - dotyczy podatnika niebędącego osobą fizyczną               ** - dotyczy podatnika będącego osobą fizyczną"]
[{"$f":"$A$2","v":9},null,"4. Nazwa pełna * / Nazwisko **",null,null,null,null,null,"5. Nazwa skrócona * / Pierwsze imię **"]
[{"$f":"$A$6","v":19.5},null,{"$f":"\"\"&$C$17","v":""},null,null,null,null,null,{"$f":"\"\"&$I$17","v":""}]
[{"$f":"$A$4","v":4.5}]
[{"$f":"$A$8","v":16.5},"B.  DANE O POSZCZEGÓLNYCH PRZEDMIOTACH OPODATKOWANIA ZWOLNIONYCH Z OPODATKOWANIA"]
[16.5,"B.1.  GRUNTY"]
[{"$f":"$A$8*1.5","v":24.75},"Lp.","Położenie (adres, w tym dzielnica)",null,null,null,null,"Nr księgi wieczystej\n(zbioru dokumentów)","Nr obrębu\n(arkusza mapy)2)","Nr działki","Powierzchnia w m2 / ha3)","Podstawa prawna zwolnienia4)",null,"Stawka Podatku5)"]
[{"$f":"$A$2","v":9},null,"a",null,null,null,null,"b","c","d","e","f",null,"g"]
[{"$f":"$A$6","v":19.5},1]
[19.5,2]
[19.5,3]
[19.5,4]
[19.5,5]
[19.5,6]
[19.5,7]
[19.5,8]
[{"$f":"$A$2","v":9}]
[{"$f":"$A$2*2","v":18},"1)"," Numer PESEL wpisują podatnicy będący osobami fizycznymi objętymi rejestrem PESEL, nieprowadzący działalności gospodarczej lub niebędący zarejestrowanymi podatnikami podatku od towarów i usług.\nIdentyfikator podatkowy NIP wpisują pozostali podatnicy."]
[{"$f":"$A$2","v":9},"2)","Numer obrębu należy podać wraz z numerem arkusza mapy ewidencyjnej w przypadku, gdy działki numerowane są w ramach arkusza mapy."]
[{"$f":"$A$2*2","v":18},"3)"," Powierzchnię w ha należy wykazać wyłącznie w przypadku gruntów pod wodami powierzchniowymi stojącymi lub wodami powierzchniowymi płynącymi jezior i zbiorników sztucznych (z dokładnością\ndo czterech miejsc po przecinku)."]
[{"$f":"$A$8","v":16.5},null,{"$f":"'DN-1'!M10&\".\"&'DN-1'!Q24&Wersja","v":"2023.1.1.15.0.44867"},null,null,null,null,null,null,null,null,null,"ZDN-2(1)","1/2"]
[{"$f":"$A$2","v":9}]
[{"$f":"$A$2","v":9},"WYPEŁNIĆ DUŻYMI, DRUKOWANYMI LITERAMI, CZARNYM LUB NIEBIESKIM KOLOREM."]
[{"$f":"$A$4","v":4.5}]
[{"$f":"$A$8","v":16.5},"B.2.  BUDYNKI LUB ICH CZĘŚCI"]
[{"$f":"$A$8*1.5","v":24.75},"Lp.","Położenie (adres, w tym dzielnica)",null,null,null,null,"Nr księgi wieczystej\n(zbioru dokumentów)","Nr obrębu\n(arkusza mapy)2)","Nr działki","Powierzchnia użytkowa w m2","Podstawa prawna zwolnienia4)",null,"Stawka Podatku5)"]
[{"$f":"$A$2","v":9},null,"a",null,null,null,null,"b","c","d","e","f",null,"g"]
[{"$f":"$A$6","v":19.5},1]
[19.5,2]
[19.5,3]
[19.5,4]
[19.5,5]
[19.5,6]
[19.5,7]
[19.5,8]
[{"$f":"$A$8","v":16.5},"B.3.  BUDOWLE LUB ICH CZĘŚCI ZWIĄZANE Z PROWADZENIEM DZIAŁALNOŚCI GOSPODARCZEJ"]
[{"$f":"$A$8*1.5","v":24.75},"Lp.","Nazwa budowli",null,null,"Nr inwentarzowy","Położenie (adres, w tym dzielnica)",null,"Nr obrębu\n(arkusza mapy)2)","Nr działki","Wartość w zł","Podstawa prawna zwolnienia4)",null,"Stawka Podatku5)"]
[{"$f":"$A$2","v":9},null,"a",null,null,"b",null,"c","d","e","f","g",null,"h"]
[{"$f":"$A$6","v":19.5},1]
[19.5,2]
[19.5,3]
[19.5,4]
[19.5,5]
[19.5,6]
[19.5,7]
[19.5,8]
[{"$f":"$A$2","v":9}]
[9,"4)","Należy podać jednostkę redakcyjną z ustawy lub uchwały rady gminy."]
[9,"5)","Należy podać stawkę właściwą dla rodzaju przedmiotu opodatkowania zgodną z uchwałą rady gminy."]
[{"$f":"$A$2","v":9}]
[9]
[9]
[9]
[{"$f":"$A$8","v":16.5},null,"ZDN-2(1)","2/2",null,null,null,null,null,null,null,null,{"$f":"'DN-1'!M10&\".\"&'DN-1'!Q24&Wersja","v":"2023.1.1.15.0.44867"}]
[9]
[9,"Załącznik nr 7"]
[{"$f":"$A$2","v":9},"WYPEŁNIĆ DUŻYMI, DRUKOWANYMI LITERAMI, CZARNYM LUB NIEBIESKIM KOLOREM."]
[{"$f":"$A$4","v":4.5}]
[{"$f":"$A$2","v":9},"1. Identyfikator podatkowy NIP/numer PESEL (niepotrzebne skreślić)1)\n└────┴────┴────┴────┴────┴────┴────┴────┴────┴────┴────┘",null,null,null,null,null,null,"2.  Nr dokumentu"]
[{"$f":"$A$6","v":19.5},null,{"$f":"$C$6","v":0}]
[{"$f":"$A$2","v":9}]
[16.5,"ZDN-2"]
[{"$f":"$A$8","v":16.5},"ZAŁĄCZNIK DO DEKLARACJI NA PODATEK OD NIERUCHOMOŚCI"]
[{"$f":"$A$8","v":16.5},"- DANE O PRZEDMIOTACH OPODATKOWANIA ZWOLNIONYCH Z OPODATKOWANIA"]
[{"$f":"$A$2","v":9},null,null,null,null,null,null,null,null,null,null,null,"3. Nr załącznika"]
[{"$f":"$A$6","v":19.5},null,null,null,null,null,null,null,null,null,null,null,{"$f":"M1644+1","v":26},null,null,null,{"$f":"IF(COUNTA(C1723:O1730,C1742:O1749,C1753:O1760)=0,0,1)","v":0}]
[{"$f":"$A$4","v":4.5}]
[{"$f":"$A$4","v":4.5}]
[{"$f":"$A$8*1.5","v":24.75},"A.  DANE PODATNIKA WSKAZANEGO W CZĘŚCI C.1 DEKLARACJI DN-1\n* - dotyczy podatnika niebędącego osobą fizyczną               ** - dotyczy podatnika będącego osobą fizyczną"]
[{"$f":"$A$2","v":9},null,"4. Nazwa pełna * / Nazwisko **",null,null,null,null,null,"5. Nazwa skrócona * / Pierwsze imię **"]
[{"$f":"$A$6","v":19.5},null,{"$f":"\"\"&$C$17","v":""},null,null,null,null,null,{"$f":"\"\"&$I$17","v":""}]
[{"$f":"$A$4","v":4.5}]
[{"$f":"$A$8","v":16.5},"B.  DANE O POSZCZEGÓLNYCH PRZEDMIOTACH OPODATKOWANIA ZWOLNIONYCH Z OPODATKOWANIA"]
[16.5,"B.1.  GRUNTY"]
[{"$f":"$A$8*1.5","v":24.75},"Lp.","Położenie (adres, w tym dzielnica)",null,null,null,null,"Nr księgi wieczystej\n(zbioru dokumentów)","Nr obrębu\n(arkusza mapy)2)","Nr działki","Powierzchnia w m2 / ha3)","Podstawa prawna zwolnienia4)",null,"Stawka Podatku5)"]
[{"$f":"$A$2","v":9},null,"a",null,null,null,null,"b","c","d","e","f",null,"g"]
[{"$f":"$A$6","v":19.5},1]
[19.5,2]
[19.5,3]
[19.5,4]
[19.5,5]
[19.5,6]
[19.5,7]
[19.5,8]
[{"$f":"$A$2","v":9}]
[{"$f":"$A$2*2","v":18},"1)"," Numer PESEL wpisują podatnicy będący osobami fizycznymi objętymi rejestrem PESEL, nieprowadzący działalności gospodarczej lub niebędący zarejestrowanymi podatnikami podatku od towarów i usług.\nIdentyfikator podatkowy NIP wpisują pozostali podatnicy."]
[{"$f":"$A$2","v":9},"2)","Numer obrębu należy podać wraz z numerem arkusza mapy ewidencyjnej w przypadku, gdy działki numerowane są w ramach arkusza mapy."]
[{"$f":"$A$2*2","v":18},"3)"," Powierzchnię w ha należy wykazać wyłącznie w przypadku gruntów pod wodami powierzchniowymi stojącymi lub wodami powierzchniowymi płynącymi jezior i zbiorników sztucznych (z dokładnością\ndo czterech miejsc po przecinku)."]
[{"$f":"$A$8","v":16.5},null,{"$f":"'DN-1'!M10&\".\"&'DN-1'!Q24&Wersja","v":"2023.1.1.15.0.44867"},null,null,null,null,null,null,null,null,null,"ZDN-2(1)","1/2"]
[{"$f":"$A$2","v":9}]
[{"$f":"$A$2","v":9},"WYPEŁNIĆ DUŻYMI, DRUKOWANYMI LITERAMI, CZARNYM LUB NIEBIESKIM KOLOREM."]
[{"$f":"$A$4","v":4.5}]
[{"$f":"$A$8","v":16.5},"B.2.  BUDYNKI LUB ICH CZĘŚCI"]
[{"$f":"$A$8*1.5","v":24.75},"Lp.","Położenie (adres, w tym dzielnica)",null,null,null,null,"Nr księgi wieczystej\n(zbioru dokumentów)","Nr obrębu\n(arkusza mapy)2)","Nr działki","Powierzchnia użytkowa w m2","Podstawa prawna zwolnienia4)",null,"Stawka Podatku5)"]
[{"$f":"$A$2","v":9},null,"a",null,null,null,null,"b","c","d","e","f",null,"g"]
[{"$f":"$A$6","v":19.5},1]
[19.5,2]
[19.5,3]
[19.5,4]
[19.5,5]
[19.5,6]
[19.5,7]
[19.5,8]
[{"$f":"$A$8","v":16.5},"B.3.  BUDOWLE LUB ICH CZĘŚCI ZWIĄZANE Z PROWADZENIEM DZIAŁALNOŚCI GOSPODARCZEJ"]
[{"$f":"$A$8*1.5","v":24.75},"Lp.","Nazwa budowli",null,null,"Nr inwentarzowy","Położenie (adres, w tym dzielnica)",null,"Nr obrębu\n(arkusza mapy)2)","Nr działki","Wartość w zł","Podstawa prawna zwolnienia4)",null,"Stawka Podatku5)"]
[{"$f":"$A$2","v":9},null,"a",null,null,"b",null,"c","d","e","f","g",null,"h"]
[{"$f":"$A$6","v":19.5},1]
[19.5,2]
[19.5,3]
[19.5,4]
[19.5,5]
[19.5,6]
[19.5,7]
[19.5,8]
[{"$f":"$A$2","v":9}]
[9,"4)","Należy podać jednostkę redakcyjną z ustawy lub uchwały rady gminy."]
[9,"5)","Należy podać stawkę właściwą dla rodzaju przedmiotu opodatkowania zgodną z uchwałą rady gminy."]
[{"$f":"$A$2","v":9}]
[9]
[9]
[9]
[{"$f":"$A$8","v":16.5},null,"ZDN-2(1)","2/2",null,null,null,null,null,null,null,null,{"$f":"'DN-1'!M10&\".\"&'DN-1'!Q24&Wersja","v":"2023.1.1.15.0.44867"}]
[9]
[9,"Załącznik nr 7"]
[{"$f":"$A$2","v":9},"WYPEŁNIĆ DUŻYMI, DRUKOWANYMI LITERAMI, CZARNYM LUB NIEBIESKIM KOLOREM."]
[{"$f":"$A$4","v":4.5}]
[{"$f":"$A$2","v":9},"1. Identyfikator podatkowy NIP/numer PESEL (niepotrzebne skreślić)1)\n└────┴────┴────┴────┴────┴────┴────┴────┴────┴────┴────┘",null,null,null,null,null,null,"2.  Nr dokumentu"]
[{"$f":"$A$6","v":19.5},null,{"$f":"$C$6","v":0}]
[{"$f":"$A$2","v":9}]
[16.5,"ZDN-2"]
[{"$f":"$A$8","v":16.5},"ZAŁĄCZNIK DO DEKLARACJI NA PODATEK OD NIERUCHOMOŚCI"]
[{"$f":"$A$8","v":16.5},"- DANE O PRZEDMIOTACH OPODATKOWANIA ZWOLNIONYCH Z OPODATKOWANIA"]
[{"$f":"$A$2","v":9},null,null,null,null,null,null,null,null,null,null,null,"3. Nr załącznika"]
[{"$f":"$A$6","v":19.5},null,null,null,null,null,null,null,null,null,null,null,{"$f":"M1712+1","v":27},null,null,null,{"$f":"IF(COUNTA(C1791:O1798,C1810:O1817,C1821:O1828)=0,0,1)","v":0}]
[{"$f":"$A$4","v":4.5}]
[{"$f":"$A$4","v":4.5}]
[{"$f":"$A$8*1.5","v":24.75},"A.  DANE PODATNIKA WSKAZANEGO W CZĘŚCI C.1 DEKLARACJI DN-1\n* - dotyczy podatnika niebędącego osobą fizyczną               ** - dotyczy podatnika będącego osobą fizyczną"]
[{"$f":"$A$2","v":9},null,"4. Nazwa pełna * / Nazwisko **",null,null,null,null,null,"5. Nazwa skrócona * / Pierwsze imię **"]
[{"$f":"$A$6","v":19.5},null,{"$f":"\"\"&$C$17","v":""},null,null,null,null,null,{"$f":"\"\"&$I$17","v":""}]
[{"$f":"$A$4","v":4.5}]
[{"$f":"$A$8","v":16.5},"B.  DANE O POSZCZEGÓLNYCH PRZEDMIOTACH OPODATKOWANIA ZWOLNIONYCH Z OPODATKOWANIA"]
[16.5,"B.1.  GRUNTY"]
[{"$f":"$A$8*1.5","v":24.75},"Lp.","Położenie (adres, w tym dzielnica)",null,null,null,null,"Nr księgi wieczystej\n(zbioru dokumentów)","Nr obrębu\n(arkusza mapy)2)","Nr działki","Powierzchnia w m2 / ha3)","Podstawa prawna zwolnienia4)",null,"Stawka Podatku5)"]
[{"$f":"$A$2","v":9},null,"a",null,null,null,null,"b","c","d","e","f",null,"g"]
[{"$f":"$A$6","v":19.5},1]
[19.5,2]
[19.5,3]
[19.5,4]
[19.5,5]
[19.5,6]
[19.5,7]
[19.5,8]
[{"$f":"$A$2","v":9}]
[{"$f":"$A$2*2","v":18},"1)"," Numer PESEL wpisują podatnicy będący osobami fizycznymi objętymi rejestrem PESEL, nieprowadzący działalności gospodarczej lub niebędący zarejestrowanymi podatnikami podatku od towarów i usług.\nIdentyfikator podatkowy NIP wpisują pozostali podatnicy."]
[{"$f":"$A$2","v":9},"2)","Numer obrębu należy podać wraz z numerem arkusza mapy ewidencyjnej w przypadku, gdy działki numerowane są w ramach arkusza mapy."]
[{"$f":"$A$2*2","v":18},"3)"," Powierzchnię w ha należy wykazać wyłącznie w przypadku gruntów pod wodami powierzchniowymi stojącymi lub wodami powierzchniowymi płynącymi jezior i zbiorników sztucznych (z dokładnością\ndo czterech miejsc po przecinku)."]
[{"$f":"$A$8","v":16.5},null,{"$f":"'DN-1'!M10&\".\"&'DN-1'!Q24&Wersja","v":"2023.1.1.15.0.44867"},null,null,null,null,null,null,null,null,null,"ZDN-2(1)","1/2"]
[{"$f":"$A$2","v":9}]
[{"$f":"$A$2","v":9},"WYPEŁNIĆ DUŻYMI, DRUKOWANYMI LITERAMI, CZARNYM LUB NIEBIESKIM KOLOREM."]
[{"$f":"$A$4","v":4.5}]
[{"$f":"$A$8","v":16.5},"B.2.  BUDYNKI LUB ICH CZĘŚCI"]
[{"$f":"$A$8*1.5","v":24.75},"Lp.","Położenie (adres, w tym dzielnica)",null,null,null,null,"Nr księgi wieczystej\n(zbioru dokumentów)","Nr obrębu\n(arkusza mapy)2)","Nr działki","Powierzchnia użytkowa w m2","Podstawa prawna zwolnienia4)",null,"Stawka Podatku5)"]
[{"$f":"$A$2","v":9},null,"a",null,null,null,null,"b","c","d","e","f",null,"g"]
[{"$f":"$A$6","v":19.5},1]
[19.5,2]
[19.5,3]
[19.5,4]
[19.5,5]
[19.5,6]
[19.5,7]
[19.5,8]
[{"$f":"$A$8","v":16.5},"B.3.  BUDOWLE LUB ICH CZĘŚCI ZWIĄZANE Z PROWADZENIEM DZIAŁALNOŚCI GOSPODARCZEJ"]
[{"$f":"$A$8*1.5","v":24.75},"Lp.","Nazwa budowli",null,null,"Nr inwentarzowy","Położenie (adres, w tym dzielnica)",null,"Nr obrębu\n(arkusza mapy)2)","Nr działki","Wartość w zł","Podstawa prawna zwolnienia4)",null,"Stawka Podatku5)"]
[{"$f":"$A$2","v":9},null,"a",null,null,"b",null,"c","d","e","f","g",null,"h"]
[{"$f":"$A$6","v":19.5},1]
[19.5,2]
[19.5,3]
[19.5,4]
[19.5,5]
[19.5,6]
[19.5,7]
[19.5,8]
[{"$f":"$A$2","v":9}]
[9,"4)","Należy podać jednostkę redakcyjną z ustawy lub uchwały rady gminy."]
[9,"5)","Należy podać stawkę właściwą dla rodzaju przedmiotu opodatkowania zgodną z uchwałą rady gminy."]
[{"$f":"$A$2","v":9}]
[9]
[9]
[9]
[{"$f":"$A$8","v":16.5},null,"ZDN-2(1)","2/2",null,null,null,null,null,null,null,null,{"$f":"'DN-1'!M10&\".\"&'DN-1'!Q24&Wersja","v":"2023.1.1.15.0.44867"}]
[9]
[9,"Załącznik nr 7"]
[{"$f":"$A$2","v":9},"WYPEŁNIĆ DUŻYMI, DRUKOWANYMI LITERAMI, CZARNYM LUB NIEBIESKIM KOLOREM."]
[{"$f":"$A$4","v":4.5}]
[{"$f":"$A$2","v":9},"1. Identyfikator podatkowy NIP/numer PESEL (niepotrzebne skreślić)1)\n└────┴────┴────┴────┴────┴────┴────┴────┴────┴────┴────┘",null,null,null,null,null,null,"2.  Nr dokumentu"]
[{"$f":"$A$6","v":19.5},null,{"$f":"$C$6","v":0}]
[{"$f":"$A$2","v":9}]
[16.5,"ZDN-2"]
[{"$f":"$A$8","v":16.5},"ZAŁĄCZNIK DO DEKLARACJI NA PODATEK OD NIERUCHOMOŚCI"]
[{"$f":"$A$8","v":16.5},"- DANE O PRZEDMIOTACH OPODATKOWANIA ZWOLNIONYCH Z OPODATKOWANIA"]
[{"$f":"$A$2","v":9},null,null,null,null,null,null,null,null,null,null,null,"3. Nr załącznika"]
[{"$f":"$A$6","v":19.5},null,null,null,null,null,null,null,null,null,null,null,{"$f":"M1780+1","v":28},null,null,null,{"$f":"IF(COUNTA(C1859:O1866,C1878:O1885,C1889:O1896)=0,0,1)","v":0}]
[{"$f":"$A$4","v":4.5}]
[{"$f":"$A$4","v":4.5}]
[{"$f":"$A$8*1.5","v":24.75},"A.  DANE PODATNIKA WSKAZANEGO W CZĘŚCI C.1 DEKLARACJI DN-1\n* - dotyczy podatnika niebędącego osobą fizyczną               ** - dotyczy podatnika będącego osobą fizyczną"]
[{"$f":"$A$2","v":9},null,"4. Nazwa pełna * / Nazwisko **",null,null,null,null,null,"5. Nazwa skrócona * / Pierwsze imię **"]
[{"$f":"$A$6","v":19.5},null,{"$f":"\"\"&$C$17","v":""},null,null,null,null,null,{"$f":"\"\"&$I$17","v":""}]
[{"$f":"$A$4","v":4.5}]
[{"$f":"$A$8","v":16.5},"B.  DANE O POSZCZEGÓLNYCH PRZEDMIOTACH OPODATKOWANIA ZWOLNIONYCH Z OPODATKOWANIA"]
[16.5,"B.1.  GRUNTY"]
[{"$f":"$A$8*1.5","v":24.75},"Lp.","Położenie (adres, w tym dzielnica)",null,null,null,null,"Nr księgi wieczystej\n(zbioru dokumentów)","Nr obrębu\n(arkusza mapy)2)","Nr działki","Powierzchnia w m2 / ha3)","Podstawa prawna zwolnienia4)",null,"Stawka Podatku5)"]
[{"$f":"$A$2","v":9},null,"a",null,null,null,null,"b","c","d","e","f",null,"g"]
[{"$f":"$A$6","v":19.5},1]
[19.5,2]
[19.5,3]
[19.5,4]
[19.5,5]
[19.5,6]
[19.5,7]
[19.5,8]
[{"$f":"$A$2","v":9}]
[{"$f":"$A$2*2","v":18},"1)"," Numer PESEL wpisują podatnicy będący osobami fizycznymi objętymi rejestrem PESEL, nieprowadzący działalności gospodarczej lub niebędący zarejestrowanymi podatnikami podatku od towarów i usług.\nIdentyfikator podatkowy NIP wpisują pozostali podatnicy."]
[{"$f":"$A$2","v":9},"2)","Numer obrębu należy podać wraz z numerem arkusza mapy ewidencyjnej w przypadku, gdy działki numerowane są w ramach arkusza mapy."]
[{"$f":"$A$2*2","v":18},"3)"," Powierzchnię w ha należy wykazać wyłącznie w przypadku gruntów pod wodami powierzchniowymi stojącymi lub wodami powierzchniowymi płynącymi jezior i zbiorników sztucznych (z dokładnością\ndo czterech miejsc po przecinku)."]
[{"$f":"$A$8","v":16.5},null,{"$f":"'DN-1'!M10&\".\"&'DN-1'!Q24&Wersja","v":"2023.1.1.15.0.44867"},null,null,null,null,null,null,null,null,null,"ZDN-2(1)","1/2"]
[{"$f":"$A$2","v":9}]
[{"$f":"$A$2","v":9},"WYPEŁNIĆ DUŻYMI, DRUKOWANYMI LITERAMI, CZARNYM LUB NIEBIESKIM KOLOREM."]
[{"$f":"$A$4","v":4.5}]
[{"$f":"$A$8","v":16.5},"B.2.  BUDYNKI LUB ICH CZĘŚCI"]
[{"$f":"$A$8*1.5","v":24.75},"Lp.","Położenie (adres, w tym dzielnica)",null,null,null,null,"Nr księgi wieczystej\n(zbioru dokumentów)","Nr obrębu\n(arkusza mapy)2)","Nr działki","Powierzchnia użytkowa w m2","Podstawa prawna zwolnienia4)",null,"Stawka Podatku5)"]
[{"$f":"$A$2","v":9},null,"a",null,null,null,null,"b","c","d","e","f",null,"g"]
[{"$f":"$A$6","v":19.5},1]
[19.5,2]
[19.5,3]
[19.5,4]
[19.5,5]
[19.5,6]
[19.5,7]
[19.5,8]
[{"$f":"$A$8","v":16.5},"B.3.  BUDOWLE LUB ICH CZĘŚCI ZWIĄZANE Z PROWADZENIEM DZIAŁALNOŚCI GOSPODARCZEJ"]
[{"$f":"$A$8*1.5","v":24.75},"Lp.","Nazwa budowli",null,null,"Nr inwentarzowy","Położenie (adres, w tym dzielnica)",null,"Nr obrębu\n(arkusza mapy)2)","Nr działki","Wartość w zł","Podstawa prawna zwolnienia4)",null,"Stawka Podatku5)"]
[{"$f":"$A$2","v":9},null,"a",null,null,"b",null,"c","d","e","f","g",null,"h"]
[{"$f":"$A$6","v":19.5},1]
[19.5,2]
[19.5,3]
[19.5,4]
[19.5,5]
[19.5,6]
[19.5,7]
[19.5,8]
[{"$f":"$A$2","v":9}]
[9,"4)","Należy podać jednostkę redakcyjną z ustawy lub uchwały rady gminy."]
[9,"5)","Należy podać stawkę właściwą dla rodzaju przedmiotu opodatkowania zgodną z uchwałą rady gminy."]
[{"$f":"$A$2","v":9}]
[9]
[9]
[9]
[{"$f":"$A$8","v":16.5},null,"ZDN-2(1)","2/2",null,null,null,null,null,null,null,null,{"$f":"'DN-1'!M10&\".\"&'DN-1'!Q24&Wersja","v":"2023.1.1.15.0.44867"}]
[9]
[9,"Załącznik nr 7"]
[{"$f":"$A$2","v":9},"WYPEŁNIĆ DUŻYMI, DRUKOWANYMI LITERAMI, CZARNYM LUB NIEBIESKIM KOLOREM."]
[{"$f":"$A$4","v":4.5}]
[{"$f":"$A$2","v":9},"1. Identyfikator podatkowy NIP/numer PESEL (niepotrzebne skreślić)1)\n└────┴────┴────┴────┴────┴────┴────┴────┴────┴────┴────┘",null,null,null,null,null,null,"2.  Nr dokumentu"]
[{"$f":"$A$6","v":19.5},null,{"$f":"$C$6","v":0}]
[{"$f":"$A$2","v":9}]
[16.5,"ZDN-2"]
[{"$f":"$A$8","v":16.5},"ZAŁĄCZNIK DO DEKLARACJI NA PODATEK OD NIERUCHOMOŚCI"]
[{"$f":"$A$8","v":16.5},"- DANE O PRZEDMIOTACH OPODATKOWANIA ZWOLNIONYCH Z OPODATKOWANIA"]
[{"$f":"$A$2","v":9},null,null,null,null,null,null,null,null,null,null,null,"3. Nr załącznika"]
[{"$f":"$A$6","v":19.5},null,null,null,null,null,null,null,null,null,null,null,{"$f":"M1848+1","v":29},null,null,null,{"$f":"IF(COUNTA(C1927:O1934,C1946:O1953,C1957:O1964)=0,0,1)","v":0}]
[{"$f":"$A$4","v":4.5}]
[{"$f":"$A$4","v":4.5}]
[{"$f":"$A$8*1.5","v":24.75},"A.  DANE PODATNIKA WSKAZANEGO W CZĘŚCI C.1 DEKLARACJI DN-1\n* - dotyczy podatnika niebędącego osobą fizyczną               ** - dotyczy podatnika będącego osobą fizyczną"]
[{"$f":"$A$2","v":9},null,"4. Nazwa pełna * / Nazwisko **",null,null,null,null,null,"5. Nazwa skrócona * / Pierwsze imię **"]
[{"$f":"$A$6","v":19.5},null,{"$f":"\"\"&$C$17","v":""},null,null,null,null,null,{"$f":"\"\"&$I$17","v":""}]
[{"$f":"$A$4","v":4.5}]
[{"$f":"$A$8","v":16.5},"B.  DANE O POSZCZEGÓLNYCH PRZEDMIOTACH OPODATKOWANIA ZWOLNIONYCH Z OPODATKOWANIA"]
[16.5,"B.1.  GRUNTY"]
[{"$f":"$A$8*1.5","v":24.75},"Lp.","Położenie (adres, w tym dzielnica)",null,null,null,null,"Nr księgi wieczystej\n(zbioru dokumentów)","Nr obrębu\n(arkusza mapy)2)","Nr działki","Powierzchnia w m2 / ha3)","Podstawa prawna zwolnienia4)",null,"Stawka Podatku5)"]
[{"$f":"$A$2","v":9},null,"a",null,null,null,null,"b","c","d","e","f",null,"g"]
[{"$f":"$A$6","v":19.5},1]
[19.5,2]
[19.5,3]
[19.5,4]
[19.5,5]
[19.5,6]
[19.5,7]
[19.5,8]
[{"$f":"$A$2","v":9}]
[{"$f":"$A$2*2","v":18},"1)"," Numer PESEL wpisują podatnicy będący osobami fizycznymi objętymi rejestrem PESEL, nieprowadzący działalności gospodarczej lub niebędący zarejestrowanymi podatnikami podatku od towarów i usług.\nIdentyfikator podatkowy NIP wpisują pozostali podatnicy."]
[{"$f":"$A$2","v":9},"2)","Numer obrębu należy podać wraz z numerem arkusza mapy ewidencyjnej w przypadku, gdy działki numerowane są w ramach arkusza mapy."]
[{"$f":"$A$2*2","v":18},"3)"," Powierzchnię w ha należy wykazać wyłącznie w przypadku gruntów pod wodami powierzchniowymi stojącymi lub wodami powierzchniowymi płynącymi jezior i zbiorników sztucznych (z dokładnością\ndo czterech miejsc po przecinku)."]
[{"$f":"$A$8","v":16.5},null,{"$f":"'DN-1'!M10&\".\"&'DN-1'!Q24&Wersja","v":"2023.1.1.15.0.44867"},null,null,null,null,null,null,null,null,null,"ZDN-2(1)","1/2"]
[{"$f":"$A$2","v":9}]
[{"$f":"$A$2","v":9},"WYPEŁNIĆ DUŻYMI, DRUKOWANYMI LITERAMI, CZARNYM LUB NIEBIESKIM KOLOREM."]
[{"$f":"$A$4","v":4.5}]
[{"$f":"$A$8","v":16.5},"B.2.  BUDYNKI LUB ICH CZĘŚCI"]
[{"$f":"$A$8*1.5","v":24.75},"Lp.","Położenie (adres, w tym dzielnica)",null,null,null,null,"Nr księgi wieczystej\n(zbioru dokumentów)","Nr obrębu\n(arkusza mapy)2)","Nr działki","Powierzchnia użytkowa w m2","Podstawa prawna zwolnienia4)",null,"Stawka Podatku5)"]
[{"$f":"$A$2","v":9},null,"a",null,null,null,null,"b","c","d","e","f",null,"g"]
[{"$f":"$A$6","v":19.5},1]
[19.5,2]
[19.5,3]
[19.5,4]
[19.5,5]
[19.5,6]
[19.5,7]
[19.5,8]
[{"$f":"$A$8","v":16.5},"B.3.  BUDOWLE LUB ICH CZĘŚCI ZWIĄZANE Z PROWADZENIEM DZIAŁALNOŚCI GOSPODARCZEJ"]
[{"$f":"$A$8*1.5","v":24.75},"Lp.","Nazwa budowli",null,null,"Nr inwentarzowy","Położenie (adres, w tym dzielnica)",null,"Nr obrębu\n(arkusza mapy)2)","Nr działki","Wartość w zł","Podstawa prawna zwolnienia4)",null,"Stawka Podatku5)"]
[{"$f":"$A$2","v":9},null,"a",null,null,"b",null,"c","d","e","f","g",null,"h"]
[{"$f":"$A$6","v":19.5},1]
[19.5,2]
[19.5,3]
[19.5,4]
[19.5,5]
[19.5,6]
[19.5,7]
[19.5,8]
[{"$f":"$A$2","v":9}]
[9,"4)","Należy podać jednostkę redakcyjną z ustawy lub uchwały rady gminy."]
[9,"5)","Należy podać stawkę właściwą dla rodzaju przedmiotu opodatkowania zgodną z uchwałą rady gminy."]
[{"$f":"$A$2","v":9}]
[9]
[9]
[9]
[{"$f":"$A$8","v":16.5},null,"ZDN-2(1)","2/2",null,null,null,null,null,null,null,null,{"$f":"'DN-1'!M10&\".\"&'DN-1'!Q24&Wersja","v":"2023.1.1.15.0.44867"}]
[9]
[9,"Załącznik nr 7"]
[{"$f":"$A$2","v":9},"WYPEŁNIĆ DUŻYMI, DRUKOWANYMI LITERAMI, CZARNYM LUB NIEBIESKIM KOLOREM."]
[{"$f":"$A$4","v":4.5}]
[{"$f":"$A$2","v":9},"1. Identyfikator podatkowy NIP/numer PESEL (niepotrzebne skreślić)1)\n└────┴────┴────┴────┴────┴────┴────┴────┴────┴────┴────┘",null,null,null,null,null,null,"2.  Nr dokumentu"]
[{"$f":"$A$6","v":19.5},null,{"$f":"$C$6","v":0}]
[{"$f":"$A$2","v":9}]
[16.5,"ZDN-2"]
[{"$f":"$A$8","v":16.5},"ZAŁĄCZNIK DO DEKLARACJI NA PODATEK OD NIERUCHOMOŚCI"]
[{"$f":"$A$8","v":16.5},"- DANE O PRZEDMIOTACH OPODATKOWANIA ZWOLNIONYCH Z OPODATKOWANIA"]
[{"$f":"$A$2","v":9},null,null,null,null,null,null,null,null,null,null,null,"3. Nr załącznika"]
[{"$f":"$A$6","v":19.5},null,null,null,null,null,null,null,null,null,null,null,{"$f":"M1916+1","v":30},null,null,null,{"$f":"IF(COUNTA(C1995:O2002,C2014:O2021,C2025:O2032)=0,0,1)","v":0}]
[{"$f":"$A$4","v":4.5}]
[{"$f":"$A$4","v":4.5}]
[{"$f":"$A$8*1.5","v":24.75},"A.  DANE PODATNIKA WSKAZANEGO W CZĘŚCI C.1 DEKLARACJI DN-1\n* - dotyczy podatnika niebędącego osobą fizyczną               ** - dotyczy podatnika będącego osobą fizyczną"]
[{"$f":"$A$2","v":9},null,"4. Nazwa pełna * / Nazwisko **",null,null,null,null,null,"5. Nazwa skrócona * / Pierwsze imię **"]
[{"$f":"$A$6","v":19.5},null,{"$f":"\"\"&$C$17","v":""},null,null,null,null,null,{"$f":"\"\"&$I$17","v":""}]
[{"$f":"$A$4","v":4.5}]
[{"$f":"$A$8","v":16.5},"B.  DANE O POSZCZEGÓLNYCH PRZEDMIOTACH OPODATKOWANIA ZWOLNIONYCH Z OPODATKOWANIA"]
[16.5,"B.1.  GRUNTY"]
[{"$f":"$A$8*1.5","v":24.75},"Lp.","Położenie (adres, w tym dzielnica)",null,null,null,null,"Nr księgi wieczystej\n(zbioru dokumentów)","Nr obrębu\n(arkusza mapy)2)","Nr działki","Powierzchnia w m2 / ha3)","Podstawa prawna zwolnienia4)",null,"Stawka Podatku5)"]
[{"$f":"$A$2","v":9},null,"a",null,null,null,null,"b","c","d","e","f",null,"g"]
[{"$f":"$A$6","v":19.5},1]
[19.5,2]
[19.5,3]
[19.5,4]
[19.5,5]
[19.5,6]
[19.5,7]
[19.5,8]
[{"$f":"$A$2","v":9}]
[{"$f":"$A$2*2","v":18},"1)"," Numer PESEL wpisują podatnicy będący osobami fizycznymi objętymi rejestrem PESEL, nieprowadzący działalności gospodarczej lub niebędący zarejestrowanymi podatnikami podatku od towarów i usług.\nIdentyfikator podatkowy NIP wpisują pozostali podatnicy."]
[{"$f":"$A$2","v":9},"2)","Numer obrębu należy podać wraz z numerem arkusza mapy ewidencyjnej w przypadku, gdy działki numerowane są w ramach arkusza mapy."]
[{"$f":"$A$2*2","v":18},"3)"," Powierzchnię w ha należy wykazać wyłącznie w przypadku gruntów pod wodami powierzchniowymi stojącymi lub wodami powierzchniowymi płynącymi jezior i zbiorników sztucznych (z dokładnością\ndo czterech miejsc po przecinku)."]
[{"$f":"$A$8","v":16.5},null,{"$f":"'DN-1'!M10&\".\"&'DN-1'!Q24&Wersja","v":"2023.1.1.15.0.44867"},null,null,null,null,null,null,null,null,null,"ZDN-2(1)","1/2"]
[{"$f":"$A$2","v":9}]
[{"$f":"$A$2","v":9},"WYPEŁNIĆ DUŻYMI, DRUKOWANYMI LITERAMI, CZARNYM LUB NIEBIESKIM KOLOREM."]
[{"$f":"$A$4","v":4.5}]
[{"$f":"$A$8","v":16.5},"B.2.  BUDYNKI LUB ICH CZĘŚCI"]
[{"$f":"$A$8*1.5","v":24.75},"Lp.","Położenie (adres, w tym dzielnica)",null,null,null,null,"Nr księgi wieczystej\n(zbioru dokumentów)","Nr obrębu\n(arkusza mapy)2)","Nr działki","Powierzchnia użytkowa w m2","Podstawa prawna zwolnienia4)",null,"Stawka Podatku5)"]
[{"$f":"$A$2","v":9},null,"a",null,null,null,null,"b","c","d","e","f",null,"g"]
[{"$f":"$A$6","v":19.5},1]
[19.5,2]
[19.5,3]
[19.5,4]
[19.5,5]
[19.5,6]
[19.5,7]
[19.5,8]
[{"$f":"$A$8","v":16.5},"B.3.  BUDOWLE LUB ICH CZĘŚCI ZWIĄZANE Z PROWADZENIEM DZIAŁALNOŚCI GOSPODARCZEJ"]
[{"$f":"$A$8*1.5","v":24.75},"Lp.","Nazwa budowli",null,null,"Nr inwentarzowy","Położenie (adres, w tym dzielnica)",null,"Nr obrębu\n(arkusza mapy)2)","Nr działki","Wartość w zł","Podstawa prawna zwolnienia4)",null,"Stawka Podatku5)"]
[{"$f":"$A$2","v":9},null,"a",null,null,"b",null,"c","d","e","f","g",null,"h"]
[{"$f":"$A$6","v":19.5},1]
[19.5,2]
[19.5,3]
[19.5,4]
[19.5,5]
[19.5,6]
[19.5,7]
[19.5,8]
[{"$f":"$A$2","v":9}]
[9,"4)","Należy podać jednostkę redakcyjną z ustawy lub uchwały rady gminy."]
[9,"5)","Należy podać stawkę właściwą dla rodzaju przedmiotu opodatkowania zgodną z uchwałą rady gminy."]
[{"$f":"$A$2","v":9}]
[9]
[9]
[9]
[{"$f":"$A$8","v":16.5},null,"ZDN-2(1)","2/2",null,null,null,null,null,null,null,null,{"$f":"'DN-1'!M10&\".\"&'DN-1'!Q24&Wersja","v":"2023.1.1.15.0.44867"}]
[9]

{"sheet":"DR-1","index":3,"n_rows":193,"n_cols":55,"rows_kept":193,"cut":false,"hidden":false,"merged":[[192,18,192,24],[102,18,102,24],[155,5,155,12],[159,5,159,12],[145,5,145,12],[160,1,160,25],[139,1,139,25],[133,1,133,25],[129,1,129,25],[117,1,117,25],[114,1,114,25],[158,2,158,14],[158,15,158,25],[159,15,159,25],[143,2,143,14],[143,15,143,25],[144,2,144,14],[144,15,144,25],[132,8,132,9],[132,20,132,21],[131,2,131,14],[131,15,131,25],[125,15,125,16],[125,17,125,24],[154,15,154,25],[127,15,127,20],[127,22,127,24],[123,2,123,14],[123,15,123,16],[123,17,123,22],[124,2,124,14],[124,15,124,16],[124,17,124,22],[145,15,145,25],[138,2,138,25],[142,2,142,14],[142,15,142,25],[128,10,128,13],[128,15,128,20],[128,22,128,24],[147,2,147,8],[178,1,178,25],[66,16,66,25],[66,5,66,14],[68,1,68,25],[96,2,96,25],[113,15,113,25],[113,2,113,14],[171,2,171,25],[172,2,172,25],[173,2,173,25],[174,2,174,25],[175,2,175,25],[176,2,176,25],[155,15,155,25],[156,2,156,14],[156,15,156,25],[157,2,157,14],[157,15,157,25],[153,2,153,14],[153,15,153,25],[152,15,152,25],[152,2,152,14],[154,2,154,14],[161,1,161,25],[135,1,137,1],[122,2,122,14],[122,15,122,16],[122,17,122,22],[109,3,109,11],[108,2,108,11],[110,1,110,25],[118,1,118,25],[115,1,115,25],[111,1,111,25],[120,2,120,14],[120,15,120,16],[121,2,121,14],[112,2,112,14],[112,15,112,25],[127,2,127,8],[127,10,127,13],[120,17,120,24],[142,1,144,1],[137,2,137,25],[125,2,125,14],[119,1,125,1],[136,2,136,14],[136,15,136,25],[121,15,121,16],[121,17,121,22],[99,20,99,25],[99,13,99,18],[99,3,99,11],[107,1,109,1],[116,22,116,25],[116,2,116,20],[119,17,119,25],[119,15,119,16],[119,2,119,14],[106,1,106,25],[141,1,141,25],[140,1,140,25],[134,1,134,25],[126,1,126,25],[130,1,130,25],[128,2,128,8],[92,21,92,25],[93,4,93,5],[93,6,93,12],[93,14,93,19],[93,21,93,25],[94,4,94,5],[94,6,94,12],[94,14,94,19],[94,21,94,25],[97,19,97,25],[97,12,97,18],[97,1,99,1],[93,2,93,3],[94,2,94,3],[109,13,109,18],[109,20,109,25],[107,19,107,25],[108,19,108,25],[108,12,108,18],[107,12,107,18],[107,2,107,11],[85,21,85,25],[89,4,89,5],[89,6,89,12],[89,14,89,19],[89,21,89,25],[90,4,90,5],[90,6,90,12],[90,14,90,19],[90,21,90,25],[85,14,85,19],[86,1,86,25],[87,13,87,19],[82,21,82,25],[83,4,83,5],[83,21,83,25],[84,4,84,5],[84,21,84,25],[82,14,82,19],[83,14,83,19],[84,14,84,19],[78,14,78,19],[80,4,80,12],[80,13,80,19],[80,20,80,25],[81,4,81,12],[81,13,81,19],[81,20,81,25],[79,1,79,25],[83,2,83,3],[84,2,84,3],[82,6,82,12],[74,14,74,19],[75,14,75,19],[76,14,76,19],[77,14,77,19],[74,6,74,12],[75,6,75,12],[76,6,76,12],[78,4,78,5],[82,4,82,5],[74,21,74,25],[75,21,75,25],[76,21,76,25],[77,21,77,25],[78,21,78,25],[98,19,98,25],[98,12,98,18],[98,2,98,11],[97,2,97,11],[92,4,92,5],[92,6,92,12],[92,14,92,19],[91,4,91,5],[91,6,91,12],[91,14,91,19],[91,21,91,25],[87,20,87,25],[88,4,88,12],[88,13,88,19],[88,20,88,25],[83,6,83,12],[84,6,84,12],[85,6,85,12],[95,1,95,25],[71,4,71,12],[72,4,72,12],[72,13,72,19],[72,20,72,25],[73,6,73,12],[73,21,73,25],[73,14,73,19],[64,1,64,25],[65,2,65,25],[70,1,70,25],[69,1,69,25],[71,20,71,25],[71,13,71,19],[73,4,73,5],[91,2,91,3],[92,2,92,3],[88,1,94,1],[88,2,88,3],[89,2,89,3],[90,2,90,3],[85,2,85,3],[87,2,87,3],[87,4,87,12],[85,4,85,5],[80,1,85,1],[80,2,80,3],[81,2,81,3],[82,2,82,3],[77,2,77,3],[78,2,78,3],[77,6,77,12],[78,6,78,12],[75,2,75,3],[76,2,76,3],[72,1,78,1],[72,2,72,3],[73,2,73,3],[74,2,74,3],[74,4,74,5],[75,4,75,5],[76,4,76,5],[77,4,77,5],[197,5,197,9],[71,2,71,3],[192,1,192,4],[192,5,192,6],[147,21,147,24],[149,1,149,25],[152,1,158,1],[180,2,180,25],[181,2,181,25],[179,2,179,25],[170,2,170,25],[166,2,166,25],[167,2,167,25],[168,2,168,25],[169,2,169,25],[165,1,165,25],[163,2,163,25],[162,2,162,25],[151,1,151,25],[102,1,102,4],[102,5,102,6],[104,1,104,25],[135,2,135,14],[135,15,135,25],[56,2,56,14],[56,15,56,25],[59,21,59,24],[61,1,61,25],[54,2,54,9],[54,10,54,19],[54,20,54,22],[54,23,54,25],[55,2,55,14],[55,15,55,25],[59,2,59,8],[52,2,52,8],[52,9,52,17],[52,18,52,25],[53,2,53,9],[53,10,53,19],[53,20,53,22],[53,23,53,25],[48,2,48,14],[48,15,48,25],[49,2,49,14],[49,15,49,25],[50,1,50,25],[51,2,51,8],[51,9,51,17],[51,18,51,25],[46,2,46,9],[46,10,46,19],[46,20,46,22],[46,23,46,25],[47,2,47,9],[47,10,47,19],[47,20,47,22],[47,23,47,25],[43,1,43,25],[44,2,44,8],[44,9,44,17],[44,18,44,25],[45,2,45,8],[45,9,45,17],[45,18,45,25],[40,1,40,25],[41,2,41,12],[41,13,41,19],[41,20,41,25],[42,2,42,12],[42,13,42,19],[42,20,42,25],[36,2,36,14],[36,15,36,25],[37,2,37,14],[37,15,37,25],[38,2,38,25],[39,9,39,19],[32,1,32,25],[33,2,33,25],[34,5,34,8],[34,11,34,14],[34,16,34,25],[35,2,35,25],[23,2,23,15],[23,16,23,17],[25,1,25,25],[26,2,26,25],[30,1,30,25],[31,1,31,25],[29,1,29,25],[24,1,24,25],[16,1,16,25],[17,2,17,25],[18,2,18,25],[19,2,19,25],[21,2,21,25],[22,2,22,25],[12,1,12,3],[12,4,12,25],[13,1,13,3],[13,4,13,25],[14,1,14,3],[14,4,14,25],[15,1,15,25],[6,1,6,25],[7,1,7,25],[8,12,8,16],[9,1,9,11],[9,12,9,16],[11,1,11,3],[11,4,11,25],[1,1,1,25],[2,1,2,25],[4,1,4,13],[4,14,4,25],[5,1,5,11],[5,14,5,25],[8,17,9,25]]}
[15,2.5,3.83,{"$f":"$C$1","v":3.83},2.5,{"$f":"$C$1-E1","v":1.33},{"$f":"$C$1-H1","v":1.33},2.5,{"$f":"$C$1","v":3.83},3.83,2.5,{"$f":"$C$1-K1","v":1.33},3.83,3.83,3.83,2.5,{"$f":"C1-P1","v":1.33},3.83,3.83,3.83,3.83,3.83,3.83,3.83,3.83,3.83,"sumy",null,null,null,null,null,null,null,null,null,null,null,null,null,null,null,null,null,null,null,null,null,null,null,null,null,{"$f":"COUNTA(BC:BC)","v":61},null,{"$f":"B6&\";\"&K21&\";\"&P21&\";\"&Q24&\";\"&E28&\";\"&P28&\";\"&E35&\";\"&K35&\";\"&P35&\";\"&C38&\";\"&P38&\";\"&J40&\";\"&C43&\";\"&N43&\";\"&U43&\";\"&C46&\";\"&J46&\";\"&S46&\";\"&C48&\";\"&K48&\";\"&U48&\";\"&X48&\";\"&C50&\";\"&P50&\";\"&C53&\";\"&J53&\";\"&S53&\";\"&C55&\";\"&K55&\";\"&U55&\";\"&X55&\";\"&C57&\";\"&P57&\";\"&C137&\";\"&P137&\";\"&C144&\";\"&P144&\";\"&F146&\";\"&C154&\";\"&P154&\";\"&F156&\";\"&C158&\";\"&P158&\";\"&F160=Dane!E19","v":false}]
[{"$f":"$A$3","v":9},"Załącznik nr 5",null,null,null,null,null,null,null,null,null,null,null,null,null,null,null,null,null,null,null,null,null,null,null,null,"kontrolne",null,null,null,null,null,null,null,null,null,null,null,null,null,null,null,null,null,null,null,null,null,null,null,null,null,{"$f":"SUM(BB:BB)","v":18}]
[9,"WYPEŁNIĆ DUŻYMI, DRUKOWANYMI LITERAMI, CZARNYM LUB NIEBIESKIM KOLOREM.",null,null,null,null,null,null,null,null,null,null,null,null,null,null,null,null,null,null,null,null,null,null,null,null,null,null,null,null,null,null,null,null,null,null,null,null,null,null,null,null,null,null,null,null,null,null,null,null,null,null,{"$f":"IF(LEN(C137&P137)=0,1,0)","v":1},null,"Czy podano dane kontaktowe 104 i 105"]
[4.5,null,null,null,null,null,null,null,null,null,null,null,null,null,null,null,null,null,null,null,null,null,null,null,null,null,null,null,null,null,null,null,null,null,null,null,null,null,null,null,null,null,null,null,null,null,null,null,null,null,null,null,137]
[{"$f":"$A$3","v":9},"1. Identyfikator podatkowy NIP/numer PESEL (niepotrzebne skreślić)1)",null,null,null,null,null,null,null,null,null,null,null,null,"2.  Nr dokumentu",null,null,null,null,null,null,null,null,null,null,null,null,null,null,null,null,null,null,null,null,null,null,null,null,null,null,null,null,null,null,null,null,null,null,null,"wiersz błędu","kolumna błedu",3]
[16.5,null,null,null,null,null,null,null,null,null,null,null,null,null,null,null,null,null,null,null,null,null,null,null,null,null,{"$f":"LEN(B6)","v":0},null,null,null,null,null,null,null,null,null,null,null,null,null,null,null,null,null,null,null,null,null,null,null,6,2,1,{"$f":"IF(E35<>\"\",IF(B6<>\"\",0,1),IF(B6<>\"\",0,1))","v":1},{"$f":"IF(E35<>\"\",IF(B6<>\"\",\"ok\",\"Pole 1 [Identyfikator podatkowy NIP/numer PESEL]. Jeżeli deklarację składa osoba fizyczna nieprowadząca działalności gospodarczej, której nie nadano nr PESEL należy wpisać -brak.\"),IF(B6<>\"\",\"ok\",\"Pole 1 [Identyfikator podatkowy NIP/numer PESEL]. Jeżeli deklarację składa inny podmiot niż osoba fizyczna należy wipsać NIP.\"))","v":"Pole 1 [Identyfikator podatkowy NIP/numer PESEL]. Jeżeli deklarację składa inny podmiot niż osoba fizyczna należy wipsać NIP."}]
[16.5,"DR-1",null,null,null,null,null,null,null,null,null,null,null,null,null,null,null,null,null,null,null,null,null,null,null,null,{"$f":"SUM(BB7:BB10)","v":1},null,null,null,null,null,null,null,null,null,null,null,null,null,null,null,null,null,null,null,null,null,null,null,6,2,"1 długość 10 lub 11",{"$f":"IF(OR(LEN(B6)=10,LEN(B6)=11,B6=\"brak\"),0,1)","v":1},"Pole 1 [Identyfikator podatkowy NIP/numer PESEL] zawiera błąd."]
[{"$f":"$A$7","v":16.5},"DEKLARACJA NA PODATEK ROLNY",null,null,null,null,null,null,null,null,null,null,null,null,null,null,null,null,null,null,null,null,null,null,null,null,null,null,null,null,null,null,null,null,null,null,null,null,null,null,null,null,null,null,null,null,null,null,null,null,6,2,"1 NIP",{"$f":"IF(B6=\"nie nadano\",0,IF(LEN(B6)=10,IF(MOD(MOD(6*MID(B6,1,1)+5*MID(B6,2,1)+7*MID(B6,3,1)+2*MID(B6,4,1)+3*MID(B6,5,1)+4*MID(B6,6,1)+5*MID(B6,7,1)+6*MID(B6,8,1)+7*MID(B6,9,1),11),10) = 1*MID(B6,10,1),0,1),0))","v":0},"Podany w polu 1 NIP jest błędny."]
[{"$f":"$A$3","v":9},null,null,null,null,null,null,null,null,null,null,null,"3. Rok",null,null,null,null,null,null,null,null,null,null,null,null,null,null,null,null,null,null,null,null,null,null,null,null,null,null,null,null,null,null,null,null,null,null,null,null,null,6,2,"1 PESEL",{"$f":"IF(LEN(B6)=11,IF(MOD(10-MOD(1*MID(B6,1,1)+3*MID(B6,2,1)+7*MID(B6,3,1)+9*MID(B6,4,1)+1*MID(B6,5,1)+3*MID(B6,6,1)+5*MID(B6,7,1)+9*MID(B6,8,1)+1*MID(B6,9,1)+ 3*MID(B6,10,1),10),10)=1*MID(B6,11,1),0,1),0)","v":0},"Podany w polu 1 PESEL jest błędny."]
[{"$f":"$A$6","v":16.5},"NA ROK",null,null,null,null,null,null,null,null,null,null,{"$f":"Dane!AN1","v":2023},null,null,null,null,null,null,null,null,null,null,null,null,null,null,null,null,null,null,null,null,null,null,null,null,null,null,null,null,null,null,null,null,null,null,null,null,null,6,2,"1 PESEL",{"$f":"IF(AND(LEN(B6)=11,OR(K35<>\"\",P35<>\"\")       ),1,0)","v":0},"W polu 1 PESEL podają wyłącznie osoby fizyczne, które nie prowadzą działalności gospodarczej."]
[{"$f":"$A$4","v":4.5}]
[17.25,"Podstawa prawna:",null,null,"Art. 6a ust. 8, 9 i 10 ustawy z dnia 15 listopada 1984 r. o podatku rolnym (Dz. U. z 2017 r. poz. 1892, z późn. zm.), zwanej\ndalej „ustawą”."]
[51,"Składający:",null,null,"Osoby prawne, jednostki organizacyjne, w tym spółki, nieposiadające osobowości prawnej, jednostki organizacyjne Krajowego\nOśrodka Wsparcia Rolnictwa, a także jednostki organizacyjne Lasów Państwowych, będące właścicielami gruntów,\nposiadaczami samoistnymi gruntów, użytkownikami wieczystymi gruntów, posiadaczami gruntów stanowiących własność\nSkarbu Państwa lub jednostki samorządu terytorialnego oraz osoby fizyczne będące współwłaścicielami lub\nwspółposiadaczami gruntów z osobami prawnymi lub z jednostkami organizacyjnymi, w tym spółkami, nieposiadającymi\nosobowości prawnej."]
[24.75,"Termin składania:",null,null," Do dnia 15 stycznia danego roku podatkowego lub w terminie 14 dni od dnia zaistnienia okoliczności uzasadniających\npowstanie obowiązku podatkowego lub od dnia zaistnienia zmian mających wpływ na wysokość opodatkowania, o których\nmowa w art. 6a ust. 4 ustawy."]
[{"$f":"$A$3","v":9},"Miejsce składania:",null,null,"Organ podatkowy właściwy ze względu na miejsce położenia przedmiotów opodatkowania."]
[{"$f":"$A$4","v":4.5}]
[{"$f":"$A$7","v":16.5},"A. MIEJSCE I CEL SKŁADANIA DEKLARACJI2)"]
[{"$f":"$A$3","v":9},null,"4. Nazwa i adres siedziby organu podatkowego"]
[{"$f":"$A$6","v":16.5},null,{"$f":"Organ","v":"Burmistrz Miasta Kluczborka, ul.Katowicka 1, 46-200 Kluczbork"}]
[{"$f":"$A$3","v":9},null,"5. Cel złożenia formularza (zaznaczyć właściwy kwadrat):"]
[15,null,null,null,null,null,null,null,null,null,null,"1. złożenie deklaracji",null,null,null,null,"2. korekta deklaracji3)",null,null,null,null,null,null,null,null,null,null,null,null,null,null,null,null,null,null,null,null,null,null,null,null,null,null,null,null,null,null,null,null,null,21,11,"5a i 5b",{"$f":"IF(LEN(K21&P21)=1,0,1)","v":1},"W polu 5 [Cel złożenia formularza] powinna być zaznaczona jedna wartość."]
[{"$f":"$A$4","v":4.5}]
[{"$f":"$A$3","v":9},null,"6. Okres – od którego deklaracja obowiązuje"]
[{"$f":"$A$6","v":16.5},null,"(miesiąc)",null,null,null,null,null,null,null,null,null,null,null,null,null,null,null,null,null,null,null,null,null,null,null,{"$f":"IF(Q24=\"\",0,13-Q24)","v":0},null,null,null,null,null,null,null,null,null,null,null,null,null,null,null,null,null,null,null,null,null,null,null,24,17,6,{"$f":"IF(AND(Q24>=1,Q24<=12),0,1)","v":1},"Pole 6 [Okres – od którego deklaracja obowiązuje] powinno mieć wartość 1 - 12"]
[{"$f":"$A$4","v":4.5}]
[{"$f":"$A$7","v":16.5},"B. PODMIOT ZOBOWIĄZANY DO ZŁOŻENIA DEKLARACJI"]
[{"$f":"$A$3","v":9},null,"7. Rodzaj podmiotu (zaznaczyć właściwy kwadrat):"]
[{"$f":"$A$21","v":15},null,null,null,null,"1. właściciel, użytkownik wieczysty lub posiadacz",null,null,null,null,null,null,null,null,null,null,"2. współwłaściciel, współużytkownik wieczysty lub współposiadacz",null,null,null,null,null,null,null,null,null,null,null,null,null,null,null,null,null,null,null,null,null,null,null,null,null,null,null,null,null,null,null,null,null,28,5,"7a i 7b",{"$f":"IF(LEN(E28&P28)=1,0,1)","v":1},"W polu 7 [Rodzaj podmiotu] powinna być zaznaczona jedna wartość."]
[{"$f":"$A$4","v":4.5}]
[4.5]
[{"$f":"$A$7","v":16.5},"C. DANE PODATNIKA"]
[{"$f":"$A$3","v":9},"* - dotyczy podatnika niebędącego osobą fizyczną  ** - dotyczy podatnika będącego osobą fizyczną",null,null,null,null,null,null,null,null,null,null,null,null,null,null,null,null,null,null,null,null,null,null,null,null,null,null,null,null,null,null,null,null,null,null,null,null,null,null,null,null,null,null,null,null,null,null,null,null,35,5,"8a, 8b i 8c",{"$f":"IF(LEN(E35&K35&P35)<>1,1,0)","v":1},"W polu 8 [Rodzaj podatnika] powinno być zaznaczona jedna wartość."]
[{"$f":"$A$7","v":16.5},"C.1. DANE IDENTYFIKACYJNE",null,null,null,null,null,null,null,null,null,null,null,null,null,null,null,null,null,null,null,null,null,null,null,null,null,null,null,null,null,null,null,null,null,null,null,null,null,null,null,null,null,null,null,null,null,null,null,null,35,5,"8b i nip",{"$f":"IF(AND(LEN(B6)<>10,K35<>\"\"),1-BB32,0)","v":0},"W polu 8 wybrano [Rodzaj podatnika - osoba prawna], więc pole 1 powinno zawierać NIP."]
[{"$f":"$A$3","v":9},null,"8. Rodzaj podatnika (zaznaczyć właściwy kwadrat):",null,null,null,null,null,null,null,null,null,null,null,null,null,null,null,null,null,null,null,null,null,null,null,null,null,null,null,null,null,null,null,null,null,null,null,null,null,null,null,null,null,null,null,null,null,null,null,35,5,"8c i nip",{"$f":"IF(AND(LEN(B6)<>10,P35<>\"\"),1-BB32,0)","v":0},"W polu 8 wybrano [Rodzaj podatnika - jednostka organizacyjna ...], więc pole 1 powinno zawierać NIP."]
[{"$f":"$A$21","v":15},null,null,null,null,"1. osoba fizyczna",null,null,null,null,null,"2. osoba prawna",null,null,null,null,"3. jednostka organizacyjna, wtym spółka nieposiadająca osobowości prawnej",null,null,null,null,null,null,null,null,null,{"$f":"SUM(BB32:BB34)","v":1}]
[{"$f":"$A$4","v":4.5}]
[{"$f":"$A$3","v":9},null,"9. Nazwa pełna * / Nazwisko **",null,null,null,null,null,null,null,null,null,null,null,null,"10. Nazwa skrócona * / Pierwsze imię**",null,null,null,null,null,null,null,null,null,null,null,12345678512347]
[{"$f":"$A$6","v":16.5},null,null,null,null,null,null,null,null,null,null,null,null,null,null,null,null,null,null,null,null,null,null,null,null,null,null,{"$f":"\"00000000000000\"&J40","v":"00000000000000"},null,null,null,null,null,null,null,null,null,null,null,null,null,null,null,null,null,null,null,null,null,null,38,3,9,{"$f":"IF(C38=\"\",1,0)","v":1},"Pole 9 [Nazwa pełna / Nazwisko] powinno być wypełnione"]
[{"$f":"$A$3","v":9},null,"11. Identyfikator REGON (w przypadku osób fizycznych REGON podaje się, o ile został nadany)",null,null,null,null,null,null,null,null,null,null,null,null,null,null,null,null,null,null,null,null,null,null,null,null,null,"REGON","regon9","regon14","regon9","regon14",null,null,null,null,null,null,null,null,null,null,null,null,null,null,null,null,null,38,16,10,{"$f":"IF(P38=\"\",1,0)","v":1},"Pole 10 Nazwa skrócona / Pierwsze imię] powinno być wypełnione"]
[{"$f":"$A$6","v":16.5},null,null,null,null,null,null,null,null,null,null,null,null,null,null,null,null,null,null,null,null,null,null,null,null,null,{"$f":"LEN(J40)","v":0},14,{"$f":"LEFT(RIGHT($AB$38,AB40),1)","v":"0"},null,2,{"$f":"AD40*$AC40","v":0},{"$f":"AE40*$AC40","v":0},null,null,null,null,null,null,null,null,null,null,null,null,null,null,null,null,null,40,10,"REGON",{"$f":"IF(LEN(J40)>14,\"Podany REGON jest za długi.\",IF(LEN(J40)<=9,IF(AC53+0=AF53,0,1),IF(LEN(J40)>9,IF(AC53+0=AG53,0,1),1)))","v":0},{"$f":"IF(LEN(J40)>14,\"Podany REGON jest za długi.\",IF(LEN(J40)<=9,IF(AC53+0=AF53,\"REGON 9 cyfr ok\",\"Podany REGON jest błędny\"),IF(LEN(J40)>9,IF(AC53+0=AG53,\"REGON 14 cyfr ok\",\"Podany REGON jest błędny\"),1)))","v":"REGON 9 cyfr ok"}]
[{"$f":"$A$3","v":9},"Pola 12, 13, 14 wypełnia osoba fizyczna w przypadku, gdy numer PESEL nie został nadany.",null,null,null,null,null,null,null,null,null,null,null,null,null,null,null,null,null,null,null,null,null,null,null,null,null,{"$f":"AB40-1","v":13},{"$f":"LEFT(RIGHT($AB$38,AB41),1)","v":"0"},null,4,{"$f":"AD41*$AC41","v":0},0]
[{"$f":"$A$3","v":9},null,"12. Data urodzenia (dzień - miesiąc - rok)",null,null,null,null,null,null,null,null,null,null,"13. Imię ojca",null,null,null,null,null,null,"14. Imię matki",null,null,null,null,null,null,{"$f":"AB41-1","v":12},"0",null,8,0,0,null,null,null,null,null,null,null,null,null,null,null,null,null,null,null,null,null,43,3,12,{"$f":"IF(AND(E35<>\"\",C43=\"\",B6=\"brak\"),1,0)","v":0},"Pole 12 [Data urodzenia] wypełniają osoby fizyczne, którym nie nadano PESEL."]
[{"$f":"$A$6","v":16.5},null,null,null,null,null,null,null,null,null,null,null,null,null,null,null,null,null,null,null,null,null,null,null,null,null,null,11,"0",null,5,0,0,null,null,null,null,null,null,null,null,null,null,null,null,null,null,null,null,null,43,14,13,{"$f":"IF(AND(E35<>\"\",N43=\"\",B6=\"brak\"),1,0)","v":0},"Pole 13 [Imię ojca] wypełniają osoby fizyczne, którym nie nadano PESEL."]
[{"$f":"$A$7","v":16.5},"C.2. ADRES SIEDZIBY * / ADRES ZAMIESZKANIA **",null,null,null,null,null,null,null,null,null,null,null,null,null,null,null,null,null,null,null,null,null,null,null,null,null,10,"0",null,0,0,0,null,null,null,null,null,null,null,null,null,null,null,null,null,null,null,null,null,43,21,14,{"$f":"IF(AND(E35<>\"\",U43=\"\",B6=\"brak\"),1,0)","v":0},"Pole 12 [Imię matki] wypełniają osoby fizyczne, którym nie nadano PESEL."]
[{"$f":"$A$3","v":9},null,"15. Kraj",null,null,null,null,null,null,"16. Województwo",null,null,null,null,null,null,null,null,"17. Powiat",null,null,null,null,null,null,null,null,9,"0",8,9,0,0,null,null,null,null,null,null,null,null,null,null,null,null,null,null,null,null,null,46,3,15,{"$f":"IF(C46=\"\",1,0)","v":1},"Pole 15 [Kraj] powinno być wypełnione"]
[{"$f":"$A$6","v":16.5},null,null,null,null,null,null,null,null,null,null,null,null,null,null,null,null,null,null,null,null,null,null,null,null,null,null,8,"0",9,7,0,0,null,null,null,null,null,null,null,null,null,null,null,null,null,null,null,null,null,46,10,16,{"$f":"IF(J46=\"\",1,0)","v":1},"Pole 16 [Województwo] powinno być wypełnione"]
[{"$f":"$A$3","v":9},null,"18. Gmina",null,null,null,null,null,null,null,"19. Ulica",null,null,null,null,null,null,null,null,null,"20. Nr domu",null,null,"21. Nr lokalu",null,null,null,7,"0",2,3,0,0,null,null,null,null,null,null,null,null,null,null,null,null,null,null,null,null,null,46,19,17,{"$f":"IF(S46=\"\",1,0)","v":1},"Pole 17 [Powiat] powinno być wypełnione"]
[{"$f":"$A$6","v":16.5},null,null,null,null,null,null,null,null,null,null,null,null,null,null,null,null,null,null,null,null,null,null,null,null,null,null,6,"0",3,6,0,0,null,null,null,null,null,null,null,null,null,null,null,null,null,null,null,null,null,48,3,18,{"$f":"IF(C48=\"\",1,0)","v":1},"Pole 18 [Gmina] powinno być wypełnione"]
[{"$f":"$A$3","v":9},null,"22. Miejscowość",null,null,null,null,null,null,null,null,null,null,null,null,"23. Kod pocztowy",null,null,null,null,null,null,null,null,null,null,null,5,"0",4,1,0,0,null,null,null,null,null,null,null,null,null,null,null,null,null,null,null,null,null,48,11,"19, 20,21",{"$f":"IF(AND(K48=\"\",U48=\"\",X48=\"\"),1,0)","v":1},"Pola 19 - 21 powinny zawierać dokładny adres"]
[{"$f":"$A$6","v":16.5},null,null,null,null,null,null,null,null,null,null,null,null,null,null,null,null,null,null,null,null,null,null,null,null,null,null,4,"0",5,2,0,0,null,null,null,null,null,null,null,null,null,null,null,null,null,null,null,null,null,50,3,22,{"$f":"IF(C50=\"\",1,0)","v":1},"Pole 22 [Miejscowość] powinno być wypełnione"]
[{"$f":"$A$7","v":16.5},"C.3. ADRES DO DORĘCZEŃ Należy wypełnić tylko wówczas, gdy adres do doręczeń jest inny niż w części C.2.",null,null,null,null,null,null,null,null,null,null,null,null,null,null,null,null,null,null,null,null,null,null,null,null,null,3,"0",6,4,0,0,null,null,null,null,null,null,null,null,null,null,null,null,null,null,null,null,null,50,16,23,{"$f":"IF(P50=\"\",1,0)","v":1},"Pole 23 [Kod pocztowy] powinno być wypełnione"]
[{"$f":"$A$3","v":9},null,"24. Kraj",null,null,null,null,null,null,"25. Województwo",null,null,null,null,null,null,null,null,"26. Powiat",null,null,null,null,null,null,null,null,2,"0",7,8,0,0]
[{"$f":"$A$6","v":16.5},null,null,null,null,null,null,null,null,null,null,null,null,null,null,null,null,null,null,null,null,null,null,null,null,null,null,1,"0",null,null,{"$f":"MOD(MOD(SUM(AF40:AF52),11),10)","v":0},{"$f":"MOD(MOD(SUM(AG40:AG52),11),10)","v":0},null,null,null,null,null,null,null,null,null,null,null,null,null,null,null,null,null,53,3,"24 - 32",{"$f":"IF(AND(C46=C53,J46=J53,S46=S53,C48=C55,K48=K55,U48=U55,X48=X55,C50=C57,P50=P57),1,0)","v":1},"ADRES DO DORĘCZEŃ Należy wypełnić tylko wówczas, gdy adres do doręczeń jest inny niż w części C.2."]
[{"$f":"$A$3","v":9},null,"27. Gmina",null,null,null,null,null,null,null,"28. Ulica",null,null,null,null,null,null,null,null,null,"29. Nr domu",null,null,"30. Nr lokalu"]
[{"$f":"$A$6","v":16.5}]
[{"$f":"$A$3","v":9},null,"31. Miejscowość",null,null,null,null,null,null,null,null,null,null,null,null,"32. Kod pocztowy"]
[{"$f":"$A$6","v":16.5}]
[{"$f":"$A$3","v":9}]
[{"$f":"$A$3","v":9}]
[{"$f":"$A$6","v":16.5},null,{"$f":"'DR-1'!M10&\".\"&'DR-1'!Q24&Wersja","v":"2023..1.15.0.44867"},null,null,null,null,null,null,null,null,null,null,null,null,null,null,null,null,null,null,"DR-1(1)",null,null,null,"1/4"]
[{"$f":"$A$3","v":9}]
[9,"WYPEŁNIĆ DUŻYMI, DRUKOWANYMI LITERAMI, CZARNYM LUB NIEBIESKIM KOLOREM."]
[{"$f":"$A$4","v":4.5}]
[4.5]
[{"$f":"$A$7","v":16.5},"D. OŚWIADCZENIE O POSIADANIU GOSPODARSTWA ROLNEGO4)",null,null,null,null,null,null,null,null,null,null,null,null,null,null,null,null,null,null,null,null,null,null,null,null,null,null,null,null,null,null,null,null,null,null,null,null,null,null,null,null,null,null,null,null,null,null,null,null,null,null,33,{"$f":"IF(AND(P67<>\"\",AA117>1),1,0)","v":0},"Jeżeli w polu 33 [Oświadczenie] zaznaczono pole 2 to suma gruntów wykazana w załącznikach ZDR-1 i ZDR-2 nie może być większa od 1ha"]
[{"$f":"$A$3","v":9},null,"33. Oświadczenie (zaznaczyć właściwy kwadrat):",null,null,null,null,null,null,null,null,null,null,null,null,null,null,null,null,null,null,null,null,null,null,null,{"$f":"IF(P67<>\"\",1,0)","v":0},null,null,null,null,null,null,null,null,null,null,null,null,null,null,null,null,null,null,null,null,null,null,null,null,null,33,{"$f":"IF(AND(P67<>\"\",SUM(G74:M79,G83:M86,G90:M95,D100,D110)>0),1,0)","v":0},"Jeżeli w polu 33 [Oświadczenie] zaznaczono pole 2 to suma gruntów w części E. powinna wynosic 0"]
[{"$f":"$A$21","v":15},null,null,null,null,"1. posiadam gospodarstwo rolne",null,null,null,null,null,null,null,null,null,null,"2. nie posiadam gospodarstwa rolnego",null,null,null,null,null,null,null,null,null,{"$f":"IF(E67<>\"\",1,0)","v":0},null,null,null,null,null,null,null,null,null,null,null,null,null,null,null,null,null,null,null,null,null,null,null,null,null,33,{"$f":"IF(LEN(E67&P67)=1,0,1)","v":1},"W polu 33 [Oświadczenie] powinna być zaznaczona jedna wartość."]
[{"$f":"$A$4","v":4.5}]
[4.5]
[{"$f":"$A$7*2","v":33},"E. DANE O UŻYTKACH ROLNYCH STANOWIĄCYCH GOSPODARSTWO ROLNE -\nPODLEGAJĄCYCH OPODATKOWANIU",null,null,null,null,null,null,null,null,null,null,null,null,null,null,null,null,null,null,null,null,null,null,null,null,null,null,null,null,null,null,null,null,null,null,null,null,null,null,null,null,null,null,null,null,null,null,null,null,null,null,"33 i 90",{"$f":"IF(AND(E67=\"\",OR(AA114>1,AA116>1)),1,0)","v":0},"Powierzchnia gruntów tworzy gospodarstwo rolne. W polu 33 należy zaznaczyć pole 1."]
[{"$f":"$A$7","v":16.5},"E.1. GRUNTY ORNE"]
[{"$f":"$A$7","v":16.5},null,"Klasa",null,"Powierzchnia w ha5)",null,null,null,null,null,null,null,null,"Przelicznik",null,null,null,null,null,null,"Powierzchnia w ha przeliczeniowych5)"]
[{"$f":"$A$3","v":9},null,null,null,"a",null,null,null,null,null,null,null,null,"b",null,null,null,null,null,null,"c"]
[{"$f":"$A$6+6","v":22.5},null,"I",null,"34.",null,null,null,null,null,null,null,null,"35.",1.95,null,null,null,null,null,"36.",{"$f":"ROUND(G74*O74,4)","v":0},null,null,null,null,{"$f":"Dane!CJ2*$AA$67","v":0},null,null,null,null,null,null,null,null,null,null,null,null,null,null,null,null,null,null,null,null,null,null,null,74,7,34,{"$f":"IF(G74=AA74,0,1)","v":0},{"$f":"\"W DR-1 wykazano gruntów ornych klasy \" &C74& \" \" &SUM(G74) &\" ha, a w ZDR-1 \"&AA74&\" ha\"","v":"W DR-1 wykazano gruntów ornych klasy I 0 ha, a w ZDR-1 0 ha"}]
[{"$f":"$A$74","v":22.5},null,"II",null,"37.",null,null,null,null,null,null,null,null,"38.",1.8,null,null,null,null,null,"39.",{"$f":"ROUND(G75*O75,4)","v":0},null,null,null,null,{"$f":"Dane!CJ3*$AA$67","v":0},null,null,null,null,null,null,null,null,null,null,null,null,null,null,null,null,null,null,null,null,null,null,null,75,7,37,{"$f":"IF(G75=AA75,0,1)","v":0},{"$f":"\"W DR-1 wykazano gruntów ornych klasy \" &C75& \" \" &SUM(G75) &\" ha, a w ZDR-1 \"&AA75&\" ha\"","v":"W DR-1 wykazano gruntów ornych klasy II 0 ha, a w ZDR-1 0 ha"}]
[{"$f":"$A$74","v":22.5},null,"IIIa",null,"40.",null,null,null,null,null,null,null,null,"41.",1.65,null,null,null,null,null,"42.",0,null,null,null,null,{"$f":"Dane!CJ4*$AA$67","v":0},null,null,null,null,null,null,null,null,null,null,null,null,null,null,null,null,null,null,null,null,null,null,null,76,7,40,0,"W DR-1 wykazano gruntów ornych klasy IIIa 0 ha, a w ZDR-1 0 ha"]
[22.5,null,"IIIb",null,"43.",null,null,null,null,null,null,null,null,"44.",1.35,null,null,null,null,null,"45.",0,null,null,null,null,{"$f":"Dane!CJ5*$AA$67","v":0},null,null,null,null,null,null,null,null,null,null,null,null,null,null,null,null,null,null,null,null,null,null,null,77,7,43,0,"W DR-1 wykazano gruntów ornych klasy IIIb 0 ha, a w ZDR-1 0 ha"]
[22.5,null,"IVa",null,"46.",null,null,null,null,null,null,null,null,"47.",1.1000000000000001,null,null,null,null,null,"48.",0,null,null,null,null,{"$f":"Dane!CJ6*$AA$67","v":0},null,null,null,null,null,null,null,null,null,null,null,null,null,null,null,null,null,null,null,null,null,null,null,78,7,46,0,"W DR-1 wykazano gruntów ornych klasy IVa 0 ha, a w ZDR-1 0 ha"]
[22.5,null,"IVb",null,"49.",null,null,null,null,null,null,null,null,"50.",0.8,null,null,null,null,null,"51.",0,null,null,null,null,{"$f":"Dane!CJ7*$AA$67","v":0},null,null,null,null,null,null,null,null,null,null,null,null,null,null,null,null,null,null,null,null,null,null,null,79,7,49,0,"W DR-1 wykazano gruntów ornych klasy IVb 0 ha, a w ZDR-1 0 ha"]
[{"$f":"$A$7","v":16.5},"E.2. ŁĄKI I PASTWISKA"]
[{"$f":"$A$7","v":16.5},null,"Klasa",null,"Powierzchnia w ha5)",null,null,null,null,null,null,null,null,"Przelicznik",null,null,null,null,null,null,"Powierzchnia w ha przeliczeniowych5)"]
[{"$f":"$A$3","v":9},null,null,null,"a",null,null,null,null,null,null,null,null,"b",null,null,null,null,null,null,"c"]
[{"$f":"$A$74","v":22.5},null,"I",null,"52.",null,null,null,null,null,null,null,null,"53.",1.75,null,null,null,null,null,"54.",{"$f":"ROUND(G83*O83,4)","v":0},null,null,null,null,{"$f":"Dane!CJ8*$AA$67","v":0},null,null,null,null,null,null,null,null,null,null,null,null,null,null,null,null,null,null,null,null,null,null,null,83,7,52,{"$f":"IF(G83=AA83,0,1)","v":0},{"$f":"\"W DR-1 wykazano łąk i pastwisk klasy \" &C83& \" \" &SUM(G83) &\" ha, a w ZDR-1 \"&AA83&\" ha\"","v":"W DR-1 wykazano łąk i pastwisk klasy I 0 ha, a w ZDR-1 0 ha"}]
[22.5,null,"II",null,"55.",null,null,null,null,null,null,null,null,"56.",1.45,null,null,null,null,null,"57.",0,null,null,null,null,{"$f":"Dane!CJ9*$AA$67","v":0},null,null,null,null,null,null,null,null,null,null,null,null,null,null,null,null,null,null,null,null,null,null,null,84,7,55,0,{"$f":"\"W DR-1 wykazano łąk i pastwisk klasy \" &C84& \" \" &SUM(G84) &\" ha, a w ZDR-1 \"&AA84&\" ha\"","v":"W DR-1 wykazano łąk i pastwisk klasy II 0 ha, a w ZDR-1 0 ha"}]
[22.5,null,"III",null,"58.",null,null,null,null,null,null,null,null,"59.",1.25,null,null,null,null,null,"60.",0,null,null,null,null,{"$f":"Dane!CJ10*$AA$67","v":0},null,null,null,null,null,null,null,null,null,null,null,null,null,null,null,null,null,null,null,null,null,null,null,85,7,58,0,{"$f":"\"W DR-1 wykazano łąk i pastwisk klasy \" &C85& \" \" &SUM(G85) &\" ha, a w ZDR-1 \"&AA85&\" ha\"","v":"W DR-1 wykazano łąk i pastwisk klasy III 0 ha, a w ZDR-1 0 ha"}]
[22.5,null,"IV",null,"61.",null,null,null,null,null,null,null,null,"62.",0.75,null,null,null,null,null,"63.",0,null,null,null,null,{"$f":"Dane!CJ11*$AA$67","v":0},null,null,null,null,null,null,null,null,null,null,null,null,null,null,null,null,null,null,null,null,null,null,null,86,7,61,0,{"$f":"\"W DR-1 wykazano łąk i pastwisk klasy \" &C86& \" \" &SUM(G86) &\" ha, a w ZDR-1 \"&AA86&\" ha\"","v":"W DR-1 wykazano łąk i pastwisk klasy IV 0 ha, a w ZDR-1 0 ha"}]
[{"$f":"$A$7","v":16.5},"E.3. SADY"]
[{"$f":"$A$7","v":16.5},null,"Klasa",null,"Powierzchnia w ha5)",null,null,null,null,null,null,null,null,"Przelicznik",null,null,null,null,null,null,"Powierzchnia w ha przeliczeniowych5)"]
[{"$f":"$A$3","v":9},null,null,null,"a",null,null,null,null,null,null,null,null,"b",null,null,null,null,null,null,"c"]
[{"$f":"$A$74","v":22.5},null,"I",null,"64.",null,null,null,null,null,null,null,null,"65.",1.95,null,null,null,null,null,"66.",{"$f":"ROUND(G90*O90,4)","v":0},null,null,null,null,{"$f":"Dane!CJ12*$AA$67","v":0},null,null,null,null,null,null,null,null,null,null,null,null,null,null,null,null,null,null,null,null,null,null,null,90,7,64,{"$f":"IF(G90=AA90,0,1)","v":0},{"$f":"\"W DR-1 wykazano sadów klasy \" &C90& \" \" &SUM(G90) &\" ha, a w ZDR-1 \"&AA90&\" ha\"","v":"W DR-1 wykazano sadów klasy I 0 ha, a w ZDR-1 0 ha"}]
[22.5,null,"II",null,"67.",null,null,null,null,null,null,null,null,"68.",1.8,null,null,null,null,null,"69.",0,null,null,null,null,{"$f":"Dane!CJ13*$AA$67","v":0},null,null,null,null,null,null,null,null,null,null,null,null,null,null,null,null,null,null,null,null,null,null,null,91,7,67,{"$f":"IF(G91=AA91,0,1)","v":0},"W DR-1 wykazano sadów klasy II 0 ha, a w ZDR-1 0 ha"]
[22.5,null,"III, IIIa",null,"70.",null,null,null,null,null,null,null,null,"71.",1.65,null,null,null,null,null,"72.",0,null,null,null,null,{"$f":"Dane!CJ14*$AA$67","v":0},null,null,null,null,null,null,null,null,null,null,null,null,null,null,null,null,null,null,null,null,null,null,null,92,7,70,0,"W DR-1 wykazano sadów klasy III, IIIa 0 ha, a w ZDR-1 0 ha"]
[22.5,null,"IIIb",null,"73.",null,null,null,null,null,null,null,null,"74.",1.35,null,null,null,null,null,"75.",0,null,null,null,null,{"$f":"Dane!CJ15*$AA$67","v":0},null,null,null,null,null,null,null,null,null,null,null,null,null,null,null,null,null,null,null,null,null,null,null,93,7,73,0,"W DR-1 wykazano sadów klasy IIIb 0 ha, a w ZDR-1 0 ha"]
[22.5,null,"IV, IVa",null,"76.",null,null,null,null,null,null,null,null,"77.",1.1000000000000001,null,null,null,null,null,"78.",0,null,null,null,null,{"$f":"Dane!CJ16*$AA$67","v":0},null,null,null,null,null,null,null,null,null,null,null,null,null,null,null,null,null,null,null,null,null,null,null,94,7,76,0,"W DR-1 wykazano sadów klasy IV, IVa 0 ha, a w ZDR-1 0 ha"]
[22.5,null,"IVb",null,"79.",null,null,null,null,null,null,null,null,"80.",0.8,null,null,null,null,null,"81.",{"$f":"ROUND(G95*O95,4)","v":0},null,null,null,null,{"$f":"Dane!CJ17*$AA$67","v":0},null,null,null,null,null,null,null,null,null,null,null,null,null,null,null,null,null,null,null,null,null,null,null,95,7,79,0,"W DR-1 wykazano sadów klasy IVb 0 ha, a w ZDR-1 0 ha"]
[{"$f":"$A$7","v":16.5},"E.4. GRUNTY POD STAWAMI ZARYBIONYMI - łososiem, trocią, głowacicą, palią i pstrągiem,"]
[{"$f":"$A$7*2","v":33},null,"GRUNTY ROLNE ZABUDOWANE oraz UŻYTKI ROLNE O NIEUSTALONYM PRZELICZNIKU POWIERZCHNI "]
[{"$f":"$A$7","v":16.5},null,"Powierzchnia w ha5)",null,null,null,null,null,null,null,null,null,"Przelicznik",null,null,null,null,null,null,"Powierzchnia w ha przeliczeniowych5)"]
[{"$f":"$A$3","v":9},null,"a",null,null,null,null,null,null,null,null,null,"b",null,null,null,null,null,null,"c"]
[{"$f":"$A$74","v":22.5},null,"82.",null,null,null,null,null,null,null,null,null,"83.",1,null,null,null,null,null,"84.",{"$f":"ROUND(D100*N100,4)","v":0},null,null,null,null,null,{"$f":"Dane!CJ18*$AA$67","v":0},null,null,null,null,null,null,null,null,null,null,null,null,null,null,null,null,null,null,null,null,null,null,null,100,4,"82 i 83",{"$f":"IF(SUM(D100,D110)=SUM(AA100,AA110:AA111),0,1)","v":0},{"$f":"\"W DR-1 gruntów pod stawani, gruntów rolnych zabudowanych, gróntów pod rowami i gruntów o nieustalonym przeliczniku [pola 82 i 85] wykazano \" &SUM(D100,D110) &\" ha, a w zał. ZDR-1 \"&SUM(AA100,AA110:AA111)&\" ha\"","v":"W DR-1 gruntów pod stawani, gruntów rolnych zabudowanych, gróntów pod rowami i gruntów o nieustalonym przeliczniku [pola 82 i 85] wykazano 0 ha, a w zał. ZDR-1 0 ha"}]
[{"$f":"$A$3","v":9}]
[{"$f":"$A$3*3","v":27}]
[{"$f":"$A$6","v":16.5},"DR-1(1)",null,null,null,"2/4",null,null,null,null,null,null,null,null,null,null,null,null,{"$f":"'DR-1'!M10&\".\"&'DR-1'!Q24&Wersja","v":"2023..1.15.0.44867"}]
[{"$f":"$A$3","v":9}]
[{"$f":"$A$3","v":9},"WYPEŁNIĆ DUŻYMI, DRUKOWANYMI LITERAMI, CZARNYM LUB NIEBIESKIM KOLOREM."]
[{"$f":"$A$4","v":4.5}]
[{"$f":"$A$7*2","v":33},"E.5. GRUNTY POD STAWAMI ZARYBIONYMI - innymi gatunkami ryb, GRUNTY POD STAWAMI NIEZARYBIONYMI, GRUNTY POD ROWAMI"]
[{"$f":"$A$7","v":16.5},null,"Powierzchnia w ha5)",null,null,null,null,null,null,null,null,null,"Przelicznik",null,null,null,null,null,null,"Powierzchnia w ha przeliczeniowych5)"]
[{"$f":"$A$3","v":9},null,"a",null,null,null,null,null,null,null,null,null,"b",null,null,null,null,null,null,"c"]
[21.75,null,"85.",null,null,null,null,null,null,null,null,null,"86.",0.2,null,null,null,null,null,"87.",{"$f":"ROUND(D110*N110,4)","v":0},null,null,null,null,null,{"$f":"Dane!CJ19*$AA$67+Dane!CJ20*$AA$67","v":0}]
[13.5,"E.6. ŁĄCZNA POWIERZCHNIA UŻYTKÓW ROLNYCH STANOWIĄCYCH GOSPODARSTWO"]
[15.75,"      ROLNE5)"]
[{"$f":"$A$3","v":9},null,"88. Powierzchnia w ha (suma z części od E.1 do E.5 kol. a)",null,null,null,null,null,null,null,null,null,null,null,null,"89. Powierzchnia w ha przeliczeniowych (suma z części od E.1 do E.5 kol. c)"]
[{"$f":"$A$110","v":21.75},null,{"$f":"IF(E67=\"\",0,AA114)","v":0},null,null,null,null,null,null,null,null,null,null,null,null,{"$f":"IF(E67=\"\",0,AA116)","v":0},null,null,null,null,null,null,null,null,null,null,{"$f":"SUM(G74:M79,G83:M86,G90:M95,D100,D110)","v":0}]
[{"$f":"$A$4","v":4.5}]
[{"$f":"$A$7*2","v":33},"F. DANE O UŻYTKACH ROLNYCH NIESTANOWIĄCYCH GOSPODARSTWA ROLNEGO - PODLEGAJĄCYCH OPODATKOWANIU",null,null,null,null,null,null,null,null,null,null,null,null,null,null,null,null,null,null,null,null,null,null,null,null,{"$f":"SUM(V74:Z79,V83:Z86,V90:Z95,U100,U110)","v":0}]
[{"$f":"$A$110","v":21.75},null,"Powierzchnia w ha5)",null,null,null,null,null,null,null,null,null,null,null,null,null,null,null,null,null,null,"90.",0,null,null,null,{"$f":"SUM(Dane!CJ2:CJ20)*AA66","v":0},null,null,null,null,null,null,null,null,null,null,null,null,null,null,null,null,null,null,null,null,null,null,null,117,23,90,{"$f":"IF(W117>1,1,0)","v":0},"Powierzchnia wykazana w polu 90 nie może być większa od 1 ha."]
[{"$f":"$A$4","v":4.5}]
[{"$f":"$A$7","v":16.5},"G. WYSOKOŚĆ ZOBOWIĄZANIA PODATKOWEGO I RAT PODATKU",null,null,null,null,null,null,null,null,null,null,null,null,null,null,null,null,null,null,null,null,null,null,null,null,null,null,null,null,null,null,null,null,null,null,null,null,null,null,null,null,null,null,null,null,null,null,null,null,117,23,90,{"$f":"IF(W117=AA117,0,1)","v":0},{"$f":"IF(AA117-W117>0,\"Powierzchnia wykazana w polu 90 jest mniejsza od sumy powierzchni wykazanych w zał. ZDR-1.\",\"Powierzchnia wykazana w polu 90 jest większa od sumy powierzchni wykazanych w zał. ZDR-1.\")","v":"Powierzchnia wykazana w polu 90 jest większa od sumy powierzchni wykazanych w zał. ZDR-1."}]
[{"$f":"$A$6*2","v":33},null,"Podstawa opodatkowania5)\nW przypadku użytków rolnych stanowiących gospodarstwo rolne podać powierzchnię z poz. 89, w przypadku użytków rolnych niestanowiących\ngospodarstwa rolnego należy podać powierzchnię z poz. 90.",null,null,null,null,null,null,null,null,null,null,null,null,"91.",null,{"$f":"IF(E67=\"\",W117,P114)","v":0},null,null,null,null,null,null,null,null,{"$f":"Dane!AN15","v":74.05}]
[{"$f":"$A$110","v":21.75},null,"Stawka podatku",null,null,null,null,null,null,null,null,null,null,null,null,"92.",null,{"$f":"AA121","v":370.25},null,null,null,null,null,null,null,"zł",{"$f":"IF(E67=\"\",5,2.5)*AA120","v":370.25},null,null,null,null,null,null,null,null,null,null,null,null,null,null,null,null,null,null,null,null,null,null,null,124,18,95,{"$f":"IF(AND(AA124>0,Q24=1),1,0)","v":0},"Ponieważ w polu 6 [Okres – od którego deklaracja obowiązuje] wpisano 1, pole 95 [Kwota podatku za miesiące nieobjęte deklaracją] powinna być równa 0."]
[{"$f":"$A$110","v":21.75},null,"Kwota podatku, za okres którego dotyczy deklaracja6)",null,null,null,null,null,null,null,null,null,null,null,null,"93.",null,{"$f":"QUOTIENT(AA122,1)","v":0},null,null,null,null,null,"zł,",{"$f":"MOD(AA122*100,100)","v":0},"gr",{"$f":"ROUND(R120*AA121*AA24/12,2)","v":0},null,null,null,null,null,null,null,null,null,null,null,null,null,null,null,null,null,null,null,null,null,null,null,124,18,95,{"$f":"IF(AND(K21<>\"\",AA124<>0),1,0)","v":0},"Jeżeli w poz. 5 zaznaczono kwadrat 1, w pole 95 należy wpisać 0."]
[{"$f":"$A$110","v":21.75},null,"Kwota przysługującej ulgi w podatku rolnym, za okres którego dotyczy deklaracja",null,null,null,null,null,null,null,null,null,null,null,null,"94.",null,null,null,null,null,null,null,"zł,",null,"gr",{"$f":"R123+Y123/100","v":0},null,null,null,null,null,null,null,null,null,null,null,null,null,null,null,null,null,null,null,null,null,null,null,123,18,94,{"$f":"IF(AA123>AA122,1,0)","v":0},"Kwota ulgi wykazana w polu 94 nie może być większa od kwoty podatku wykazanego w polu 93"]
[{"$f":"$A$110","v":21.75},null,"Kwota podatku za miesiące nieobjęte deklaracją7)\nJeżeli w poz. 5 zaznaczono kwadrat nr 1, należy wpisać 0.",null,null,null,null,null,null,null,null,null,null,null,null,"95.",null,null,null,null,null,null,null,"zł,",null,"gr",{"$f":"R124+Y124/100","v":0}]
[25.5,null,"Kwota przysługującej ulgi w podatku rolnym, za miesiące nieobjęte deklaracją\nJeżeli w poz. 5 zaznaczono kwadrat nr 1, należy wpisać 0.",null,null,null,null,null,null,null,null,null,null,null,null,"96.",null,null,null,null,null,null,null,"zł,",null,"gr",{"$f":"R125+Y125/100","v":0},null,null,null,null,null,null,null,null,null,null,null,null,null,null,null,null,null,null,null,null,null,null,null,125,18,96,{"$f":"IF(AA125>AA124,1,0)","v":0},"Kwota ulgi wykazana w polu 96 nie może być większa od kwoty podatku wykazanego w polu 95"]
[{"$f":"A125","v":25.5},null,"Wysokość zobowiązania podatkowego8)\nSuma kwot z poz. 93 i 95 pomniejszona o sumę kwot z poz. 94 i 96 (po zaokrągleniu do pełnych złotych).",null,null,null,null,null,null,null,null,null,null,null,null,"97.",null,{"$f":"ROUND(SUM(AA122,-AA123,AA124,-AA125),0)","v":0},null,null,null,null,null,null,null,"zł",null,null,null,null,null,null,null,null,null,null,null,null,null,null,null,null,null,null,null,null,null,null,null,null,null,null,97,{"$f":"IF(R126<0,1,0)","v":0},"Kwota podatku nie może mieć wartości ujemnej."]
[{"$f":"$A$6","v":16.5},"Suma kwot z poz. od 98 do 101 musi być równa kwocie z poz. 978). W przypadku korekty deklaracji raty, które nie zostały objęte korektą,\npozostają bez zmian.",null,null,null,null,null,null,null,null,null,null,null,null,null,null,null,null,null,null,null,null,null,null,null,null,{"$f":"SUM(K128:N129,W128:Y129)","v":0},null,null,null,null,null,null,null,null,null,null,null,null,null,null,null,null,null,null,null,null,null,null,null,128,11,"98 - 101",{"$f":"IF(AA127>R126,1,0)","v":0},{"$f":"\"Suma rat jest większa od kwoty podatku o \" & ROUND(AA127-R126,0) & \" zł\"","v":"Suma rat jest większa od kwoty podatku o 0 zł"}]
[{"$f":"$A$110","v":21.75},null,"Kwota I raty",null,null,null,null,null,null,"98.",null,null,null,null,"zł","Kwota II raty",null,null,null,null,null,"99.",null,null,null,"zł",null,null,null,null,null,null,null,null,null,null,null,null,null,null,null,null,null,null,null,null,null,null,null,null,128,11,"98 - 101",{"$f":"IF(AA127<R126,1,0)","v":0},{"$f":"\"Suma rat jest mniejsza od kwoty podatku o \" & ROUND(R126-AA127,0) & \" zł\"","v":"Suma rat jest mniejsza od kwoty podatku o 0 zł"}]
[21.75,null,"Kwota III raty",null,null,null,null,null,null,"100.",null,null,null,null,"zł","Kwota IV raty",null,null,null,null,null,"101.",null,null,null,"zł",{"$f":"COUNTIF(W128:Y129,\">0\")+COUNTIF(K128:N129,\">0\")","v":0}]
[{"$f":"$A$4","v":4.5}]
[{"$f":"$A$7","v":16.5},"H. INFORMACJA O ZAŁĄCZNIKACH Deklarację należy składać wraz z odpowiednimi załącznikami, które stanowią jej integralną część."]
[{"$f":"$A$3","v":9},null,"102. Liczba załączników ZDR-1",null,null,null,null,null,null,null,null,null,null,null,null,"103. Liczba załączników ZDR-2",null,null,null,null,null,null,null,null,null,null,{"$f":"'ZDR-1'!P12","v":0},null,null,null,null,null,null,null,null,null,null,null,null,null,null,null,null,null,null,null,null,null,null,null,133,9,102,{"$f":"IF(I133=AA132,0,1)","v":0},{"$f":"\"Wypełniono \"&AA132&\" zał. ZDR-1, a w polu 102 wpisano \"&SUM(I133)&\".\"","v":"Wypełniono 0 zał. ZDR-1, a w polu 102 wpisano 0."}]
[{"$f":"$A$110","v":21.75},null,null,null,null,null,null,null,null,null,null,null,null,null,null,null,null,null,null,null,null,null,null,null,null,null,{"$f":"'ZDR-2'!P12","v":0},null,null,null,null,null,null,null,null,null,null,null,null,null,null,null,null,null,null,null,null,null,null,null,133,21,103,{"$f":"IF(U133=AA133,0,1)","v":0},{"$f":"\"Wypełniono \"&AA133&\" zał. ZDR-2, a w polu 103 wpisano \"&SUM(U133)&\".\"","v":"Wypełniono 0 zał. ZDR-2, a w polu 103 wpisano 0."}]
[{"$f":"$A$4","v":4.5}]
[{"$f":"$A$7*2","v":33},"I. KONTAKT DO OSOBY ODPOWIEDZIALNEJ ZA SPORZĄDZENIE DEKLARACJI\n     I DODATKOWE INFORMACJE Podanie informacji w części I nie jest obowiązkowe."]
[{"$f":"$A$3","v":9},null,"104. Telefon",null,null,null,null,null,null,null,null,null,null,null,null,"105. E-mail"]
[{"$f":"$A$110","v":21.75}]
[{"$f":"$A$3","v":9},null,"106. Inne (np. określenie zdarzenia powodującego obowiązek złożenia deklaracji, wskazanie gmin, na terenie których położone są użytki rolne stanowiące gospodarstwo rolne)"]
[{"$f":"$A$6*2","v":33}]
[{"$f":"$A$4","v":4.5}]
[{"$f":"$A$7","v":16.5},"J. PODPIS PODATNIKA I OSÓB REPREZENTUJĄCYCH PODATNIKA"]
[{"$f":"$A$7","v":16.5},"J.1. PODPIS PODATNIKA"]
[{"$f":"$A$3","v":9},null,"107. Pierwsze imię",null,null,null,null,null,null,null,null,null,null,null,null,"108. Nazwisko"]
[{"$f":"$A$110","v":21.75},null,null,null,null,null,null,null,null,null,null,null,null,null,null,null,null,null,null,null,null,null,null,null,null,null,null,null,null,null,null,null,null,null,null,null,null,null,null,null,null,null,null,null,null,null,null,null,null,null,144,3,"107-110",{"$f":"IF(AND(LEN(K35&P35)>0,LEN(C144&P144)),1,0)","v":0},"Pola 107 - 110 wypełniają wyłącznie osoby fizyczne."]
[{"$f":"$A$3","v":9},null,"109. Data wypełnienia (dzień - miesiąc - rok)",null,null,null,null,null,null,null,null,null,null,null,null,"110. Podpis podatnika",null,null,null,null,null,null,null,null,null,null,null,null,null,null,null,null,null,null,null,null,null,null,null,null,null,null,null,null,null,null,null,null,null,null,154,3,"111-118",{"$f":"IF(LEN(C144&P144&C154&P154&C158&P158)=0,1,0)","v":1},"Brak informacji o osobach reprezentujących podatnika"]
[{"$f":"$A$69","v":4.5},null,null,null,null,null,null,null,null,null,null,null,null,null,null,{"$f":"IF(BA2>0,InfoBłędy & \" [ \"&BA2&\" ] !!!\",\"\")","v":"Arkusz zawiera błędy [ 18 ] !!!"}]
[{"$f":"$A$3","v":9}]
[{"$f":"$A$6","v":16.5},null,{"$f":"'DR-1'!M10&\".\"&'DR-1'!Q24&Wersja","v":"2023..1.15.0.44867"},null,null,null,null,null,null,null,null,null,null,null,null,null,null,null,null,null,null,"DR-1(1)",null,null,null,"3/4"]
[{"$f":"$A$3","v":9}]
[{"$f":"$A$3","v":9},"WYPEŁNIĆ DUŻYMI, DRUKOWANYMI LITERAMI, CZARNYM LUB NIEBIESKIM KOLOREM."]
[{"$f":"$A$4","v":4.5}]
[{"$f":"$A$7","v":16.5},"J.2. PODPISY OSÓB REPREZENTUJĄCYCH PODATNIKA"]
[{"$f":"$A$3","v":9},null,"111. Pierwsze imię",null,null,null,null,null,null,null,null,null,null,null,null,"112. Nazwisko"]
[{"$f":"$A$110","v":21.75}]
[{"$f":"$A$3","v":9},null,"113. Data wypełnienia (dzień - miesiąc - rok)",null,null,null,null,null,null,null,null,null,null,null,null,"114. Podpis osoby reprezentującej podatnika"]
[{"$f":"$A$69","v":4.5},null,null,null,null,null,null,null,null,null,null,null,null,null,null,{"$f":"IF(BA2>0,InfoBłędy & \" [ \"&BA2&\" ] !!!\",\"\")","v":"Arkusz zawiera błędy [ 18 ] !!!"}]
[{"$f":"$A$3","v":9},null,"115. Pierwsze imię",null,null,null,null,null,null,null,null,null,null,null,null,"116. Nazwisko"]
[{"$f":"$A$110","v":21.75}]
[{"$f":"$A$3","v":9},null,"117. Data wypełnienia (dzień - miesiąc - rok)",null,null,null,null,null,null,null,null,null,null,null,null,"118. Podpis osoby reprezentującej podatnika"]
[{"$f":"$A$69","v":4.5},null,null,null,null,null,null,null,null,null,null,null,null,null,null,{"$f":"IF(BA2>0,InfoBłędy & \" [ \"&BA2&\" ] !!!\",\"\")","v":"Arkusz zawiera błędy [ 18 ] !!!"}]
[{"$f":"$A$4","v":4.5}]
[{"$f":"$A$7","v":16.5},"K. ADNOTACJE ORGANU PODATKOWEGO"]
[{"$f":"$A$3","v":9},null,"119. Uwagi organu podatkowego"]
[{"$f":"$A$6*5","v":82.5}]
[9]
[9,"Objaśnienia"]
[{"$f":"$A$3*2","v":18},"1)","Numer PESEL wpisują podatnicy będący osobami fizycznymi objętymi rejestrem PESEL, nieprowadzący działalności gospodarczej lub\nniebędący zarejestrowanymi podatnikami podatku od towarów i usług. Identyfikator podatkowy NIP wpisują pozostali podatnicy."]
[9,"2)","Z wyjątkiem poz. 5 kwadrat 1, ilekroć jest mowa o deklaracji, rozumie się przez to również korektę deklaracji."]
[9,"3)","Zgodnie z przepisami Ordynacji podatkowej."]
[{"$f":"$A$3*4","v":36},"4)","Za gospodarstwo rolne uważa się obszar gruntów sklasyfikowanych w ewidencji gruntów i budynków jako użytki rolne, z wyjątkiem\ngruntów zajętych na prowadzenie działalności gospodarczej innej niż działalność rolnicza, o łącznej powierzchni przekraczającej 1 ha lub\n1ha przeliczeniowy, stanowiących własność lub znajdujących się w posiadaniu osoby fizycznej, osoby prawnej albo jednostki\norganizacyjnej, w tym spółki, nieposiadającej osobowości prawnej."]
[9,"5)","Należy podać z dokładnością do czterech miejsc po przecinku."]
[{"$f":"$A$3*2","v":18},"6)","Kwotę podatku należy obliczyć, mnożąc podstawę opodatkowania przez stawkę podatku, proporcjonalnie do liczby miesięcy, których\ndotyczy deklaracja."]
[9,"7)","W przypadku korekty deklaracji należy wpisać sumę miesięcznych kwot podatku za miesiące nieobjęte składaną korektą deklaracji."]
[{"$f":"$A$3*2","v":18},"8)","Kwotę podatku (rat podatku) zaokrągla się do pełnych złotych, w ten sposób, że końcówki kwot wynoszące mniej niż 50 groszy pomija\nsię, a końcówki kwot wynoszące 50 i więcej groszy podwyższa się do pełnych złotych."]
[9,null,"W ostatniej racie następuje wyrównanie do kwoty zobowiązania podatkowego (poz. 97)."]
[{"$f":"$A$3*2","v":18},null,"Obliczony w deklaracji podatek należy wpłacać w ratach proporcjonalnych do czasu trwania obowiązku podatkowego w terminach:\ndo dnia 15 marca, 15 maja, 15 września i 15 listopada."]
[9,null,"W przypadku gdy kwota podatku nie przekracza 100 zł, podatek jest płatny jednorazowo w terminie płatności pierwszej raty."]
[{"$f":"$A$6","v":16.5}]
[9,"Pouczenia"]
[{"$f":"$A$3*3","v":27},null,"W przypadku niewpłacenia w obowiązujących terminach zobowiązania podatkowego lub raty podatku lub wpłacenia ich w niepełnej wysokości\nniniejsza deklaracja stanowi podstawę do wystawienia tytułu wykonawczego, zgodnie z przepisami ustawy o postępowaniu egzekucyjnym\nw administracji."]
[9]
[{"$f":"$A$3*2","v":18},null,"Za podanie nieprawdy lub zatajenie prawdy i przez to narażenie podatku na uszczuplenie grozi odpowiedzialność przewidziana w Kodeksie karnym\nskarbowym."]
[16.5]
[16.5]
[16.5]
[16.5]
[16.5]
[16.5]
[16.5]
[16.5]
[16.5]
[16.5]
[{"$f":"$A$6","v":16.5},"DR-1(1)",null,null,null,"4/4",null,null,null,null,null,null,null,null,null,null,null,null,{"$f":"'DR-1'!M10&\".\"&'DR-1'!Q24&Wersja","v":"2023..1.15.0.44867"}]

{"sheet":"ZDR-1","index":4,"n_rows":2381,"n_cols":17,"rows_kept":2381,"cut":false,"hidden":false,"merged":[[1019,12,1019,13],[951,12,951,13],[883,12,883,13],[815,12,815,13],[747,12,747,13],[679,12,679,13],[611,12,611,13],[543,12,543,13],[475,12,475,13],[407,12,407,13],[339,12,339,13],[271,12,271,13],[203,12,203,13],[135,12,135,13],[67,12,67,13],[2379,12,2379,13],[2311,12,2311,13],[2243,12,2243,13],[2175,12,2175,13],[2107,12,2107,13],[2039,12,2039,13],[1971,12,1971,13],[1903,12,1903,13],[1835,12,1835,13],[1767,12,1767,13],[1699,12,1699,13],[1631,12,1631,13],[1563,12,1563,13],[1495,12,1495,13],[1427,12,1427,13],[1359,12,1359,13],[1291,12,1291,13],[2371,2,2371,4],[2371,8,2371,9],[2371,13,2371,14],[2372,2,2372,4],[2372,8,2372,9],[2372,13,2372,14],[2373,2,2373,4],[2373,8,2373,9],[2373,13,2373,14],[2365,2,2365,4],[2365,8,2365,9],[2365,13,2365,14],[2366,2,2366,4],[2366,8,2366,9],[2366,13,2366,14],[2367,2,2367,4],[2367,8,2367,9],[2367,13,2367,14],[2368,2,2368,4],[2368,8,2368,9],[2368,13,2368,14],[2369,2,2369,4],[2369,8,2369,9],[2369,13,2369,14],[2370,2,2370,4],[2370,8,2370,9],[2370,13,2370,14],[2359,2,2359,4],[2359,8,2359,9],[2359,13,2359,14],[2360,2,2360,4],[2360,8,2360,9],[2360,13,2360,14],[2361,2,2361,4],[2361,8,2361,9],[2361,13,2361,14],[2362,2,2362,4],[2362,8,2362,9],[2362,13,2362,14],[2363,2,2363,4],[2363,8,2363,9],[2363,13,2363,14],[2364,2,2364,4],[2364,8,2364,9],[2364,13,2364,14],[2353,2,2353,4],[2353,8,2353,9],[2353,13,2353,14],[2354,2,2354,4],[2354,8,2354,9],[2354,13,2354,14],[2355,2,2355,4],[2355,8,2355,9],[2355,13,2355,14],[2356,2,2356,4],[2356,8,2356,9],[2356,13,2356,14],[2357,2,2357,4],[2357,8,2357,9],[2357,13,2357,14],[2358,2,2358,4],[2358,8,2358,9],[2358,13,2358,14],[2338,2,2338,4],[2338,8,2338,9],[2338,13,2338,14],[2339,2,2339,4],[2339,8,2339,9],[2339,13,2339,14],[2340,2,2340,4],[2340,8,2340,9],[2340,13,2340,14],[2343,2,2343,14],[2344,2,2344,14],[2345,2,2345,14],[2346,2,2346,14],[2347,2,2347,14],[2350,1,2350,14],[2352,2,2352,4],[2352,8,2352,9],[2352,13,2352,14],[2348,2,2348,3],[2332,2,2332,4],[2332,8,2332,9],[2332,13,2332,14],[2333,2,2333,4],[2333,8,2333,9],[2333,13,2333,14],[2334,2,2334,4],[2334,8,2334,9],[2334,13,2334,14],[2335,2,2335,4],[2335,8,2335,9],[2335,13,2335,14],[2336,2,2336,4],[2336,8,2336,9],[2336,13,2336,14],[2337,2,2337,4],[2337,8,2337,9],[2337,13,2337,14],[2316,1,2316,7],[2316,8,2316,14],[2317,2,2317,6],[2317,8,2317,14],[2320,1,2320,13],[2321,1,2321,13],[2325,1,2325,14],[2326,1,2326,14],[2327,2,2327,7],[2327,8,2327,14],[2328,2,2328,7],[2328,8,2328,14],[2329,1,2329,14],[2330,1,2330,14],[2331,2,2331,4],[2331,8,2331,9],[2331,13,2331,14],[2301,2,2301,4],[2301,8,2301,9],[2301,13,2301,14],[2302,2,2302,4],[2302,8,2302,9],[2302,13,2302,14],[2303,2,2303,4],[2303,8,2303,9],[2303,13,2303,14],[2304,2,2304,4],[2304,8,2304,9],[2304,13,2304,14],[2305,2,2305,4],[2305,8,2305,9],[2305,13,2305,14],[2313,1,2313,14],[2314,1,2314,14],[2295,2,2295,4],[2295,8,2295,9],[2295,13,2295,14],[2296,2,2296,4],[2296,8,2296,9],[2296,13,2296,14],[2297,2,2297,4],[2297,8,2297,9],[2297,13,2297,14],[2298,2,2298,4],[2298,8,2298,9],[2298,13,2298,14],[2299,2,2299,4],[2299,8,2299,9],[2299,13,2299,14],[2300,2,2300,4],[2300,8,2300,9],[2300,13,2300,14],[2289,2,2289,4],[2289,8,2289,9],[2289,13,2289,14],[2290,2,2290,4],[2290,8,2290,9],[2290,13,2290,14],[2291,2,2291,4],[2291,8,2291,9],[2291,13,2291,14],[2292,2,2292,4],[2292,8,2292,9],[2292,13,2292,14],[2293,2,2293,4],[2293,8,2293,9],[2293,13,2293,14],[2294,2,2294,4],[2294,8,2294,9],[2294,13,2294,14],[2277,2,2277,14],[2278,2,2278,14],[2279,2,2279,14],[2282,1,2282,14],[2284,2,2284,4],[2284,8,2284,9],[2284,13,2284,14],[2285,2,2285,4],[2285,8,2285,9],[2285,13,2285,14],[2286,2,2286,4],[2286,8,2286,9],[2286,13,2286,14],[2287,2,2287,4],[2287,8,2287,9],[2287,13,2287,14],[2288,2,2288,4],[2288,8,2288,9],[2288,13,2288,14],[2280,2,2280,3],[2268,2,2268,4],[2268,8,2268,9],[2268,13,2268,14],[2269,2,2269,4],[2269,8,2269,9],[2269,13,2269,14],[2270,2,2270,4],[2270,8,2270,9],[2270,13,2270,14],[2271,2,2271,4],[2271,8,2271,9],[2271,13,2271,14],[2272,2,2272,4],[2272,8,2272,9],[2272,13,2272,14],[2275,2,2275,14],[2276,2,2276,14],[2261,1,2261,14],[2262,1,2262,14],[2263,2,2263,4],[2263,8,2263,9],[2263,13,2263,14],[2264,2,2264,4],[2264,8,2264,9],[2264,13,2264,14],[2265,2,2265,4],[2265,8,2265,9],[2265,13,2265,14],[2266,2,2266,4],[2266,8,2266,9],[2266,13,2266,14],[2267,2,2267,4],[2267,8,2267,9],[2267,13,2267,14],[2237,2,2237,4],[2237,8,2237,9],[2237,13,2237,14],[2245,1,2245,14],[2246,1,2246,14],[2248,1,2248,7],[2248,8,2248,14],[2249,2,2249,6],[2249,8,2249,14],[2252,1,2252,13],[2253,1,2253,13],[2257,1,2257,14],[2258,1,2258,14],[2259,2,2259,7],[2259,8,2259,14],[2260,2,2260,7],[2260,8,2260,14],[2231,2,2231,4],[2231,8,2231,9],[2231,13,2231,14],[2232,2,2232,4],[2232,8,2232,9],[2232,13,2232,14],[2233,2,2233,4],[2233,8,2233,9],[2233,13,2233,14],[2234,2,2234,4],[2234,8,2234,9],[2234,13,2234,14],[2235,2,2235,4],[2235,8,2235,9],[2235,13,2235,14],[2236,2,2236,4],[2236,8,2236,9],[2236,13,2236,14],[2225,2,2225,4],[2225,8,2225,9],[2225,13,2225,14],[2226,2,2226,4],[2226,8,2226,9],[2226,13,2226,14],[2227,2,2227,4],[2227,8,2227,9],[2227,13,2227,14],[2228,2,2228,4],[2228,8,2228,9],[2228,13,2228,14],[2229,2,2229,4],[2229,8,2229,9],[2229,13,2229,14],[2230,2,2230,4],[2230,8,2230,9],[2230,13,2230,14],[2219,2,2219,4],[2219,8,2219,9],[2219,13,2219,14],[2220,2,2220,4],[2220,8,2220,9],[2220,13,2220,14],[2221,2,2221,4],[2221,8,2221,9],[2221,13,2221,14],[2222,2,2222,4],[2222,8,2222,9],[2222,13,2222,14],[2223,2,2223,4],[2223,8,2223,9],[2223,13,2223,14],[2224,2,2224,4],[2224,8,2224,9],[2224,13,2224,14],[2204,2,2204,4],[2204,8,2204,9],[2204,13,2204,14],[2207,2,2207,14],[2208,2,2208,14],[2209,2,2209,14],[2210,2,2210,14],[2211,2,2211,14],[2214,1,2214,14],[2216,2,2216,4],[2216,8,2216,9],[2216,13,2216,14],[2217,2,2217,4],[2217,8,2217,9],[2217,13,2217,14],[2218,2,2218,4],[2218,8,2218,9],[2218,13,2218,14],[2212,2,2212,3],[2198,2,2198,4],[2198,8,2198,9],[2198,13,2198,14],[2199,2,2199,4],[2199,8,2199,9],[2199,13,2199,14],[2200,2,2200,4],[2200,8,2200,9],[2200,13,2200,14],[2201,2,2201,4],[2201,8,2201,9],[2201,13,2201,14],[2202,2,2202,4],[2202,8,2202,9],[2202,13,2202,14],[2203,2,2203,4],[2203,8,2203,9],[2203,13,2203,14],[2189,1,2189,14],[2190,1,2190,14],[2191,2,2191,7],[2191,8,2191,14],[2192,2,2192,7],[2192,8,2192,14],[2193,1,2193,14],[2194,1,2194,14],[2195,2,2195,4],[2195,8,2195,9],[2195,13,2195,14],[2196,2,2196,4],[2196,8,2196,9],[2196,13,2196,14],[2197,2,2197,4],[2197,8,2197,9],[2197,13,2197,14],[2167,2,2167,4],[2167,8,2167,9],[2167,13,2167,14],[2168,2,2168,4],[2168,8,2168,9],[2168,13,2168,14],[2169,2,2169,4],[2169,8,2169,9],[2169,13,2169,14],[2177,1,2177,14],[2178,1,2178,14],[2180,1,2180,7],[2180,8,2180,14],[2181,2,2181,6],[2181,8,2181,14],[2184,1,2184,13],[2185,1,2185,13],[2161,2,2161,4],[2161,8,2161,9],[2161,13,2161,14],[2162,2,2162,4],[2162,8,2162,9],[2162,13,2162,14],[2163,2,2163,4],[2163,8,2163,9],[2163,13,2163,14],[2164,2,2164,4],[2164,8,2164,9],[2164,13,2164,14],[2165,2,2165,4],[2165,8,2165,9],[2165,13,2165,14],[2166,2,2166,4],[2166,8,2166,9],[2166,13,2166,14],[2155,2,2155,4],[2155,8,2155,9],[2155,13,2155,14],[2156,2,2156,4],[2156,8,2156,9],[2156,13,2156,14],[2157,2,2157,4],[2157,8,2157,9],[2157,13,2157,14],[2158,2,2158,4],[2158,8,2158,9],[2158,13,2158,14],[2159,2,2159,4],[2159,8,2159,9],[2159,13,2159,14],[2160,2,2160,4],[2160,8,2160,9],[2160,13,2160,14],[2149,2,2149,4],[2149,8,2149,9],[2149,13,2149,14],[2150,2,2150,4],[2150,8,2150,9],[2150,13,2150,14],[2151,2,2151,4],[2151,8,2151,9],[2151,13,2151,14],[2152,2,2152,4],[2152,8,2152,9],[2152,13,2152,14],[2153,2,2153,4],[2153,8,2153,9],[2153,13,2153,14],[2154,2,2154,4],[2154,8,2154,9],[2154,13,2154,14],[2134,2,2134,4],[2134,8,2134,9],[2134,13,2134,14],[2135,2,2135,4],[2135,8,2135,9],[2135,13,2135,14],[2136,2,2136,4],[2136,8,2136,9],[2136,13,2136,14],[2139,2,2139,14],[2140,2,2140,14],[2141,2,2141,14],[2142,2,2142,14],[2143,2,2143,14],[2146,1,2146,14],[2148,2,2148,4],[2148,8,2148,9],[2148,13,2148,14],[2144,2,2144,3],[2128,2,2128,4],[2128,8,2128,9],[2128,13,2128,14],[2129,2,2129,4],[2129,8,2129,9],[2129,13,2129,14],[2130,2,2130,4],[2130,8,2130,9],[2130,13,2130,14],[2131,2,2131,4],[2131,8,2131,9],[2131,13,2131,14],[2132,2,2132,4],[2132,8,2132,9],[2132,13,2132,14],[2133,2,2133,4],[2133,8,2133,9],[2133,13,2133,14],[2112,1,2112,7],[2112,8,2112,14],[2113,2,2113,6],[2113,8,2113,14],[2116,1,2116,13],[2117,1,2117,13],[2121,1,2121,14],[2122,1,2122,14],[2123,2,2123,7],[2123,8,2123,14],[2124,2,2124,7],[2124,8,2124,14],[2125,1,2125,14],[2126,1,2126,14],[2127,2,2127,4],[2127,8,2127,9],[2127,13,2127,14],[2097,2,2097,4],[2097,8,2097,9],[2097,13,2097,14],[2098,2,2098,4],[2098,8,2098,9],[2098,13,2098,14],[2099,2,2099,4],[2099,8,2099,9],[2099,13,2099,14],[2100,2,2100,4],[2100,8,2100,9],[2100,13,2100,14],[2101,2,2101,4],[2101,8,2101,9],[2101,13,2101,14],[2109,1,2109,14],[2110,1,2110,14],[2091,2,2091,4],[2091,8,2091,9],[2091,13,2091,14],[2092,2,2092,4],[2092,8,2092,9],[2092,13,2092,14],[2093,2,2093,4],[2093,8,2093,9],[2093,13,2093,14],[2094,2,2094,4],[2094,8,2094,9],[2094,13,2094,14],[2095,2,2095,4],[2095,8,2095,9],[2095,13,2095,14],[2096,2,2096,4],[2096,8,2096,9],[2096,13,2096,14],[2085,2,2085,4],[2085,8,2085,9],[2085,13,2085,14],[2086,2,2086,4],[2086,8,2086,9],[2086,13,2086,14],[2087,2,2087,4],[2087,8,2087,9],[2087,13,2087,14],[2088,2,2088,4],[2088,8,2088,9],[2088,13,2088,14],[2089,2,2089,4],[2089,8,2089,9],[2089,13,2089,14],[2090,2,2090,4],[2090,8,2090,9],[2090,13,2090,14],[2073,2,2073,14],[2074,2,2074,14],[2075,2,2075,14],[2078,1,2078,14],[2080,2,2080,4],[2080,8,2080,9],[2080,13,2080,14],[2081,2,2081,4],[2081,8,2081,9],[2081,13,2081,14],[2082,2,2082,4],[2082,8,2082,9],[2082,13,2082,14],[2083,2,2083,4],[2083,8,2083,9],[2083,13,2083,14],[2084,2,2084,4],[2084,8,2084,9],[2084,13,2084,14],[2076,2,2076,3],[2064,2,2064,4],[2064,8,2064,9],[2064,13,2064,14],[2065,2,2065,4],[2065,8,2065,9],[2065,13,2065,14],[2066,2,2066,4],[2066,8,2066,9],[2066,13,2066,14],[2067,2,2067,4],[2067,8,2067,9],[2067,13,2067,14],[2068,2,2068,4],[2068,8,2068,9],[2068,13,2068,14],[2071,2,2071,14],[2072,2,2072,14],[2057,1,2057,14],[2058,1,2058,14],[2059,2,2059,4],[2059,8,2059,9],[2059,13,2059,14],[2060,2,2060,4],[2060,8,2060,9],[2060,13,2060,14],[2061,2,2061,4],[2061,8,2061,9],[2061,13,2061,14],[2062,2,2062,4],[2062,8,2062,9],[2062,13,2062,14],[2063,2,2063,4],[2063,8,2063,9],[2063,13,2063,14],[2033,2,2033,4],[2033,8,2033,9],[2033,13,2033,14],[2041,1,2041,14],[2042,1,2042,14],[2044,1,2044,7],[2044,8,2044,14],[2045,2,2045,6],[2045,8,2045,14],[2048,1,2048,13],[2049,1,2049,13],[2053,1,2053,14],[2054,1,2054,14],[2055,2,2055,7],[2055,8,2055,14],[2056,2,2056,7],[2056,8,2056,14],[2027,2,2027,4],[2027,8,2027,9],[2027,13,2027,14],[2028,2,2028,4],[2028,8,2028,9],[2028,13,2028,14],[2029,2,2029,4],[2029,8,2029,9],[2029,13,2029,14],[2030,2,2030,4],[2030,8,2030,9],[2030,13,2030,14],[2031,2,2031,4],[2031,8,2031,9],[2031,13,2031,14],[2032,2,2032,4],[2032,8,2032,9],[2032,13,2032,14],[2021,2,2021,4],[2021,8,2021,9],[2021,13,2021,14],[2022,2,2022,4],[2022,8,2022,9],[2022,13,2022,14],[2023,2,2023,4],[2023,8,2023,9],[2023,13,2023,14],[2024,2,2024,4],[2024,8,2024,9],[2024,13,2024,14],[2025,2,2025,4],[2025,8,2025,9],[2025,13,2025,14],[2026,2,2026,4],[2026,8,2026,9],[2026,13,2026,14],[2015,2,2015,4],[2015,8,2015,9],[2015,13,2015,14],[2016,2,2016,4],[2016,8,2016,9],[2016,13,2016,14],[2017,2,2017,4],[2017,8,2017,9],[2017,13,2017,14],[2018,2,2018,4],[2018,8,2018,9],[2018,13,2018,14],[2019,2,2019,4],[2019,8,2019,9],[2019,13,2019,14],[2020,2,2020,4],[2020,8,2020,9],[2020,13,2020,14],[2000,2,2000,4],[2000,8,2000,9],[2000,13,2000,14],[2003,2,2003,14],[2004,2,2004,14],[2005,2,2005,14],[2006,2,2006,14],[2007,2,2007,14],[2010,1,2010,14],[2012,2,2012,4],[2012,8,2012,9],[2012,13,2012,14],[2013,2,2013,4],[2013,8,2013,9],[2013,13,2013,14],[2014,2,2014,4],[2014,8,2014,9],[2014,13,2014,14],[2008,2,2008,3],[1994,2,1994,4],[1994,8,1994,9],[1994,13,1994,14],[1995,2,1995,4],[1995,8,1995,9],[1995,13,1995,14],[1996,2,1996,4],[1996,8,1996,9],[1996,13,1996,14],[1997,2,1997,4],[1997,8,1997,9],[1997,13,1997,14],[1998,2,1998,4],[1998,8,1998,9],[1998,13,1998,14],[1999,2,1999,4],[1999,8,1999,9],[1999,13,1999,14],[1985,1,1985,14],[1986,1,1986,14],[1987,2,1987,7],[1987,8,1987,14],[1988,2,1988,7],[1988,8,1988,14],[1989,1,1989,14],[1990,1,1990,14],[1991,2,1991,4],[1991,8,1991,9],[1991,13,1991,14],[1992,2,1992,4],[1992,8,1992,9],[1992,13,1992,14],[1993,2,1993,4],[1993,8,1993,9],[1993,13,1993,14],[1963,2,1963,4],[1963,8,1963,9],[1963,13,1963,14],[1964,2,1964,4],[1964,8,1964,9],[1964,13,1964,14],[1965,2,1965,4],[1965,8,1965,9],[1965,13,1965,14],[1973,1,1973,14],[1974,1,1974,14],[1976,1,1976,7],[1976,8,1976,14],[1977,2,1977,6],[1977,8,1977,14],[1980,1,1980,13],[1981,1,1981,13],[1957,2,1957,4],[1957,8,1957,9],[1957,13,1957,14],[1958,2,1958,4],[1958,8,1958,9],[1958,13,1958,14],[1959,2,1959,4],[1959,8,1959,9],[1959,13,1959,14],[1960,2,1960,4],[1960,8,1960,9],[1960,13,1960,14],[1961,2,1961,4],[1961,8,1961,9],[1961,13,1961,14],[1962,2,1962,4],[1962,8,1962,9],[1962,13,1962,14],[1951,2,1951,4],[1951,8,1951,9],[1951,13,1951,14],[1952,2,1952,4],[1952,8,1952,9],[1952,13,1952,14],[1953,2,1953,4],[1953,8,1953,9],[1953,13,1953,14],[1954,2,1954,4],[1954,8,1954,9],[1954,13,1954,14],[1955,2,1955,4],[1955,8,1955,9],[1955,13,1955,14],[1956,2,1956,4],[1956,8,1956,9],[1956,13,1956,14],[1945,2,1945,4],[1945,8,1945,9],[1945,13,1945,14],[1946,2,1946,4],[1946,8,1946,9],[1946,13,1946,14],[1947,2,1947,4],[1947,8,1947,9],[1947,13,1947,14],[1948,2,1948,4],[1948,8,1948,9],[1948,13,1948,14],[1949,2,1949,4],[1949,8,1949,9],[1949,13,1949,14],[1950,2,1950,4],[1950,8,1950,9],[1950,13,1950,14],[1930,2,1930,4],[1930,8,1930,9],[1930,13,1930,14],[1931,2,1931,4],[1931,8,1931,9],[1931,13,1931,14],[1932,2,1932,4],[1932,8,1932,9],[1932,13,1932,14],[1935,2,1935,14],[1936,2,1936,14],[1937,2,1937,14],[1938,2,1938,14],[1939,2,1939,14],[1942,1,1942,14],[1944,2,1944,4],[1944,8,1944,9],[1944,13,1944,14],[1940,2,1940,3],[1924,2,1924,4],[1924,8,1924,9],[1924,13,1924,14],[1925,2,1925,4],[1925,8,1925,9],[1925,13,1925,14],[1926,2,1926,4],[1926,8,1926,9],[1926,13,1926,14],[1927,2,1927,4],[1927,8,1927,9],[1927,13,1927,14],[1928,2,1928,4],[1928,8,1928,9],[1928,13,1928,14],[1929,2,1929,4],[1929,8,1929,9],[1929,13,1929,14],[1908,1,1908,7],[1908,8,1908,14],[1909,2,1909,6],[1909,8,1909,14],[1912,1,1912,13],[1913,1,1913,13],[1917,1,1917,14],[1918,1,1918,14],[1919,2,1919,7],[1919,8,1919,14],[1920,2,1920,7],[1920,8,1920,14],[1921,1,1921,14],[1922,1,1922,14],[1923,2,1923,4],[1923,8,1923,9],[1923,13,1923,14],[1893,2,1893,4],[1893,8,1893,9],[1893,13,1893,14],[1894,2,1894,4],[1894,8,1894,9],[1894,13,1894,14],[1895,2,1895,4],[1895,8,1895,9],[1895,13,1895,14],[1896,2,1896,4],[1896,8,1896,9],[1896,13,1896,14],[1897,2,1897,4],[1897,8,1897,9],[1897,13,1897,14],[1905,1,1905,14],[1906,1,1906,14],[1887,2,1887,4],[1887,8,1887,9],[1887,13,1887,14],[1888,2,1888,4],[1888,8,1888,9],[1888,13,1888,14],[1889,2,1889,4],[1889,8,1889,9],[1889,13,1889,14],[1890,2,1890,4],[1890,8,1890,9],[1890,13,1890,14],[1891,2,1891,4],[1891,8,1891,9],[1891,13,1891,14],[1892,2,1892,4],[1892,8,1892,9],[1892,13,1892,14],[1881,2,1881,4],[1881,8,1881,9],[1881,13,1881,14],[1882,2,1882,4],[1882,8,1882,9],[1882,13,1882,14],[1883,2,1883,4],[1883,8,1883,9],[1883,13,1883,14],[1884,2,1884,4],[1884,8,1884,9],[1884,13,1884,14],[1885,2,1885,4],[1885,8,1885,9],[1885,13,1885,14],[1886,2,1886,4],[1886,8,1886,9],[1886,13,1886,14],[1869,2,1869,14],[1870,2,1870,14],[1871,2,1871,14],[1874,1,1874,14],[1876,2,1876,4],[1876,8,1876,9],[1876,13,1876,14],[1877,2,1877,4],[1877,8,1877,9],[1877,13,1877,14],[1878,2,1878,4],[1878,8,1878,9],[1878,13,1878,14],[1879,2,1879,4],[1879,8,1879,9],[1879,13,1879,14],[1880,2,1880,4],[1880,8,1880,9],[1880,13,1880,14],[1872,2,1872,3],[1860,2,1860,4],[1860,8,1860,9],[1860,13,1860,14],[1861,2,1861,4],[1861,8,1861,9],[1861,13,1861,14],[1862,2,1862,4],[1862,8,1862,9],[1862,13,1862,14],[1863,2,1863,4],[1863,8,1863,9],[1863,13,1863,14],[1864,2,1864,4],[1864,8,1864,9],[1864,13,1864,14],[1867,2,1867,14],[1868,2,1868,14],[1853,1,1853,14],[1854,1,1854,14],[1855,2,1855,4],[1855,8,1855,9],[1855,13,1855,14],[1856,2,1856,4],[1856,8,1856,9],[1856,13,1856,14],[1857,2,1857,4],[1857,8,1857,9],[1857,13,1857,14],[1858,2,1858,4],[1858,8,1858,9],[1858,13,1858,14],[1859,2,1859,4],[1859,8,1859,9],[1859,13,1859,14],[1829,2,1829,4],[1829,8,1829,9],[1829,13,1829,14],[1837,1,1837,14],[1838,1,1838,14],[1840,1,1840,7],[1840,8,1840,14],[1841,2,1841,6],[1841,8,1841,14],[1844,1,1844,13],[1845,1,1845,13],[1849,1,1849,14],[1850,1,1850,14],[1851,2,1851,7],[1851,8,1851,14],[1852,2,1852,7],[1852,8,1852,14],[1823,2,1823,4],[1823,8,1823,9],[1823,13,1823,14],[1824,2,1824,4],[1824,8,1824,9],[1824,13,1824,14],[1825,2,1825,4],[1825,8,1825,9],[1825,13,1825,14],[1826,2,1826,4],[1826,8,1826,9],[1826,13,1826,14],[1827,2,1827,4]],"merged_total":4200,"flags":["merged_cut"]}
[18.5,2.5,{"$f":"$A$1-D1","v":12.5},6,{"$f":"$A$1*0.5","v":9.25},{"$f":"$A$1","v":18.5},{"$f":"$A$1*0.5","v":9.25},{"$f":"$A$1*0.5","v":9.25},{"$f":"$A$1*0.5","v":9.25},{"$f":"$A$1*0.5-3.5","v":5.75},{"$f":"$A$1*0.6","v":11.1},{"$f":"K1","v":11.1},{"$f":"K1+3.5","v":14.6},{"$f":"$A$1-O1","v":12.5},6]
[9,"Załącznik nr 6"]
[{"$f":"$A$2","v":9},"WYPEŁNIĆ DUŻYMI, DRUKOWANYMI LITERAMI, CZARNYM LUB NIEBIESKIM KOLOREM."]
[4.5]
[{"$f":"$A$2","v":9},"1. Identyfikator podatkowy NIP/numer PESEL (niepotrzebne skreślić)1)\n└────┴────┴────┴────┴────┴────┴────┴────┴────┴────┴────┘",null,null,null,null,null,null,"2.  Nr dokumentu"]
[19.5]
[{"$f":"$A$2","v":9}]
[16.5,"ZDR-1"]
[{"$f":"$A$8","v":16.5},"ZAŁĄCZNIK DO DEKLARACJI NA PODATEK ROLNY"]
[{"$f":"$A$8","v":16.5},"- DANE O PRZEDMIOTACH OPODATKOWANIA PODLEGAJĄCYCH OPODATKOWANIU"]
[{"$f":"$A$2","v":9},null,null,null,null,null,null,null,null,null,null,null,null,"3. Nr załącznika"]
[{"$f":"$A$6","v":19.5},null,null,null,null,null,null,null,null,null,null,null,null,1,null,{"$f":"SUM(Q:Q)","v":0},{"$f":"IF(COUNTA(C22:J29,C43:J62,L43:O62,L22:O29)=0,0,1)","v":0}]
[{"$f":"$A$4","v":4.5}]
[{"$f":"$A$4","v":4.5}]
[{"$f":"$A$8*1.5","v":24.75},"A.  DANE PODATNIKA WSKAZANEGO W CZĘŚCI C.1 DEKLARACJI DR-1\n* - dotyczy podatnika niebędącego osobą fizyczną               ** - dotyczy podatnika będącego osobą fizyczną"]
[{"$f":"$A$2","v":9},null,"4. Nazwa pełna * / Nazwisko **",null,null,null,null,null,"5. Nazwa skrócona * / Pierwsze imię **"]
[{"$f":"$A$6","v":19.5}]
[{"$f":"$A$4","v":4.5}]
[{"$f":"$A$8","v":16.5},"B.  DANE O POSZCZEGÓLNYCH PRZEDMIOTACH OPODATKOWANIA PODLEGAJĄCYCH OPODATKOWANIU"]
[{"$f":"$A$8*1.5","v":24.75},"Lp.","Położenie (adres, w tym dzielnica)",null,null,"Nr księgi wieczystej\n(zbioru dokumentów)","Nr obrębu\n(arkusza mapy)2)","Nr działki","Powierzchnia \nw ha3)",null,"Rodzaj\nużytku","Klasa\nużytku","Forma\nwładania 4)","Podstawa prawna ulgi 5)"]
[{"$f":"$A$2","v":9},null,"a",null,null,"b","c","d","e",null,"f","g","h","i"]
[{"$f":"$A$6","v":19.5},1]
[19.5,2]
[19.5,3]
[19.5,4]
[19.5,5]
[19.5,6]
[19.5,7]
[19.5,8]
[{"$f":"$A$2","v":9}]
[{"$f":"$A$2","v":9}]
[{"$f":"$A$2*2","v":18},"1)","Numer PESEL wpisują podatnicy będący osobami fizycznymi objętymi rejestrem PESEL, nieprowadzący działalności gospodarczej lub niebędący zarejestrowanymi podatnikami podatku od towarów i usług.\nIdentyfikator podatkowy NIP wpisują pozostali podatnicy."]
[{"$f":"$A$2","v":9},"2)","Numer obrębu należy podać wraz z numerem arkusza mapy ewidencyjnej w przypadku, gdy działki numerowane są w ramach arkusza mapy."]
[{"$f":"$A$2","v":9},"3)","Należy podać z dokładnością do czterech miejsc po przecinku."]
[{"$f":"$A$2","v":9},"4)","Należy podać jedną z form władania: własność, użytkowanie wieczyste, posiadanie samoistne, posiadanie zależne lub posiadanie bez tytułu prawnego."]
[{"$f":"$A$2","v":9},"5)","Należy podać jednostkę redakcyjną z ustawy lub uchwały rady gminy."]
[{"$f":"$A$8","v":16.5},null,{"$f":"'DR-1'!M10&\".\"&'DR-1'!Q24&Wersja","v":"2023..1.15.0.44867"},null,null,null,null,null,null,null,null,null,null,"ZDR-1(1)","1/2"]
[{"$f":"$A$2","v":9}]
[{"$f":"$A$2","v":9},"WYPEŁNIĆ DUŻYMI, DRUKOWANYMI LITERAMI, CZARNYM LUB NIEBIESKIM KOLOREM."]
[4.5]
[{"$f":"$A$8*1.5","v":24.75},"Lp.","Położenie (adres, w tym dzielnica)",null,null,"Nr księgi wieczystej\n(zbioru dokumentów)","Nr obrębu\n(arkusza mapy)2)","Nr działki","Powierzchnia \nw ha3)",null,"Rodzaj\nużytku","Klasa\nużytku","Forma\nwładania 4)","Podstawa prawna ulgi 5)"]
[{"$f":"$A$2","v":9},null,"a",null,null,"b","c","d","e",null,"f","g","h","i"]
[{"$f":"$A$6","v":19.5},9]
[19.5,{"$f":"B43+1","v":10}]
[19.5,{"$f":"B44+1","v":11}]
[19.5,12]
[19.5,13]
[19.5,14]
[19.5,15]
[19.5,16]
[19.5,17]
[19.5,18]
[19.5,19]
[19.5,20]
[19.5,21]
[19.5,22]
[19.5,23]
[19.5,24]
[19.5,25]
[19.5,26]
[19.5,27]
[19.5,28]
[{"$f":"$A$2","v":9}]
[{"$f":"$A$2","v":9}]
[9]
[9]
[9]
[{"$f":"$A$8","v":16.5},null,"ZDR-1(1)","2/2",null,null,null,null,null,null,null,null,{"$f":"'DR-1'!M10&\".\"&'DR-1'!Q24&Wersja","v":"2023..1.15.0.44867"}]
[9]
[{"$f":"$A$2","v":9},"Załącznik nr 6"]
[{"$f":"$A$2","v":9},"WYPEŁNIĆ DUŻYMI, DRUKOWANYMI LITERAMI, CZARNYM LUB NIEBIESKIM KOLOREM."]
[{"$f":"$A$4","v":4.5}]
[{"$f":"$A$2","v":9},"1. Identyfikator podatkowy NIP/numer PESEL (niepotrzebne skreślić)1)\n└────┴────┴────┴────┴────┴────┴────┴────┴────┴────┴────┘",null,null,null,null,null,null,"2.  Nr dokumentu"]
[{"$f":"$A$6","v":19.5},null,{"$f":"$C$6","v":0}]
[{"$f":"$A$2","v":9}]
[{"$f":"$A$8","v":16.5},"ZDR-1"]
[{"$f":"$A$8","v":16.5},"ZAŁĄCZNIK DO DEKLARACJI NA PODATEK ROLNY"]
[{"$f":"$A$8","v":16.5},"- DANE O PRZEDMIOTACH OPODATKOWANIA PODLEGAJĄCYCH OPODATKOWANIU"]
[{"$f":"$A$2","v":9},null,null,null,null,null,null,null,null,null,null,null,null,"3. Nr załącznika"]
[{"$f":"$A$6","v":19.5},null,null,null,null,null,null,null,null,null,null,null,null,{"$f":"N12+1","v":2},null,null,{"$f":"IF(COUNTA(C90:J97,C111:J130,L111:O130,L90:O97)=0,0,1)","v":0}]
[{"$f":"$A$4","v":4.5}]
[{"$f":"$A$4","v":4.5}]
[{"$f":"$A$8*1.5","v":24.75},"A.  DANE PODATNIKA WSKAZANEGO W CZĘŚCI C.1 DEKLARACJI DR-1\n* - dotyczy podatnika niebędącego osobą fizyczną               ** - dotyczy podatnika będącego osobą fizyczną"]
[{"$f":"$A$2","v":9},null,"4. Nazwa pełna * / Nazwisko **",null,null,null,null,null,"5. Nazwa skrócona * / Pierwsze imię **"]
[{"$f":"$A$6","v":19.5},null,{"$f":"\"\"&$C$17","v":""},null,null,null,null,null,{"$f":"\"\"&I17","v":""}]
[{"$f":"$A$4","v":4.5}]
[{"$f":"$A$8","v":16.5},"B.  DANE O POSZCZEGÓLNYCH PRZEDMIOTACH OPODATKOWANIA PODLEGAJĄCYCH OPODATKOWANIU"]
[{"$f":"$A$8*1.5","v":24.75},"Lp.","Położenie (adres, w tym dzielnica)",null,null,"Nr księgi wieczystej\n(zbioru dokumentów)","Nr obrębu\n(arkusza mapy)2)","Nr działki","Powierzchnia \nw ha3)",null,"Rodzaj\nużytku","Klasa\nużytku","Forma\nwładania 4)","Podstawa prawna ulgi 5)"]
[{"$f":"$A$2","v":9},null,"a",null,null,"b","c","d","e",null,"f","g","h","i"]
[{"$f":"$A$6","v":19.5},1]
[19.5,2]
[19.5,3]
[19.5,4]
[19.5,5]
[19.5,6]
[19.5,7]
[19.5,8]
[{"$f":"$A$2","v":9}]
[{"$f":"$A$2","v":9}]
[{"$f":"$A$2*2","v":18},"1)","Numer PESEL wpisują podatnicy będący osobami fizycznymi objętymi rejestrem PESEL, nieprowadzący działalności gospodarczej lub niebędący zarejestrowanymi podatnikami podatku od towarów i usług.\nIdentyfikator podatkowy NIP wpisują pozostali podatnicy."]
[{"$f":"$A$2","v":9},"2)","Numer obrębu należy podać wraz z numerem arkusza mapy ewidencyjnej w przypadku, gdy działki numerowane są w ramach arkusza mapy."]
[{"$f":"$A$2","v":9},"3)","Należy podać z dokładnością do czterech miejsc po przecinku."]
[{"$f":"$A$2","v":9},"4)","Należy podać jedną z form władania: własność, użytkowanie wieczyste, posiadanie samoistne, posiadanie zależne lub posiadanie bez tytułu prawnego."]
[{"$f":"$A$2","v":9},"5)","Należy podać jednostkę redakcyjną z ustawy lub uchwały rady gminy."]
[{"$f":"$A$8","v":16.5},null,{"$f":"'DR-1'!M10&\".\"&'DR-1'!Q24&Wersja","v":"2023..1.15.0.44867"},null,null,null,null,null,null,null,null,null,null,"ZDR-1(1)","1/2"]
[{"$f":"$A$2","v":9}]
[{"$f":"$A$2","v":9},"WYPEŁNIĆ DUŻYMI, DRUKOWANYMI LITERAMI, CZARNYM LUB NIEBIESKIM KOLOREM."]
[4.5]
[{"$f":"$A$8*1.5","v":24.75},"Lp.","Położenie (adres, w tym dzielnica)",null,null,"Nr księgi wieczystej\n(zbioru dokumentów)","Nr obrębu\n(arkusza mapy)2)","Nr działki","Powierzchnia \nw ha3)",null,"Rodzaj\nużytku","Klasa\nużytku","Forma\nwładania 4)","Podstawa prawna ulgi 5)"]
[{"$f":"$A$2","v":9},null,"a",null,null,"b","c","d","e",null,"f","g","h","i"]
[{"$f":"$A$6","v":19.5},9]
[19.5,{"$f":"B111+1","v":10}]
[19.5,{"$f":"B112+1","v":11}]
[19.5,12]
[19.5,13]
[19.5,14]
[19.5,15]
[19.5,16]
[19.5,17]
[19.5,18]
[19.5,19]
[19.5,20]
[19.5,21]
[19.5,22]
[19.5,23]
[19.5,24]
[19.5,25]
[19.5,26]
[19.5,27]
[19.5,28]
[{"$f":"$A$2","v":9}]
[{"$f":"$A$2","v":9}]
[9]
[9]
[9]
[{"$f":"$A$8","v":16.5},null,"ZDR-1(1)","2/2",null,null,null,null,null,null,null,null,{"$f":"'DR-1'!M10&\".\"&'DR-1'!Q24&Wersja","v":"2023..1.15.0.44867"}]
[9]
[{"$f":"$A$2","v":9},"Załącznik nr 6"]
[{"$f":"$A$2","v":9},"WYPEŁNIĆ DUŻYMI, DRUKOWANYMI LITERAMI, CZARNYM LUB NIEBIESKIM KOLOREM."]
[{"$f":"$A$4","v":4.5}]
[{"$f":"$A$2","v":9},"1. Identyfikator podatkowy NIP/numer PESEL (niepotrzebne skreślić)1)\n└────┴────┴────┴────┴────┴────┴────┴────┴────┴────┴────┘",null,null,null,null,null,null,"2.  Nr dokumentu"]
[{"$f":"$A$6","v":19.5},null,{"$f":"$C$6","v":0}]
[{"$f":"$A$2","v":9}]
[{"$f":"$A$8","v":16.5},"ZDR-1"]
[{"$f":"$A$8","v":16.5},"ZAŁĄCZNIK DO DEKLARACJI NA PODATEK ROLNY"]
[{"$f":"$A$8","v":16.5},"- DANE O PRZEDMIOTACH OPODATKOWANIA PODLEGAJĄCYCH OPODATKOWANIU"]
[{"$f":"$A$2","v":9},null,null,null,null,null,null,null,null,null,null,null,null,"3. Nr załącznika"]
[{"$f":"$A$6","v":19.5},null,null,null,null,null,null,null,null,null,null,null,null,{"$f":"N80+1","v":3},null,null,{"$f":"IF(COUNTA(C158:J165,C179:J198,L179:O198,L158:O165)=0,0,1)","v":0}]
[{"$f":"$A$4","v":4.5}]
[{"$f":"$A$4","v":4.5}]
[{"$f":"$A$8*1.5","v":24.75},"A.  DANE PODATNIKA WSKAZANEGO W CZĘŚCI C.1 DEKLARACJI DR-1\n* - dotyczy podatnika niebędącego osobą fizyczną               ** - dotyczy podatnika będącego osobą fizyczną"]
[{"$f":"$A$2","v":9},null,"4. Nazwa pełna * / Nazwisko **",null,null,null,null,null,"5. Nazwa skrócona * / Pierwsze imię **"]
[{"$f":"$A$6","v":19.5},null,{"$f":"\"\"&$C$17","v":""},null,null,null,null,null,{"$f":"\"\"&I85","v":""}]
[{"$f":"$A$4","v":4.5}]
[{"$f":"$A$8","v":16.5},"B.  DANE O POSZCZEGÓLNYCH PRZEDMIOTACH OPODATKOWANIA PODLEGAJĄCYCH OPODATKOWANIU"]
[{"$f":"$A$8*1.5","v":24.75},"Lp.","Położenie (adres, w tym dzielnica)",null,null,"Nr księgi wieczystej\n(zbioru dokumentów)","Nr obrębu\n(arkusza mapy)2)","Nr działki","Powierzchnia \nw ha3)",null,"Rodzaj\nużytku","Klasa\nużytku","Forma\nwładania 4)","Podstawa prawna ulgi 5)"]
[{"$f":"$A$2","v":9},null,"a",null,null,"b","c","d","e",null,"f","g","h","i"]
[{"$f":"$A$6","v":19.5},1]
[19.5,2]
[19.5,3]
[19.5,4]
[19.5,5]
[19.5,6]
[19.5,7]
[19.5,8]
[{"$f":"$A$2","v":9}]
[{"$f":"$A$2","v":9}]
[{"$f":"$A$2*2","v":18},"1)","Numer PESEL wpisują podatnicy będący osobami fizycznymi objętymi rejestrem PESEL, nieprowadzący działalności gospodarczej lub niebędący zarejestrowanymi podatnikami podatku od towarów i usług.\nIdentyfikator podatkowy NIP wpisują pozostali podatnicy."]
[{"$f":"$A$2","v":9},"2)","Numer obrębu należy podać wraz z numerem arkusza mapy ewidencyjnej w przypadku, gdy działki numerowane są w ramach arkusza mapy."]
[{"$f":"$A$2","v":9},"3)","Należy podać z dokładnością do czterech miejsc po przecinku."]
[{"$f":"$A$2","v":9},"4)","Należy podać jedną z form władania: własność, użytkowanie wieczyste, posiadanie samoistne, posiadanie zależne lub posiadanie bez tytułu prawnego."]
[{"$f":"$A$2","v":9},"5)","Należy podać jednostkę redakcyjną z ustawy lub uchwały rady gminy."]
[{"$f":"$A$8","v":16.5},null,{"$f":"'DR-1'!M10&\".\"&'DR-1'!Q24&Wersja","v":"2023..1.15.0.44867"},null,null,null,null,null,null,null,null,null,null,"ZDR-1(1)","1/2"]
[{"$f":"$A$2","v":9}]
[{"$f":"$A$2","v":9},"WYPEŁNIĆ DUŻYMI, DRUKOWANYMI LITERAMI, CZARNYM LUB NIEBIESKIM KOLOREM."]
[4.5]
[{"$f":"$A$8*1.5","v":24.75},"Lp.","Położenie (adres, w tym dzielnica)",null,null,"Nr księgi wieczystej\n(zbioru dokumentów)","Nr obrębu\n(arkusza mapy)2)","Nr działki","Powierzchnia \nw ha3)",null,"Rodzaj\nużytku","Klasa\nużytku","Forma\nwładania 4)","Podstawa prawna ulgi 5)"]
[{"$f":"$A$2","v":9},null,"a",null,null,"b","c","d","e",null,"f","g","h","i"]
[{"$f":"$A$6","v":19.5},9]
[19.5,{"$f":"B179+1","v":10}]
[19.5,{"$f":"B180+1","v":11}]
[19.5,12]
[19.5,13]
[19.5,14]
[19.5,15]
[19.5,16]
[19.5,17]
[19.5,18]
[19.5,19]
[19.5,20]
[19.5,21]
[19.5,22]
[19.5,23]
[19.5,24]
[19.5,25]
[19.5,26]
[19.5,27]
[19.5,28]
[{"$f":"$A$2","v":9}]
[{"$f":"$A$2","v":9}]
[9]
[9]
[9]
[{"$f":"$A$8","v":16.5},null,"ZDR-1(1)","2/2",null,null,null,null,null,null,null,null,{"$f":"'DR-1'!M10&\".\"&'DR-1'!Q24&Wersja","v":"2023..1.15.0.44867"}]
[9]
[{"$f":"$A$2","v":9},"Załącznik nr 6"]
[{"$f":"$A$2","v":9},"WYPEŁNIĆ DUŻYMI, DRUKOWANYMI LITERAMI, CZARNYM LUB NIEBIESKIM KOLOREM."]
[{"$f":"$A$4","v":4.5}]
[{"$f":"$A$2","v":9},"1. Identyfikator podatkowy NIP/numer PESEL (niepotrzebne skreślić)1)\n└────┴────┴────┴────┴────┴────┴────┴────┴────┴────┴────┘",null,null,null,null,null,null,"2.  Nr dokumentu"]
[{"$f":"$A$6","v":19.5},null,{"$f":"$C$6","v":0}]
[{"$f":"$A$2","v":9}]
[{"$f":"$A$8","v":16.5},"ZDR-1"]
[{"$f":"$A$8","v":16.5},"ZAŁĄCZNIK DO DEKLARACJI NA PODATEK ROLNY"]
[{"$f":"$A$8","v":16.5},"- DANE O PRZEDMIOTACH OPODATKOWANIA PODLEGAJĄCYCH OPODATKOWANIU"]
[{"$f":"$A$2","v":9},null,null,null,null,null,null,null,null,null,null,null,null,"3. Nr załącznika"]
[{"$f":"$A$6","v":19.5},null,null,null,null,null,null,null,null,null,null,null,null,{"$f":"N148+1","v":4},null,null,{"$f":"IF(COUNTA(C226:J233,C247:J266,L247:O266,L226:O233)=0,0,1)","v":0}]
[{"$f":"$A$4","v":4.5}]
[{"$f":"$A$4","v":4.5}]
[{"$f":"$A$8*1.5","v":24.75},"A.  DANE PODATNIKA WSKAZANEGO W CZĘŚCI C.1 DEKLARACJI DR-1\n* - dotyczy podatnika niebędącego osobą fizyczną               ** - dotyczy podatnika będącego osobą fizyczną"]
[{"$f":"$A$2","v":9},null,"4. Nazwa pełna * / Nazwisko **",null,null,null,null,null,"5. Nazwa skrócona * / Pierwsze imię **"]
[{"$f":"$A$6","v":19.5},null,{"$f":"\"\"&$C$17","v":""},null,null,null,null,null,{"$f":"\"\"&I153","v":""}]
[{"$f":"$A$4","v":4.5}]
[{"$f":"$A$8","v":16.5},"B.  DANE O POSZCZEGÓLNYCH PRZEDMIOTACH OPODATKOWANIA PODLEGAJĄCYCH OPODATKOWANIU"]
[{"$f":"$A$8*1.5","v":24.75},"Lp.","Położenie (adres, w tym dzielnica)",null,null,"Nr księgi wieczystej\n(zbioru dokumentów)","Nr obrębu\n(arkusza mapy)2)","Nr działki","Powierzchnia \nw ha3)",null,"Rodzaj\nużytku","Klasa\nużytku","Forma\nwładania 4)","Podstawa prawna ulgi 5)"]
[{"$f":"$A$2","v":9},null,"a",null,null,"b","c","d","e",null,"f","g","h","i"]
[{"$f":"$A$6","v":19.5},1]
[19.5,2]
[19.5,3]
[19.5,4]
[19.5,5]
[19.5,6]
[19.5,7]
[19.5,8]
[{"$f":"$A$2","v":9}]
[{"$f":"$A$2","v":9}]
[{"$f":"$A$2*2","v":18},"1)","Numer PESEL wpisują podatnicy będący osobami fizycznymi objętymi rejestrem PESEL, nieprowadzący działalności gospodarczej lub niebędący zarejestrowanymi podatnikami podatku od towarów i usług.\nIdentyfikator podatkowy NIP wpisują pozostali podatnicy."]
[{"$f":"$A$2","v":9},"2)","Numer obrębu należy podać wraz z numerem arkusza mapy ewidencyjnej w przypadku, gdy działki numerowane są w ramach arkusza mapy."]
[{"$f":"$A$2","v":9},"3)","Należy podać z dokładnością do czterech miejsc po przecinku."]
[{"$f":"$A$2","v":9},"4)","Należy podać jedną z form władania: własność, użytkowanie wieczyste, posiadanie samoistne, posiadanie zależne lub posiadanie bez tytułu prawnego."]
[{"$f":"$A$2","v":9},"5)","Należy podać jednostkę redakcyjną z ustawy lub uchwały rady gminy."]
[{"$f":"$A$8","v":16.5},null,{"$f":"'DR-1'!M10&\".\"&'DR-1'!Q24&Wersja","v":"2023..1.15.0.44867"},null,null,null,null,null,null,null,null,null,null,"ZDR-1(1)","1/2"]
[{"$f":"$A$2","v":9}]
[{"$f":"$A$2","v":9},"WYPEŁNIĆ DUŻYMI, DRUKOWANYMI LITERAMI, CZARNYM LUB NIEBIESKIM KOLOREM."]
[4.5]
[{"$f":"$A$8*1.5","v":24.75},"Lp.","Położenie (adres, w tym dzielnica)",null,null,"Nr księgi wieczystej\n(zbioru dokumentów)","Nr obrębu\n(arkusza mapy)2)","Nr działki","Powierzchnia \nw ha3)",null,"Rodzaj\nużytku","Klasa\nużytku","Forma\nwładania 4)","Podstawa prawna ulgi 5)"]
[{"$f":"$A$2","v":9},null,"a",null,null,"b","c","d","e",null,"f","g","h","i"]
[{"$f":"$A$6","v":19.5},9]
[19.5,{"$f":"B247+1","v":10}]
[19.5,{"$f":"B248+1","v":11}]
[19.5,12]
[19.5,13]
[19.5,14]
[19.5,15]
[19.5,16]
[19.5,17]
[19.5,18]
[19.5,19]
[19.5,20]
[19.5,21]
[19.5,22]
[19.5,23]
[19.5,24]
[19.5,25]
[19.5,26]
[19.5,27]
[19.5,28]
[{"$f":"$A$2","v":9}]
[{"$f":"$A$2","v":9}]
[9]
[9]
[9]
[{"$f":"$A$8","v":16.5},null,"ZDR-1(1)","2/2",null,null,null,null,null,null,null,null,{"$f":"'DR-1'!M10&\".\"&'DR-1'!Q24&Wersja","v":"2023..1.15.0.44867"}]
[9]
[{"$f":"$A$2","v":9},"Załącznik nr 6"]
[{"$f":"$A$2","v":9},"WYPEŁNIĆ DUŻYMI, DRUKOWANYMI LITERAMI, CZARNYM LUB NIEBIESKIM KOLOREM."]
[{"$f":"$A$4","v":4.5}]
[{"$f":"$A$2","v":9},"1. Identyfikator podatkowy NIP/numer PESEL (niepotrzebne skreślić)1)\n└────┴────┴────┴────┴────┴────┴────┴────┴────┴────┴────┘",null,null,null,null,null,null,"2.  Nr dokumentu"]
[{"$f":"$A$6","v":19.5},null,{"$f":"$C$6","v":0}]
[{"$f":"$A$2","v":9}]
[{"$f":"$A$8","v":16.5},"ZDR-1"]
[{"$f":"$A$8","v":16.5},"ZAŁĄCZNIK DO DEKLARACJI NA PODATEK ROLNY"]
[{"$f":"$A$8","v":16.5},"- DANE O PRZEDMIOTACH OPODATKOWANIA PODLEGAJĄCYCH OPODATKOWANIU"]
[{"$f":"$A$2","v":9},null,null,null,null,null,null,null,null,null,null,null,null,"3. Nr załącznika"]
[{"$f":"$A$6","v":19.5},null,null,null,null,null,null,null,null,null,null,null,null,{"$f":"N216+1","v":5},null,null,{"$f":"IF(COUNTA(C294:J301,C315:J334,L315:O334,L294:O301)=0,0,1)","v":0}]
[{"$f":"$A$4","v":4.5}]
[{"$f":"$A$4","v":4.5}]
[{"$f":"$A$8*1.5","v":24.75},"A.  DANE PODATNIKA WSKAZANEGO W CZĘŚCI C.1 DEKLARACJI DR-1\n* - dotyczy podatnika niebędącego osobą fizyczną               ** - dotyczy podatnika będącego osobą fizyczną"]
[{"$f":"$A$2","v":9},null,"4. Nazwa pełna * / Nazwisko **",null,null,null,null,null,"5. Nazwa skrócona * / Pierwsze imię **"]
[{"$f":"$A$6","v":19.5},null,{"$f":"\"\"&$C$17","v":""},null,null,null,null,null,{"$f":"\"\"&I221","v":""}]
[{"$f":"$A$4","v":4.5}]
[{"$f":"$A$8","v":16.5},"B.  DANE O POSZCZEGÓLNYCH PRZEDMIOTACH OPODATKOWANIA PODLEGAJĄCYCH OPODATKOWANIU"]
[{"$f":"$A$8*1.5","v":24.75},"Lp.","Położenie (adres, w tym dzielnica)",null,null,"Nr księgi wieczystej\n(zbioru dokumentów)","Nr obrębu\n(arkusza mapy)2)","Nr działki","Powierzchnia \nw ha3)",null,"Rodzaj\nużytku","Klasa\nużytku","Forma\nwładania 4)","Podstawa prawna ulgi 5)"]
[{"$f":"$A$2","v":9},null,"a",null,null,"b","c","d","e",null,"f","g","h","i"]
[{"$f":"$A$6","v":19.5},1]
[19.5,2]
[19.5,3]
[19.5,4]
[19.5,5]
[19.5,6]
[19.5,7]
[19.5,8]
[{"$f":"$A$2","v":9}]
[{"$f":"$A$2","v":9}]
[{"$f":"$A$2*2","v":18},"1)","Numer PESEL wpisują podatnicy będący osobami fizycznymi objętymi rejestrem PESEL, nieprowadzący działalności gospodarczej lub niebędący zarejestrowanymi podatnikami podatku od towarów i usług.\nIdentyfikator podatkowy NIP wpisują pozostali podatnicy."]
[{"$f":"$A$2","v":9},"2)","Numer obrębu należy podać wraz z numerem arkusza mapy ewidencyjnej w przypadku, gdy działki numerowane są w ramach arkusza mapy."]
[{"$f":"$A$2","v":9},"3)","Należy podać z dokładnością do czterech miejsc po przecinku."]
[{"$f":"$A$2","v":9},"4)","Należy podać jedną z form władania: własność, użytkowanie wieczyste, posiadanie samoistne, posiadanie zależne lub posiadanie bez tytułu prawnego."]
[{"$f":"$A$2","v":9},"5)","Należy podać jednostkę redakcyjną z ustawy lub uchwały rady gminy."]
[{"$f":"$A$8","v":16.5},null,{"$f":"'DR-1'!M10&\".\"&'DR-1'!Q24&Wersja","v":"2023..1.15.0.44867"},null,null,null,null,null,null,null,null,null,null,"ZDR-1(1)","1/2"]
[{"$f":"$A$2","v":9}]
[{"$f":"$A$2","v":9},"WYPEŁNIĆ DUŻYMI, DRUKOWANYMI LITERAMI, CZARNYM LUB NIEBIESKIM KOLOREM."]
[4.5]
[{"$f":"$A$8*1.5","v":24.75},"Lp.","Położenie (adres, w tym dzielnica)",null,null,"Nr księgi wieczystej\n(zbioru dokumentów)","Nr obrębu\n(arkusza mapy)2)","Nr działki","Powierzchnia \nw ha3)",null,"Rodzaj\nużytku","Klasa\nużytku","Forma\nwładania 4)","Podstawa prawna ulgi 5)"]
[{"$f":"$A$2","v":9},null,"a",null,null,"b","c","d","e",null,"f","g","h","i"]
[{"$f":"$A$6","v":19.5},9]
[19.5,{"$f":"B315+1","v":10}]
[19.5,{"$f":"B316+1","v":11}]
[19.5,12]
[19.5,13]
[19.5,14]
[19.5,15]
[19.5,16]
[19.5,17]
[19.5,18]
[19.5,19]
[19.5,20]
[19.5,21]
[19.5,22]
[19.5,23]
[19.5,24]
[19.5,25]
[19.5,26]
[19.5,27]
[19.5,28]
[{"$f":"$A$2","v":9}]
[{"$f":"$A$2","v":9}]
[9]
[9]
[9]
[{"$f":"$A$8","v":16.5},null,"ZDR-1(1)","2/2",null,null,null,null,null,null,null,null,{"$f":"'DR-1'!M10&\".\"&'DR-1'!Q24&Wersja","v":"2023..1.15.0.44867"}]
[9]
[{"$f":"$A$2","v":9},"Załącznik nr 6"]
[{"$f":"$A$2","v":9},"WYPEŁNIĆ DUŻYMI, DRUKOWANYMI LITERAMI, CZARNYM LUB NIEBIESKIM KOLOREM."]
[{"$f":"$A$4","v":4.5}]
[{"$f":"$A$2","v":9},"1. Identyfikator podatkowy NIP/numer PESEL (niepotrzebne skreślić)1)\n└────┴────┴────┴────┴────┴────┴────┴────┴────┴────┴────┘",null,null,null,null,null,null,"2.  Nr dokumentu"]
[{"$f":"$A$6","v":19.5},null,{"$f":"$C$6","v":0}]
[{"$f":"$A$2","v":9}]
[{"$f":"$A$8","v":16.5},"ZDR-1"]
[{"$f":"$A$8","v":16.5},"ZAŁĄCZNIK DO DEKLARACJI NA PODATEK ROLNY"]
[{"$f":"$A$8","v":16.5},"- DANE O PRZEDMIOTACH OPODATKOWANIA PODLEGAJĄCYCH OPODATKOWANIU"]
[{"$f":"$A$2","v":9},null,null,null,null,null,null,null,null,null,null,null,null,"3. Nr załącznika"]
[{"$f":"$A$6","v":19.5},null,null,null,null,null,null,null,null,null,null,null,null,{"$f":"N284+1","v":6},null,null,{"$f":"IF(COUNTA(C362:J369,C383:J402,L383:O402,L362:O369)=0,0,1)","v":0}]
[{"$f":"$A$4","v":4.5}]
[{"$f":"$A$4","v":4.5}]
[{"$f":"$A$8*1.5","v":24.75},"A.  DANE PODATNIKA WSKAZANEGO W CZĘŚCI C.1 DEKLARACJI DR-1\n* - dotyczy podatnika niebędącego osobą fizyczną               ** - dotyczy podatnika będącego osobą fizyczną"]
[{"$f":"$A$2","v":9},null,"4. Nazwa pełna * / Nazwisko **",null,null,null,null,null,"5. Nazwa skrócona * / Pierwsze imię **"]
[{"$f":"$A$6","v":19.5},null,{"$f":"\"\"&$C$17","v":""},null,null,null,null,null,{"$f":"\"\"&I289","v":""}]
[{"$f":"$A$4","v":4.5}]
[{"$f":"$A$8","v":16.5},"B.  DANE O POSZCZEGÓLNYCH PRZEDMIOTACH OPODATKOWANIA PODLEGAJĄCYCH OPODATKOWANIU"]
[{"$f":"$A$8*1.5","v":24.75},"Lp.","Położenie (adres, w tym dzielnica)",null,null,"Nr księgi wieczystej\n(zbioru dokumentów)","Nr obrębu\n(arkusza mapy)2)","Nr działki","Powierzchnia \nw ha3)",null,"Rodzaj\nużytku","Klasa\nużytku","Forma\nwładania 4)","Podstawa prawna ulgi 5)"]
[{"$f":"$A$2","v":9},null,"a",null,null,"b","c","d","e",null,"f","g","h","i"]
[{"$f":"$A$6","v":19.5},1]
[19.5,2]
[19.5,3]
[19.5,4]
[19.5,5]
[19.5,6]
[19.5,7]
[19.5,8]
[{"$f":"$A$2","v":9}]
[{"$f":"$A$2","v":9}]
[{"$f":"$A$2*2","v":18},"1)","Numer PESEL wpisują podatnicy będący osobami fizycznymi objętymi rejestrem PESEL, nieprowadzący działalności gospodarczej lub niebędący zarejestrowanymi podatnikami podatku od towarów i usług.\nIdentyfikator podatkowy NIP wpisują pozostali podatnicy."]
[{"$f":"$A$2","v":9},"2)","Numer obrębu należy podać wraz z numerem arkusza mapy ewidencyjnej w przypadku, gdy działki numerowane są w ramach arkusza mapy."]
[{"$f":"$A$2","v":9},"3)","Należy podać z dokładnością do czterech miejsc po przecinku."]
[{"$f":"$A$2","v":9},"4)","Należy podać jedną z form władania: własność, użytkowanie wieczyste, posiadanie samoistne, posiadanie zależne lub posiadanie bez tytułu prawnego."]
[{"$f":"$A$2","v":9},"5)","Należy podać jednostkę redakcyjną z ustawy lub uchwały rady gminy."]
[{"$f":"$A$8","v":16.5},null,{"$f":"'DR-1'!M10&\".\"&'DR-1'!Q24&Wersja","v":"2023..1.15.0.44867"},null,null,null,null,null,null,null,null,null,null,"ZDR-1(1)","1/2"]
[{"$f":"$A$2","v":9}]
[{"$f":"$A$2","v":9},"WYPEŁNIĆ DUŻYMI, DRUKOWANYMI LITERAMI, CZARNYM LUB NIEBIESKIM KOLOREM."]
[4.5]
[{"$f":"$A$8*1.5","v":24.75},"Lp.","Położenie (adres, w tym dzielnica)",null,null,"Nr księgi wieczystej\n(zbioru dokumentów)","Nr obrębu\n(arkusza mapy)2)","Nr działki","Powierzchnia \nw ha3)",null,"Rodzaj\nużytku","Klasa\nużytku","Forma\nwładania 4)","Podstawa prawna ulgi 5)"]
[{"$f":"$A$2","v":9},null,"a",null,null,"b","c","d","e",null,"f","g","h","i"]
[{"$f":"$A$6","v":19.5},9]
[19.5,{"$f":"B383+1","v":10}]
[19.5,{"$f":"B384+1","v":11}]
[19.5,12]
[19.5,13]
[19.5,14]
[19.5,15]
[19.5,16]
[19.5,17]
[19.5,18]
[19.5,19]
[19.5,20]
[19.5,21]
[19.5,22]
[19.5,23]
[19.5,24]
[19.5,25]
[19.5,26]
[19.5,27]
[19.5,28]
[{"$f":"$A$2","v":9}]
[{"$f":"$A$2","v":9}]
[9]
[9]
[9]
[{"$f":"$A$8","v":16.5},null,"ZDR-1(1)","2/2",null,null,null,null,null,null,null,null,{"$f":"'DR-1'!M10&\".\"&'DR-1'!Q24&Wersja","v":"2023..1.15.0.44867"}]
[9]
[{"$f":"$A$2","v":9},"Załącznik nr 6"]
[{"$f":"$A$2","v":9},"WYPEŁNIĆ DUŻYMI, DRUKOWANYMI LITERAMI, CZARNYM LUB NIEBIESKIM KOLOREM."]
[{"$f":"$A$4","v":4.5}]
[{"$f":"$A$2","v":9},"1. Identyfikator podatkowy NIP/numer PESEL (niepotrzebne skreślić)1)\n└────┴────┴────┴────┴────┴────┴────┴────┴────┴────┴────┘",null,null,null,null,null,null,"2.  Nr dokumentu"]
[{"$f":"$A$6","v":19.5},null,{"$f":"$C$6","v":0}]
[{"$f":"$A$2","v":9}]
[{"$f":"$A$8","v":16.5},"ZDR-1"]
[{"$f":"$A$8","v":16.5},"ZAŁĄCZNIK DO DEKLARACJI NA PODATEK ROLNY"]
[{"$f":"$A$8","v":16.5},"- DANE O PRZEDMIOTACH OPODATKOWANIA PODLEGAJĄCYCH OPODATKOWANIU"]
[{"$f":"$A$2","v":9},null,null,null,null,null,null,null,null,null,null,null,null,"3. Nr załącznika"]
[{"$f":"$A$6","v":19.5},null,null,null,null,null,null,null,null,null,null,null,null,{"$f":"N352+1","v":7},null,null,{"$f":"IF(COUNTA(C430:J437,C451:J470,L451:O470,L430:O437)=0,0,1)","v":0}]
[{"$f":"$A$4","v":4.5}]
[{"$f":"$A$4","v":4.5}]
[{"$f":"$A$8*1.5","v":24.75},"A.  DANE PODATNIKA WSKAZANEGO W CZĘŚCI C.1 DEKLARACJI DR-1\n* - dotyczy podatnika niebędącego osobą fizyczną               ** - dotyczy podatnika będącego osobą fizyczną"]
[{"$f":"$A$2","v":9},null,"4. Nazwa pełna * / Nazwisko **",null,null,null,null,null,"5. Nazwa skrócona * / Pierwsze imię **"]
[{"$f":"$A$6","v":19.5},null,{"$f":"\"\"&$C$17","v":""},null,null,null,null,null,{"$f":"\"\"&I357","v":""}]
[{"$f":"$A$4","v":4.5}]
[{"$f":"$A$8","v":16.5},"B.  DANE O POSZCZEGÓLNYCH PRZEDMIOTACH OPODATKOWANIA PODLEGAJĄCYCH OPODATKOWANIU"]
[{"$f":"$A$8*1.5","v":24.75},"Lp.","Położenie (adres, w tym dzielnica)",null,null,"Nr księgi wieczystej\n(zbioru dokumentów)","Nr obrębu\n(arkusza mapy)2)","Nr działki","Powierzchnia \nw ha3)",null,"Rodzaj\nużytku","Klasa\nużytku","Forma\nwładania 4)","Podstawa prawna ulgi 5)"]
[{"$f":"$A$2","v":9},null,"a",null,null,"b","c","d","e",null,"f","g","h","i"]
[{"$f":"$A$6","v":19.5},1]
[19.5,2]
[19.5,3]
[19.5,4]
[19.5,5]
[19.5,6]
[19.5,7]
[19.5,8]
[{"$f":"$A$2","v":9}]
[{"$f":"$A$2","v":9}]
[{"$f":"$A$2*2","v":18},"1)","Numer PESEL wpisują podatnicy będący osobami fizycznymi objętymi rejestrem PESEL, nieprowadzący działalności gospodarczej lub niebędący zarejestrowanymi podatnikami podatku od towarów i usług.\nIdentyfikator podatkowy NIP wpisują pozostali podatnicy."]
[{"$f":"$A$2","v":9},"2)","Numer obrębu należy podać wraz z numerem arkusza mapy ewidencyjnej w przypadku, gdy działki numerowane są w ramach arkusza mapy."]
[{"$f":"$A$2","v":9},"3)","Należy podać z dokładnością do czterech miejsc po przecinku."]
[{"$f":"$A$2","v":9},"4)","Należy podać jedną z form władania: własność, użytkowanie wieczyste, posiadanie samoistne, posiadanie zależne lub posiadanie bez tytułu prawnego."]
[{"$f":"$A$2","v":9},"5)","Należy podać jednostkę redakcyjną z ustawy lub uchwały rady gminy."]
[{"$f":"$A$8","v":16.5},null,{"$f":"'DR-1'!M10&\".\"&'DR-1'!Q24&Wersja","v":"2023..1.15.0.44867"},null,null,null,null,null,null,null,null,null,null,"ZDR-1(1)","1/2"]
[{"$f":"$A$2","v":9}]
[{"$f":"$A$2","v":9},"WYPEŁNIĆ DUŻYMI, DRUKOWANYMI LITERAMI, CZARNYM LUB NIEBIESKIM KOLOREM."]
[4.5]
[{"$f":"$A$8*1.5","v":24.75},"Lp.","Położenie (adres, w tym dzielnica)",null,null,"Nr księgi wieczystej\n(zbioru dokumentów)","Nr obrębu\n(arkusza mapy)2)","Nr działki","Powierzchnia \nw ha3)",null,"Rodzaj\nużytku","Klasa\nużytku","Forma\nwładania 4)","Podstawa prawna ulgi 5)"]
[{"$f":"$A$2","v":9},null,"a",null,null,"b","c","d","e",null,"f","g","h","i"]
[{"$f":"$A$6","v":19.5},9]
[19.5,{"$f":"B451+1","v":10}]
[19.5,{"$f":"B452+1","v":11}]
[19.5,12]
[19.5,13]
[19.5,14]
[19.5,15]
[19.5,16]
[19.5,17]
[19.5,18]
[19.5,19]
[19.5,20]
[19.5,21]
[19.5,22]
[19.5,23]
[19.5,24]
[19.5,25]
[19.5,26]
[19.5,27]
[19.5,28]
[{"$f":"$A$2","v":9}]
[{"$f":"$A$2","v":9}]
[9]
[9]
[9]
[{"$f":"$A$8","v":16.5},null,"ZDR-1(1)","2/2",null,null,null,null,null,null,null,null,{"$f":"'DR-1'!M10&\".\"&'DR-1'!Q24&Wersja","v":"2023..1.15.0.44867"}]
[9]
[{"$f":"$A$2","v":9},"Załącznik nr 6"]
[{"$f":"$A$2","v":9},"WYPEŁNIĆ DUŻYMI, DRUKOWANYMI LITERAMI, CZARNYM LUB NIEBIESKIM KOLOREM."]
[{"$f":"$A$4","v":4.5}]
[{"$f":"$A$2","v":9},"1. Identyfikator podatkowy NIP/numer PESEL (niepotrzebne skreślić)1)\n└────┴────┴────┴────┴────┴────┴────┴────┴────┴────┴────┘",null,null,null,null,null,null,"2.  Nr dokumentu"]
[{"$f":"$A$6","v":19.5},null,{"$f":"$C$6","v":0}]
[{"$f":"$A$2","v":9}]
[{"$f":"$A$8","v":16.5},"ZDR-1"]
[{"$f":"$A$8","v":16.5},"ZAŁĄCZNIK DO DEKLARACJI NA PODATEK ROLNY"]
[{"$f":"$A$8","v":16.5},"- DANE O PRZEDMIOTACH OPODATKOWANIA PODLEGAJĄCYCH OPODATKOWANIU"]
[{"$f":"$A$2","v":9},null,null,null,null,null,null,null,null,null,null,null,null,"3. Nr załącznika"]
[{"$f":"$A$6","v":19.5},null,null,null,null,null,null,null,null,null,null,null,null,{"$f":"N420+1","v":8},null,null,{"$f":"IF(COUNTA(C498:J505,C519:J538,L519:O538,L498:O505)=0,0,1)","v":0}]
[{"$f":"$A$4","v":4.5}]
[{"$f":"$A$4","v":4.5}]
[{"$f":"$A$8*1.5","v":24.75},"A.  DANE PODATNIKA WSKAZANEGO W CZĘŚCI C.1 DEKLARACJI DR-1\n* - dotyczy podatnika niebędącego osobą fizyczną               ** - dotyczy podatnika będącego osobą fizyczną"]
[{"$f":"$A$2","v":9},null,"4. Nazwa pełna * / Nazwisko **",null,null,null,null,null,"5. Nazwa skrócona * / Pierwsze imię **"]
[{"$f":"$A$6","v":19.5},null,{"$f":"\"\"&$C$17","v":""},null,null,null,null,null,{"$f":"\"\"&I425","v":""}]
[{"$f":"$A$4","v":4.5}]
[{"$f":"$A$8","v":16.5},"B.  DANE O POSZCZEGÓLNYCH PRZEDMIOTACH OPODATKOWANIA PODLEGAJĄCYCH OPODATKOWANIU"]
[{"$f":"$A$8*1.5","v":24.75},"Lp.","Położenie (adres, w tym dzielnica)",null,null,"Nr księgi wieczystej\n(zbioru dokumentów)","Nr obrębu\n(arkusza mapy)2)","Nr działki","Powierzchnia \nw ha3)",null,"Rodzaj\nużytku","Klasa\nużytku","Forma\nwładania 4)","Podstawa prawna ulgi 5)"]
[{"$f":"$A$2","v":9},null,"a",null,null,"b","c","d","e",null,"f","g","h","i"]
[{"$f":"$A$6","v":19.5},1]
[19.5,2]
[19.5,3]
[19.5,4]
[19.5,5]
[19.5,6]
[19.5,7]
[19.5,8]
[{"$f":"$A$2","v":9}]
[{"$f":"$A$2","v":9}]
[{"$f":"$A$2*2","v":18},"1)","Numer PESEL wpisują podatnicy będący osobami fizycznymi objętymi rejestrem PESEL, nieprowadzący działalności gospodarczej lub niebędący zarejestrowanymi podatnikami podatku od towarów i usług.\nIdentyfikator podatkowy NIP wpisują pozostali podatnicy."]
[{"$f":"$A$2","v":9},"2)","Numer obrębu należy podać wraz z numerem arkusza mapy ewidencyjnej w przypadku, gdy działki numerowane są w ramach arkusza mapy."]
[{"$f":"$A$2","v":9},"3)","Należy podać z dokładnością do czterech miejsc po przecinku."]
[{"$f":"$A$2","v":9},"4)","Należy podać jedną z form władania: własność, użytkowanie wieczyste, posiadanie samoistne, posiadanie zależne lub posiadanie bez tytułu prawnego."]
[{"$f":"$A$2","v":9},"5)","Należy podać jednostkę redakcyjną z ustawy lub uchwały rady gminy."]
[{"$f":"$A$8","v":16.5},null,{"$f":"'DR-1'!M10&\".\"&'DR-1'!Q24&Wersja","v":"2023..1.15.0.44867"},null,null,null,null,null,null,null,null,null,null,"ZDR-1(1)","1/2"]
[{"$f":"$A$2","v":9}]
[{"$f":"$A$2","v":9},"WYPEŁNIĆ DUŻYMI, DRUKOWANYMI LITERAMI, CZARNYM LUB NIEBIESKIM KOLOREM."]
[4.5]
[{"$f":"$A$8*1.5","v":24.75},"Lp.","Położenie (adres, w tym dzielnica)",null,null,"Nr księgi wieczystej\n(zbioru dokumentów)","Nr obrębu\n(arkusza mapy)2)","Nr działki","Powierzchnia \nw ha3)",null,"Rodzaj\nużytku","Klasa\nużytku","Forma\nwładania 4)","Podstawa prawna ulgi 5)"]
[{"$f":"$A$2","v":9},null,"a",null,null,"b","c","d","e",null,"f","g","h","i"]
[{"$f":"$A$6","v":19.5},9]
[19.5,{"$f":"B519+1","v":10}]
[19.5,{"$f":"B520+1","v":11}]
[19.5,12]
[19.5,13]
[19.5,14]
[19.5,15]
[19.5,16]
[19.5,17]
[19.5,18]
[19.5,19]
[19.5,20]
[19.5,21]
[19.5,22]
[19.5,23]
[19.5,24]
[19.5,25]
[19.5,26]
[19.5,27]
[19.5,28]
[{"$f":"$A$2","v":9}]
[{"$f":"$A$2","v":9}]
[9]
[9]
[9]
[{"$f":"$A$8","v":16.5},null,"ZDR-1(1)","2/2",null,null,null,null,null,null,null,null,{"$f":"'DR-1'!M10&\".\"&'DR-1'!Q24&Wersja","v":"2023..1.15.0.44867"}]
[9]
[{"$f":"$A$2","v":9},"Załącznik nr 6"]
[{"$f":"$A$2","v":9},"WYPEŁNIĆ DUŻYMI, DRUKOWANYMI LITERAMI, CZARNYM LUB NIEBIESKIM KOLOREM."]
[{"$f":"$A$4","v":4.5}]
[{"$f":"$A$2","v":9},"1. Identyfikator podatkowy NIP/numer PESEL (niepotrzebne skreślić)1)\n└────┴────┴────┴────┴────┴────┴────┴────┴────┴────┴────┘",null,null,null,null,null,null,"2.  Nr dokumentu"]
[{"$f":"$A$6","v":19.5},null,{"$f":"$C$6","v":0}]
[{"$f":"$A$2","v":9}]
[{"$f":"$A$8","v":16.5},"ZDR-1"]
[{"$f":"$A$8","v":16.5},"ZAŁĄCZNIK DO DEKLARACJI NA PODATEK ROLNY"]
[{"$f":"$A$8","v":16.5},"- DANE O PRZEDMIOTACH OPODATKOWANIA PODLEGAJĄCYCH OPODATKOWANIU"]
[{"$f":"$A$2","v":9},null,null,null,null,null,null,null,null,null,null,null,null,"3. Nr załącznika"]
[{"$f":"$A$6","v":19.5},null,null,null,null,null,null,null,null,null,null,null,null,{"$f":"N488+1","v":9},null,null,{"$f":"IF(COUNTA(C566:J573,C587:J606,L587:O606,L566:O573)=0,0,1)","v":0}]
[{"$f":"$A$4","v":4.5}]
[{"$f":"$A$4","v":4.5}]
[{"$f":"$A$8*1.5","v":24.75},"A.  DANE PODATNIKA WSKAZANEGO W CZĘŚCI C.1 DEKLARACJI DR-1\n* - dotyczy podatnika niebędącego osobą fizyczną               ** - dotyczy podatnika będącego osobą fizyczną"]
[{"$f":"$A$2","v":9},null,"4. Nazwa pełna * / Nazwisko **",null,null,null,null,null,"5. Nazwa skrócona * / Pierwsze imię **"]
[{"$f":"$A$6","v":19.5},null,{"$f":"\"\"&$C$17","v":""},null,null,null,null,null,{"$f":"\"\"&I493","v":""}]
[{"$f":"$A$4","v":4.5}]
[{"$f":"$A$8","v":16.5},"B.  DANE O POSZCZEGÓLNYCH PRZEDMIOTACH OPODATKOWANIA PODLEGAJĄCYCH OPODATKOWANIU"]
[{"$f":"$A$8*1.5","v":24.75},"Lp.","Położenie (adres, w tym dzielnica)",null,null,"Nr księgi wieczystej\n(zbioru dokumentów)","Nr obrębu\n(arkusza mapy)2)","Nr działki","Powierzchnia \nw ha3)",null,"Rodzaj\nużytku","Klasa\nużytku","Forma\nwładania 4)","Podstawa prawna ulgi 5)"]
[{"$f":"$A$2","v":9},null,"a",null,null,"b","c","d","e",null,"f","g","h","i"]
[{"$f":"$A$6","v":19.5},1]
[19.5,2]
[19.5,3]
[19.5,4]
[19.5,5]
[19.5,6]
[19.5,7]
[19.5,8]
[{"$f":"$A$2","v":9}]
[{"$f":"$A$2","v":9}]
[{"$f":"$A$2*2","v":18},"1)","Numer PESEL wpisują podatnicy będący osobami fizycznymi objętymi rejestrem PESEL, nieprowadzący działalności gospodarczej lub niebędący zarejestrowanymi podatnikami podatku od towarów i usług.\nIdentyfikator podatkowy NIP wpisują pozostali podatnicy."]
[{"$f":"$A$2","v":9},"2)","Numer obrębu należy podać wraz z numerem arkusza mapy ewidencyjnej w przypadku, gdy działki numerowane są w ramach arkusza mapy."]
[{"$f":"$A$2","v":9},"3)","Należy podać z dokładnością do czterech miejsc po przecinku."]
[{"$f":"$A$2","v":9},"4)","Należy podać jedną z form władania: własność, użytkowanie wieczyste, posiadanie samoistne, posiadanie zależne lub posiadanie bez tytułu prawnego."]
[{"$f":"$A$2","v":9},"5)","Należy podać jednostkę redakcyjną z ustawy lub uchwały rady gminy."]
[{"$f":"$A$8","v":16.5},null,{"$f":"'DR-1'!M10&\".\"&'DR-1'!Q24&Wersja","v":"2023..1.15.0.44867"},null,null,null,null,null,null,null,null,null,null,"ZDR-1(1)","1/2"]
[{"$f":"$A$2","v":9}]
[{"$f":"$A$2","v":9},"WYPEŁNIĆ DUŻYMI, DRUKOWANYMI LITERAMI, CZARNYM LUB NIEBIESKIM KOLOREM."]
[4.5]
[{"$f":"$A$8*1.5","v":24.75},"Lp.","Położenie (adres, w tym dzielnica)",null,null,"Nr księgi wieczystej\n(zbioru dokumentów)","Nr obrębu\n(arkusza mapy)2)","Nr działki","Powierzchnia \nw ha3)",null,"Rodzaj\nużytku","Klasa\nużytku","Forma\nwładania 4)","Podstawa prawna ulgi 5)"]
[{"$f":"$A$2","v":9},null,"a",null,null,"b","c","d","e",null,"f","g","h","i"]
[{"$f":"$A$6","v":19.5},9]
[19.5,{"$f":"B587+1","v":10}]
[19.5,{"$f":"B588+1","v":11}]
[19.5,12]
[19.5,13]
[19.5,14]
[19.5,15]
[19.5,16]
[19.5,17]
[19.5,18]
[19.5,19]
[19.5,20]
[19.5,21]
[19.5,22]
[19.5,23]
[19.5,24]
[19.5,25]
[19.5,26]
[19.5,27]
[19.5,28]
[{"$f":"$A$2","v":9}]
[{"$f":"$A$2","v":9}]
[9]
[9]
[9]
[{"$f":"$A$8","v":16.5},null,"ZDR-1(1)","2/2",null,null,null,null,null,null,null,null,{"$f":"'DR-1'!M10&\".\"&'DR-1'!Q24&Wersja","v":"2023..1.15.0.44867"}]
[9]
[{"$f":"$A$2","v":9},"Załącznik nr 6"]
[{"$f":"$A$2","v":9},"WYPEŁNIĆ DUŻYMI, DRUKOWANYMI LITERAMI, CZARNYM LUB NIEBIESKIM KOLOREM."]
[{"$f":"$A$4","v":4.5}]
[{"$f":"$A$2","v":9},"1. Identyfikator podatkowy NIP/numer PESEL (niepotrzebne skreślić)1)\n└────┴────┴────┴────┴────┴────┴────┴────┴────┴────┴────┘",null,null,null,null,null,null,"2.  Nr dokumentu"]
[{"$f":"$A$6","v":19.5},null,{"$f":"$C$6","v":0}]
[{"$f":"$A$2","v":9}]
[{"$f":"$A$8","v":16.5},"ZDR-1"]
[{"$f":"$A$8","v":16.5},"ZAŁĄCZNIK DO DEKLARACJI NA PODATEK ROLNY"]
[{"$f":"$A$8","v":16.5},"- DANE O PRZEDMIOTACH OPODATKOWANIA PODLEGAJĄCYCH OPODATKOWANIU"]
[{"$f":"$A$2","v":9},null,null,null,null,null,null,null,null,null,null,null,null,"3. Nr załącznika"]
[{"$f":"$A$6","v":19.5},null,null,null,null,null,null,null,null,null,null,null,null,{"$f":"N556+1","v":10},null,null,{"$f":"IF(COUNTA(C634:J641,C655:J674,L655:O674,L634:O641)=0,0,1)","v":0}]
[{"$f":"$A$4","v":4.5}]
[{"$f":"$A$4","v":4.5}]
[{"$f":"$A$8*1.5","v":24.75},"A.  DANE PODATNIKA WSKAZANEGO W CZĘŚCI C.1 DEKLARACJI DR-1\n* - dotyczy podatnika niebędącego osobą fizyczną               ** - dotyczy podatnika będącego osobą fizyczną"]
[{"$f":"$A$2","v":9},null,"4. Nazwa pełna * / Nazwisko **",null,null,null,null,null,"5. Nazwa skrócona * / Pierwsze imię **"]
[{"$f":"$A$6","v":19.5},null,{"$f":"\"\"&$C$17","v":""},null,null,null,null,null,{"$f":"\"\"&I561","v":""}]
[{"$f":"$A$4","v":4.5}]
[{"$f":"$A$8","v":16.5},"B.  DANE O POSZCZEGÓLNYCH PRZEDMIOTACH OPODATKOWANIA PODLEGAJĄCYCH OPODATKOWANIU"]
[{"$f":"$A$8*1.5","v":24.75},"Lp.","Położenie (adres, w tym dzielnica)",null,null,"Nr księgi wieczystej\n(zbioru dokumentów)","Nr obrębu\n(arkusza mapy)2)","Nr działki","Powierzchnia \nw ha3)",null,"Rodzaj\nużytku","Klasa\nużytku","Forma\nwładania 4)","Podstawa prawna ulgi 5)"]
[{"$f":"$A$2","v":9},null,"a",null,null,"b","c","d","e",null,"f","g","h","i"]
[{"$f":"$A$6","v":19.5},1]
[19.5,2]
[19.5,3]
[19.5,4]
[19.5,5]
[19.5,6]
[19.5,7]
[19.5,8]
[{"$f":"$A$2","v":9}]
[{"$f":"$A$2","v":9}]
[{"$f":"$A$2*2","v":18},"1)","Numer PESEL wpisują podatnicy będący osobami fizycznymi objętymi rejestrem PESEL, nieprowadzący działalności gospodarczej lub niebędący zarejestrowanymi podatnikami podatku od towarów i usług.\nIdentyfikator podatkowy NIP wpisują pozostali podatnicy."]
[{"$f":"$A$2","v":9},"2)","Numer obrębu należy podać wraz z numerem arkusza mapy ewidencyjnej w przypadku, gdy działki numerowane są w ramach arkusza mapy."]
[{"$f":"$A$2","v":9},"3)","Należy podać z dokładnością do czterech miejsc po przecinku."]
[{"$f":"$A$2","v":9},"4)","Należy podać jedną z form władania: własność, użytkowanie wieczyste, posiadanie samoistne, posiadanie zależne lub posiadanie bez tytułu prawnego."]
[{"$f":"$A$2","v":9},"5)","Należy podać jednostkę redakcyjną z ustawy lub uchwały rady gminy."]
[{"$f":"$A$8","v":16.5},null,{"$f":"'DR-1'!M10&\".\"&'DR-1'!Q24&Wersja","v":"2023..1.15.0.44867"},null,null,null,null,null,null,null,null,null,null,"ZDR-1(1)","1/2"]
[{"$f":"$A$2","v":9}]
[{"$f":"$A$2","v":9},"WYPEŁNIĆ DUŻYMI, DRUKOWANYMI LITERAMI, CZARNYM LUB NIEBIESKIM KOLOREM."]
[4.5]
[{"$f":"$A$8*1.5","v":24.75},"Lp.","Położenie (adres, w tym dzielnica)",null,null,"Nr księgi wieczystej\n(zbioru dokumentów)","Nr obrębu\n(arkusza mapy)2)","Nr działki","Powierzchnia \nw ha3)",null,"Rodzaj\nużytku","Klasa\nużytku","Forma\nwładania 4)","Podstawa prawna ulgi 5)"]
[{"$f":"$A$2","v":9},null,"a",null,null,"b","c","d","e",null,"f","g","h","i"]
[{"$f":"$A$6","v":19.5},9]
[19.5,{"$f":"B655+1","v":10}]
[19.5,{"$f":"B656+1","v":11}]
[19.5,12]
[19.5,13]
[19.5,14]
[19.5,15]
[19.5,16]
[19.5,17]
[19.5,18]
[19.5,19]
[19.5,20]
[19.5,21]
[19.5,22]
[19.5,23]
[19.5,24]
[19.5,25]
[19.5,26]
[19.5,27]
[19.5,28]
[{"$f":"$A$2","v":9}]
[{"$f":"$A$2","v":9}]
[9]
[9]
[9]
[{"$f":"$A$8","v":16.5},null,"ZDR-1(1)","2/2",null,null,null,null,null,null,null,null,{"$f":"'DR-1'!M10&\".\"&'DR-1'!Q24&Wersja","v":"2023..1.15.0.44867"}]
[9]
[9,"Załącznik nr 6"]
[9,"WYPEŁNIĆ DUŻYMI, DRUKOWANYMI LITERAMI, CZARNYM LUB NIEBIESKIM KOLOREM."]
[{"$f":"$A$4","v":4.5}]
[{"$f":"$A$2","v":9},"1. Identyfikator podatkowy NIP/numer PESEL (niepotrzebne skreślić)1)\n└────┴────┴────┴────┴────┴────┴────┴────┴────┴────┴────┘",null,null,null,null,null,null,"2.  Nr dokumentu"]
[{"$f":"$A$6","v":19.5},null,{"$f":"$C$6","v":0}]
[{"$f":"$A$2","v":9}]
[{"$f":"$A$8","v":16.5},"ZDR-1"]
[16.5,"ZAŁĄCZNIK DO DEKLARACJI NA PODATEK ROLNY"]
[16.5,"- DANE O PRZEDMIOTACH OPODATKOWANIA PODLEGAJĄCYCH OPODATKOWANIU"]
[{"$f":"$A$2","v":9},null,null,null,null,null,null,null,null,null,null,null,null,"3. Nr załącznika"]
[{"$f":"$A$6","v":19.5},null,null,null,null,null,null,null,null,null,null,null,null,{"$f":"N624+1","v":11},null,null,{"$f":"IF(COUNTA(C702:J709,C723:J742,L723:O742,L702:O709)=0,0,1)","v":0}]
[{"$f":"$A$4","v":4.5}]
[4.5]
[{"$f":"$A$8*1.5","v":24.75},"A.  DANE PODATNIKA WSKAZANEGO W CZĘŚCI C.1 DEKLARACJI DR-1\n* - dotyczy podatnika niebędącego osobą fizyczną               ** - dotyczy podatnika będącego osobą fizyczną"]
[{"$f":"$A$2","v":9},null,"4. Nazwa pełna * / Nazwisko **",null,null,null,null,null,"5. Nazwa skrócona * / Pierwsze imię **"]
[{"$f":"$A$6","v":19.5},null,{"$f":"\"\"&$C$17","v":""},null,null,null,null,null,{"$f":"\"\"&I629","v":""}]
[{"$f":"$A$4","v":4.5}]
[{"$f":"$A$8","v":16.5},"B.  DANE O POSZCZEGÓLNYCH PRZEDMIOTACH OPODATKOWANIA PODLEGAJĄCYCH OPODATKOWANIU"]
[{"$f":"$A$8*1.5","v":24.75},"Lp.","Położenie (adres, w tym dzielnica)",null,null,"Nr księgi wieczystej\n(zbioru dokumentów)","Nr obrębu\n(arkusza mapy)2)","Nr działki","Powierzchnia \nw ha3)",null,"Rodzaj\nużytku","Klasa\nużytku","Forma\nwładania 4)","Podstawa prawna ulgi 5)"]
[{"$f":"$A$2","v":9},null,"a",null,null,"b","c","d","e",null,"f","g","h","i"]
[{"$f":"$A$6","v":19.5},1]
[19.5,2]
[19.5,3]
[19.5,4]
[19.5,5]
[19.5,6]
[19.5,7]
[19.5,8]
[{"$f":"$A$2","v":9}]
[9]
[{"$f":"$A$2*2","v":18},"1)","Numer PESEL wpisują podatnicy będący osobami fizycznymi objętymi rejestrem PESEL, nieprowadzący działalności gospodarczej lub niebędący zarejestrowanymi podatnikami podatku od towarów i usług.\nIdentyfikator podatkowy NIP wpisują pozostali podatnicy."]
[{"$f":"$A$2","v":9},"2)","Numer obrębu należy podać wraz z numerem arkusza mapy ewidencyjnej w przypadku, gdy działki numerowane są w ramach arkusza mapy."]
[9,"3)","Należy podać z dokładnością do czterech miejsc po przecinku."]
[9,"4)","Należy podać jedną z form władania: własność, użytkowanie wieczyste, posiadanie samoistne, posiadanie zależne lub posiadanie bez tytułu prawnego."]
[9,"5)","Należy podać jednostkę redakcyjną z ustawy lub uchwały rady gminy."]
[{"$f":"$A$8","v":16.5},null,{"$f":"'DR-1'!M10&\".\"&'DR-1'!Q24&Wersja","v":"2023..1.15.0.44867"},null,null,null,null,null,null,null,null,null,null,"ZDR-1(1)","1/2"]
[{"$f":"$A$2","v":9}]
[9,"WYPEŁNIĆ DUŻYMI, DRUKOWANYMI LITERAMI, CZARNYM LUB NIEBIESKIM KOLOREM."]
[4.5]
[{"$f":"$A$8*1.5","v":24.75},"Lp.","Położenie (adres, w tym dzielnica)",null,null,"Nr księgi wieczystej\n(zbioru dokumentów)","Nr obrębu\n(arkusza mapy)2)","Nr działki","Powierzchnia \nw ha3)",null,"Rodzaj\nużytku","Klasa\nużytku","Forma\nwładania 4)","Podstawa prawna ulgi 5)"]
[{"$f":"$A$2","v":9},null,"a",null,null,"b","c","d","e",null,"f","g","h","i"]
[{"$f":"$A$6","v":19.5},9]
[19.5,{"$f":"B723+1","v":10}]
[19.5,11]
[19.5,12]
[19.5,13]
[19.5,14]
[19.5,15]
[19.5,16]
[19.5,17]
[19.5,18]
[19.5,19]
[19.5,20]
[19.5,21]
[19.5,22]
[19.5,23]
[19.5,24]
[19.5,25]
[19.5,26]
[19.5,27]
[19.5,28]
[{"$f":"$A$2","v":9}]
[9]
[9]
[9]
[9]
[{"$f":"$A$8","v":16.5},null,"ZDR-1(1)","2/2",null,null,null,null,null,null,null,null,{"$f":"'DR-1'!M10&\".\"&'DR-1'!Q24&Wersja","v":"2023..1.15.0.44867"}]
[9]
[9,"Załącznik nr 6"]
[9,"WYPEŁNIĆ DUŻYMI, DRUKOWANYMI LITERAMI, CZARNYM LUB NIEBIESKIM KOLOREM."]
[{"$f":"$A$4","v":4.5}]
[{"$f":"$A$2","v":9},"1. Identyfikator podatkowy NIP/numer PESEL (niepotrzebne skreślić)1)\n└────┴────┴────┴────┴────┴────┴────┴────┴────┴────┴────┘",null,null,null,null,null,null,"2.  Nr dokumentu"]
[{"$f":"$A$6","v":19.5},null,{"$f":"$C$6","v":0}]
[{"$f":"$A$2","v":9}]
[{"$f":"$A$8","v":16.5},"ZDR-1"]
[16.5,"ZAŁĄCZNIK DO DEKLARACJI NA PODATEK ROLNY"]
[16.5,"- DANE O PRZEDMIOTACH OPODATKOWANIA PODLEGAJĄCYCH OPODATKOWANIU"]
[{"$f":"$A$2","v":9},null,null,null,null,null,null,null,null,null,null,null,null,"3. Nr załącznika"]
[{"$f":"$A$6","v":19.5},null,null,null,null,null,null,null,null,null,null,null,null,{"$f":"N692+1","v":12},null,null,{"$f":"IF(COUNTA(C770:J777,C791:J810,L791:O810,L770:O777)=0,0,1)","v":0}]
[{"$f":"$A$4","v":4.5}]
[4.5]
[{"$f":"$A$8*1.5","v":24.75},"A.  DANE PODATNIKA WSKAZANEGO W CZĘŚCI C.1 DEKLARACJI DR-1\n* - dotyczy podatnika niebędącego osobą fizyczną               ** - dotyczy podatnika będącego osobą fizyczną"]
[{"$f":"$A$2","v":9},null,"4. Nazwa pełna * / Nazwisko **",null,null,null,null,null,"5. Nazwa skrócona * / Pierwsze imię **"]
[{"$f":"$A$6","v":19.5},null,{"$f":"\"\"&$C$17","v":""},null,null,null,null,null,{"$f":"\"\"&I697","v":""}]
[{"$f":"$A$4","v":4.5}]
[{"$f":"$A$8","v":16.5},"B.  DANE O POSZCZEGÓLNYCH PRZEDMIOTACH OPODATKOWANIA PODLEGAJĄCYCH OPODATKOWANIU"]
[{"$f":"$A$8*1.5","v":24.75},"Lp.","Położenie (adres, w tym dzielnica)",null,null,"Nr księgi wieczystej\n(zbioru dokumentów)","Nr obrębu\n(arkusza mapy)2)","Nr działki","Powierzchnia \nw ha3)",null,"Rodzaj\nużytku","Klasa\nużytku","Forma\nwładania 4)","Podstawa prawna ulgi 5)"]
[{"$f":"$A$2","v":9},null,"a",null,null,"b","c","d","e",null,"f","g","h","i"]
[{"$f":"$A$6","v":19.5},1]
[19.5,2]
[19.5,3]
[19.5,4]
[19.5,5]
[19.5,6]
[19.5,7]
[19.5,8]
[{"$f":"$A$2","v":9}]
[9]
[{"$f":"$A$2*2","v":18},"1)","Numer PESEL wpisują podatnicy będący osobami fizycznymi objętymi rejestrem PESEL, nieprowadzący działalności gospodarczej lub niebędący zarejestrowanymi podatnikami podatku od towarów i usług.\nIdentyfikator podatkowy NIP wpisują pozostali podatnicy."]
[{"$f":"$A$2","v":9},"2)","Numer obrębu należy podać wraz z numerem arkusza mapy ewidencyjnej w przypadku, gdy działki numerowane są w ramach arkusza mapy."]
[9,"3)","Należy podać z dokładnością do czterech miejsc po przecinku."]
[9,"4)","Należy podać jedną z form władania: własność, użytkowanie wieczyste, posiadanie samoistne, posiadanie zależne lub posiadanie bez tytułu prawnego."]
[9,"5)","Należy podać jednostkę redakcyjną z ustawy lub uchwały rady gminy."]
[{"$f":"$A$8","v":16.5},null,{"$f":"'DR-1'!M10&\".\"&'DR-1'!Q24&Wersja","v":"2023..1.15.0.44867"},null,null,null,null,null,null,null,null,null,null,"ZDR-1(1)","1/2"]
[{"$f":"$A$2","v":9}]
[9,"WYPEŁNIĆ DUŻYMI, DRUKOWANYMI LITERAMI, CZARNYM LUB NIEBIESKIM KOLOREM."]
[4.5]
[{"$f":"$A$8*1.5","v":24.75},"Lp.","Położenie (adres, w tym dzielnica)",null,null,"Nr księgi wieczystej\n(zbioru dokumentów)","Nr obrębu\n(arkusza mapy)2)","Nr działki","Powierzchnia \nw ha3)",null,"Rodzaj\nużytku","Klasa\nużytku","Forma\nwładania 4)","Podstawa prawna ulgi 5)"]
[{"$f":"$A$2","v":9},null,"a",null,null,"b","c","d","e",null,"f","g","h","i"]
[{"$f":"$A$6","v":19.5},9]
[19.5,{"$f":"B791+1","v":10}]
[19.5,11]
[19.5,12]
[19.5,13]
[19.5,14]
[19.5,15]
[19.5,16]
[19.5,17]
[19.5,18]
[19.5,19]
[19.5,20]
[19.5,21]
[19.5,22]
[19.5,23]
[19.5,24]
[19.5,25]
[19.5,26]
[19.5,27]
[19.5,28]
[{"$f":"$A$2","v":9}]
[9]
[9]
[9]
[9]
[{"$f":"$A$8","v":16.5},null,"ZDR-1(1)","2/2",null,null,null,null,null,null,null,null,{"$f":"'DR-1'!M10&\".\"&'DR-1'!Q24&Wersja","v":"2023..1.15.0.44867"}]
[9]
[9,"Załącznik nr 6"]
[9,"WYPEŁNIĆ DUŻYMI, DRUKOWANYMI LITERAMI, CZARNYM LUB NIEBIESKIM KOLOREM."]
[{"$f":"$A$4","v":4.5}]
[{"$f":"$A$2","v":9},"1. Identyfikator podatkowy NIP/numer PESEL (niepotrzebne skreślić)1)\n└────┴────┴────┴────┴────┴────┴────┴────┴────┴────┴────┘",null,null,null,null,null,null,"2.  Nr dokumentu"]
[{"$f":"$A$6","v":19.5},null,{"$f":"$C$6","v":0}]
[{"$f":"$A$2","v":9}]
[{"$f":"$A$8","v":16.5},"ZDR-1"]
[16.5,"ZAŁĄCZNIK DO DEKLARACJI NA PODATEK ROLNY"]
[16.5,"- DANE O PRZEDMIOTACH OPODATKOWANIA PODLEGAJĄCYCH OPODATKOWANIU"]
[{"$f":"$A$2","v":9},null,null,null,null,null,null,null,null,null,null,null,null,"3. Nr załącznika"]
[{"$f":"$A$6","v":19.5},null,null,null,null,null,null,null,null,null,null,null,null,{"$f":"N760+1","v":13},null,null,{"$f":"IF(COUNTA(C838:J845,C859:J878,L859:O878,L838:O845)=0,0,1)","v":0}]
[{"$f":"$A$4","v":4.5}]
[4.5]
[{"$f":"$A$8*1.5","v":24.75},"A.  DANE PODATNIKA WSKAZANEGO W CZĘŚCI C.1 DEKLARACJI DR-1\n* - dotyczy podatnika niebędącego osobą fizyczną               ** - dotyczy podatnika będącego osobą fizyczną"]
[{"$f":"$A$2","v":9},null,"4. Nazwa pełna * / Nazwisko **",null,null,null,null,null,"5. Nazwa skrócona * / Pierwsze imię **"]
[{"$f":"$A$6","v":19.5},null,{"$f":"\"\"&$C$17","v":""},null,null,null,null,null,{"$f":"\"\"&I765","v":""}]
[{"$f":"$A$4","v":4.5}]
[{"$f":"$A$8","v":16.5},"B.  DANE O POSZCZEGÓLNYCH PRZEDMIOTACH OPODATKOWANIA PODLEGAJĄCYCH OPODATKOWANIU"]
[{"$f":"$A$8*1.5","v":24.75},"Lp.","Położenie (adres, w tym dzielnica)",null,null,"Nr księgi wieczystej\n(zbioru dokumentów)","Nr obrębu\n(arkusza mapy)2)","Nr działki","Powierzchnia \nw ha3)",null,"Rodzaj\nużytku","Klasa\nużytku","Forma\nwładania 4)","Podstawa prawna ulgi 5)"]
[{"$f":"$A$2","v":9},null,"a",null,null,"b","c","d","e",null,"f","g","h","i"]
[{"$f":"$A$6","v":19.5},1]
[19.5,2]
[19.5,3]
[19.5,4]
[19.5,5]
[19.5,6]
[19.5,7]
[19.5,8]
[{"$f":"$A$2","v":9}]
[9]
[{"$f":"$A$2*2","v":18},"1)","Numer PESEL wpisują podatnicy będący osobami fizycznymi objętymi rejestrem PESEL, nieprowadzący działalności gospodarczej lub niebędący zarejestrowanymi podatnikami podatku od towarów i usług.\nIdentyfikator podatkowy NIP wpisują pozostali podatnicy."]
[{"$f":"$A$2","v":9},"2)","Numer obrębu należy podać wraz z numerem arkusza mapy ewidencyjnej w przypadku, gdy działki numerowane są w ramach arkusza mapy."]
[9,"3)","Należy podać z dokładnością do czterech miejsc po przecinku."]
[9,"4)","Należy podać jedną z form władania: własność, użytkowanie wieczyste, posiadanie samoistne, posiadanie zależne lub posiadanie bez tytułu prawnego."]
[9,"5)","Należy podać jednostkę redakcyjną z ustawy lub uchwały rady gminy."]
[{"$f":"$A$8","v":16.5},null,{"$f":"'DR-1'!M10&\".\"&'DR-1'!Q24&Wersja","v":"2023..1.15.0.44867"},null,null,null,null,null,null,null,null,null,null,"ZDR-1(1)","1/2"]
[{"$f":"$A$2","v":9}]
[9,"WYPEŁNIĆ DUŻYMI, DRUKOWANYMI LITERAMI, CZARNYM LUB NIEBIESKIM KOLOREM."]
[4.5]
[{"$f":"$A$8*1.5","v":24.75},"Lp.","Położenie (adres, w tym dzielnica)",null,null,"Nr księgi wieczystej\n(zbioru dokumentów)","Nr obrębu\n(arkusza mapy)2)","Nr działki","Powierzchnia \nw ha3)",null,"Rodzaj\nużytku","Klasa\nużytku","Forma\nwładania 4)","Podstawa prawna ulgi 5)"]
[{"$f":"$A$2","v":9},null,"a",null,null,"b","c","d","e",null,"f","g","h","i"]
[{"$f":"$A$6","v":19.5},9]
[19.5,{"$f":"B859+1","v":10}]
[19.5,11]
[19.5,12]
[19.5,13]
[19.5,14]
[19.5,15]
[19.5,16]
[19.5,17]
[19.5,18]
[19.5,19]
[19.5,20]
[19.5,21]
[19.5,22]
[19.5,23]
[19.5,24]
[19.5,25]
[19.5,26]
[19.5,27]
[19.5,28]
[{"$f":"$A$2","v":9}]
[9]
[9]
[9]
[9]
[{"$f":"$A$8","v":16.5},null,"ZDR-1(1)","2/2",null,null,null,null,null,null,null,null,{"$f":"'DR-1'!M10&\".\"&'DR-1'!Q24&Wersja","v":"2023..1.15.0.44867"}]
[9]
[9,"Załącznik nr 6"]
[9,"WYPEŁNIĆ DUŻYMI, DRUKOWANYMI LITERAMI, CZARNYM LUB NIEBIESKIM KOLOREM."]
[{"$f":"$A$4","v":4.5}]
[{"$f":"$A$2","v":9},"1. Identyfikator podatkowy NIP/numer PESEL (niepotrzebne skreślić)1)\n└────┴────┴────┴────┴────┴────┴────┴────┴────┴────┴────┘",null,null,null,null,null,null,"2.  Nr dokumentu"]
[{"$f":"$A$6","v":19.5},null,{"$f":"$C$6","v":0}]
[{"$f":"$A$2","v":9}]
[{"$f":"$A$8","v":16.5},"ZDR-1"]
[16.5,"ZAŁĄCZNIK DO DEKLARACJI NA PODATEK ROLNY"]
[16.5,"- DANE O PRZEDMIOTACH OPODATKOWANIA PODLEGAJĄCYCH OPODATKOWANIU"]
[{"$f":"$A$2","v":9},null,null,null,null,null,null,null,null,null,null,null,null,"3. Nr załącznika"]
[{"$f":"$A$6","v":19.5},null,null,null,null,null,null,null,null,null,null,null,null,{"$f":"N828+1","v":14},null,null,{"$f":"IF(COUNTA(C906:J913,C927:J946,L927:O946,L906:O913)=0,0,1)","v":0}]
[{"$f":"$A$4","v":4.5}]
[4.5]
[{"$f":"$A$8*1.5","v":24.75},"A.  DANE PODATNIKA WSKAZANEGO W CZĘŚCI C.1 DEKLARACJI DR-1\n* - dotyczy podatnika niebędącego osobą fizyczną               ** - dotyczy podatnika będącego osobą fizyczną"]
[{"$f":"$A$2","v":9},null,"4. Nazwa pełna * / Nazwisko **",null,null,null,null,null,"5. Nazwa skrócona * / Pierwsze imię **"]
[{"$f":"$A$6","v":19.5},null,{"$f":"\"\"&$C$17","v":""},null,null,null,null,null,{"$f":"\"\"&I833","v":""}]
[{"$f":"$A$4","v":4.5}]
[{"$f":"$A$8","v":16.5},"B.  DANE O POSZCZEGÓLNYCH PRZEDMIOTACH OPODATKOWANIA PODLEGAJĄCYCH OPODATKOWANIU"]
[{"$f":"$A$8*1.5","v":24.75},"Lp.","Położenie (adres, w tym dzielnica)",null,null,"Nr księgi wieczystej\n(zbioru dokumentów)","Nr obrębu\n(arkusza mapy)2)","Nr działki","Powierzchnia \nw ha3)",null,"Rodzaj\nużytku","Klasa\nużytku","Forma\nwładania 4)","Podstawa prawna ulgi 5)"]
[{"$f":"$A$2","v":9},null,"a",null,null,"b","c","d","e",null,"f","g","h","i"]
[{"$f":"$A$6","v":19.5},1]
[19.5,2]
[19.5,3]
[19.5,4]
[19.5,5]
[19.5,6]
[19.5,7]
[19.5,8]
[{"$f":"$A$2","v":9}]
[9]
[{"$f":"$A$2*2","v":18},"1)","Numer PESEL wpisują podatnicy będący osobami fizycznymi objętymi rejestrem PESEL, nieprowadzący działalności gospodarczej lub niebędący zarejestrowanymi podatnikami podatku od towarów i usług.\nIdentyfikator podatkowy NIP wpisują pozostali podatnicy."]
[{"$f":"$A$2","v":9},"2)","Numer obrębu należy podać wraz z numerem arkusza mapy ewidencyjnej w przypadku, gdy działki numerowane są w ramach arkusza mapy."]
[9,"3)","Należy podać z dokładnością do czterech miejsc po przecinku."]
[9,"4)","Należy podać jedną z form władania: własność, użytkowanie wieczyste, posiadanie samoistne, posiadanie zależne lub posiadanie bez tytułu prawnego."]
[9,"5)","Należy podać jednostkę redakcyjną z ustawy lub uchwały rady gminy."]
[{"$f":"$A$8","v":16.5},null,{"$f":"'DR-1'!M10&\".\"&'DR-1'!Q24&Wersja","v":"2023..1.15.0.44867"},null,null,null,null,null,null,null,null,null,null,"ZDR-1(1)","1/2"]
[{"$f":"$A$2","v":9}]
[9,"WYPEŁNIĆ DUŻYMI, DRUKOWANYMI LITERAMI, CZARNYM LUB NIEBIESKIM KOLOREM."]
[4.5]
[{"$f":"$A$8*1.5","v":24.75},"Lp.","Położenie (adres, w tym dzielnica)",null,null,"Nr księgi wieczystej\n(zbioru dokumentów)","Nr obrębu\n(arkusza mapy)2)","Nr działki","Powierzchnia \nw ha3)",null,"Rodzaj\nużytku","Klasa\nużytku","Forma\nwładania 4)","Podstawa prawna ulgi 5)"]
[{"$f":"$A$2","v":9},null,"a",null,null,"b","c","d","e",null,"f","g","h","i"]
[{"$f":"$A$6","v":19.5},9]
[19.5,{"$f":"B927+1","v":10}]
[19.5,11]
[19.5,12]
[19.5,13]
[19.5,14]
[19.5,15]
[19.5,16]
[19.5,17]
[19.5,18]
[19.5,19]
[19.5,20]
[19.5,21]
[19.5,22]
[19.5,23]
[19.5,24]
[19.5,25]
[19.5,26]
[19.5,27]
[19.5,28]
[{"$f":"$A$2","v":9}]
[9]
[9]
[9]
[9]
[{"$f":"$A$8","v":16.5},null,"ZDR-1(1)","2/2",null,null,null,null,null,null,null,null,{"$f":"'DR-1'!M10&\".\"&'DR-1'!Q24&Wersja","v":"2023..1.15.0.44867"}]
[9]
[9,"Załącznik nr 6"]
[9,"WYPEŁNIĆ DUŻYMI, DRUKOWANYMI LITERAMI, CZARNYM LUB NIEBIESKIM KOLOREM."]
[{"$f":"$A$4","v":4.5}]
[{"$f":"$A$2","v":9},"1. Identyfikator podatkowy NIP/numer PESEL (niepotrzebne skreślić)1)\n└────┴────┴────┴────┴────┴────┴────┴────┴────┴────┴────┘",null,null,null,null,null,null,"2.  Nr dokumentu"]
[{"$f":"$A$6","v":19.5},null,{"$f":"$C$6","v":0}]
[{"$f":"$A$2","v":9}]
[{"$f":"$A$8","v":16.5},"ZDR-1"]
[16.5,"ZAŁĄCZNIK DO DEKLARACJI NA PODATEK ROLNY"]
[16.5,"- DANE O PRZEDMIOTACH OPODATKOWANIA PODLEGAJĄCYCH OPODATKOWANIU"]
[{"$f":"$A$2","v":9},null,null,null,null,null,null,null,null,null,null,null,null,"3. Nr załącznika"]
[{"$f":"$A$6","v":19.5},null,null,null,null,null,null,null,null,null,null,null,null,{"$f":"N896+1","v":15},null,null,{"$f":"IF(COUNTA(C974:J981,C995:J1014,L995:O1014,L974:O981)=0,0,1)","v":0}]
[{"$f":"$A$4","v":4.5}]
[4.5]
[{"$f":"$A$8*1.5","v":24.75},"A.  DANE PODATNIKA WSKAZANEGO W CZĘŚCI C.1 DEKLARACJI DR-1\n* - dotyczy podatnika niebędącego osobą fizyczną               ** - dotyczy podatnika będącego osobą fizyczną"]
[{"$f":"$A$2","v":9},null,"4. Nazwa pełna * / Nazwisko **",null,null,null,null,null,"5. Nazwa skrócona * / Pierwsze imię **"]
[{"$f":"$A$6","v":19.5},null,{"$f":"\"\"&$C$17","v":""},null,null,null,null,null,{"$f":"\"\"&I901","v":""}]
[{"$f":"$A$4","v":4.5}]
[{"$f":"$A$8","v":16.5},"B.  DANE O POSZCZEGÓLNYCH PRZEDMIOTACH OPODATKOWANIA PODLEGAJĄCYCH OPODATKOWANIU"]
[{"$f":"$A$8*1.5","v":24.75},"Lp.","Położenie (adres, w tym dzielnica)",null,null,"Nr księgi wieczystej\n(zbioru dokumentów)","Nr obrębu\n(arkusza mapy)2)","Nr działki","Powierzchnia \nw ha3)",null,"Rodzaj\nużytku","Klasa\nużytku","Forma\nwładania 4)","Podstawa prawna ulgi 5)"]
[{"$f":"$A$2","v":9},null,"a",null,null,"b","c","d","e",null,"f","g","h","i"]
[{"$f":"$A$6","v":19.5},1]
[19.5,2]
[19.5,3]
[19.5,4]
[19.5,5]
[19.5,6]
[19.5,7]
[19.5,8]
[{"$f":"$A$2","v":9}]
[9]
[{"$f":"$A$2*2","v":18},"1)","Numer PESEL wpisują podatnicy będący osobami fizycznymi objętymi rejestrem PESEL, nieprowadzący działalności gospodarczej lub niebędący zarejestrowanymi podatnikami podatku od towarów i usług.\nIdentyfikator podatkowy NIP wpisują pozostali podatnicy."]
[{"$f":"$A$2","v":9},"2)","Numer obrębu należy podać wraz z numerem arkusza mapy ewidencyjnej w przypadku, gdy działki numerowane są w ramach arkusza mapy."]
[9,"3)","Należy podać z dokładnością do czterech miejsc po przecinku."]
[9,"4)","Należy podać jedną z form władania: własność, użytkowanie wieczyste, posiadanie samoistne, posiadanie zależne lub posiadanie bez tytułu prawnego."]
[9,"5)","Należy podać jednostkę redakcyjną z ustawy lub uchwały rady gminy."]
[{"$f":"$A$8","v":16.5},null,{"$f":"'DR-1'!M10&\".\"&'DR-1'!Q24&Wersja","v":"2023..1.15.0.44867"},null,null,null,null,null,null,null,null,null,null,"ZDR-1(1)","1/2"]
[{"$f":"$A$2","v":9}]
[9,"WYPEŁNIĆ DUŻYMI, DRUKOWANYMI LITERAMI, CZARNYM LUB NIEBIESKIM KOLOREM."]
[4.5]
[{"$f":"$A$8*1.5","v":24.75},"Lp.","Położenie (adres, w tym dzielnica)",null,null,"Nr księgi wieczystej\n(zbioru dokumentów)","Nr obrębu\n(arkusza mapy)2)","Nr działki","Powierzchnia \nw ha3)",null,"Rodzaj\nużytku","Klasa\nużytku","Forma\nwładania 4)","Podstawa prawna ulgi 5)"]
[{"$f":"$A$2","v":9},null,"a",null,null,"b","c","d","e",null,"f","g","h","i"]
[{"$f":"$A$6","v":19.5},9]
[19.5,{"$f":"B995+1","v":10}]
[19.5,11]
[19.5,12]
[19.5,13]
[19.5,14]
[19.5,15]
[19.5,16]
[19.5,17]
[19.5,18]
[19.5,19]
[19.5,20]
[19.5,21]
[19.5,22]
[19.5,23]
[19.5,24]
[19.5,25]
[19.5,26]
[19.5,27]
[19.5,28]
[{"$f":"$A$2","v":9}]
[9]
[9]
[9]
[9]
[{"$f":"$A$8","v":16.5},null,"ZDR-1(1)","2/2",null,null,null,null,null,null,null,null,{"$f":"'DR-1'!M10&\".\"&'DR-1'!Q24&Wersja","v":"2023..1.15.0.44867"}]
[9]
[9,"Załącznik nr 6"]
[9,"WYPEŁNIĆ DUŻYMI, DRUKOWANYMI LITERAMI, CZARNYM LUB NIEBIESKIM KOLOREM."]
[{"$f":"$A$4","v":4.5}]
[{"$f":"$A$2","v":9},"1. Identyfikator podatkowy NIP/numer PESEL (niepotrzebne skreślić)1)\n└────┴────┴────┴────┴────┴────┴────┴────┴────┴────┴────┘",null,null,null,null,null,null,"2.  Nr dokumentu"]
[{"$f":"$A$6","v":19.5},null,{"$f":"$C$6","v":0}]
[{"$f":"$A$2","v":9}]
[{"$f":"$A$8","v":16.5},"ZDR-1"]
[16.5,"ZAŁĄCZNIK DO DEKLARACJI NA PODATEK ROLNY"]
[16.5,"- DANE O PRZEDMIOTACH OPODATKOWANIA PODLEGAJĄCYCH OPODATKOWANIU"]
[{"$f":"$A$2","v":9},null,null,null,null,null,null,null,null,null,null,null,null,"3. Nr załącznika"]
[{"$f":"$A$6","v":19.5},null,null,null,null,null,null,null,null,null,null,null,null,{"$f":"N964+1","v":16},null,null,{"$f":"IF(COUNTA(C1042:J1049,C1063:J1082,L1063:O1082,L1042:O1049)=0,0,1)","v":0}]
[{"$f":"$A$4","v":4.5}]
[4.5]
[{"$f":"$A$8*1.5","v":24.75},"A.  DANE PODATNIKA WSKAZANEGO W CZĘŚCI C.1 DEKLARACJI DR-1\n* - dotyczy podatnika niebędącego osobą fizyczną               ** - dotyczy podatnika będącego osobą fizyczną"]
[{"$f":"$A$2","v":9},null,"4. Nazwa pełna * / Nazwisko **",null,null,null,null,null,"5. Nazwa skrócona * / Pierwsze imię **"]
[{"$f":"$A$6","v":19.5},null,{"$f":"\"\"&$C$17","v":""},null,null,null,null,null,{"$f":"\"\"&I969","v":""}]
[{"$f":"$A$4","v":4.5}]
[{"$f":"$A$8","v":16.5},"B.  DANE O POSZCZEGÓLNYCH PRZEDMIOTACH OPODATKOWANIA PODLEGAJĄCYCH OPODATKOWANIU"]
[{"$f":"$A$8*1.5","v":24.75},"Lp.","Położenie (adres, w tym dzielnica)",null,null,"Nr księgi wieczystej\n(zbioru dokumentów)","Nr obrębu\n(arkusza mapy)2)","Nr działki","Powierzchnia \nw ha3)",null,"Rodzaj\nużytku","Klasa\nużytku","Forma\nwładania 4)","Podstawa prawna ulgi 5)"]
[{"$f":"$A$2","v":9},null,"a",null,null,"b","c","d","e",null,"f","g","h","i"]
[{"$f":"$A$6","v":19.5},1]
[19.5,2]
[19.5,3]
[19.5,4]
[19.5,5]
[19.5,6]
[19.5,7]
[19.5,8]
[{"$f":"$A$2","v":9}]
[9]
[{"$f":"$A$2*2","v":18},"1)","Numer PESEL wpisują podatnicy będący osobami fizycznymi objętymi rejestrem PESEL, nieprowadzący działalności gospodarczej lub niebędący zarejestrowanymi podatnikami podatku od towarów i usług.\nIdentyfikator podatkowy NIP wpisują pozostali podatnicy."]
[{"$f":"$A$2","v":9},"2)","Numer obrębu należy podać wraz z numerem arkusza mapy ewidencyjnej w przypadku, gdy działki numerowane są w ramach arkusza mapy."]
[9,"3)","Należy podać z dokładnością do czterech miejsc po przecinku."]
[9,"4)","Należy podać jedną z form władania: własność, użytkowanie wieczyste, posiadanie samoistne, posiadanie zależne lub posiadanie bez tytułu prawnego."]
[9,"5)","Należy podać jednostkę redakcyjną z ustawy lub uchwały rady gminy."]
[{"$f":"$A$8","v":16.5},null,{"$f":"'DR-1'!M10&\".\"&'DR-1'!Q24&Wersja","v":"2023..1.15.0.44867"},null,null,null,null,null,null,null,null,null,null,"ZDR-1(1)","1/2"]
[{"$f":"$A$2","v":9}]
[9,"WYPEŁNIĆ DUŻYMI, DRUKOWANYMI LITERAMI, CZARNYM LUB NIEBIESKIM KOLOREM."]
[4.5]
[{"$f":"$A$8*1.5","v":24.75},"Lp.","Położenie (adres, w tym dzielnica)",null,null,"Nr księgi wieczystej\n(zbioru dokumentów)","Nr obrębu\n(arkusza mapy)2)","Nr działki","Powierzchnia \nw ha3)",null,"Rodzaj\nużytku","Klasa\nużytku","Forma\nwładania 4)","Podstawa prawna ulgi 5)"]
[{"$f":"$A$2","v":9},null,"a",null,null,"b","c","d","e",null,"f","g","h","i"]
[{"$f":"$A$6","v":19.5},9]
[19.5,{"$f":"B1063+1","v":10}]
[19.5,11]
[19.5,12]
[19.5,13]
[19.5,14]
[19.5,15]
[19.5,16]
[19.5,17]
[19.5,18]
[19.5,19]
[19.5,20]
[19.5,21]
[19.5,22]
[19.5,23]
[19.5,24]
[19.5,25]
[19.5,26]
[19.5,27]
[19.5,28]
[{"$f":"$A$2","v":9}]
[9]
[9]
[9]
[9]
[{"$f":"$A$8","v":16.5},null,"ZDR-1(1)","2/2",null,null,null,null,null,null,null,null,{"$f":"'DR-1'!M10&\".\"&'DR-1'!Q24&Wersja","v":"2023..1.15.0.44867"}]
[9]
[9,"Załącznik nr 6"]
[9,"WYPEŁNIĆ DUŻYMI, DRUKOWANYMI LITERAMI, CZARNYM LUB NIEBIESKIM KOLOREM."]
[{"$f":"$A$4","v":4.5}]
[{"$f":"$A$2","v":9},"1. Identyfikator podatkowy NIP/numer PESEL (niepotrzebne skreślić)1)\n└────┴────┴────┴────┴────┴────┴────┴────┴────┴────┴────┘",null,null,null,null,null,null,"2.  Nr dokumentu"]
[{"$f":"$A$6","v":19.5},null,{"$f":"$C$6","v":0}]
[{"$f":"$A$2","v":9}]
[{"$f":"$A$8","v":16.5},"ZDR-1"]
[16.5,"ZAŁĄCZNIK DO DEKLARACJI NA PODATEK ROLNY"]
[16.5,"- DANE O PRZEDMIOTACH OPODATKOWANIA PODLEGAJĄCYCH OPODATKOWANIU"]
[{"$f":"$A$2","v":9},null,null,null,null,null,null,null,null,null,null,null,null,"3. Nr załącznika"]
[{"$f":"$A$6","v":19.5},null,null,null,null,null,null,null,null,null,null,null,null,{"$f":"N1032+1","v":17},null,null,{"$f":"IF(COUNTA(C1110:J1117,C1131:J1150,L1131:O1150,L1110:O1117)=0,0,1)","v":0}]
[{"$f":"$A$4","v":4.5}]
[4.5]
[{"$f":"$A$8*1.5","v":24.75},"A.  DANE PODATNIKA WSKAZANEGO W CZĘŚCI C.1 DEKLARACJI DR-1\n* - dotyczy podatnika niebędącego osobą fizyczną               ** - dotyczy podatnika będącego osobą fizyczną"]
[{"$f":"$A$2","v":9},null,"4. Nazwa pełna * / Nazwisko **",null,null,null,null,null,"5. Nazwa skrócona * / Pierwsze imię **"]
[{"$f":"$A$6","v":19.5},null,{"$f":"\"\"&$C$17","v":""},null,null,null,null,null,{"$f":"\"\"&I1037","v":""}]
[{"$f":"$A$4","v":4.5}]
[{"$f":"$A$8","v":16.5},"B.  DANE O POSZCZEGÓLNYCH PRZEDMIOTACH OPODATKOWANIA PODLEGAJĄCYCH OPODATKOWANIU"]
[{"$f":"$A$8*1.5","v":24.75},"Lp.","Położenie (adres, w tym dzielnica)",null,null,"Nr księgi wieczystej\n(zbioru dokumentów)","Nr obrębu\n(arkusza mapy)2)","Nr działki","Powierzchnia \nw ha3)",null,"Rodzaj\nużytku","Klasa\nużytku","Forma\nwładania 4)","Podstawa prawna ulgi 5)"]
[{"$f":"$A$2","v":9},null,"a",null,null,"b","c","d","e",null,"f","g","h","i"]
[{"$f":"$A$6","v":19.5},1]
[19.5,2]
[19.5,3]
[19.5,4]
[19.5,5]
[19.5,6]
[19.5,7]
[19.5,8]
[{"$f":"$A$2","v":9}]
[9]
[{"$f":"$A$2*2","v":18},"1)","Numer PESEL wpisują podatnicy będący osobami fizycznymi objętymi rejestrem PESEL, nieprowadzący działalności gospodarczej lub niebędący zarejestrowanymi podatnikami podatku od towarów i usług.\nIdentyfikator podatkowy NIP wpisują pozostali podatnicy."]
[{"$f":"$A$2","v":9},"2)","Numer obrębu należy podać wraz z numerem arkusza mapy ewidencyjnej w przypadku, gdy działki numerowane są w ramach arkusza mapy."]
[9,"3)","Należy podać z dokładnością do czterech miejsc po przecinku."]
[9,"4)","Należy podać jedną z form władania: własność, użytkowanie wieczyste, posiadanie samoistne, posiadanie zależne lub posiadanie bez tytułu prawnego."]
[9,"5)","Należy podać jednostkę redakcyjną z ustawy lub uchwały rady gminy."]
[{"$f":"$A$8","v":16.5},null,{"$f":"'DR-1'!M10&\".\"&'DR-1'!Q24&Wersja","v":"2023..1.15.0.44867"},null,null,null,null,null,null,null,null,null,null,"ZDR-1(1)","1/2"]
[{"$f":"$A$2","v":9}]
[9,"WYPEŁNIĆ DUŻYMI, DRUKOWANYMI LITERAMI, CZARNYM LUB NIEBIESKIM KOLOREM."]
[4.5]
[{"$f":"$A$8*1.5","v":24.75},"Lp.","Położenie (adres, w tym dzielnica)",null,null,"Nr księgi wieczystej\n(zbioru dokumentów)","Nr obrębu\n(arkusza mapy)2)","Nr działki","Powierzchnia \nw ha3)",null,"Rodzaj\nużytku","Klasa\nużytku","Forma\nwładania 4)","Podstawa prawna ulgi 5)"]
[{"$f":"$A$2","v":9},null,"a",null,null,"b","c","d","e",null,"f","g","h","i"]
[{"$f":"$A$6","v":19.5},9]
[19.5,{"$f":"B1131+1","v":10}]
[19.5,11]
[19.5,12]
[19.5,13]
[19.5,14]
[19.5,15]
[19.5,16]
[19.5,17]
[19.5,18]
[19.5,19]
[19.5,20]
[19.5,21]
[19.5,22]
[19.5,23]
[19.5,24]
[19.5,25]
[19.5,26]
[19.5,27]
[19.5,28]
[{"$f":"$A$2","v":9}]
[9]
[9]
[9]
[9]
[{"$f":"$A$8","v":16.5},null,"ZDR-1(1)","2/2",null,null,null,null,null,null,null,null,{"$f":"'DR-1'!M10&\".\"&'DR-1'!Q24&Wersja","v":"2023..1.15.0.44867"}]
[9]
[9,"Załącznik nr 6"]
[9,"WYPEŁNIĆ DUŻYMI, DRUKOWANYMI LITERAMI, CZARNYM LUB NIEBIESKIM KOLOREM."]
[{"$f":"$A$4","v":4.5}]
[{"$f":"$A$2","v":9},"1. Identyfikator podatkowy NIP/numer PESEL (niepotrzebne skreślić)1)\n└────┴────┴────┴────┴────┴────┴────┴────┴────┴────┴────┘",null,null,null,null,null,null,"2.  Nr dokumentu"]
[{"$f":"$A$6","v":19.5},null,{"$f":"$C$6","v":0}]
[{"$f":"$A$2","v":9}]
[{"$f":"$A$8","v":16.5},"ZDR-1"]
[16.5,"ZAŁĄCZNIK DO DEKLARACJI NA PODATEK ROLNY"]
[16.5,"- DANE O PRZEDMIOTACH OPODATKOWANIA PODLEGAJĄCYCH OPODATKOWANIU"]
[{"$f":"$A$2","v":9},null,null,null,null,null,null,null,null,null,null,null,null,"3. Nr załącznika"]
[{"$f":"$A$6","v":19.5},null,null,null,null,null,null,null,null,null,null,null,null,{"$f":"N1100+1","v":18},null,null,{"$f":"IF(COUNTA(C1178:J1185,C1199:J1218,L1199:O1218,L1178:O1185)=0,0,1)","v":0}]
[{"$f":"$A$4","v":4.5}]
[4.5]
[{"$f":"$A$8*1.5","v":24.75},"A.  DANE PODATNIKA WSKAZANEGO W CZĘŚCI C.1 DEKLARACJI DR-1\n* - dotyczy podatnika niebędącego osobą fizyczną               ** - dotyczy podatnika będącego osobą fizyczną"]
[{"$f":"$A$2","v":9},null,"4. Nazwa pełna * / Nazwisko **",null,null,null,null,null,"5. Nazwa skrócona * / Pierwsze imię **"]
[{"$f":"$A$6","v":19.5},null,{"$f":"\"\"&$C$17","v":""},null,null,null,null,null,{"$f":"\"\"&I1105","v":""}]
[{"$f":"$A$4","v":4.5}]
[{"$f":"$A$8","v":16.5},"B.  DANE O POSZCZEGÓLNYCH PRZEDMIOTACH OPODATKOWANIA PODLEGAJĄCYCH OPODATKOWANIU"]
[{"$f":"$A$8*1.5","v":24.75},"Lp.","Położenie (adres, w tym dzielnica)",null,null,"Nr księgi wieczystej\n(zbioru dokumentów)","Nr obrębu\n(arkusza mapy)2)","Nr działki","Powierzchnia \nw ha3)",null,"Rodzaj\nużytku","Klasa\nużytku","Forma\nwładania 4)","Podstawa prawna ulgi 5)"]
[{"$f":"$A$2","v":9},null,"a",null,null,"b","c","d","e",null,"f","g","h","i"]
[{"$f":"$A$6","v":19.5},1]
[19.5,2]
[19.5,3]
[19.5,4]
[19.5,5]
[19.5,6]
[19.5,7]
[19.5,8]
[{"$f":"$A$2","v":9}]
[9]
[{"$f":"$A$2*2","v":18},"1)","Numer PESEL wpisują podatnicy będący osobami fizycznymi objętymi rejestrem PESEL, nieprowadzący działalności gospodarczej lub niebędący zarejestrowanymi podatnikami podatku od towarów i usług.\nIdentyfikator podatkowy NIP wpisują pozostali podatnicy."]
[{"$f":"$A$2","v":9},"2)","Numer obrębu należy podać wraz z numerem arkusza mapy ewidencyjnej w przypadku, gdy działki numerowane są w ramach arkusza mapy."]
[9,"3)","Należy podać z dokładnością do czterech miejsc po przecinku."]
[9,"4)","Należy podać jedną z form władania: własność, użytkowanie wieczyste, posiadanie samoistne, posiadanie zależne lub posiadanie bez tytułu prawnego."]
[9,"5)","Należy podać jednostkę redakcyjną z ustawy lub uchwały rady gminy."]
[{"$f":"$A$8","v":16.5},null,{"$f":"'DR-1'!M10&\".\"&'DR-1'!Q24&Wersja","v":"2023..1.15.0.44867"},null,null,null,null,null,null,null,null,null,null,"ZDR-1(1)","1/2"]
[{"$f":"$A$2","v":9}]
[9,"WYPEŁNIĆ DUŻYMI, DRUKOWANYMI LITERAMI, CZARNYM LUB NIEBIESKIM KOLOREM."]
[4.5]
[{"$f":"$A$8*1.5","v":24.75},"Lp.","Położenie (adres, w tym dzielnica)",null,null,"Nr księgi wieczystej\n(zbioru dokumentów)","Nr obrębu\n(arkusza mapy)2)","Nr działki","Powierzchnia \nw ha3)",null,"Rodzaj\nużytku","Klasa\nużytku","Forma\nwładania 4)","Podstawa prawna ulgi 5)"]
[{"$f":"$A$2","v":9},null,"a",null,null,"b","c","d","e",null,"f","g","h","i"]
[{"$f":"$A$6","v":19.5},9]
[19.5,{"$f":"B1199+1","v":10}]
[19.5,11]
[19.5,12]
[19.5,13]
[19.5,14]
[19.5,15]
[19.5,16]
[19.5,17]
[19.5,18]
[19.5,19]
[19.5,20]
[19.5,21]
[19.5,22]
[19.5,23]
[19.5,24]
[19.5,25]
[19.5,26]
[19.5,27]
[19.5,28]
[{"$f":"$A$2","v":9}]
[9]
[9]
[9]
[9]
[{"$f":"$A$8","v":16.5},null,"ZDR-1(1)","2/2",null,null,null,null,null,null,null,null,{"$f":"'DR-1'!M10&\".\"&'DR-1'!Q24&Wersja","v":"2023..1.15.0.44867"}]
[9]
[9,"Załącznik nr 6"]
[9,"WYPEŁNIĆ DUŻYMI, DRUKOWANYMI LITERAMI, CZARNYM LUB NIEBIESKIM KOLOREM."]
[{"$f":"$A$4","v":4.5}]
[{"$f":"$A$2","v":9},"1. Identyfikator podatkowy NIP/numer PESEL (niepotrzebne skreślić)1)\n└────┴────┴────┴────┴────┴────┴────┴────┴────┴────┴────┘",null,null,null,null,null,null,"2.  Nr dokumentu"]
[{"$f":"$A$6","v":19.5},null,{"$f":"$C$6","v":0}]
[{"$f":"$A$2","v":9}]
[{"$f":"$A$8","v":16.5},"ZDR-1"]
[16.5,"ZAŁĄCZNIK DO DEKLARACJI NA PODATEK ROLNY"]
[16.5,"- DANE O PRZEDMIOTACH OPODATKOWANIA PODLEGAJĄCYCH OPODATKOWANIU"]
[{"$f":"$A$2","v":9},null,null,null,null,null,null,null,null,null,null,null,null,"3. Nr załącznika"]
[{"$f":"$A$6","v":19.5},null,null,null,null,null,null,null,null,null,null,null,null,{"$f":"N1168+1","v":19},null,null,{"$f":"IF(COUNTA(C1246:J1253,C1267:J1286,L1267:O1286,L1246:O1253)=0,0,1)","v":0}]
[{"$f":"$A$4","v":4.5}]
[4.5]
[{"$f":"$A$8*1.5","v":24.75},"A.  DANE PODATNIKA WSKAZANEGO W CZĘŚCI C.1 DEKLARACJI DR-1\n* - dotyczy podatnika niebędącego osobą fizyczną               ** - dotyczy podatnika będącego osobą fizyczną"]
[{"$f":"$A$2","v":9},null,"4. Nazwa pełna * / Nazwisko **",null,null,null,null,null,"5. Nazwa skrócona * / Pierwsze imię **"]
[{"$f":"$A$6","v":19.5},null,{"$f":"\"\"&$C$17","v":""},null,null,null,null,null,{"$f":"\"\"&I1173","v":""}]
[{"$f":"$A$4","v":4.5}]
[{"$f":"$A$8","v":16.5},"B.  DANE O POSZCZEGÓLNYCH PRZEDMIOTACH OPODATKOWANIA PODLEGAJĄCYCH OPODATKOWANIU"]
[{"$f":"$A$8*1.5","v":24.75},"Lp.","Położenie (adres, w tym dzielnica)",null,null,"Nr księgi wieczystej\n(zbioru dokumentów)","Nr obrębu\n(arkusza mapy)2)","Nr działki","Powierzchnia \nw ha3)",null,"Rodzaj\nużytku","Klasa\nużytku","Forma\nwładania 4)","Podstawa prawna ulgi 5)"]
[{"$f":"$A$2","v":9},null,"a",null,null,"b","c","d","e",null,"f","g","h","i"]
[{"$f":"$A$6","v":19.5},1]
[19.5,2]
[19.5,3]
[19.5,4]
[19.5,5]
[19.5,6]
[19.5,7]
[19.5,8]
[{"$f":"$A$2","v":9}]
[9]
[{"$f":"$A$2*2","v":18},"1)","Numer PESEL wpisują podatnicy będący osobami fizycznymi objętymi rejestrem PESEL, nieprowadzący działalności gospodarczej lub niebędący zarejestrowanymi podatnikami podatku od towarów i usług.\nIdentyfikator podatkowy NIP wpisują pozostali podatnicy."]
[{"$f":"$A$2","v":9},"2)","Numer obrębu należy podać wraz z numerem arkusza mapy ewidencyjnej w przypadku, gdy działki numerowane są w ramach arkusza mapy."]
[9,"3)","Należy podać z dokładnością do czterech miejsc po przecinku."]
[9,"4)","Należy podać jedną z form władania: własność, użytkowanie wieczyste, posiadanie samoistne, posiadanie zależne lub posiadanie bez tytułu prawnego."]
[9,"5)","Należy podać jednostkę redakcyjną z ustawy lub uchwały rady gminy."]
[{"$f":"$A$8","v":16.5},null,{"$f":"'DR-1'!M10&\".\"&'DR-1'!Q24&Wersja","v":"2023..1.15.0.44867"},null,null,null,null,null,null,null,null,null,null,"ZDR-1(1)","1/2"]
[{"$f":"$A$2","v":9}]
[9,"WYPEŁNIĆ DUŻYMI, DRUKOWANYMI LITERAMI, CZARNYM LUB NIEBIESKIM KOLOREM."]
[4.5]
[{"$f":"$A$8*1.5","v":24.75},"Lp.","Położenie (adres, w tym dzielnica)",null,null,"Nr księgi wieczystej\n(zbioru dokumentów)","Nr obrębu\n(arkusza mapy)2)","Nr działki","Powierzchnia \nw ha3)",null,"Rodzaj\nużytku","Klasa\nużytku","Forma\nwładania 4)","Podstawa prawna ulgi 5)"]
[{"$f":"$A$2","v":9},null,"a",null,null,"b","c","d","e",null,"f","g","h","i"]
[{"$f":"$A$6","v":19.5},9]
[19.5,{"$f":"B1267+1","v":10}]
[19.5,11]
[19.5,12]
[19.5,13]
[19.5,14]
[19.5,15]
[19.5,16]
[19.5,17]
[19.5,18]
[19.5,19]
[19.5,20]
[19.5,21]
[19.5,22]
[19.5,23]
[19.5,24]
[19.5,25]
[19.5,26]
[19.5,27]
[19.5,28]
[{"$f":"$A$2","v":9}]
[9]
[9]
[9]
[9]
[{"$f":"$A$8","v":16.5},null,"ZDR-1(1)","2/2",null,null,null,null,null,null,null,null,{"$f":"'DR-1'!M10&\".\"&'DR-1'!Q24&Wersja","v":"2023..1.15.0.44867"}]
[9]
[9,"Załącznik nr 6"]
[9,"WYPEŁNIĆ DUŻYMI, DRUKOWANYMI LITERAMI, CZARNYM LUB NIEBIESKIM KOLOREM."]
[{"$f":"$A$4","v":4.5}]
[{"$f":"$A$2","v":9},"1. Identyfikator podatkowy NIP/numer PESEL (niepotrzebne skreślić)1)\n└────┴────┴────┴────┴────┴────┴────┴────┴────┴────┴────┘",null,null,null,null,null,null,"2.  Nr dokumentu"]
[{"$f":"$A$6","v":19.5},null,{"$f":"$C$6","v":0}]
[{"$f":"$A$2","v":9}]
[{"$f":"$A$8","v":16.5},"ZDR-1"]
[16.5,"ZAŁĄCZNIK DO DEKLARACJI NA PODATEK ROLNY"]
[16.5,"- DANE O PRZEDMIOTACH OPODATKOWANIA PODLEGAJĄCYCH OPODATKOWANIU"]
[{"$f":"$A$2","v":9},null,null,null,null,null,null,null,null,null,null,null,null,"3. Nr załącznika"]
[{"$f":"$A$6","v":19.5},null,null,null,null,null,null,null,null,null,null,null,null,{"$f":"N1236+1","v":20},null,null,{"$f":"IF(COUNTA(C1314:J1321,C1335:J1354,L1335:O1354,L1314:O1321)=0,0,1)","v":0}]
[{"$f":"$A$4","v":4.5}]
[4.5]
[{"$f":"$A$8*1.5","v":24.75},"A.  DANE PODATNIKA WSKAZANEGO W CZĘŚCI C.1 DEKLARACJI DR-1\n* - dotyczy podatnika niebędącego osobą fizyczną               ** - dotyczy podatnika będącego osobą fizyczną"]
[{"$f":"$A$2","v":9},null,"4. Nazwa pełna * / Nazwisko **",null,null,null,null,null,"5. Nazwa skrócona * / Pierwsze imię **"]
[{"$f":"$A$6","v":19.5},null,{"$f":"\"\"&$C$17","v":""},null,null,null,null,null,{"$f":"\"\"&I1241","v":""}]
[{"$f":"$A$4","v":4.5}]
[{"$f":"$A$8","v":16.5},"B.  DANE O POSZCZEGÓLNYCH PRZEDMIOTACH OPODATKOWANIA PODLEGAJĄCYCH OPODATKOWANIU"]
[{"$f":"$A$8*1.5","v":24.75},"Lp.","Położenie (adres, w tym dzielnica)",null,null,"Nr księgi wieczystej\n(zbioru dokumentów)","Nr obrębu\n(arkusza mapy)2)","Nr działki","Powierzchnia \nw ha3)",null,"Rodzaj\nużytku","Klasa\nużytku","Forma\nwładania 4)","Podstawa prawna ulgi 5)"]
[{"$f":"$A$2","v":9},null,"a",null,null,"b","c","d","e",null,"f","g","h","i"]
[{"$f":"$A$6","v":19.5},1]
[19.5,2]
[19.5,3]
[19.5,4]
[19.5,5]
[19.5,6]
[19.5,7]
[19.5,8]
[{"$f":"$A$2","v":9}]
[9]
[{"$f":"$A$2*2","v":18},"1)","Numer PESEL wpisują podatnicy będący osobami fizycznymi objętymi rejestrem PESEL, nieprowadzący działalności gospodarczej lub niebędący zarejestrowanymi podatnikami podatku od towarów i usług.\nIdentyfikator podatkowy NIP wpisują pozostali podatnicy."]
[{"$f":"$A$2","v":9},"2)","Numer obrębu należy podać wraz z numerem arkusza mapy ewidencyjnej w przypadku, gdy działki numerowane są w ramach arkusza mapy."]
[9,"3)","Należy podać z dokładnością do czterech miejsc po przecinku."]
[9,"4)","Należy podać jedną z form władania: własność, użytkowanie wieczyste, posiadanie samoistne, posiadanie zależne lub posiadanie bez tytułu prawnego."]
[9,"5)","Należy podać jednostkę redakcyjną z ustawy lub uchwały rady gminy."]
[{"$f":"$A$8","v":16.5},null,{"$f":"'DR-1'!M10&\".\"&'DR-1'!Q24&Wersja","v":"2023..1.15.0.44867"},null,null,null,null,null,null,null,null,null,null,"ZDR-1(1)","1/2"]
[{"$f":"$A$2","v":9}]
[9,"WYPEŁNIĆ DUŻYMI, DRUKOWANYMI LITERAMI, CZARNYM LUB NIEBIESKIM KOLOREM."]
[4.5]
[{"$f":"$A$8*1.5","v":24.75},"Lp.","Położenie (adres, w tym dzielnica)",null,null,"Nr księgi wieczystej\n(zbioru dokumentów)","Nr obrębu\n(arkusza mapy)2)","Nr działki","Powierzchnia \nw ha3)",null,"Rodzaj\nużytku","Klasa\nużytku","Forma\nwładania 4)","Podstawa prawna ulgi 5)"]
[{"$f":"$A$2","v":9},null,"a",null,null,"b","c","d","e",null,"f","g","h","i"]
[{"$f":"$A$6","v":19.5},9]
[19.5,{"$f":"B1335+1","v":10}]
[19.5,11]
[19.5,12]
[19.5,13]
[19.5,14]
[19.5,15]
[19.5,16]
[19.5,17]
[19.5,18]
[19.5,19]
[19.5,20]
[19.5,21]
[19.5,22]
[19.5,23]
[19.5,24]
[19.5,25]
[19.5,26]
[19.5,27]
[19.5,28]
[{"$f":"$A$2","v":9}]
[9]
[9]
[9]
[9]
[{"$f":"$A$8","v":16.5},null,"ZDR-1(1)","2/2",null,null,null,null,null,null,null,null,{"$f":"'DR-1'!M10&\".\"&'DR-1'!Q24&Wersja","v":"2023..1.15.0.44867"}]
[9]
[9,"Załącznik nr 6"]
[9,"WYPEŁNIĆ DUŻYMI, DRUKOWANYMI LITERAMI, CZARNYM LUB NIEBIESKIM KOLOREM."]
[{"$f":"$A$4","v":4.5}]
[{"$f":"$A$2","v":9},"1. Identyfikator podatkowy NIP/numer PESEL (niepotrzebne skreślić)1)\n└────┴────┴────┴────┴────┴────┴────┴────┴────┴────┴────┘",null,null,null,null,null,null,"2.  Nr dokumentu"]
[{"$f":"$A$6","v":19.5},null,{"$f":"$C$6","v":0}]
[{"$f":"$A$2","v":9}]
[{"$f":"$A$8","v":16.5},"ZDR-1"]
[16.5,"ZAŁĄCZNIK DO DEKLARACJI NA PODATEK ROLNY"]
[16.5,"- DANE O PRZEDMIOTACH OPODATKOWANIA PODLEGAJĄCYCH OPODATKOWANIU"]
[{"$f":"$A$2","v":9},null,null,null,null,null,null,null,null,null,null,null,null,"3. Nr załącznika"]
[{"$f":"$A$6","v":19.5},null,null,null,null,null,null,null,null,null,null,null,null,{"$f":"N1304+1","v":21},null,null,{"$f":"IF(COUNTA(C1382:J1389,C1403:J1422,L1403:O1422,L1382:O1389)=0,0,1)","v":0}]
[{"$f":"$A$4","v":4.5}]
[4.5]
[{"$f":"$A$8*1.5","v":24.75},"A.  DANE PODATNIKA WSKAZANEGO W CZĘŚCI C.1 DEKLARACJI DR-1\n* - dotyczy podatnika niebędącego osobą fizyczną               ** - dotyczy podatnika będącego osobą fizyczną"]
[{"$f":"$A$2","v":9},null,"4. Nazwa pełna * / Nazwisko **",null,null,null,null,null,"5. Nazwa skrócona * / Pierwsze imię **"]
[{"$f":"$A$6","v":19.5},null,{"$f":"\"\"&$C$17","v":""},null,null,null,null,null,{"$f":"\"\"&I1309","v":""}]
[{"$f":"$A$4","v":4.5}]
[{"$f":"$A$8","v":16.5},"B.  DANE O POSZCZEGÓLNYCH PRZEDMIOTACH OPODATKOWANIA PODLEGAJĄCYCH OPODATKOWANIU"]
[{"$f":"$A$8*1.5","v":24.75},"Lp.","Położenie (adres, w tym dzielnica)",null,null,"Nr księgi wieczystej\n(zbioru dokumentów)","Nr obrębu\n(arkusza mapy)2)","Nr działki","Powierzchnia \nw ha3)",null,"Rodzaj\nużytku","Klasa\nużytku","Forma\nwładania 4)","Podstawa prawna ulgi 5)"]
[{"$f":"$A$2","v":9},null,"a",null,null,"b","c","d","e",null,"f","g","h","i"]
[{"$f":"$A$6","v":19.5},1]
[19.5,2]
[19.5,3]
[19.5,4]
[19.5,5]
[19.5,6]
[19.5,7]
[19.5,8]
[{"$f":"$A$2","v":9}]
[9]
[{"$f":"$A$2*2","v":18},"1)","Numer PESEL wpisują podatnicy będący osobami fizycznymi objętymi rejestrem PESEL, nieprowadzący działalności gospodarczej lub niebędący zarejestrowanymi podatnikami podatku od towarów i usług.\nIdentyfikator podatkowy NIP wpisują pozostali podatnicy."]
[{"$f":"$A$2","v":9},"2)","Numer obrębu należy podać wraz z numerem arkusza mapy ewidencyjnej w przypadku, gdy działki numerowane są w ramach arkusza mapy."]
[9,"3)","Należy podać z dokładnością do czterech miejsc po przecinku."]
[9,"4)","Należy podać jedną z form władania: własność, użytkowanie wieczyste, posiadanie samoistne, posiadanie zależne lub posiadanie bez tytułu prawnego."]
[9,"5)","Należy podać jednostkę redakcyjną z ustawy lub uchwały rady gminy."]
[{"$f":"$A$8","v":16.5},null,{"$f":"'DR-1'!M10&\".\"&'DR-1'!Q24&Wersja","v":"2023..1.15.0.44867"},null,null,null,null,null,null,null,null,null,null,"ZDR-1(1)","1/2"]
[{"$f":"$A$2","v":9}]
[9,"WYPEŁNIĆ DUŻYMI, DRUKOWANYMI LITERAMI, CZARNYM LUB NIEBIESKIM KOLOREM."]
[4.5]
[{"$f":"$A$8*1.5","v":24.75},"Lp.","Położenie (adres, w tym dzielnica)",null,null,"Nr księgi wieczystej\n(zbioru dokumentów)","Nr obrębu\n(arkusza mapy)2)","Nr działki","Powierzchnia \nw ha3)",null,"Rodzaj\nużytku","Klasa\nużytku","Forma\nwładania 4)","Podstawa prawna ulgi 5)"]
[{"$f":"$A$2","v":9},null,"a",null,null,"b","c","d","e",null,"f","g","h","i"]
[{"$f":"$A$6","v":19.5},9]
[19.5,{"$f":"B1403+1","v":10}]
[19.5,11]
[19.5,12]
[19.5,13]
[19.5,14]
[19.5,15]
[19.5,16]
[19.5,17]
[19.5,18]
[19.5,19]
[19.5,20]
[19.5,21]
[19.5,22]
[19.5,23]
[19.5,24]
[19.5,25]
[19.5,26]
[19.5,27]
[19.5,28]
[{"$f":"$A$2","v":9}]
[9]
[9]
[9]
[9]
[{"$f":"$A$8","v":16.5},null,"ZDR-1(1)","2/2",null,null,null,null,null,null,null,null,{"$f":"'DR-1'!M10&\".\"&'DR-1'!Q24&Wersja","v":"2023..1.15.0.44867"}]
[9]
[9,"Załącznik nr 6"]
[9,"WYPEŁNIĆ DUŻYMI, DRUKOWANYMI LITERAMI, CZARNYM LUB NIEBIESKIM KOLOREM."]
[{"$f":"$A$4","v":4.5}]
[{"$f":"$A$2","v":9},"1. Identyfikator podatkowy NIP/numer PESEL (niepotrzebne skreślić)1)\n└────┴────┴────┴────┴────┴────┴────┴────┴────┴────┴────┘",null,null,null,null,null,null,"2.  Nr dokumentu"]
[{"$f":"$A$6","v":19.5},null,{"$f":"$C$6","v":0}]
[{"$f":"$A$2","v":9}]
[{"$f":"$A$8","v":16.5},"ZDR-1"]
[16.5,"ZAŁĄCZNIK DO DEKLARACJI NA PODATEK ROLNY"]
[16.5,"- DANE O PRZEDMIOTACH OPODATKOWANIA PODLEGAJĄCYCH OPODATKOWANIU"]
[{"$f":"$A$2","v":9},null,null,null,null,null,null,null,null,null,null,null,null,"3. Nr załącznika"]
[{"$f":"$A$6","v":19.5},null,null,null,null,null,null,null,null,null,null,null,null,{"$f":"N1372+1","v":22},null,null,{"$f":"IF(COUNTA(C1450:J1457,C1471:J1490,L1471:O1490,L1450:O1457)=0,0,1)","v":0}]
[{"$f":"$A$4","v":4.5}]
[4.5]
[{"$f":"$A$8*1.5","v":24.75},"A.  DANE PODATNIKA WSKAZANEGO W CZĘŚCI C.1 DEKLARACJI DR-1\n* - dotyczy podatnika niebędącego osobą fizyczną               ** - dotyczy podatnika będącego osobą fizyczną"]
[{"$f":"$A$2","v":9},null,"4. Nazwa pełna * / Nazwisko **",null,null,null,null,null,"5. Nazwa skrócona * / Pierwsze imię **"]
[{"$f":"$A$6","v":19.5},null,{"$f":"\"\"&$C$17","v":""},null,null,null,null,null,{"$f":"\"\"&I1377","v":""}]
[{"$f":"$A$4","v":4.5}]
[{"$f":"$A$8","v":16.5},"B.  DANE O POSZCZEGÓLNYCH PRZEDMIOTACH OPODATKOWANIA PODLEGAJĄCYCH OPODATKOWANIU"]
[{"$f":"$A$8*1.5","v":24.75},"Lp.","Położenie (adres, w tym dzielnica)",null,null,"Nr księgi wieczystej\n(zbioru dokumentów)","Nr obrębu\n(arkusza mapy)2)","Nr działki","Powierzchnia \nw ha3)",null,"Rodzaj\nużytku","Klasa\nużytku","Forma\nwładania 4)","Podstawa prawna ulgi 5)"]
[{"$f":"$A$2","v":9},null,"a",null,null,"b","c","d","e",null,"f","g","h","i"]
[{"$f":"$A$6","v":19.5},1]
[19.5,2]
[19.5,3]
[19.5,4]
[19.5,5]
[19.5,6]
[19.5,7]
[19.5,8]
[{"$f":"$A$2","v":9}]
[9]
[{"$f":"$A$2*2","v":18},"1)","Numer PESEL wpisują podatnicy będący osobami fizycznymi objętymi rejestrem PESEL, nieprowadzący działalności gospodarczej lub niebędący zarejestrowanymi podatnikami podatku od towarów i usług.\nIdentyfikator podatkowy NIP wpisują pozostali podatnicy."]
[{"$f":"$A$2","v":9},"2)","Numer obrębu należy podać wraz z numerem arkusza mapy ewidencyjnej w przypadku, gdy działki numerowane są w ramach arkusza mapy."]
[9,"3)","Należy podać z dokładnością do czterech miejsc po przecinku."]
[9,"4)","Należy podać jedną z form władania: własność, użytkowanie wieczyste, posiadanie samoistne, posiadanie zależne lub posiadanie bez tytułu prawnego."]
[9,"5)","Należy podać jednostkę redakcyjną z ustawy lub uchwały rady gminy."]
[{"$f":"$A$8","v":16.5},null,{"$f":"'DR-1'!M10&\".\"&'DR-1'!Q24&Wersja","v":"2023..1.15.0.44867"},null,null,null,null,null,null,null,null,null,null,"ZDR-1(1)","1/2"]
[{"$f":"$A$2","v":9}]
[9,"WYPEŁNIĆ DUŻYMI, DRUKOWANYMI LITERAMI, CZARNYM LUB NIEBIESKIM KOLOREM."]
[4.5]
[{"$f":"$A$8*1.5","v":24.75},"Lp.","Położenie (adres, w tym dzielnica)",null,null,"Nr księgi wieczystej\n(zbioru dokumentów)","Nr obrębu\n(arkusza mapy)2)","Nr działki","Powierzchnia \nw ha3)",null,"Rodzaj\nużytku","Klasa\nużytku","Forma\nwładania 4)","Podstawa prawna ulgi 5)"]
[{"$f":"$A$2","v":9},null,"a",null,null,"b","c","d","e",null,"f","g","h","i"]
[{"$f":"$A$6","v":19.5},9]
[19.5,{"$f":"B1471+1","v":10}]
[19.5,11]
[19.5,12]
[19.5,13]
[19.5,14]
[19.5,15]
[19.5,16]
[19.5,17]
[19.5,18]
[19.5,19]
[19.5,20]
[19.5,21]
[19.5,22]
[19.5,23]
[19.5,24]
[19.5,25]
[19.5,26]
[19.5,27]
[19.5,28]
[{"$f":"$A$2","v":9}]
[9]
[9]
[9]
[9]
[{"$f":"$A$8","v":16.5},null,"ZDR-1(1)","2/2",null,null,null,null,null,null,null,null,{"$f":"'DR-1'!M10&\".\"&'DR-1'!Q24&Wersja","v":"2023..1.15.0.44867"}]
[9]
[9,"Załącznik nr 6"]
[9,"WYPEŁNIĆ DUŻYMI, DRUKOWANYMI LITERAMI, CZARNYM LUB NIEBIESKIM KOLOREM."]
[{"$f":"$A$4","v":4.5}]
[{"$f":"$A$2","v":9},"1. Identyfikator podatkowy NIP/numer PESEL (niepotrzebne skreślić)1)\n└────┴────┴────┴────┴────┴────┴────┴────┴────┴────┴────┘",null,null,null,null,null,null,"2.  Nr dokumentu"]
[{"$f":"$A$6","v":19.5},null,{"$f":"$C$6","v":0}]
[{"$f":"$A$2","v":9}]
[{"$f":"$A$8","v":16.5},"ZDR-1"]
[16.5,"ZAŁĄCZNIK DO DEKLARACJI NA PODATEK ROLNY"]
[16.5,"- DANE O PRZEDMIOTACH OPODATKOWANIA PODLEGAJĄCYCH OPODATKOWANIU"]
[{"$f":"$A$2","v":9},null,null,null,null,null,null,null,null,null,null,null,null,"3. Nr załącznika"]
[{"$f":"$A$6","v":19.5},null,null,null,null,null,null,null,null,null,null,null,null,{"$f":"N1440+1","v":23},null,null,{"$f":"IF(COUNTA(C1518:J1525,C1539:J1558,L1539:O1558,L1518:O1525)=0,0,1)","v":0}]
[{"$f":"$A$4","v":4.5}]
[4.5]
[{"$f":"$A$8*1.5","v":24.75},"A.  DANE PODATNIKA WSKAZANEGO W CZĘŚCI C.1 DEKLARACJI DR-1\n* - dotyczy podatnika niebędącego osobą fizyczną               ** - dotyczy podatnika będącego osobą fizyczną"]
[{"$f":"$A$2","v":9},null,"4. Nazwa pełna * / Nazwisko **",null,null,null,null,null,"5. Nazwa skrócona * / Pierwsze imię **"]
[{"$f":"$A$6","v":19.5},null,{"$f":"\"\"&$C$17","v":""},null,null,null,null,null,{"$f":"\"\"&I1445","v":""}]
[{"$f":"$A$4","v":4.5}]
[{"$f":"$A$8","v":16.5},"B.  DANE O POSZCZEGÓLNYCH PRZEDMIOTACH OPODATKOWANIA PODLEGAJĄCYCH OPODATKOWANIU"]
[{"$f":"$A$8*1.5","v":24.75},"Lp.","Położenie (adres, w tym dzielnica)",null,null,"Nr księgi wieczystej\n(zbioru dokumentów)","Nr obrębu\n(arkusza mapy)2)","Nr działki","Powierzchnia \nw ha3)",null,"Rodzaj\nużytku","Klasa\nużytku","Forma\nwładania 4)","Podstawa prawna ulgi 5)"]
[{"$f":"$A$2","v":9},null,"a",null,null,"b","c","d","e",null,"f","g","h","i"]
[{"$f":"$A$6","v":19.5},1]
[19.5,2]
[19.5,3]
[19.5,4]
[19.5,5]
[19.5,6]
[19.5,7]
[19.5,8]
[{"$f":"$A$2","v":9}]
[9]
[{"$f":"$A$2*2","v":18},"1)","Numer PESEL wpisują podatnicy będący osobami fizycznymi objętymi rejestrem PESEL, nieprowadzący działalności gospodarczej lub niebędący zarejestrowanymi podatnikami podatku od towarów i usług.\nIdentyfikator podatkowy NIP wpisują pozostali podatnicy."]
[{"$f":"$A$2","v":9},"2)","Numer obrębu należy podać wraz z numerem arkusza mapy ewidencyjnej w przypadku, gdy działki numerowane są w ramach arkusza mapy."]
[9,"3)","Należy podać z dokładnością do czterech miejsc po przecinku."]
[9,"4)","Należy podać jedną z form władania: własność, użytkowanie wieczyste, posiadanie samoistne, posiadanie zależne lub posiadanie bez tytułu prawnego."]
[9,"5)","Należy podać jednostkę redakcyjną z ustawy lub uchwały rady gminy."]
[{"$f":"$A$8","v":16.5},null,{"$f":"'DR-1'!M10&\".\"&'DR-1'!Q24&Wersja","v":"2023..1.15.0.44867"},null,null,null,null,null,null,null,null,null,null,"ZDR-1(1)","1/2"]
[{"$f":"$A$2","v":9}]
[9,"WYPEŁNIĆ DUŻYMI, DRUKOWANYMI LITERAMI, CZARNYM LUB NIEBIESKIM KOLOREM."]
[4.5]
[{"$f":"$A$8*1.5","v":24.75},"Lp.","Położenie (adres, w tym dzielnica)",null,null,"Nr księgi wieczystej\n(zbioru dokumentów)","Nr obrębu\n(arkusza mapy)2)","Nr działki","Powierzchnia \nw ha3)",null,"Rodzaj\nużytku","Klasa\nużytku","Forma\nwładania 4)","Podstawa prawna ulgi 5)"]
[{"$f":"$A$2","v":9},null,"a",null,null,"b","c","d","e",null,"f","g","h","i"]
[{"$f":"$A$6","v":19.5},9]
[19.5,{"$f":"B1539+1","v":10}]
[19.5,11]
[19.5,12]
[19.5,13]
[19.5,14]
[19.5,15]
[19.5,16]
[19.5,17]
[19.5,18]
[19.5,19]
[19.5,20]
[19.5,21]
[19.5,22]
[19.5,23]
[19.5,24]
[19.5,25]
[19.5,26]
[19.5,27]
[19.5,28]
[{"$f":"$A$2","v":9}]
[9]
[9]
[9]
[9]
[{"$f":"$A$8","v":16.5},null,"ZDR-1(1)","2/2",null,null,null,null,null,null,null,null,{"$f":"'DR-1'!M10&\".\"&'DR-1'!Q24&Wersja","v":"2023..1.15.0.44867"}]
[9]
[9,"Załącznik nr 6"]
[9,"WYPEŁNIĆ DUŻYMI, DRUKOWANYMI LITERAMI, CZARNYM LUB NIEBIESKIM KOLOREM."]
[{"$f":"$A$4","v":4.5}]
[{"$f":"$A$2","v":9},"1. Identyfikator podatkowy NIP/numer PESEL (niepotrzebne skreślić)1)\n└────┴────┴────┴────┴────┴────┴────┴────┴────┴────┴────┘",null,null,null,null,null,null,"2.  Nr dokumentu"]
[{"$f":"$A$6","v":19.5},null,{"$f":"$C$6","v":0}]
[{"$f":"$A$2","v":9}]
[{"$f":"$A$8","v":16.5},"ZDR-1"]
[16.5,"ZAŁĄCZNIK DO DEKLARACJI NA PODATEK ROLNY"]
[16.5,"- DANE O PRZEDMIOTACH OPODATKOWANIA PODLEGAJĄCYCH OPODATKOWANIU"]
[{"$f":"$A$2","v":9},null,null,null,null,null,null,null,null,null,null,null,null,"3. Nr załącznika"]
[{"$f":"$A$6","v":19.5},null,null,null,null,null,null,null,null,null,null,null,null,{"$f":"N1508+1","v":24},null,null,{"$f":"IF(COUNTA(C1586:J1593,C1607:J1626,L1607:O1626,L1586:O1593)=0,0,1)","v":0}]
[{"$f":"$A$4","v":4.5}]
[4.5]
[{"$f":"$A$8*1.5","v":24.75},"A.  DANE PODATNIKA WSKAZANEGO W CZĘŚCI C.1 DEKLARACJI DR-1\n* - dotyczy podatnika niebędącego osobą fizyczną               ** - dotyczy podatnika będącego osobą fizyczną"]
[{"$f":"$A$2","v":9},null,"4. Nazwa pełna * / Nazwisko **",null,null,null,null,null,"5. Nazwa skrócona * / Pierwsze imię **"]
[{"$f":"$A$6","v":19.5},null,{"$f":"\"\"&$C$17","v":""},null,null,null,null,null,{"$f":"\"\"&I1513","v":""}]
[{"$f":"$A$4","v":4.5}]
[{"$f":"$A$8","v":16.5},"B.  DANE O POSZCZEGÓLNYCH PRZEDMIOTACH OPODATKOWANIA PODLEGAJĄCYCH OPODATKOWANIU"]
[{"$f":"$A$8*1.5","v":24.75},"Lp.","Położenie (adres, w tym dzielnica)",null,null,"Nr księgi wieczystej\n(zbioru dokumentów)","Nr obrębu\n(arkusza mapy)2)","Nr działki","Powierzchnia \nw ha3)",null,"Rodzaj\nużytku","Klasa\nużytku","Forma\nwładania 4)","Podstawa prawna ulgi 5)"]
[{"$f":"$A$2","v":9},null,"a",null,null,"b","c","d","e",null,"f","g","h","i"]
[{"$f":"$A$6","v":19.5},1]
[19.5,2]
[19.5,3]
[19.5,4]
[19.5,5]
[19.5,6]
[19.5,7]
[19.5,8]
[{"$f":"$A$2","v":9}]
[9]
[{"$f":"$A$2*2","v":18},"1)","Numer PESEL wpisują podatnicy będący osobami fizycznymi objętymi rejestrem PESEL, nieprowadzący działalności gospodarczej lub niebędący zarejestrowanymi podatnikami podatku od towarów i usług.\nIdentyfikator podatkowy NIP wpisują pozostali podatnicy."]
[{"$f":"$A$2","v":9},"2)","Numer obrębu należy podać wraz z numerem arkusza mapy ewidencyjnej w przypadku, gdy działki numerowane są w ramach arkusza mapy."]
[9,"3)","Należy podać z dokładnością do czterech miejsc po przecinku."]
[9,"4)","Należy podać jedną z form władania: własność, użytkowanie wieczyste, posiadanie samoistne, posiadanie zależne lub posiadanie bez tytułu prawnego."]
[9,"5)","Należy podać jednostkę redakcyjną z ustawy lub uchwały rady gminy."]
[{"$f":"$A$8","v":16.5},null,{"$f":"'DR-1'!M10&\".\"&'DR-1'!Q24&Wersja","v":"2023..1.15.0.44867"},null,null,null,null,null,null,null,null,null,null,"ZDR-1(1)","1/2"]
[{"$f":"$A$2","v":9}]
[9,"WYPEŁNIĆ DUŻYMI, DRUKOWANYMI LITERAMI, CZARNYM LUB NIEBIESKIM KOLOREM."]
[4.5]
[{"$f":"$A$8*1.5","v":24.75},"Lp.","Położenie (adres, w tym dzielnica)",null,null,"Nr księgi wieczystej\n(zbioru dokumentów)","Nr obrębu\n(arkusza mapy)2)","Nr działki","Powierzchnia \nw ha3)",null,"Rodzaj\nużytku","Klasa\nużytku","Forma\nwładania 4)","Podstawa prawna ulgi 5)"]
[{"$f":"$A$2","v":9},null,"a",null,null,"b","c","d","e",null,"f","g","h","i"]
[{"$f":"$A$6","v":19.5},9]
[19.5,{"$f":"B1607+1","v":10}]
[19.5,11]
[19.5,12]
[19.5,13]
[19.5,14]
[19.5,15]
[19.5,16]
[19.5,17]
[19.5,18]
[19.5,19]
[19.5,20]
[19.5,21]
[19.5,22]
[19.5,23]
[19.5,24]
[19.5,25]
[19.5,26]
[19.5,27]
[19.5,28]
[{"$f":"$A$2","v":9}]
[9]
[9]
[9]
[9]
[{"$f":"$A$8","v":16.5},null,"ZDR-1(1)","2/2",null,null,null,null,null,null,null,null,{"$f":"'DR-1'!M10&\".\"&'DR-1'!Q24&Wersja","v":"2023..1.15.0.44867"}]
[9]
[9,"Załącznik nr 6"]
[9,"WYPEŁNIĆ DUŻYMI, DRUKOWANYMI LITERAMI, CZARNYM LUB NIEBIESKIM KOLOREM."]
[{"$f":"$A$4","v":4.5}]
[{"$f":"$A$2","v":9},"1. Identyfikator podatkowy NIP/numer PESEL (niepotrzebne skreślić)1)\n└────┴────┴────┴────┴────┴────┴────┴────┴────┴────┴────┘",null,null,null,null,null,null,"2.  Nr dokumentu"]
[{"$f":"$A$6","v":19.5},null,{"$f":"$C$6","v":0}]
[{"$f":"$A$2","v":9}]
[{"$f":"$A$8","v":16.5},"ZDR-1"]
[16.5,"ZAŁĄCZNIK DO DEKLARACJI NA PODATEK ROLNY"]
[16.5,"- DANE O PRZEDMIOTACH OPODATKOWANIA PODLEGAJĄCYCH OPODATKOWANIU"]
[{"$f":"$A$2","v":9},null,null,null,null,null,null,null,null,null,null,null,null,"3. Nr załącznika"]
[{"$f":"$A$6","v":19.5},null,null,null,null,null,null,null,null,null,null,null,null,{"$f":"N1576+1","v":25},null,null,{"$f":"IF(COUNTA(C1654:J1661,C1675:J1694,L1675:O1694,L1654:O1661)=0,0,1)","v":0}]
[{"$f":"$A$4","v":4.5}]
[4.5]
[{"$f":"$A$8*1.5","v":24.75},"A.  DANE PODATNIKA WSKAZANEGO W CZĘŚCI C.1 DEKLARACJI DR-1\n* - dotyczy podatnika niebędącego osobą fizyczną               ** - dotyczy podatnika będącego osobą fizyczną"]
[{"$f":"$A$2","v":9},null,"4. Nazwa pełna * / Nazwisko **",null,null,null,null,null,"5. Nazwa skrócona * / Pierwsze imię **"]
[{"$f":"$A$6","v":19.5},null,{"$f":"\"\"&$C$17","v":""},null,null,null,null,null,{"$f":"\"\"&I1581","v":""}]
[{"$f":"$A$4","v":4.5}]
[{"$f":"$A$8","v":16.5},"B.  DANE O POSZCZEGÓLNYCH PRZEDMIOTACH OPODATKOWANIA PODLEGAJĄCYCH OPODATKOWANIU"]
[{"$f":"$A$8*1.5","v":24.75},"Lp.","Położenie (adres, w tym dzielnica)",null,null,"Nr księgi wieczystej\n(zbioru dokumentów)","Nr obrębu\n(arkusza mapy)2)","Nr działki","Powierzchnia \nw ha3)",null,"Rodzaj\nużytku","Klasa\nużytku","Forma\nwładania 4)","Podstawa prawna ulgi 5)"]
[{"$f":"$A$2","v":9},null,"a",null,null,"b","c","d","e",null,"f","g","h","i"]
[{"$f":"$A$6","v":19.5},1]
[19.5,2]
[19.5,3]
[19.5,4]
[19.5,5]
[19.5,6]
[19.5,7]
[19.5,8]
[{"$f":"$A$2","v":9}]
[9]
[{"$f":"$A$2*2","v":18},"1)","Numer PESEL wpisują podatnicy będący osobami fizycznymi objętymi rejestrem PESEL, nieprowadzący działalności gospodarczej lub niebędący zarejestrowanymi podatnikami podatku od towarów i usług.\nIdentyfikator podatkowy NIP wpisują pozostali podatnicy."]
[{"$f":"$A$2","v":9},"2)","Numer obrębu należy podać wraz z numerem arkusza mapy ewidencyjnej w przypadku, gdy działki numerowane są w ramach arkusza mapy."]
[9,"3)","Należy podać z dokładnością do czterech miejsc po przecinku."]
[9,"4)","Należy podać jedną z form władania: własność, użytkowanie wieczyste, posiadanie samoistne, posiadanie zależne lub posiadanie bez tytułu prawnego."]
[9,"5)","Należy podać jednostkę redakcyjną z ustawy lub uchwały rady gminy."]
[{"$f":"$A$8","v":16.5},null,{"$f":"'DR-1'!M10&\".\"&'DR-1'!Q24&Wersja","v":"2023..1.15.0.44867"},null,null,null,null,null,null,null,null,null,null,"ZDR-1(1)","1/2"]
[{"$f":"$A$2","v":9}]
[9,"WYPEŁNIĆ DUŻYMI, DRUKOWANYMI LITERAMI, CZARNYM LUB NIEBIESKIM KOLOREM."]
[4.5]
[{"$f":"$A$8*1.5","v":24.75},"Lp.","Położenie (adres, w tym dzielnica)",null,null,"Nr księgi wieczystej\n(zbioru dokumentów)","Nr obrębu\n(arkusza mapy)2)","Nr działki","Powierzchnia \nw ha3)",null,"Rodzaj\nużytku","Klasa\nużytku","Forma\nwładania 4)","Podstawa prawna ulgi 5)"]
[{"$f":"$A$2","v":9},null,"a",null,null,"b","c","d","e",null,"f","g","h","i"]
[{"$f":"$A$6","v":19.5},9]
[19.5,{"$f":"B1675+1","v":10}]
[19.5,11]
[19.5,12]
[19.5,13]
[19.5,14]
[19.5,15]
[19.5,16]
[19.5,17]
[19.5,18]
[19.5,19]
[19.5,20]
[19.5,21]
[19.5,22]
[19.5,23]
[19.5,24]
[19.5,25]
[19.5,26]
[19.5,27]
[19.5,28]
[{"$f":"$A$2","v":9}]
[9]
[9]
[9]
[9]
[{"$f":"$A$8","v":16.5},null,"ZDR-1(1)","2/2",null,null,null,null,null,null,null,null,{"$f":"'DR-1'!M10&\".\"&'DR-1'!Q24&Wersja","v":"2023..1.15.0.44867"}]
[9]
[9,"Załącznik nr 6"]
[9,"WYPEŁNIĆ DUŻYMI, DRUKOWANYMI LITERAMI, CZARNYM LUB NIEBIESKIM KOLOREM."]
[{"$f":"$A$4","v":4.5}]
[{"$f":"$A$2","v":9},"1. Identyfikator podatkowy NIP/numer PESEL (niepotrzebne skreślić)1)\n└────┴────┴────┴────┴────┴────┴────┴────┴────┴────┴────┘",null,null,null,null,null,null,"2.  Nr dokumentu"]
[{"$f":"$A$6","v":19.5},null,{"$f":"$C$6","v":0}]
[{"$f":"$A$2","v":9}]
[{"$f":"$A$8","v":16.5},"ZDR-1"]
[16.5,"ZAŁĄCZNIK DO DEKLARACJI NA PODATEK ROLNY"]
[16.5,"- DANE O PRZEDMIOTACH OPODATKOWANIA PODLEGAJĄCYCH OPODATKOWANIU"]
[{"$f":"$A$2","v":9},null,null,null,null,null,null,null,null,null,null,null,null,"3. Nr załącznika"]
[{"$f":"$A$6","v":19.5},null,null,null,null,null,null,null,null,null,null,null,null,{"$f":"N1644+1","v":26},null,null,{"$f":"IF(COUNTA(C1722:J1729,C1743:J1762,L1743:O1762,L1722:O1729)=0,0,1)","v":0}]
[{"$f":"$A$4","v":4.5}]
[4.5]
[{"$f":"$A$8*1.5","v":24.75},"A.  DANE PODATNIKA WSKAZANEGO W CZĘŚCI C.1 DEKLARACJI DR-1\n* - dotyczy podatnika niebędącego osobą fizyczną               ** - dotyczy podatnika będącego osobą fizyczną"]
[{"$f":"$A$2","v":9},null,"4. Nazwa pełna * / Nazwisko **",null,null,null,null,null,"5. Nazwa skrócona * / Pierwsze imię **"]
[{"$f":"$A$6","v":19.5},null,{"$f":"\"\"&$C$17","v":""},null,null,null,null,null,{"$f":"\"\"&I1649","v":""}]
[{"$f":"$A$4","v":4.5}]
[{"$f":"$A$8","v":16.5},"B.  DANE O POSZCZEGÓLNYCH PRZEDMIOTACH OPODATKOWANIA PODLEGAJĄCYCH OPODATKOWANIU"]
[{"$f":"$A$8*1.5","v":24.75},"Lp.","Położenie (adres, w tym dzielnica)",null,null,"Nr księgi wieczystej\n(zbioru dokumentów)","Nr obrębu\n(arkusza mapy)2)","Nr działki","Powierzchnia \nw ha3)",null,"Rodzaj\nużytku","Klasa\nużytku","Forma\nwładania 4)","Podstawa prawna ulgi 5)"]
[{"$f":"$A$2","v":9},null,"a",null,null,"b","c","d","e",null,"f","g","h","i"]
[{"$f":"$A$6","v":19.5},1]
[19.5,2]
[19.5,3]
[19.5,4]
[19.5,5]
[19.5,6]
[19.5,7]
[19.5,8]
[{"$f":"$A$2","v":9}]
[9]
[{"$f":"$A$2*2","v":18},"1)","Numer PESEL wpisują podatnicy będący osobami fizycznymi objętymi rejestrem PESEL, nieprowadzący działalności gospodarczej lub niebędący zarejestrowanymi podatnikami podatku od towarów i usług.\nIdentyfikator podatkowy NIP wpisują pozostali podatnicy."]
[{"$f":"$A$2","v":9},"2)","Numer obrębu należy podać wraz z numerem arkusza mapy ewidencyjnej w przypadku, gdy działki numerowane są w ramach arkusza mapy."]
[9,"3)","Należy podać z dokładnością do czterech miejsc po przecinku."]
[9,"4)","Należy podać jedną z form władania: własność, użytkowanie wieczyste, posiadanie samoistne, posiadanie zależne lub posiadanie bez tytułu prawnego."]
[9,"5)","Należy podać jednostkę redakcyjną z ustawy lub uchwały rady gminy."]
[{"$f":"$A$8","v":16.5},null,{"$f":"'DR-1'!M10&\".\"&'DR-1'!Q24&Wersja","v":"2023..1.15.0.44867"},null,null,null,null,null,null,null,null,null,null,"ZDR-1(1)","1/2"]
[{"$f":"$A$2","v":9}]
[9,"WYPEŁNIĆ DUŻYMI, DRUKOWANYMI LITERAMI, CZARNYM LUB NIEBIESKIM KOLOREM."]
[4.5]
[{"$f":"$A$8*1.5","v":24.75},"Lp.","Położenie (adres, w tym dzielnica)",null,null,"Nr księgi wieczystej\n(zbioru dokumentów)","Nr obrębu\n(arkusza mapy)2)","Nr działki","Powierzchnia \nw ha3)",null,"Rodzaj\nużytku","Klasa\nużytku","Forma\nwładania 4)","Podstawa prawna ulgi 5)"]
[{"$f":"$A$2","v":9},null,"a",null,null,"b","c","d","e",null,"f","g","h","i"]
[{"$f":"$A$6","v":19.5},9]
[19.5,{"$f":"B1743+1","v":10}]
[19.5,11]
[19.5,12]
[19.5,13]
[19.5,14]
[19.5,15]
[19.5,16]
[19.5,17]
[19.5,18]
[19.5,19]
[19.5,20]
[19.5,21]
[19.5,22]
[19.5,23]
[19.5,24]
[19.5,25]
[19.5,26]
[19.5,27]
[19.5,28]
[{"$f":"$A$2","v":9}]
[9]
[9]
[9]
[9]
[{"$f":"$A$8","v":16.5},null,"ZDR-1(1)","2/2",null,null,null,null,null,null,null,null,{"$f":"'DR-1'!M10&\".\"&'DR-1'!Q24&Wersja","v":"2023..1.15.0.44867"}]
[9]
[9,"Załącznik nr 6"]
[9,"WYPEŁNIĆ DUŻYMI, DRUKOWANYMI LITERAMI, CZARNYM LUB NIEBIESKIM KOLOREM."]
[{"$f":"$A$4","v":4.5}]
[{"$f":"$A$2","v":9},"1. Identyfikator podatkowy NIP/numer PESEL (niepotrzebne skreślić)1)\n└────┴────┴────┴────┴────┴────┴────┴────┴────┴────┴────┘",null,null,null,null,null,null,"2.  Nr dokumentu"]
[{"$f":"$A$6","v":19.5},null,{"$f":"$C$6","v":0}]
[{"$f":"$A$2","v":9}]
[{"$f":"$A$8","v":16.5},"ZDR-1"]
[16.5,"ZAŁĄCZNIK DO DEKLARACJI NA PODATEK ROLNY"]
[16.5,"- DANE O PRZEDMIOTACH OPODATKOWANIA PODLEGAJĄCYCH OPODATKOWANIU"]
[{"$f":"$A$2","v":9},null,null,null,null,null,null,null,null,null,null,null,null,"3. Nr załącznika"]
[{"$f":"$A$6","v":19.5},null,null,null,null,null,null,null,null,null,null,null,null,{"$f":"N1712+1","v":27},null,null,{"$f":"IF(COUNTA(C1790:J1797,C1811:J1830,L1811:O1830,L1790:O1797)=0,0,1)","v":0}]
[{"$f":"$A$4","v":4.5}]
[4.5]
[{"$f":"$A$8*1.5","v":24.75},"A.  DANE PODATNIKA WSKAZANEGO W CZĘŚCI C.1 DEKLARACJI DR-1\n* - dotyczy podatnika niebędącego osobą fizyczną               ** - dotyczy podatnika będącego osobą fizyczną"]
[{"$f":"$A$2","v":9},null,"4. Nazwa pełna * / Nazwisko **",null,null,null,null,null,"5. Nazwa skrócona * / Pierwsze imię **"]
[{"$f":"$A$6","v":19.5},null,{"$f":"\"\"&$C$17","v":""},null,null,null,null,null,{"$f":"\"\"&I1717","v":""}]
[{"$f":"$A$4","v":4.5}]
[{"$f":"$A$8","v":16.5},"B.  DANE O POSZCZEGÓLNYCH PRZEDMIOTACH OPODATKOWANIA PODLEGAJĄCYCH OPODATKOWANIU"]
[{"$f":"$A$8*1.5","v":24.75},"Lp.","Położenie (adres, w tym dzielnica)",null,null,"Nr księgi wieczystej\n(zbioru dokumentów)","Nr obrębu\n(arkusza mapy)2)","Nr działki","Powierzchnia \nw ha3)",null,"Rodzaj\nużytku","Klasa\nużytku","Forma\nwładania 4)","Podstawa prawna ulgi 5)"]
[{"$f":"$A$2","v":9},null,"a",null,null,"b","c","d","e",null,"f","g","h","i"]
[{"$f":"$A$6","v":19.5},1]
[19.5,2]
[19.5,3]
[19.5,4]
[19.5,5]
[19.5,6]
[19.5,7]
[19.5,8]
[{"$f":"$A$2","v":9}]
[9]
[{"$f":"$A$2*2","v":18},"1)","Numer PESEL wpisują podatnicy będący osobami fizycznymi objętymi rejestrem PESEL, nieprowadzący działalności gospodarczej lub niebędący zarejestrowanymi podatnikami podatku od towarów i usług.\nIdentyfikator podatkowy NIP wpisują pozostali podatnicy."]
[{"$f":"$A$2","v":9},"2)","Numer obrębu należy podać wraz z numerem arkusza mapy ewidencyjnej w przypadku, gdy działki numerowane są w ramach arkusza mapy."]
[9,"3)","Należy podać z dokładnością do czterech miejsc po przecinku."]
[9,"4)","Należy podać jedną z form władania: własność, użytkowanie wieczyste, posiadanie samoistne, posiadanie zależne lub posiadanie bez tytułu prawnego."]
[9,"5)","Należy podać jednostkę redakcyjną z ustawy lub uchwały rady gminy."]
[{"$f":"$A$8","v":16.5},null,{"$f":"'DR-1'!M10&\".\"&'DR-1'!Q24&Wersja","v":"2023..1.15.0.44867"},null,null,null,null,null,null,null,null,null,null,"ZDR-1(1)","1/2"]
[{"$f":"$A$2","v":9}]
[9,"WYPEŁNIĆ DUŻYMI, DRUKOWANYMI LITERAMI, CZARNYM LUB NIEBIESKIM KOLOREM."]
[4.5]
[{"$f":"$A$8*1.5","v":24.75},"Lp.","Położenie (adres, w tym dzielnica)",null,null,"Nr księgi wieczystej\n(zbioru dokumentów)","Nr obrębu\n(arkusza mapy)2)","Nr działki","Powierzchnia \nw ha3)",null,"Rodzaj\nużytku","Klasa\nużytku","Forma\nwładania 4)","Podstawa prawna ulgi 5)"]
[{"$f":"$A$2","v":9},null,"a",null,null,"b","c","d","e",null,"f","g","h","i"]
[{"$f":"$A$6","v":19.5},9]
[19.5,{"$f":"B1811+1","v":10}]
[19.5,11]
[19.5,12]
[19.5,13]
[19.5,14]
[19.5,15]
[19.5,16]
[19.5,17]
[19.5,18]
[19.5,19]
[19.5,20]
[19.5,21]
[19.5,22]
[19.5,23]
[19.5,24]
[19.5,25]
[19.5,26]
[19.5,27]
[19.5,28]
[{"$f":"$A$2","v":9}]
[9]
[9]
[9]
[9]
[{"$f":"$A$8","v":16.5},null,"ZDR-1(1)","2/2",null,null,null,null,null,null,null,null,{"$f":"'DR-1'!M10&\".\"&'DR-1'!Q24&Wersja","v":"2023..1.15.0.44867"}]
[9]
[9,"Załącznik nr 6"]
[9,"WYPEŁNIĆ DUŻYMI, DRUKOWANYMI LITERAMI, CZARNYM LUB NIEBIESKIM KOLOREM."]
[{"$f":"$A$4","v":4.5}]
[{"$f":"$A$2","v":9},"1. Identyfikator podatkowy NIP/numer PESEL (niepotrzebne skreślić)1)\n└────┴────┴────┴────┴────┴────┴────┴────┴────┴────┴────┘",null,null,null,null,null,null,"2.  Nr dokumentu"]
[{"$f":"$A$6","v":19.5},null,{"$f":"$C$6","v":0}]
[{"$f":"$A$2","v":9}]
[{"$f":"$A$8","v":16.5},"ZDR-1"]
[16.5,"ZAŁĄCZNIK DO DEKLARACJI NA PODATEK ROLNY"]
[16.5,"- DANE O PRZEDMIOTACH OPODATKOWANIA PODLEGAJĄCYCH OPODATKOWANIU"]
[{"$f":"$A$2","v":9},null,null,null,null,null,null,null,null,null,null,null,null,"3. Nr załącznika"]
[{"$f":"$A$6","v":19.5},null,null,null,null,null,null,null,null,null,null,null,null,{"$f":"N1780+1","v":28},null,null,{"$f":"IF(COUNTA(C1858:J1865,C1879:J1898,L1879:O1898,L1858:O1865)=0,0,1)","v":0}]
[{"$f":"$A$4","v":4.5}]
[4.5]
[{"$f":"$A$8*1.5","v":24.75},"A.  DANE PODATNIKA WSKAZANEGO W CZĘŚCI C.1 DEKLARACJI DR-1\n* - dotyczy podatnika niebędącego osobą fizyczną               ** - dotyczy podatnika będącego osobą fizyczną"]
[{"$f":"$A$2","v":9},null,"4. Nazwa pełna * / Nazwisko **",null,null,null,null,null,"5. Nazwa skrócona * / Pierwsze imię **"]
[{"$f":"$A$6","v":19.5},null,{"$f":"\"\"&$C$17","v":""},null,null,null,null,null,{"$f":"\"\"&I1785","v":""}]
[{"$f":"$A$4","v":4.5}]
[{"$f":"$A$8","v":16.5},"B.  DANE O POSZCZEGÓLNYCH PRZEDMIOTACH OPODATKOWANIA PODLEGAJĄCYCH OPODATKOWANIU"]
[{"$f":"$A$8*1.5","v":24.75},"Lp.","Położenie (adres, w tym dzielnica)",null,null,"Nr księgi wieczystej\n(zbioru dokumentów)","Nr obrębu\n(arkusza mapy)2)","Nr działki","Powierzchnia \nw ha3)",null,"Rodzaj\nużytku","Klasa\nużytku","Forma\nwładania 4)","Podstawa prawna ulgi 5)"]
[{"$f":"$A$2","v":9},null,"a",null,null,"b","c","d","e",null,"f","g","h","i"]
[{"$f":"$A$6","v":19.5},1]
[19.5,2]
[19.5,3]
[19.5,4]
[19.5,5]
[19.5,6]
[19.5,7]
[19.5,8]
[{"$f":"$A$2","v":9}]
[9]
[{"$f":"$A$2*2","v":18},"1)","Numer PESEL wpisują podatnicy będący osobami fizycznymi objętymi rejestrem PESEL, nieprowadzący działalności gospodarczej lub niebędący zarejestrowanymi podatnikami podatku od towarów i usług.\nIdentyfikator podatkowy NIP wpisują pozostali podatnicy."]
[{"$f":"$A$2","v":9},"2)","Numer obrębu należy podać wraz z numerem arkusza mapy ewidencyjnej w przypadku, gdy działki numerowane są w ramach arkusza mapy."]
[9,"3)","Należy podać z dokładnością do czterech miejsc po przecinku."]
[9,"4)","Należy podać jedną z form władania: własność, użytkowanie wieczyste, posiadanie samoistne, posiadanie zależne lub posiadanie bez tytułu prawnego."]
[9,"5)","Należy podać jednostkę redakcyjną z ustawy lub uchwały rady gminy."]
[{"$f":"$A$8","v":16.5},null,{"$f":"'DR-1'!M10&\".\"&'DR-1'!Q24&Wersja","v":"2023..1.15.0.44867"},null,null,null,null,null,null,null,null,null,null,"ZDR-1(1)","1/2"]
[{"$f":"$A$2","v":9}]
[9,"WYPEŁNIĆ DUŻYMI, DRUKOWANYMI LITERAMI, CZARNYM LUB NIEBIESKIM KOLOREM."]
[4.5]
[{"$f":"$A$8*1.5","v":24.75},"Lp.","Położenie (adres, w tym dzielnica)",null,null,"Nr księgi wieczystej\n(zbioru dokumentów)","Nr obrębu\n(arkusza mapy)2)","Nr działki","Powierzchnia \nw ha3)",null,"Rodzaj\nużytku","Klasa\nużytku","Forma\nwładania 4)","Podstawa prawna ulgi 5)"]
[{"$f":"$A$2","v":9},null,"a",null,null,"b","c","d","e",null,"f","g","h","i"]
[{"$f":"$A$6","v":19.5},9]
[19.5,{"$f":"B1879+1","v":10}]
[19.5,11]
[19.5,12]
[19.5,13]
[19.5,14]
[19.5,15]
[19.5,16]
[19.5,17]
[19.5,18]
[19.5,19]
[19.5,20]
[19.5,21]
[19.5,22]
[19.5,23]
[19.5,24]
[19.5,25]
[19.5,26]
[19.5,27]
[19.5,28]
[{"$f":"$A$2","v":9}]
[9]
[9]
[9]
[9]
[{"$f":"$A$8","v":16.5},null,"ZDR-1(1)","2/2",null,null,null,null,null,null,null,null,{"$f":"'DR-1'!M10&\".\"&'DR-1'!Q24&Wersja","v":"2023..1.15.0.44867"}]
[9]
[9,"Załącznik nr 6"]
[9,"WYPEŁNIĆ DUŻYMI, DRUKOWANYMI LITERAMI, CZARNYM LUB NIEBIESKIM KOLOREM."]
[{"$f":"$A$4","v":4.5}]
[{"$f":"$A$2","v":9},"1. Identyfikator podatkowy NIP/numer PESEL (niepotrzebne skreślić)1)\n└────┴────┴────┴────┴────┴────┴────┴────┴────┴────┴────┘",null,null,null,null,null,null,"2.  Nr dokumentu"]
[{"$f":"$A$6","v":19.5},null,{"$f":"$C$6","v":0}]
[{"$f":"$A$2","v":9}]
[{"$f":"$A$8","v":16.5},"ZDR-1"]
[16.5,"ZAŁĄCZNIK DO DEKLARACJI NA PODATEK ROLNY"]
[16.5,"- DANE O PRZEDMIOTACH OPODATKOWANIA PODLEGAJĄCYCH OPODATKOWANIU"]
[{"$f":"$A$2","v":9},null,null,null,null,null,null,null,null,null,null,null,null,"3. Nr załącznika"]
[{"$f":"$A$6","v":19.5},null,null,null,null,null,null,null,null,null,null,null,null,{"$f":"N1848+1","v":29},null,null,{"$f":"IF(COUNTA(C1926:J1933,C1947:J1966,L1947:O1966,L1926:O1933)=0,0,1)","v":0}]
[{"$f":"$A$4","v":4.5}]
[4.5]
[{"$f":"$A$8*1.5","v":24.75},"A.  DANE PODATNIKA WSKAZANEGO W CZĘŚCI C.1 DEKLARACJI DR-1\n* - dotyczy podatnika niebędącego osobą fizyczną               ** - dotyczy podatnika będącego osobą fizyczną"]
[{"$f":"$A$2","v":9},null,"4. Nazwa pełna * / Nazwisko **",null,null,null,null,null,"5. Nazwa skrócona * / Pierwsze imię **"]
[{"$f":"$A$6","v":19.5},null,{"$f":"\"\"&$C$17","v":""},null,null,null,null,null,{"$f":"\"\"&I1853","v":""}]
[{"$f":"$A$4","v":4.5}]
[{"$f":"$A$8","v":16.5},"B.  DANE O POSZCZEGÓLNYCH PRZEDMIOTACH OPODATKOWANIA PODLEGAJĄCYCH OPODATKOWANIU"]
[{"$f":"$A$8*1.5","v":24.75},"Lp.","Położenie (adres, w tym dzielnica)",null,null,"Nr księgi wieczystej\n(zbioru dokumentów)","Nr obrębu\n(arkusza mapy)2)","Nr działki","Powierzchnia \nw ha3)",null,"Rodzaj\nużytku","Klasa\nużytku","Forma\nwładania 4)","Podstawa prawna ulgi 5)"]
[{"$f":"$A$2","v":9},null,"a",null,null,"b","c","d","e",null,"f","g","h","i"]
[{"$f":"$A$6","v":19.5},1]
[19.5,2]
[19.5,3]
[19.5,4]
[19.5,5]
[19.5,6]
[19.5,7]
[19.5,8]
[{"$f":"$A$2","v":9}]
[9]
[{"$f":"$A$2*2","v":18},"1)","Numer PESEL wpisują podatnicy będący osobami fizycznymi objętymi rejestrem PESEL, nieprowadzący działalności gospodarczej lub niebędący zarejestrowanymi podatnikami podatku od towarów i usług.\nIdentyfikator podatkowy NIP wpisują pozostali podatnicy."]
[{"$f":"$A$2","v":9},"2)","Numer obrębu należy podać wraz z numerem arkusza mapy ewidencyjnej w przypadku, gdy działki numerowane są w ramach arkusza mapy."]
[9,"3)","Należy podać z dokładnością do czterech miejsc po przecinku."]
[9,"4)","Należy podać jedną z form władania: własność, użytkowanie wieczyste, posiadanie samoistne, posiadanie zależne lub posiadanie bez tytułu prawnego."]
[9,"5)","Należy podać jednostkę redakcyjną z ustawy lub uchwały rady gminy."]
[{"$f":"$A$8","v":16.5},null,{"$f":"'DR-1'!M10&\".\"&'DR-1'!Q24&Wersja","v":"2023..1.15.0.44867"},null,null,null,null,null,null,null,null,null,null,"ZDR-1(1)","1/2"]
[{"$f":"$A$2","v":9}]
[9,"WYPEŁNIĆ DUŻYMI, DRUKOWANYMI LITERAMI, CZARNYM LUB NIEBIESKIM KOLOREM."]
[4.5]
[{"$f":"$A$8*1.5","v":24.75},"Lp.","Położenie (adres, w tym dzielnica)",null,null,"Nr księgi wieczystej\n(zbioru dokumentów)","Nr obrębu\n(arkusza mapy)2)","Nr działki","Powierzchnia \nw ha3)",null,"Rodzaj\nużytku","Klasa\nużytku","Forma\nwładania 4)","Podstawa prawna ulgi 5)"]
[{"$f":"$A$2","v":9},null,"a",null,null,"b","c","d","e",null,"f","g","h","i"]
[{"$f":"$A$6","v":19.5},9]
[19.5,{"$f":"B1947+1","v":10}]
[19.5,11]
[19.5,12]
[19.5,13]
[19.5,14]
[19.5,15]
[19.5,16]
[19.5,17]
[19.5,18]
[19.5,19]
[19.5,20]
[19.5,21]
[19.5,22]
[19.5,23]
[19.5,24]
[19.5,25]
[19.5,26]
[19.5,27]
[19.5,28]
[{"$f":"$A$2","v":9}]
[9]
[9]
[9]
[9]
[{"$f":"$A$8","v":16.5},null,"ZDR-1(1)","2/2",null,null,null,null,null,null,null,null,{"$f":"'DR-1'!M10&\".\"&'DR-1'!Q24&Wersja","v":"2023..1.15.0.44867"}]
[9]
[9,"Załącznik nr 6"]
[9,"WYPEŁNIĆ DUŻYMI, DRUKOWANYMI LITERAMI, CZARNYM LUB NIEBIESKIM KOLOREM."]
[{"$f":"$A$4","v":4.5}]
[{"$f":"$A$2","v":9},"1. Identyfikator podatkowy NIP/numer PESEL (niepotrzebne skreślić)1)\n└────┴────┴────┴────┴────┴────┴────┴────┴────┴────┴────┘",null,null,null,null,null,null,"2.  Nr dokumentu"]
[{"$f":"$A$6","v":19.5},null,{"$f":"$C$6","v":0}]
[{"$f":"$A$2","v":9}]
[{"$f":"$A$8","v":16.5},"ZDR-1"]
[16.5,"ZAŁĄCZNIK DO DEKLARACJI NA PODATEK ROLNY"]
[16.5,"- DANE O PRZEDMIOTACH OPODATKOWANIA PODLEGAJĄCYCH OPODATKOWANIU"]
[{"$f":"$A$2","v":9},null,null,null,null,null,null,null,null,null,null,null,null,"3. Nr załącznika"]
[{"$f":"$A$6","v":19.5},null,null,null,null,null,null,null,null,null,null,null,null,{"$f":"N1916+1","v":30},null,null,{"$f":"IF(COUNTA(C1994:J2001,C2015:J2034,L2015:O2034,L1994:O2001)=0,0,1)","v":0}]
[{"$f":"$A$4","v":4.5}]
[4.5]
[{"$f":"$A$8*1.5","v":24.75},"A.  DANE PODATNIKA WSKAZANEGO W CZĘŚCI C.1 DEKLARACJI DR-1\n* - dotyczy podatnika niebędącego osobą fizyczną               ** - dotyczy podatnika będącego osobą fizyczną"]
[{"$f":"$A$2","v":9},null,"4. Nazwa pełna * / Nazwisko **",null,null,null,null,null,"5. Nazwa skrócona * / Pierwsze imię **"]
[{"$f":"$A$6","v":19.5},null,{"$f":"\"\"&$C$17","v":""},null,null,null,null,null,{"$f":"\"\"&I1921","v":""}]
[{"$f":"$A$4","v":4.5}]
[{"$f":"$A$8","v":16.5},"B.  DANE O POSZCZEGÓLNYCH PRZEDMIOTACH OPODATKOWANIA PODLEGAJĄCYCH OPODATKOWANIU"]
[{"$f":"$A$8*1.5","v":24.75},"Lp.","Położenie (adres, w tym dzielnica)",null,null,"Nr księgi wieczystej\n(zbioru dokumentów)","Nr obrębu\n(arkusza mapy)2)","Nr działki","Powierzchnia \nw ha3)",null,"Rodzaj\nużytku","Klasa\nużytku","Forma\nwładania 4)","Podstawa prawna ulgi 5)"]
[{"$f":"$A$2","v":9},null,"a",null,null,"b","c","d","e",null,"f","g","h","i"]
[{"$f":"$A$6","v":19.5},1]
[19.5,2]
[19.5,3]
[19.5,4]
[19.5,5]
[19.5,6]
[19.5,7]
[19.5,8]
[{"$f":"$A$2","v":9}]
[9]
[{"$f":"$A$2*2","v":18},"1)","Numer PESEL wpisują podatnicy będący osobami fizycznymi objętymi rejestrem PESEL, nieprowadzący działalności gospodarczej lub niebędący zarejestrowanymi podatnikami podatku od towarów i usług.\nIdentyfikator podatkowy NIP wpisują pozostali podatnicy."]
[{"$f":"$A$2","v":9},"2)","Numer obrębu należy podać wraz z numerem arkusza mapy ewidencyjnej w przypadku, gdy działki numerowane są w ramach arkusza mapy."]
[9,"3)","Należy podać z dokładnością do czterech miejsc po przecinku."]
[9,"4)","Należy podać jedną z form władania: własność, użytkowanie wieczyste, posiadanie samoistne, posiadanie zależne lub posiadanie bez tytułu prawnego."]
[9,"5)","Należy podać jednostkę redakcyjną z ustawy lub uchwały rady gminy."]
[{"$f":"$A$8","v":16.5},null,{"$f":"'DR-1'!M10&\".\"&'DR-1'!Q24&Wersja","v":"2023..1.15.0.44867"},null,null,null,null,null,null,null,null,null,null,"ZDR-1(1)","1/2"]
[{"$f":"$A$2","v":9}]
[9,"WYPEŁNIĆ DUŻYMI, DRUKOWANYMI LITERAMI, CZARNYM LUB NIEBIESKIM KOLOREM."]
[4.5]
[{"$f":"$A$8*1.5","v":24.75},"Lp.","Położenie (adres, w tym dzielnica)",null,null,"Nr księgi wieczystej\n(zbioru dokumentów)","Nr obrębu\n(arkusza mapy)2)","Nr działki","Powierzchnia \nw ha3)",null,"Rodzaj\nużytku","Klasa\nużytku","Forma\nwładania 4)","Podstawa prawna ulgi 5)"]
[{"$f":"$A$2","v":9},null,"a",null,null,"b","c","d","e",null,"f","g","h","i"]
[{"$f":"$A$6","v":19.5},9]
[19.5,{"$f":"B2015+1","v":10}]
[19.5,11]
[19.5,12]
[19.5,13]
[19.5,14]
[19.5,15]
[19.5,16]
[19.5,17]
[19.5,18]
[19.5,19]
[19.5,20]
[19.5,21]
[19.5,22]
[19.5,23]
[19.5,24]
[19.5,25]
[19.5,26]
[19.5,27]
[19.5,28]
[{"$f":"$A$2","v":9}]
[9]
[9]
[9]
[9]
[{"$f":"$A$8","v":16.5},null,"ZDR-1(1)","2/2",null,null,null,null,null,null,null,null,{"$f":"'DR-1'!M10&\".\"&'DR-1'!Q24&Wersja","v":"2023..1.15.0.44867"}]
[9]
[9,"Załącznik nr 6"]
[9,"WYPEŁNIĆ DUŻYMI, DRUKOWANYMI LITERAMI, CZARNYM LUB NIEBIESKIM KOLOREM."]
[{"$f":"$A$4","v":4.5}]
[{"$f":"$A$2","v":9},"1. Identyfikator podatkowy NIP/numer PESEL (niepotrzebne skreślić)1)\n└────┴────┴────┴────┴────┴────┴────┴────┴────┴────┴────┘",null,null,null,null,null,null,"2.  Nr dokumentu"]
[{"$f":"$A$6","v":19.5},null,{"$f":"$C$6","v":0}]
[{"$f":"$A$2","v":9}]
[{"$f":"$A$8","v":16.5},"ZDR-1"]
[16.5,"ZAŁĄCZNIK DO DEKLARACJI NA PODATEK ROLNY"]
[16.5,"- DANE O PRZEDMIOTACH OPODATKOWANIA PODLEGAJĄCYCH OPODATKOWANIU"]
[{"$f":"$A$2","v":9},null,null,null,null,null,null,null,null,null,null,null,null,"3. Nr załącznika"]
[{"$f":"$A$6","v":19.5},null,null,null,null,null,null,null,null,null,null,null,null,{"$f":"N1984+1","v":31},null,null,{"$f":"IF(COUNTA(C2062:J2069,C2083:J2102,L2083:O2102,L2062:O2069)=0,0,1)","v":0}]
[{"$f":"$A$4","v":4.5}]
[4.5]
[{"$f":"$A$8*1.5","v":24.75},"A.  DANE PODATNIKA WSKAZANEGO W CZĘŚCI C.1 DEKLARACJI DR-1\n* - dotyczy podatnika niebędącego osobą fizyczną               ** - dotyczy podatnika będącego osobą fizyczną"]
[{"$f":"$A$2","v":9},null,"4. Nazwa pełna * / Nazwisko **",null,null,null,null,null,"5. Nazwa skrócona * / Pierwsze imię **"]
[{"$f":"$A$6","v":19.5},null,{"$f":"\"\"&$C$17","v":""},null,null,null,null,null,{"$f":"\"\"&I1989","v":""}]
[{"$f":"$A$4","v":4.5}]
[{"$f":"$A$8","v":16.5},"B.  DANE O POSZCZEGÓLNYCH PRZEDMIOTACH OPODATKOWANIA PODLEGAJĄCYCH OPODATKOWANIU"]
[{"$f":"$A$8*1.5","v":24.75},"Lp.","Położenie (adres, w tym dzielnica)",null,null,"Nr księgi wieczystej\n(zbioru dokumentów)","Nr obrębu\n(arkusza mapy)2)","Nr działki","Powierzchnia \nw ha3)",null,"Rodzaj\nużytku","Klasa\nużytku","Forma\nwładania 4)","Podstawa prawna ulgi 5)"]
[{"$f":"$A$2","v":9},null,"a",null,null,"b","c","d","e",null,"f","g","h","i"]
[{"$f":"$A$6","v":19.5},1]
[19.5,2]
[19.5,3]
[19.5,4]
[19.5,5]
[19.5,6]
[19.5,7]
[19.5,8]
[{"$f":"$A$2","v":9}]
[9]
[{"$f":"$A$2*2","v":18},"1)","Numer PESEL wpisują podatnicy będący osobami fizycznymi objętymi rejestrem PESEL, nieprowadzący działalności gospodarczej lub niebędący zarejestrowanymi podatnikami podatku od towarów i usług.\nIdentyfikator podatkowy NIP wpisują pozostali podatnicy."]
[{"$f":"$A$2","v":9},"2)","Numer obrębu należy podać wraz z numerem arkusza mapy ewidencyjnej w przypadku, gdy działki numerowane są w ramach arkusza mapy."]
[9,"3)","Należy podać z dokładnością do czterech miejsc po przecinku."]
[9,"4)","Należy podać jedną z form władania: własność, użytkowanie wieczyste, posiadanie samoistne, posiadanie zależne lub posiadanie bez tytułu prawnego."]
[9,"5)","Należy podać jednostkę redakcyjną z ustawy lub uchwały rady gminy."]
[{"$f":"$A$8","v":16.5},null,{"$f":"'DR-1'!M10&\".\"&'DR-1'!Q24&Wersja","v":"2023..1.15.0.44867"},null,null,null,null,null,null,null,null,null,null,"ZDR-1(1)","1/2"]
[{"$f":"$A$2","v":9}]
[9,"WYPEŁNIĆ DUŻYMI, DRUKOWANYMI LITERAMI, CZARNYM LUB NIEBIESKIM KOLOREM."]
[4.5]
[{"$f":"$A$8*1.5","v":24.75},"Lp.","Położenie (adres, w tym dzielnica)",null,null,"Nr księgi wieczystej\n(zbioru dokumentów)","Nr obrębu\n(arkusza mapy)2)","Nr działki","Powierzchnia \nw ha3)",null,"Rodzaj\nużytku","Klasa\nużytku","Forma\nwładania 4)","Podstawa prawna ulgi 5)"]
[{"$f":"$A$2","v":9},null,"a",null,null,"b","c","d","e",null,"f","g","h","i"]
[{"$f":"$A$6","v":19.5},9]
[19.5,{"$f":"B2083+1","v":10}]
[19.5,11]
[19.5,12]
[19.5,13]
[19.5,14]
[19.5,15]
[19.5,16]
[19.5,17]
[19.5,18]
[19.5,19]
[19.5,20]
[19.5,21]
[19.5,22]
[19.5,23]
[19.5,24]
[19.5,25]
[19.5,26]
[19.5,27]
[19.5,28]
[{"$f":"$A$2","v":9}]
[9]
[9]
[9]
[9]
[{"$f":"$A$8","v":16.5},null,"ZDR-1(1)","2/2",null,null,null,null,null,null,null,null,{"$f":"'DR-1'!M10&\".\"&'DR-1'!Q24&Wersja","v":"2023..1.15.0.44867"}]
[9]
[9,"Załącznik nr 6"]
[9,"WYPEŁNIĆ DUŻYMI, DRUKOWANYMI LITERAMI, CZARNYM LUB NIEBIESKIM KOLOREM."]
[{"$f":"$A$4","v":4.5}]
[{"$f":"$A$2","v":9},"1. Identyfikator podatkowy NIP/numer PESEL (niepotrzebne skreślić)1)\n└────┴────┴────┴────┴────┴────┴────┴────┴────┴────┴────┘",null,null,null,null,null,null,"2.  Nr dokumentu"]
[{"$f":"$A$6","v":19.5},null,{"$f":"$C$6","v":0}]
[{"$f":"$A$2","v":9}]
[{"$f":"$A$8","v":16.5},"ZDR-1"]
[16.5,"ZAŁĄCZNIK DO DEKLARACJI NA PODATEK ROLNY"]
[16.5,"- DANE O PRZEDMIOTACH OPODATKOWANIA PODLEGAJĄCYCH OPODATKOWANIU"]
[{"$f":"$A$2","v":9},null,null,null,null,null,null,null,null,null,null,null,null,"3. Nr załącznika"]
[{"$f":"$A$6","v":19.5},null,null,null,null,null,null,null,null,null,null,null,null,{"$f":"N2052+1","v":32},null,null,{"$f":"IF(COUNTA(C2130:J2137,C2151:J2170,L2151:O2170,L2130:O2137)=0,0,1)","v":0}]
[{"$f":"$A$4","v":4.5}]
[4.5]
[{"$f":"$A$8*1.5","v":24.75},"A.  DANE PODATNIKA WSKAZANEGO W CZĘŚCI C.1 DEKLARACJI DR-1\n* - dotyczy podatnika niebędącego osobą fizyczną               ** - dotyczy podatnika będącego osobą fizyczną"]
[{"$f":"$A$2","v":9},null,"4. Nazwa pełna * / Nazwisko **",null,null,null,null,null,"5. Nazwa skrócona * / Pierwsze imię **"]
[{"$f":"$A$6","v":19.5},null,{"$f":"\"\"&$C$17","v":""},null,null,null,null,null,{"$f":"\"\"&I2057","v":""}]
[{"$f":"$A$4","v":4.5}]
[{"$f":"$A$8","v":16.5},"B.  DANE O POSZCZEGÓLNYCH PRZEDMIOTACH OPODATKOWANIA PODLEGAJĄCYCH OPODATKOWANIU"]
[{"$f":"$A$8*1.5","v":24.75},"Lp.","Położenie (adres, w tym dzielnica)",null,null,"Nr księgi wieczystej\n(zbioru dokumentów)","Nr obrębu\n(arkusza mapy)2)","Nr działki","Powierzchnia \nw ha3)",null,"Rodzaj\nużytku","Klasa\nużytku","Forma\nwładania 4)","Podstawa prawna ulgi 5)"]
[{"$f":"$A$2","v":9},null,"a",null,null,"b","c","d","e",null,"f","g","h","i"]
[{"$f":"$A$6","v":19.5},1]
[19.5,2]
[19.5,3]
[19.5,4]
[19.5,5]
[19.5,6]
[19.5,7]
[19.5,8]
[{"$f":"$A$2","v":9}]
[9]
[{"$f":"$A$2*2","v":18},"1)","Numer PESEL wpisują podatnicy będący osobami fizycznymi objętymi rejestrem PESEL, nieprowadzący działalności gospodarczej lub niebędący zarejestrowanymi podatnikami podatku od towarów i usług.\nIdentyfikator podatkowy NIP wpisują pozostali podatnicy."]
[{"$f":"$A$2","v":9},"2)","Numer obrębu należy podać wraz z numerem arkusza mapy ewidencyjnej w przypadku, gdy działki numerowane są w ramach arkusza mapy."]
[9,"3)","Należy podać z dokładnością do czterech miejsc po przecinku."]
[9,"4)","Należy podać jedną z form władania: własność, użytkowanie wieczyste, posiadanie samoistne, posiadanie zależne lub posiadanie bez tytułu prawnego."]
[9,"5)","Należy podać jednostkę redakcyjną z ustawy lub uchwały rady gminy."]
[{"$f":"$A$8","v":16.5},null,{"$f":"'DR-1'!M10&\".\"&'DR-1'!Q24&Wersja","v":"2023..1.15.0.44867"},null,null,null,null,null,null,null,null,null,null,"ZDR-1(1)","1/2"]
[{"$f":"$A$2","v":9}]
[9,"WYPEŁNIĆ DUŻYMI, DRUKOWANYMI LITERAMI, CZARNYM LUB NIEBIESKIM KOLOREM."]
[4.5]
[{"$f":"$A$8*1.5","v":24.75},"Lp.","Położenie (adres, w tym dzielnica)",null,null,"Nr księgi wieczystej\n(zbioru dokumentów)","Nr obrębu\n(arkusza mapy)2)","Nr działki","Powierzchnia \nw ha3)",null,"Rodzaj\nużytku","Klasa\nużytku","Forma\nwładania 4)","Podstawa prawna ulgi 5)"]
[{"$f":"$A$2","v":9},null,"a",null,null,"b","c","d","e",null,"f","g","h","i"]
[{"$f":"$A$6","v":19.5},9]
[19.5,{"$f":"B2151+1","v":10}]
[19.5,11]
[19.5,12]
[19.5,13]
[19.5,14]
[19.5,15]
[19.5,16]
[19.5,17]
[19.5,18]
[19.5,19]
[19.5,20]
[19.5,21]
[19.5,22]
[19.5,23]
[19.5,24]
[19.5,25]
[19.5,26]
[19.5,27]
[19.5,28]
[{"$f":"$A$2","v":9}]
[9]
[9]
[9]
[9]
[{"$f":"$A$8","v":16.5},null,"ZDR-1(1)","2/2",null,null,null,null,null,null,null,null,{"$f":"'DR-1'!M10&\".\"&'DR-1'!Q24&Wersja","v":"2023..1.15.0.44867"}]
[9]
[9,"Załącznik nr 6"]
[9,"WYPEŁNIĆ DUŻYMI, DRUKOWANYMI LITERAMI, CZARNYM LUB NIEBIESKIM KOLOREM."]
[{"$f":"$A$4","v":4.5}]
[{"$f":"$A$2","v":9},"1. Identyfikator podatkowy NIP/numer PESEL (niepotrzebne skreślić)1)\n└────┴────┴────┴────┴────┴────┴────┴────┴────┴────┴────┘",null,null,null,null,null,null,"2.  Nr dokumentu"]
[{"$f":"$A$6","v":19.5},null,{"$f":"$C$6","v":0}]
[{"$f":"$A$2","v":9}]
[{"$f":"$A$8","v":16.5},"ZDR-1"]
[16.5,"ZAŁĄCZNIK DO DEKLARACJI NA PODATEK ROLNY"]
[16.5,"- DANE O PRZEDMIOTACH OPODATKOWANIA PODLEGAJĄCYCH OPODATKOWANIU"]
[{"$f":"$A$2","v":9},null,null,null,null,null,null,null,null,null,null,null,null,"3. Nr załącznika"]
[{"$f":"$A$6","v":19.5},null,null,null,null,null,null,null,null,null,null,null,null,{"$f":"N2120+1","v":33},null,null,{"$f":"IF(COUNTA(C2198:J2205,C2219:J2238,L2219:O2238,L2198:O2205)=0,0,1)","v":0}]
[{"$f":"$A$4","v":4.5}]
[4.5]
[{"$f":"$A$8*1.5","v":24.75},"A.  DANE PODATNIKA WSKAZANEGO W CZĘŚCI C.1 DEKLARACJI DR-1\n* - dotyczy podatnika niebędącego osobą fizyczną               ** - dotyczy podatnika będącego osobą fizyczną"]
[{"$f":"$A$2","v":9},null,"4. Nazwa pełna * / Nazwisko **",null,null,null,null,null,"5. Nazwa skrócona * / Pierwsze imię **"]
[{"$f":"$A$6","v":19.5},null,{"$f":"\"\"&$C$17","v":""},null,null,null,null,null,{"$f":"\"\"&I2125","v":""}]
[{"$f":"$A$4","v":4.5}]
[{"$f":"$A$8","v":16.5},"B.  DANE O POSZCZEGÓLNYCH PRZEDMIOTACH OPODATKOWANIA PODLEGAJĄCYCH OPODATKOWANIU"]
[{"$f":"$A$8*1.5","v":24.75},"Lp.","Położenie (adres, w tym dzielnica)",null,null,"Nr księgi wieczystej\n(zbioru dokumentów)","Nr obrębu\n(arkusza mapy)2)","Nr działki","Powierzchnia \nw ha3)",null,"Rodzaj\nużytku","Klasa\nużytku","Forma\nwładania 4)","Podstawa prawna ulgi 5)"]
[{"$f":"$A$2","v":9},null,"a",null,null,"b","c","d","e",null,"f","g","h","i"]
[{"$f":"$A$6","v":19.5},1]
[19.5,2]
[19.5,3]
[19.5,4]
[19.5,5]
[19.5,6]
[19.5,7]
[19.5,8]
[{"$f":"$A$2","v":9}]
[9]
[{"$f":"$A$2*2","v":18},"1)","Numer PESEL wpisują podatnicy będący osobami fizycznymi objętymi rejestrem PESEL, nieprowadzący działalności gospodarczej lub niebędący zarejestrowanymi podatnikami podatku od towarów i usług.\nIdentyfikator podatkowy NIP wpisują pozostali podatnicy."]
[{"$f":"$A$2","v":9},"2)","Numer obrębu należy podać wraz z numerem arkusza mapy ewidencyjnej w przypadku, gdy działki numerowane są w ramach arkusza mapy."]
[9,"3)","Należy podać z dokładnością do czterech miejsc po przecinku."]
[9,"4)","Należy podać jedną z form władania: własność, użytkowanie wieczyste, posiadanie samoistne, posiadanie zależne lub posiadanie bez tytułu prawnego."]
[9,"5)","Należy podać jednostkę redakcyjną z ustawy lub uchwały rady gminy."]
[{"$f":"$A$8","v":16.5},null,{"$f":"'DR-1'!M10&\".\"&'DR-1'!Q24&Wersja","v":"2023..1.15.0.44867"},null,null,null,null,null,null,null,null,null,null,"ZDR-1(1)","1/2"]
[{"$f":"$A$2","v":9}]
[9,"WYPEŁNIĆ DUŻYMI, DRUKOWANYMI LITERAMI, CZARNYM LUB NIEBIESKIM KOLOREM."]
[4.5]
[{"$f":"$A$8*1.5","v":24.75},"Lp.","Położenie (adres, w tym dzielnica)",null,null,"Nr księgi wieczystej\n(zbioru dokumentów)","Nr obrębu\n(arkusza mapy)2)","Nr działki","Powierzchnia \nw ha3)",null,"Rodzaj\nużytku","Klasa\nużytku","Forma\nwładania 4)","Podstawa prawna ulgi 5)"]
[{"$f":"$A$2","v":9},null,"a",null,null,"b","c","d","e",null,"f","g","h","i"]
[{"$f":"$A$6","v":19.5},9]
[19.5,{"$f":"B2219+1","v":10}]
[19.5,11]
[19.5,12]
[19.5,13]
[19.5,14]
[19.5,15]
[19.5,16]
[19.5,17]
[19.5,18]
[19.5,19]
[19.5,20]
[19.5,21]
[19.5,22]
[19.5,23]
[19.5,24]
[19.5,25]
[19.5,26]
[19.5,27]
[19.5,28]
[{"$f":"$A$2","v":9}]
[9]
[9]
[9]
[9]
[{"$f":"$A$8","v":16.5},null,"ZDR-1(1)","2/2",null,null,null,null,null,null,null,null,{"$f":"'DR-1'!M10&\".\"&'DR-1'!Q24&Wersja","v":"2023..1.15.0.44867"}]
[9]
[9,"Załącznik nr 6"]
[9,"WYPEŁNIĆ DUŻYMI, DRUKOWANYMI LITERAMI, CZARNYM LUB NIEBIESKIM KOLOREM."]
[{"$f":"$A$4","v":4.5}]
[{"$f":"$A$2","v":9},"1. Identyfikator podatkowy NIP/numer PESEL (niepotrzebne skreślić)1)\n└────┴────┴────┴────┴────┴────┴────┴────┴────┴────┴────┘",null,null,null,null,null,null,"2.  Nr dokumentu"]
[{"$f":"$A$6","v":19.5},null,{"$f":"$C$6","v":0}]
[{"$f":"$A$2","v":9}]
[{"$f":"$A$8","v":16.5},"ZDR-1"]
[16.5,"ZAŁĄCZNIK DO DEKLARACJI NA PODATEK ROLNY"]
[16.5,"- DANE O PRZEDMIOTACH OPODATKOWANIA PODLEGAJĄCYCH OPODATKOWANIU"]
[{"$f":"$A$2","v":9},null,null,null,null,null,null,null,null,null,null,null,null,"3. Nr załącznika"]
[{"$f":"$A$6","v":19.5},null,null,null,null,null,null,null,null,null,null,null,null,{"$f":"N2188+1","v":34},null,null,{"$f":"IF(COUNTA(C2266:J2273,C2287:J2306,L2287:O2306,L2266:O2273)=0,0,1)","v":0}]
[{"$f":"$A$4","v":4.5}]
[4.5]
[{"$f":"$A$8*1.5","v":24.75},"A.  DANE PODATNIKA WSKAZANEGO W CZĘŚCI C.1 DEKLARACJI DR-1\n* - dotyczy podatnika niebędącego osobą fizyczną               ** - dotyczy podatnika będącego osobą fizyczną"]
[{"$f":"$A$2","v":9},null,"4. Nazwa pełna * / Nazwisko **",null,null,null,null,null,"5. Nazwa skrócona * / Pierwsze imię **"]
[{"$f":"$A$6","v":19.5},null,{"$f":"\"\"&$C$17","v":""},null,null,null,null,null,{"$f":"\"\"&I2193","v":""}]
[{"$f":"$A$4","v":4.5}]
[{"$f":"$A$8","v":16.5},"B.  DANE O POSZCZEGÓLNYCH PRZEDMIOTACH OPODATKOWANIA PODLEGAJĄCYCH OPODATKOWANIU"]
[{"$f":"$A$8*1.5","v":24.75},"Lp.","Położenie (adres, w tym dzielnica)",null,null,"Nr księgi wieczystej\n(zbioru dokumentów)","Nr obrębu\n(arkusza mapy)2)","Nr działki","Powierzchnia \nw ha3)",null,"Rodzaj\nużytku","Klasa\nużytku","Forma\nwładania 4)","Podstawa prawna ulgi 5)"]
[{"$f":"$A$2","v":9},null,"a",null,null,"b","c","d","e",null,"f","g","h","i"]
[{"$f":"$A$6","v":19.5},1]
[19.5,2]
[19.5,3]
[19.5,4]
[19.5,5]
[19.5,6]
[19.5,7]
[19.5,8]
[{"$f":"$A$2","v":9}]
[9]
[{"$f":"$A$2*2","v":18},"1)","Numer PESEL wpisują podatnicy będący osobami fizycznymi objętymi rejestrem PESEL, nieprowadzący działalności gospodarczej lub niebędący zarejestrowanymi podatnikami podatku od towarów i usług.\nIdentyfikator podatkowy NIP wpisują pozostali podatnicy."]
[{"$f":"$A$2","v":9},"2)","Numer obrębu należy podać wraz z numerem arkusza mapy ewidencyjnej w przypadku, gdy działki numerowane są w ramach arkusza mapy."]
[9,"3)","Należy podać z dokładnością do czterech miejsc po przecinku."]
[9,"4)","Należy podać jedną z form władania: własność, użytkowanie wieczyste, posiadanie samoistne, posiadanie zależne lub posiadanie bez tytułu prawnego."]
[9,"5)","Należy podać jednostkę redakcyjną z ustawy lub uchwały rady gminy."]
[{"$f":"$A$8","v":16.5},null,{"$f":"'DR-1'!M10&\".\"&'DR-1'!Q24&Wersja","v":"2023..1.15.0.44867"},null,null,null,null,null,null,null,null,null,null,"ZDR-1(1)","1/2"]
[{"$f":"$A$2","v":9}]
[9,"WYPEŁNIĆ DUŻYMI, DRUKOWANYMI LITERAMI, CZARNYM LUB NIEBIESKIM KOLOREM."]
[4.5]
[{"$f":"$A$8*1.5","v":24.75},"Lp.","Położenie (adres, w tym dzielnica)",null,null,"Nr księgi wieczystej\n(zbioru dokumentów)","Nr obrębu\n(arkusza mapy)2)","Nr działki","Powierzchnia \nw ha3)",null,"Rodzaj\nużytku","Klasa\nużytku","Forma\nwładania 4)","Podstawa prawna ulgi 5)"]
[{"$f":"$A$2","v":9},null,"a",null,null,"b","c","d","e",null,"f","g","h","i"]
[{"$f":"$A$6","v":19.5},9]
[19.5,{"$f":"B2287+1","v":10}]
[19.5,11]
[19.5,12]
[19.5,13]
[19.5,14]
[19.5,15]
[19.5,16]
[19.5,17]
[19.5,18]
[19.5,19]
[19.5,20]
[19.5,21]
[19.5,22]
[19.5,23]
[19.5,24]
[19.5,25]
[19.5,26]
[19.5,27]
[19.5,28]
[{"$f":"$A$2","v":9}]
[9]
[9]
[9]
[9]
[{"$f":"$A$8","v":16.5},null,"ZDR-1(1)","2/2",null,null,null,null,null,null,null,null,{"$f":"'DR-1'!M10&\".\"&'DR-1'!Q24&Wersja","v":"2023..1.15.0.44867"}]
[9]
[9,"Załącznik nr 6"]
[9,"WYPEŁNIĆ DUŻYMI, DRUKOWANYMI LITERAMI, CZARNYM LUB NIEBIESKIM KOLOREM."]
[{"$f":"$A$4","v":4.5}]
[{"$f":"$A$2","v":9},"1. Identyfikator podatkowy NIP/numer PESEL (niepotrzebne skreślić)1)\n└────┴────┴────┴────┴────┴────┴────┴────┴────┴────┴────┘",null,null,null,null,null,null,"2.  Nr dokumentu"]
[{"$f":"$A$6","v":19.5},null,{"$f":"$C$6","v":0}]
[{"$f":"$A$2","v":9}]
[{"$f":"$A$8","v":16.5},"ZDR-1"]
[16.5,"ZAŁĄCZNIK DO DEKLARACJI NA PODATEK ROLNY"]
[16.5,"- DANE O PRZEDMIOTACH OPODATKOWANIA PODLEGAJĄCYCH OPODATKOWANIU"]
[{"$f":"$A$2","v":9},null,null,null,null,null,null,null,null,null,null,null,null,"3. Nr załącznika"]
[{"$f":"$A$6","v":19.5},null,null,null,null,null,null,null,null,null,null,null,null,{"$f":"N2256+1","v":35},null,null,{"$f":"IF(COUNTA(C2334:J2341,C2355:J2374,L2355:O2374,L2334:O2341)=0,0,1)","v":0}]
[{"$f":"$A$4","v":4.5}]
[4.5]
[{"$f":"$A$8*1.5","v":24.75},"A.  DANE PODATNIKA WSKAZANEGO W CZĘŚCI C.1 DEKLARACJI DR-1\n* - dotyczy podatnika niebędącego osobą fizyczną               ** - dotyczy podatnika będącego osobą fizyczną"]
[{"$f":"$A$2","v":9},null,"4. Nazwa pełna * / Nazwisko **",null,null,null,null,null,"5. Nazwa skrócona * / Pierwsze imię **"]
[{"$f":"$A$6","v":19.5},null,{"$f":"\"\"&$C$17","v":""},null,null,null,null,null,{"$f":"\"\"&I2261","v":""}]
[{"$f":"$A$4","v":4.5}]
[{"$f":"$A$8","v":16.5},"B.  DANE O POSZCZEGÓLNYCH PRZEDMIOTACH OPODATKOWANIA PODLEGAJĄCYCH OPODATKOWANIU"]
[{"$f":"$A$8*1.5","v":24.75},"Lp.","Położenie (adres, w tym dzielnica)",null,null,"Nr księgi wieczystej\n(zbioru dokumentów)","Nr obrębu\n(arkusza mapy)2)","Nr działki","Powierzchnia \nw ha3)",null,"Rodzaj\nużytku","Klasa\nużytku","Forma\nwładania 4)","Podstawa prawna ulgi 5)"]
[{"$f":"$A$2","v":9},null,"a",null,null,"b","c","d","e",null,"f","g","h","i"]
[{"$f":"$A$6","v":19.5},1]
[19.5,2]
[19.5,3]
[19.5,4]
[19.5,5]
[19.5,6]
[19.5,7]
[19.5,8]
[{"$f":"$A$2","v":9}]
[9]
[{"$f":"$A$2*2","v":18},"1)","Numer PESEL wpisują podatnicy będący osobami fizycznymi objętymi rejestrem PESEL, nieprowadzący działalności gospodarczej lub niebędący zarejestrowanymi podatnikami podatku od towarów i usług.\nIdentyfikator podatkowy NIP wpisują pozostali podatnicy."]
[{"$f":"$A$2","v":9},"2)","Numer obrębu należy podać wraz z numerem arkusza mapy ewidencyjnej w przypadku, gdy działki numerowane są w ramach arkusza mapy."]
[9,"3)","Należy podać z dokładnością do czterech miejsc po przecinku."]
[9,"4)","Należy podać jedną z form władania: własność, użytkowanie wieczyste, posiadanie samoistne, posiadanie zależne lub posiadanie bez tytułu prawnego."]
[9,"5)","Należy podać jednostkę redakcyjną z ustawy lub uchwały rady gminy."]
[{"$f":"$A$8","v":16.5},null,{"$f":"'DR-1'!M10&\".\"&'DR-1'!Q24&Wersja","v":"2023..1.15.0.44867"},null,null,null,null,null,null,null,null,null,null,"ZDR-1(1)","1/2"]
[{"$f":"$A$2","v":9}]
[9,"WYPEŁNIĆ DUŻYMI, DRUKOWANYMI LITERAMI, CZARNYM LUB NIEBIESKIM KOLOREM."]
[4.5]
[{"$f":"$A$8*1.5","v":24.75},"Lp.","Położenie (adres, w tym dzielnica)",null,null,"Nr księgi wieczystej\n(zbioru dokumentów)","Nr obrębu\n(arkusza mapy)2)","Nr działki","Powierzchnia \nw ha3)",null,"Rodzaj\nużytku","Klasa\nużytku","Forma\nwładania 4)","Podstawa prawna ulgi 5)"]
[{"$f":"$A$2","v":9},null,"a",null,null,"b","c","d","e",null,"f","g","h","i"]
[{"$f":"$A$6","v":19.5},9]
[19.5,{"$f":"B2355+1","v":10}]
[19.5,11]
[19.5,12]
[19.5,13]
[19.5,14]
[19.5,15]
[19.5,16]
[19.5,17]
[19.5,18]
[19.5,19]
[19.5,20]
[19.5,21]
[19.5,22]
[19.5,23]
[19.5,24]
[19.5,25]
[19.5,26]
[19.5,27]
[19.5,28]
[{"$f":"$A$2","v":9}]
[9]
[9]
[9]
[9]
[{"$f":"$A$8","v":16.5},null,"ZDR-1(1)","2/2",null,null,null,null,null,null,null,null,{"$f":"'DR-1'!M10&\".\"&'DR-1'!Q24&Wersja","v":"2023..1.15.0.44867"}]
[9]

{"sheet":"ZDR-2","index":5,"n_rows":681,"n_cols":17,"rows_kept":681,"cut":false,"hidden":false,"merged":[[271,12,271,13],[339,12,339,13],[407,12,407,13],[475,12,475,13],[543,12,543,13],[611,12,611,13],[679,12,679,13],[648,2,648,3],[580,2,580,3],[512,2,512,3],[444,2,444,3],[376,2,376,3],[308,2,308,3],[240,2,240,3],[172,2,172,3],[672,2,672,4],[672,8,672,9],[672,12,672,14],[673,2,673,4],[673,8,673,9],[673,12,673,14],[670,2,670,4],[670,8,670,9],[670,12,670,14],[671,2,671,4],[671,8,671,9],[671,12,671,14],[668,2,668,4],[668,8,668,9],[668,12,668,14],[669,2,669,4],[669,8,669,9],[669,12,669,14],[666,2,666,4],[666,8,666,9],[666,12,666,14],[667,2,667,4],[667,8,667,9],[667,12,667,14],[664,2,664,4],[664,8,664,9],[664,12,664,14],[665,2,665,4],[665,8,665,9],[665,12,665,14],[662,2,662,4],[662,8,662,9],[662,12,662,14],[663,2,663,4],[663,8,663,9],[663,12,663,14],[660,2,660,4],[660,8,660,9],[660,12,660,14],[661,2,661,4],[661,8,661,9],[661,12,661,14],[658,2,658,4],[658,8,658,9],[658,12,658,14],[659,2,659,4],[659,8,659,9],[659,12,659,14],[656,2,656,4],[656,8,656,9],[656,12,656,14],[657,2,657,4],[657,8,657,9],[657,12,657,14],[654,2,654,4],[654,8,654,9],[654,12,654,14],[655,2,655,4],[655,8,655,9],[655,12,655,14],[646,2,646,14],[650,1,650,14],[652,2,652,4],[652,8,652,9],[652,12,652,14],[653,2,653,4],[653,8,653,9],[653,12,653,14],[640,2,640,4],[640,8,640,9],[640,12,640,14],[643,2,643,14],[644,2,644,14],[645,2,645,14],[638,2,638,4],[638,8,638,9],[638,12,638,14],[639,2,639,4],[639,8,639,9],[639,12,639,14],[636,2,636,4],[636,8,636,9],[636,12,636,14],[637,2,637,4],[637,8,637,9],[637,12,637,14],[634,2,634,4],[634,8,634,9],[634,12,634,14],[635,2,635,4],[635,8,635,9],[635,12,635,14],[632,2,632,4],[632,8,632,9],[632,12,632,14],[633,2,633,4],[633,8,633,9],[633,12,633,14],[628,2,628,7],[628,8,628,14],[629,1,629,14],[630,1,630,14],[631,2,631,4],[631,8,631,9],[631,12,631,14],[620,1,620,13],[621,1,621,13],[625,1,625,14],[626,1,626,14],[627,2,627,7],[627,8,627,14],[613,1,613,14],[614,1,614,14],[616,1,616,7],[616,8,616,14],[617,2,617,6],[617,8,617,14],[604,2,604,4],[604,8,604,9],[604,12,604,14],[605,2,605,4],[605,8,605,9],[605,12,605,14],[602,2,602,4],[602,8,602,9],[602,12,602,14],[603,2,603,4],[603,8,603,9],[603,12,603,14],[600,2,600,4],[600,8,600,9],[600,12,600,14],[601,2,601,4],[601,8,601,9],[601,12,601,14],[598,2,598,4],[598,8,598,9],[598,12,598,14],[599,2,599,4],[599,8,599,9],[599,12,599,14],[596,2,596,4],[596,8,596,9],[596,12,596,14],[597,2,597,4],[597,8,597,9],[597,12,597,14],[594,2,594,4],[594,8,594,9],[594,12,594,14],[595,2,595,4],[595,8,595,9],[595,12,595,14],[592,2,592,4],[592,8,592,9],[592,12,592,14],[593,2,593,4],[593,8,593,9],[593,12,593,14],[590,2,590,4],[590,8,590,9],[590,12,590,14],[591,2,591,4],[591,8,591,9],[591,12,591,14],[588,2,588,4],[588,8,588,9],[588,12,588,14],[589,2,589,4],[589,8,589,9],[589,12,589,14],[586,2,586,4],[586,8,586,9],[586,12,586,14],[587,2,587,4],[587,8,587,9],[587,12,587,14],[578,2,578,14],[582,1,582,14],[584,2,584,4],[584,8,584,9],[584,12,584,14],[585,2,585,4],[585,8,585,9],[585,12,585,14],[572,2,572,4],[572,8,572,9],[572,12,572,14],[575,2,575,14],[576,2,576,14],[577,2,577,14],[570,2,570,4],[570,8,570,9],[570,12,570,14],[571,2,571,4],[571,8,571,9],[571,12,571,14],[568,2,568,4],[568,8,568,9],[568,12,568,14],[569,2,569,4],[569,8,569,9],[569,12,569,14],[566,2,566,4],[566,8,566,9],[566,12,566,14],[567,2,567,4],[567,8,567,9],[567,12,567,14],[564,2,564,4],[564,8,564,9],[564,12,564,14],[565,2,565,4],[565,8,565,9],[565,12,565,14],[560,2,560,7],[560,8,560,14],[561,1,561,14],[562,1,562,14],[563,2,563,4],[563,8,563,9],[563,12,563,14],[552,1,552,13],[553,1,553,13],[557,1,557,14],[558,1,558,14],[559,2,559,7],[559,8,559,14],[545,1,545,14],[546,1,546,14],[548,1,548,7],[548,8,548,14],[549,2,549,6],[549,8,549,14],[536,2,536,4],[536,8,536,9],[536,12,536,14],[537,2,537,4],[537,8,537,9],[537,12,537,14],[534,2,534,4],[534,8,534,9],[534,12,534,14],[535,2,535,4],[535,8,535,9],[535,12,535,14],[532,2,532,4],[532,8,532,9],[532,12,532,14],[533,2,533,4],[533,8,533,9],[533,12,533,14],[530,2,530,4],[530,8,530,9],[530,12,530,14],[531,2,531,4],[531,8,531,9],[531,12,531,14],[528,2,528,4],[528,8,528,9],[528,12,528,14],[529,2,529,4],[529,8,529,9],[529,12,529,14],[526,2,526,4],[526,8,526,9],[526,12,526,14],[527,2,527,4],[527,8,527,9],[527,12,527,14],[524,2,524,4],[524,8,524,9],[524,12,524,14],[525,2,525,4],[525,8,525,9],[525,12,525,14],[522,2,522,4],[522,8,522,9],[522,12,522,14],[523,2,523,4],[523,8,523,9],[523,12,523,14],[520,2,520,4],[520,8,520,9],[520,12,520,14],[521,2,521,4],[521,8,521,9],[521,12,521,14],[518,2,518,4],[518,8,518,9],[518,12,518,14],[519,2,519,4],[519,8,519,9],[519,12,519,14],[510,2,510,14],[514,1,514,14],[516,2,516,4],[516,8,516,9],[516,12,516,14],[517,2,517,4],[517,8,517,9],[517,12,517,14],[504,2,504,4],[504,8,504,9],[504,12,504,14],[507,2,507,14],[508,2,508,14],[509,2,509,14],[502,2,502,4],[502,8,502,9],[502,12,502,14],[503,2,503,4],[503,8,503,9],[503,12,503,14],[500,2,500,4],[500,8,500,9],[500,12,500,14],[501,2,501,4],[501,8,501,9],[501,12,501,14],[498,2,498,4],[498,8,498,9],[498,12,498,14],[499,2,499,4],[499,8,499,9],[499,12,499,14],[496,2,496,4],[496,8,496,9],[496,12,496,14],[497,2,497,4],[497,8,497,9],[497,12,497,14],[492,2,492,7],[492,8,492,14],[493,1,493,14],[494,1,494,14],[495,2,495,4],[495,8,495,9],[495,12,495,14],[484,1,484,13],[485,1,485,13],[489,1,489,14],[490,1,490,14],[491,2,491,7],[491,8,491,14],[477,1,477,14],[478,1,478,14],[480,1,480,7],[480,8,480,14],[481,2,481,6],[481,8,481,14],[468,2,468,4],[468,8,468,9],[468,12,468,14],[469,2,469,4],[469,8,469,9],[469,12,469,14],[466,2,466,4],[466,8,466,9],[466,12,466,14],[467,2,467,4],[467,8,467,9],[467,12,467,14],[464,2,464,4],[464,8,464,9],[464,12,464,14],[465,2,465,4],[465,8,465,9],[465,12,465,14],[462,2,462,4],[462,8,462,9],[462,12,462,14],[463,2,463,4],[463,8,463,9],[463,12,463,14],[460,2,460,4],[460,8,460,9],[460,12,460,14],[461,2,461,4],[461,8,461,9],[461,12,461,14],[458,2,458,4],[458,8,458,9],[458,12,458,14],[459,2,459,4],[459,8,459,9],[459,12,459,14],[456,2,456,4],[456,8,456,9],[456,12,456,14],[457,2,457,4],[457,8,457,9],[457,12,457,14],[454,2,454,4],[454,8,454,9],[454,12,454,14],[455,2,455,4],[455,8,455,9],[455,12,455,14],[452,2,452,4],[452,8,452,9],[452,12,452,14],[453,2,453,4],[453,8,453,9],[453,12,453,14],[450,2,450,4],[450,8,450,9],[450,12,450,14],[451,2,451,4],[451,8,451,9],[451,12,451,14],[442,2,442,14],[446,1,446,14],[448,2,448,4],[448,8,448,9],[448,12,448,14],[449,2,449,4],[449,8,449,9],[449,12,449,14],[436,2,436,4],[436,8,436,9],[436,12,436,14],[439,2,439,14],[440,2,440,14],[441,2,441,14],[434,2,434,4],[434,8,434,9],[434,12,434,14],[435,2,435,4],[435,8,435,9],[435,12,435,14],[432,2,432,4],[432,8,432,9],[432,12,432,14],[433,2,433,4],[433,8,433,9],[433,12,433,14],[430,2,430,4],[430,8,430,9],[430,12,430,14],[431,2,431,4],[431,8,431,9],[431,12,431,14],[428,2,428,4],[428,8,428,9],[428,12,428,14],[429,2,429,4],[429,8,429,9],[429,12,429,14],[424,2,424,7],[424,8,424,14],[425,1,425,14],[426,1,426,14],[427,2,427,4],[427,8,427,9],[427,12,427,14],[416,1,416,13],[417,1,417,13],[421,1,421,14],[422,1,422,14],[423,2,423,7],[423,8,423,14],[409,1,409,14],[410,1,410,14],[412,1,412,7],[412,8,412,14],[413,2,413,6],[413,8,413,14],[400,2,400,4],[400,8,400,9],[400,12,400,14],[401,2,401,4],[401,8,401,9],[401,12,401,14],[398,2,398,4],[398,8,398,9],[398,12,398,14],[399,2,399,4],[399,8,399,9],[399,12,399,14],[396,2,396,4],[396,8,396,9],[396,12,396,14],[397,2,397,4],[397,8,397,9],[397,12,397,14],[394,2,394,4],[394,8,394,9],[394,12,394,14],[395,2,395,4],[395,8,395,9],[395,12,395,14],[392,2,392,4],[392,8,392,9],[392,12,392,14],[393,2,393,4],[393,8,393,9],[393,12,393,14],[390,2,390,4],[390,8,390,9],[390,12,390,14],[391,2,391,4],[391,8,391,9],[391,12,391,14],[388,2,388,4],[388,8,388,9],[388,12,388,14],[389,2,389,4],[389,8,389,9],[389,12,389,14],[386,2,386,4],[386,8,386,9],[386,12,386,14],[387,2,387,4],[387,8,387,9],[387,12,387,14],[384,2,384,4],[384,8,384,9],[384,12,384,14],[385,2,385,4],[385,8,385,9],[385,12,385,14],[382,2,382,4],[382,8,382,9],[382,12,382,14],[383,2,383,4],[383,8,383,9],[383,12,383,14],[374,2,374,14],[378,1,378,14],[380,2,380,4],[380,8,380,9],[380,12,380,14],[381,2,381,4],[381,8,381,9],[381,12,381,14],[368,2,368,4],[368,8,368,9],[368,12,368,14],[371,2,371,14],[372,2,372,14],[373,2,373,14],[366,2,366,4],[366,8,366,9],[366,12,366,14],[367,2,367,4],[367,8,367,9],[367,12,367,14],[364,2,364,4],[364,8,364,9],[364,12,364,14],[365,2,365,4],[365,8,365,9],[365,12,365,14],[362,2,362,4],[362,8,362,9],[362,12,362,14],[363,2,363,4],[363,8,363,9],[363,12,363,14],[360,2,360,4],[360,8,360,9],[360,12,360,14],[361,2,361,4],[361,8,361,9],[361,12,361,14],[356,2,356,7],[356,8,356,14],[357,1,357,14],[358,1,358,14],[359,2,359,4],[359,8,359,9],[359,12,359,14],[348,1,348,13],[349,1,349,13],[353,1,353,14],[354,1,354,14],[355,2,355,7],[355,8,355,14],[341,1,341,14],[342,1,342,14],[344,1,344,7],[344,8,344,14],[345,2,345,6],[345,8,345,14],[332,2,332,4],[332,8,332,9],[332,12,332,14],[333,2,333,4],[333,8,333,9],[333,12,333,14],[330,2,330,4],[330,8,330,9],[330,12,330,14],[331,2,331,4],[331,8,331,9],[331,12,331,14],[328,2,328,4],[328,8,328,9],[328,12,328,14],[329,2,329,4],[329,8,329,9],[329,12,329,14],[326,2,326,4],[326,8,326,9],[326,12,326,14],[327,2,327,4],[327,8,327,9],[327,12,327,14],[324,2,324,4],[324,8,324,9],[324,12,324,14],[325,2,325,4],[325,8,325,9],[325,12,325,14],[322,2,322,4],[322,8,322,9],[322,12,322,14],[323,2,323,4],[323,8,323,9],[323,12,323,14],[320,2,320,4],[320,8,320,9],[320,12,320,14],[321,2,321,4],[321,8,321,9],[321,12,321,14],[318,2,318,4],[318,8,318,9],[318,12,318,14],[319,2,319,4],[319,8,319,9],[319,12,319,14],[316,2,316,4],[316,8,316,9],[316,12,316,14],[317,2,317,4],[317,8,317,9],[317,12,317,14],[314,2,314,4],[314,8,314,9],[314,12,314,14],[315,2,315,4],[315,8,315,9],[315,12,315,14],[306,2,306,14],[310,1,310,14],[312,2,312,4],[312,8,312,9],[312,12,312,14],[313,2,313,4],[313,8,313,9],[313,12,313,14],[300,2,300,4],[300,8,300,9],[300,12,300,14],[303,2,303,14],[304,2,304,14],[305,2,305,14],[298,2,298,4],[298,8,298,9],[298,12,298,14],[299,2,299,4],[299,8,299,9],[299,12,299,14],[296,2,296,4],[296,8,296,9],[296,12,296,14],[297,2,297,4],[297,8,297,9],[297,12,297,14],[294,2,294,4],[294,8,294,9],[294,12,294,14],[295,2,295,4],[295,8,295,9],[295,12,295,14],[292,2,292,4],[292,8,292,9],[292,12,292,14],[293,2,293,4],[293,8,293,9],[293,12,293,14],[288,2,288,7],[288,8,288,14],[289,1,289,14],[290,1,290,14],[291,2,291,4],[291,8,291,9],[291,12,291,14],[280,1,280,13],[281,1,281,13],[285,1,285,14],[286,1,286,14],[287,2,287,7],[287,8,287,14],[273,1,273,14],[274,1,274,14],[276,1,276,7],[276,8,276,14],[277,2,277,6],[277,8,277,14],[264,2,264,4],[264,8,264,9],[264,12,264,14],[265,2,265,4],[265,8,265,9],[265,12,265,14],[262,2,262,4],[262,8,262,9],[262,12,262,14],[263,2,263,4],[263,8,263,9],[263,12,263,14],[260,2,260,4],[260,8,260,9],[260,12,260,14],[261,2,261,4],[261,8,261,9],[261,12,261,14],[258,2,258,4],[258,8,258,9],[258,12,258,14],[259,2,259,4],[259,8,259,9],[259,12,259,14],[256,2,256,4],[256,8,256,9],[256,12,256,14],[257,2,257,4],[257,8,257,9],[257,12,257,14],[254,2,254,4],[254,8,254,9],[254,12,254,14],[255,2,255,4],[255,8,255,9],[255,12,255,14],[252,2,252,4],[252,8,252,9],[252,12,252,14],[253,2,253,4],[253,8,253,9],[253,12,253,14],[250,2,250,4],[250,8,250,9],[250,12,250,14],[251,2,251,4],[251,8,251,9],[251,12,251,14],[248,2,248,4],[248,8,248,9],[248,12,248,14],[249,2,249,4],[249,8,249,9],[249,12,249,14],[246,2,246,4],[246,8,246,9],[246,12,246,14],[247,2,247,4],[247,8,247,9],[247,12,247,14],[238,2,238,14],[242,1,242,14],[244,2,244,4],[244,8,244,9],[244,12,244,14],[245,2,245,4],[245,8,245,9],[245,12,245,14],[232,2,232,4],[232,8,232,9],[232,12,232,14],[235,2,235,14],[236,2,236,14],[237,2,237,14],[230,2,230,4],[230,8,230,9],[230,12,230,14],[231,2,231,4],[231,8,231,9],[231,12,231,14],[228,2,228,4],[228,8,228,9],[228,12,228,14],[229,2,229,4],[229,8,229,9],[229,12,229,14],[226,2,226,4],[226,8,226,9],[226,12,226,14],[227,2,227,4],[227,8,227,9],[227,12,227,14],[224,2,224,4],[224,8,224,9],[224,12,224,14],[225,2,225,4],[225,8,225,9],[225,12,225,14],[220,2,220,7],[220,8,220,14],[221,1,221,14],[222,1,222,14],[223,2,223,4],[223,8,223,9],[223,12,223,14],[212,1,212,13],[213,1,213,13],[217,1,217,14],[218,1,218,14],[219,2,219,7],[219,8,219,14],[205,1,205,14],[206,1,206,14],[208,1,208,7],[208,8,208,14],[209,2,209,6],[209,8,209,14],[196,2,196,4],[196,8,196,9],[196,12,196,14],[197,2,197,4],[197,8,197,9],[197,12,197,14],[194,2,194,4],[194,8,194,9],[194,12,194,14],[195,2,195,4],[195,8,195,9],[195,12,195,14],[203,12,203,13],[192,2,192,4],[192,8,192,9],[192,12,192,14],[193,2,193,4],[193,8,193,9],[193,12,193,14],[190,2,190,4],[190,8,190,9],[190,12,190,14],[191,2,191,4],[191,8,191,9],[191,12,191,14],[188,2,188,4],[188,8,188,9],[188,12,188,14],[189,2,189,4],[189,8,189,9],[189,12,189,14],[186,2,186,4],[186,8,186,9],[186,12,186,14],[187,2,187,4],[187,8,187,9],[187,12,187,14],[184,2,184,4],[184,8,184,9],[184,12,184,14],[185,2,185,4],[185,8,185,9],[185,12,185,14],[182,2,182,4],[182,8,182,9],[182,12,182,14],[183,2,183,4],[183,8,183,9],[183,12,183,14],[180,2,180,4],[180,8,180,9],[180,12,180,14],[181,2,181,4],[181,8,181,9],[181,12,181,14],[178,2,178,4],[178,8,178,9],[178,12,178,14],[179,2,179,4],[179,8,179,9],[179,12,179,14],[170,2,170,14],[174,1,174,14],[176,2,176,4],[176,8,176,9],[176,12,176,14],[177,2,177,4],[177,8,177,9],[177,12,177,14],[164,2,164,4],[164,8,164,9],[164,12,164,14],[167,2,167,14],[168,2,168,14],[169,2,169,14],[162,2,162,4],[162,8,162,9],[162,12,162,14],[163,2,163,4],[163,8,163,9],[163,12,163,14],[160,2,160,4],[160,8,160,9],[160,12,160,14],[161,2,161,4],[161,8,161,9],[161,12,161,14],[158,2,158,4],[158,8,158,9],[158,12,158,14],[159,2,159,4],[159,8,159,9],[159,12,159,14],[156,2,156,4],[156,8,156,9],[156,12,156,14],[157,2,157,4],[157,8,157,9],[157,12,157,14],[152,2,152,7],[152,8,152,14],[153,1,153,14],[154,1,154,14],[155,2,155,4],[155,8,155,9],[155,12,155,14],[144,1,144,13],[145,1,145,13],[149,1,149,14],[150,1,150,14],[151,2,151,7],[151,8,151,14],[137,1,137,14],[138,1,138,14],[140,1,140,7],[140,8,140,14],[141,2,141,6],[141,8,141,14],[128,2,128,4],[128,8,128,9],[128,12,128,14],[129,2,129,4],[129,8,129,9],[129,12,129,14],[135,12,135,13],[126,2,126,4],[126,8,126,9],[126,12,126,14],[127,2,127,4],[127,8,127,9],[127,12,127,14],[124,2,124,4],[124,8,124,9],[124,12,124,14],[125,2,125,4],[125,8,125,9],[125,12,125,14],[122,2,122,4],[122,8,122,9],[122,12,122,14],[123,2,123,4],[123,8,123,9],[123,12,123,14],[120,2,120,4],[120,8,120,9],[120,12,120,14],[121,2,121,4],[121,8,121,9],[121,12,121,14],[118,2,118,4],[118,8,118,9],[118,12,118,14],[119,2,119,4],[119,8,119,9],[119,12,119,14],[116,2,116,4],[116,8,116,9],[116,12,116,14],[117,2,117,4],[117,8,117,9],[117,12,117,14],[114,2,114,4],[114,8,114,9],[114,12,114,14],[115,2,115,4],[115,8,115,9]],"merged_total":1190,"flags":["merged_cut"]}
[18.5,2.5,{"$f":"$A$1-D1","v":12.5},6,{"$f":"$A$1*0.5","v":9.25},{"$f":"$A$1","v":18.5},{"$f":"$A$1*0.5","v":9.25},{"$f":"$A$1*0.5","v":9.25},{"$f":"$A$1*0.5","v":9.25},{"$f":"$A$1*0.5","v":9.25},{"$f":"$A$1*0.6","v":11.1},{"$f":"K1","v":11.1},{"$f":"K1","v":11.1},{"$f":"$A$1-O1","v":12.5},6]
[9,"Załącznik nr 6"]
[{"$f":"$A$2","v":9},"WYPEŁNIĆ DUŻYMI, DRUKOWANYMI LITERAMI, CZARNYM LUB NIEBIESKIM KOLOREM."]
[4.5]
[{"$f":"$A$2","v":9},"1. Identyfikator podatkowy NIP/numer PESEL (niepotrzebne skreślić)1)\n└────┴────┴────┴────┴────┴────┴────┴────┴────┴────┴────┘",null,null,null,null,null,null,"2.  Nr dokumentu"]
[19.5]
[{"$f":"$A$2","v":9}]
[16.5,"ZDR-2"]
[{"$f":"$A$8","v":16.5},"ZAŁĄCZNIK DO DEKLARACJI NA PODATEK OD ROLNY"]
["","- DANE O PRZEDMIOTACH OPODATKOWANIA ZWOLNIONYCH Z OPODATKOWANIA"]
[{"$f":"$A$2","v":9},null,null,null,null,null,null,null,null,null,null,null,null,"3. Nr załącznika"]
[{"$f":"$A$6","v":19.5},null,null,null,null,null,null,null,null,null,null,null,null,1,null,{"$f":"SUM(Q:Q)","v":0},{"$f":"IF(COUNTA(C22:O29,C43:O62)=0,0,1)","v":0}]
[{"$f":"$A$4","v":4.5}]
[{"$f":"$A$4","v":4.5}]
[{"$f":"$A$8*1.5","v":24.75},"A.  DANE PODATNIKA WSKAZANEGO W CZĘŚCI C.1 DEKLARACJI DR-1\n* - dotyczy podatnika niebędącego osobą fizyczną               ** - dotyczy podatnika będącego osobą fizyczną"]
[{"$f":"$A$2","v":9},null,"4. Nazwa pełna * / Nazwisko **",null,null,null,null,null,"5. Nazwa skrócona * / Pierwsze imię **"]
[{"$f":"$A$6","v":19.5}]
[{"$f":"$A$4","v":4.5}]
[{"$f":"$A$8","v":16.5},"B.  DANE O POSZCZEGÓLNYCH PRZEDMIOTACH OPODATKOWANIA PODLEGAJĄCYCH OPODATKOWANIU"]
[{"$f":"$A$8*1.5","v":24.75},"Lp.","Położenie (adres, w tym dzielnica)",null,null,"Nr księgi wieczystej\n(zbioru dokumentów)","Nr obrębu\n(arkusza mapy)2)","Nr działki","Powierzchnia \nw ha3)",null,"Rodzaj\nużytku","Klasa\nużytku","Podstawa prawna zwolnienia 4)"]
[{"$f":"$A$2","v":9},null,"a",null,null,"b","c","d","e",null,"f","g","h"]
[{"$f":"$A$6","v":19.5},1]
[19.5,2]
[19.5,3]
[19.5,4]
[19.5,5]
[19.5,6]
[19.5,7]
[19.5,8]
[{"$f":"$A$2","v":9}]
[{"$f":"$A$2","v":9}]
[{"$f":"$A$2*2","v":18},"1)","Numer PESEL wpisują podatnicy będący osobami fizycznymi objętymi rejestrem PESEL, nieprowadzący działalności gospodarczej lub niebędący zarejestrowanymi podatnikami podatku od towarów i usług.\nIdentyfikator podatkowy NIP wpisują pozostali podatnicy."]
[{"$f":"$A$2","v":9},"2)","Numer obrębu należy podać wraz z numerem arkusza mapy ewidencyjnej w przypadku, gdy działki numerowane są w ramach arkusza mapy."]
[{"$f":"$A$2","v":9},"3)","Należy podać z dokładnością do czterech miejsc po przecinku."]
[{"$f":"$A$2","v":9},"4)","Należy podać jednostkę redakcyjną z ustawy lub uchwały rady gminy."]
[{"$f":"$A$2","v":9}]
[{"$f":"$A$8","v":16.5},null,{"$f":"'DR-1'!M10&\".\"&'DR-1'!Q24&Wersja","v":"2023..1.15.0.44867"},null,null,null,null,null,null,null,null,null,null,"ZDR-2(1)","1/2"]
[{"$f":"$A$2","v":9}]
[{"$f":"$A$2","v":9},"WYPEŁNIĆ DUŻYMI, DRUKOWANYMI LITERAMI, CZARNYM LUB NIEBIESKIM KOLOREM."]
[4.5]
[{"$f":"$A$8*1.5","v":24.75},"Lp.","Położenie (adres, w tym dzielnica)",null,null,"Nr księgi wieczystej\n(zbioru dokumentów)","Nr obrębu\n(arkusza mapy)2)","Nr działki","Powierzchnia \nw ha3)",null,"Rodzaj\nużytku","Klasa\nużytku","Podstawa prawna zwolnienia 4)"]
[{"$f":"$A$2","v":9},null,"a",null,null,"b","c","d","e",null,"f","g","h"]
[{"$f":"$A$6","v":19.5},9]
[19.5,{"$f":"B43+1","v":10}]
[19.5,{"$f":"B44+1","v":11}]
[19.5,12]
[19.5,13]
[19.5,14]
[19.5,15]
[19.5,16]
[19.5,17]
[19.5,18]
[19.5,19]
[19.5,20]
[19.5,21]
[19.5,22]
[19.5,23]
[19.5,24]
[19.5,25]
[19.5,26]
[19.5,27]
[19.5,28]
[{"$f":"$A$2","v":9}]
[{"$f":"$A$2","v":9}]
[9]
[9]
[9]
[{"$f":"$A$8","v":16.5},null,"ZDR-2(1)","2/2",null,null,null,null,null,null,null,null,{"$f":"'DR-1'!M10&\".\"&'DR-1'!Q24&Wersja","v":"2023..1.15.0.44867"}]
[9]
[9,"Załącznik nr 6"]
[{"$f":"$A$2","v":9},"WYPEŁNIĆ DUŻYMI, DRUKOWANYMI LITERAMI, CZARNYM LUB NIEBIESKIM KOLOREM."]
[4.5]
[{"$f":"$A$2","v":9},"1. Identyfikator podatkowy NIP/numer PESEL (niepotrzebne skreślić)1)\n└────┴────┴────┴────┴────┴────┴────┴────┴────┴────┴────┘",null,null,null,null,null,null,"2.  Nr dokumentu"]
[19.5,null,{"$f":"$C$6","v":0}]
[{"$f":"$A$2","v":9}]
[16.5,"ZDR-2"]
[{"$f":"$A$8","v":16.5},"ZAŁĄCZNIK DO DEKLARACJI NA PODATEK OD ROLNY"]
["","- DANE O PRZEDMIOTACH OPODATKOWANIA ZWOLNIONYCH Z OPODATKOWANIA"]
[{"$f":"$A$2","v":9},null,null,null,null,null,null,null,null,null,null,null,null,"3. Nr załącznika"]
[{"$f":"$A$6","v":19.5},null,null,null,null,null,null,null,null,null,null,null,null,{"$f":"N12+1","v":2},null,null,{"$f":"IF(COUNTA(C90:O97,C111:O130)=0,0,1)","v":0}]
[{"$f":"$A$4","v":4.5}]
[{"$f":"$A$4","v":4.5}]
[{"$f":"$A$8*1.5","v":24.75},"A.  DANE PODATNIKA WSKAZANEGO W CZĘŚCI C.1 DEKLARACJI DR-1\n* - dotyczy podatnika niebędącego osobą fizyczną               ** - dotyczy podatnika będącego osobą fizyczną"]
[{"$f":"$A$2","v":9},null,"4. Nazwa pełna * / Nazwisko **",null,null,null,null,null,"5. Nazwa skrócona * / Pierwsze imię **"]
[{"$f":"$A$6","v":19.5},null,{"$f":"\"\"&C17","v":""},null,null,null,null,null,{"$f":"\"\"&I17","v":""}]
[{"$f":"$A$4","v":4.5}]
[{"$f":"$A$8","v":16.5},"B.  DANE O POSZCZEGÓLNYCH PRZEDMIOTACH OPODATKOWANIA PODLEGAJĄCYCH OPODATKOWANIU"]
[{"$f":"$A$8*1.5","v":24.75},"Lp.","Położenie (adres, w tym dzielnica)",null,null,"Nr księgi wieczystej\n(zbioru dokumentów)","Nr obrębu\n(arkusza mapy)2)","Nr działki","Powierzchnia \nw ha3)",null,"Rodzaj\nużytku","Klasa\nużytku","Podstawa prawna zwolnienia 4)"]
[{"$f":"$A$2","v":9},null,"a",null,null,"b","c","d","e",null,"f","g","h"]
[{"$f":"$A$6","v":19.5},1]
[19.5,2]
[19.5,3]
[19.5,4]
[19.5,5]
[19.5,6]
[19.5,7]
[19.5,8]
[{"$f":"$A$2","v":9}]
[{"$f":"$A$2","v":9}]
[{"$f":"$A$2*2","v":18},"1)","Numer PESEL wpisują podatnicy będący osobami fizycznymi objętymi rejestrem PESEL, nieprowadzący działalności gospodarczej lub niebędący zarejestrowanymi podatnikami podatku od towarów i usług.\nIdentyfikator podatkowy NIP wpisują pozostali podatnicy."]
[{"$f":"$A$2","v":9},"2)","Numer obrębu należy podać wraz z numerem arkusza mapy ewidencyjnej w przypadku, gdy działki numerowane są w ramach arkusza mapy."]
[{"$f":"$A$2","v":9},"3)","Należy podać z dokładnością do czterech miejsc po przecinku."]
[{"$f":"$A$2","v":9},"4)","Należy podać jednostkę redakcyjną z ustawy lub uchwały rady gminy."]
[{"$f":"$A$2","v":9}]
[{"$f":"$A$8","v":16.5},null,{"$f":"'DR-1'!M10&\".\"&'DR-1'!Q24&Wersja","v":"2023..1.15.0.44867"},null,null,null,null,null,null,null,null,null,null,"ZDR-2(1)","1/2"]
[{"$f":"$A$2","v":9}]
[{"$f":"$A$2","v":9},"WYPEŁNIĆ DUŻYMI, DRUKOWANYMI LITERAMI, CZARNYM LUB NIEBIESKIM KOLOREM."]
[4.5]
[{"$f":"$A$8*1.5","v":24.75},"Lp.","Położenie (adres, w tym dzielnica)",null,null,"Nr księgi wieczystej\n(zbioru dokumentów)","Nr obrębu\n(arkusza mapy)2)","Nr działki","Powierzchnia \nw ha3)",null,"Rodzaj\nużytku","Klasa\nużytku","Podstawa prawna zwolnienia 4)"]
[{"$f":"$A$2","v":9},null,"a",null,null,"b","c","d","e",null,"f","g","h"]
[{"$f":"$A$6","v":19.5},9]
[19.5,{"$f":"B111+1","v":10}]
[19.5,{"$f":"B112+1","v":11}]
[19.5,12]
[19.5,13]
[19.5,14]
[19.5,15]
[19.5,16]
[19.5,17]
[19.5,18]
[19.5,19]
[19.5,20]
[19.5,21]
[19.5,22]
[19.5,23]
[19.5,24]
[19.5,25]
[19.5,26]
[19.5,27]
[19.5,28]
[{"$f":"$A$2","v":9}]
[{"$f":"$A$2","v":9}]
[9]
[9]
[9]
[{"$f":"$A$8","v":16.5},null,"ZDR-2(1)","2/2",null,null,null,null,null,null,null,null,{"$f":"'DR-1'!M10&\".\"&'DR-1'!Q24&Wersja","v":"2023..1.15.0.44867"}]
[9]
[9,"Załącznik nr 6"]
[{"$f":"$A$2","v":9},"WYPEŁNIĆ DUŻYMI, DRUKOWANYMI LITERAMI, CZARNYM LUB NIEBIESKIM KOLOREM."]
[4.5]
[{"$f":"$A$2","v":9},"1. Identyfikator podatkowy NIP/numer PESEL (niepotrzebne skreślić)1)\n└────┴────┴────┴────┴────┴────┴────┴────┴────┴────┴────┘",null,null,null,null,null,null,"2.  Nr dokumentu"]
[19.5,null,{"$f":"$C$6","v":0}]
[{"$f":"$A$2","v":9}]
[16.5,"ZDR-2"]
[{"$f":"$A$8","v":16.5},"ZAŁĄCZNIK DO DEKLARACJI NA PODATEK OD ROLNY"]
["","- DANE O PRZEDMIOTACH OPODATKOWANIA ZWOLNIONYCH Z OPODATKOWANIA"]
[{"$f":"$A$2","v":9},null,null,null,null,null,null,null,null,null,null,null,null,"3. Nr załącznika"]
[{"$f":"$A$6","v":19.5},null,null,null,null,null,null,null,null,null,null,null,null,{"$f":"N80+1","v":3},null,null,{"$f":"IF(COUNTA(C158:O165,C179:O198)=0,0,1)","v":0}]
[{"$f":"$A$4","v":4.5}]
[{"$f":"$A$4","v":4.5}]
[{"$f":"$A$8*1.5","v":24.75},"A.  DANE PODATNIKA WSKAZANEGO W CZĘŚCI C.1 DEKLARACJI DR-1\n* - dotyczy podatnika niebędącego osobą fizyczną               ** - dotyczy podatnika będącego osobą fizyczną"]
[{"$f":"$A$2","v":9},null,"4. Nazwa pełna * / Nazwisko **",null,null,null,null,null,"5. Nazwa skrócona * / Pierwsze imię **"]
[{"$f":"$A$6","v":19.5},null,{"$f":"\"\"&C85","v":""},null,null,null,null,null,{"$f":"\"\"&I85","v":""}]
[{"$f":"$A$4","v":4.5}]
[{"$f":"$A$8","v":16.5},"B.  DANE O POSZCZEGÓLNYCH PRZEDMIOTACH OPODATKOWANIA PODLEGAJĄCYCH OPODATKOWANIU"]
[{"$f":"$A$8*1.5","v":24.75},"Lp.","Położenie (adres, w tym dzielnica)",null,null,"Nr księgi wieczystej\n(zbioru dokumentów)","Nr obrębu\n(arkusza mapy)2)","Nr działki","Powierzchnia \nw ha3)",null,"Rodzaj\nużytku","Klasa\nużytku","Podstawa prawna zwolnienia 4)"]
[{"$f":"$A$2","v":9},null,"a",null,null,"b","c","d","e",null,"f","g","h"]
[{"$f":"$A$6","v":19.5},1]
[19.5,2]
[19.5,3]
[19.5,4]
[19.5,5]
[19.5,6]
[19.5,7]
[19.5,8]
[{"$f":"$A$2","v":9}]
[{"$f":"$A$2","v":9}]
[{"$f":"$A$2*2","v":18},"1)","Numer PESEL wpisują podatnicy będący osobami fizycznymi objętymi rejestrem PESEL, nieprowadzący działalności gospodarczej lub niebędący zarejestrowanymi podatnikami podatku od towarów i usług.\nIdentyfikator podatkowy NIP wpisują pozostali podatnicy."]
[{"$f":"$A$2","v":9},"2)","Numer obrębu należy podać wraz z numerem arkusza mapy ewidencyjnej w przypadku, gdy działki numerowane są w ramach arkusza mapy."]
[{"$f":"$A$2","v":9},"3)","Należy podać z dokładnością do czterech miejsc po przecinku."]
[{"$f":"$A$2","v":9},"4)","Należy podać jednostkę redakcyjną z ustawy lub uchwały rady gminy."]
[{"$f":"$A$2","v":9}]
[{"$f":"$A$8","v":16.5},null,{"$f":"'DR-1'!M10&\".\"&'DR-1'!Q24&Wersja","v":"2023..1.15.0.44867"},null,null,null,null,null,null,null,null,null,null,"ZDR-2(1)","1/2"]
[{"$f":"$A$2","v":9}]
[{"$f":"$A$2","v":9},"WYPEŁNIĆ DUŻYMI, DRUKOWANYMI LITERAMI, CZARNYM LUB NIEBIESKIM KOLOREM."]
[4.5]
[{"$f":"$A$8*1.5","v":24.75},"Lp.","Położenie (adres, w tym dzielnica)",null,null,"Nr księgi wieczystej\n(zbioru dokumentów)","Nr obrębu\n(arkusza mapy)2)","Nr działki","Powierzchnia \nw ha3)",null,"Rodzaj\nużytku","Klasa\nużytku","Podstawa prawna zwolnienia 4)"]
[{"$f":"$A$2","v":9},null,"a",null,null,"b","c","d","e",null,"f","g","h"]
[{"$f":"$A$6","v":19.5},9]
[19.5,{"$f":"B179+1","v":10}]
[19.5,{"$f":"B180+1","v":11}]
[19.5,12]
[19.5,13]
[19.5,14]
[19.5,15]
[19.5,16]
[19.5,17]
[19.5,18]
[19.5,19]
[19.5,20]
[19.5,21]
[19.5,22]
[19.5,23]
[19.5,24]
[19.5,25]
[19.5,26]
[19.5,27]
[19.5,28]
[{"$f":"$A$2","v":9}]
[{"$f":"$A$2","v":9}]
[9]
[9]
[9]
[{"$f":"$A$8","v":16.5},null,"ZDR-2(1)","2/2",null,null,null,null,null,null,null,null,{"$f":"'DR-1'!M10&\".\"&'DR-1'!Q24&Wersja","v":"2023..1.15.0.44867"}]
[9]
[9,"Załącznik nr 6"]
[{"$f":"$A$2","v":9},"WYPEŁNIĆ DUŻYMI, DRUKOWANYMI LITERAMI, CZARNYM LUB NIEBIESKIM KOLOREM."]
[4.5]
[{"$f":"$A$2","v":9},"1. Identyfikator podatkowy NIP/numer PESEL (niepotrzebne skreślić)1)\n└────┴────┴────┴────┴────┴────┴────┴────┴────┴────┴────┘",null,null,null,null,null,null,"2.  Nr dokumentu"]
[19.5,null,{"$f":"$C$6","v":0}]
[{"$f":"$A$2","v":9}]
[16.5,"ZDR-2"]
[{"$f":"$A$8","v":16.5},"ZAŁĄCZNIK DO DEKLARACJI NA PODATEK OD ROLNY"]
["","- DANE O PRZEDMIOTACH OPODATKOWANIA ZWOLNIONYCH Z OPODATKOWANIA"]
[{"$f":"$A$2","v":9},null,null,null,null,null,null,null,null,null,null,null,null,"3. Nr załącznika"]
[{"$f":"$A$6","v":19.5},null,null,null,null,null,null,null,null,null,null,null,null,{"$f":"N148+1","v":4},null,null,{"$f":"IF(COUNTA(C226:O233,C247:O266)=0,0,1)","v":0}]
[{"$f":"$A$4","v":4.5}]
[{"$f":"$A$4","v":4.5}]
[{"$f":"$A$8*1.5","v":24.75},"A.  DANE PODATNIKA WSKAZANEGO W CZĘŚCI C.1 DEKLARACJI DR-1\n* - dotyczy podatnika niebędącego osobą fizyczną               ** - dotyczy podatnika będącego osobą fizyczną"]
[{"$f":"$A$2","v":9},null,"4. Nazwa pełna * / Nazwisko **",null,null,null,null,null,"5. Nazwa skrócona * / Pierwsze imię **"]
[{"$f":"$A$6","v":19.5},null,{"$f":"\"\"&C153","v":""},null,null,null,null,null,{"$f":"\"\"&I153","v":""}]
[{"$f":"$A$4","v":4.5}]
[{"$f":"$A$8","v":16.5},"B.  DANE O POSZCZEGÓLNYCH PRZEDMIOTACH OPODATKOWANIA PODLEGAJĄCYCH OPODATKOWANIU"]
[{"$f":"$A$8*1.5","v":24.75},"Lp.","Położenie (adres, w tym dzielnica)",null,null,"Nr księgi wieczystej\n(zbioru dokumentów)","Nr obrębu\n(arkusza mapy)2)","Nr działki","Powierzchnia \nw ha3)",null,"Rodzaj\nużytku","Klasa\nużytku","Podstawa prawna zwolnienia 4)"]
[{"$f":"$A$2","v":9},null,"a",null,null,"b","c","d","e",null,"f","g","h"]
[{"$f":"$A$6","v":19.5},1]
[19.5,2]
[19.5,3]
[19.5,4]
[19.5,5]
[19.5,6]
[19.5,7]
[19.5,8]
[{"$f":"$A$2","v":9}]
[{"$f":"$A$2","v":9}]
[{"$f":"$A$2*2","v":18},"1)","Numer PESEL wpisują podatnicy będący osobami fizycznymi objętymi rejestrem PESEL, nieprowadzący działalności gospodarczej lub niebędący zarejestrowanymi podatnikami podatku od towarów i usług.\nIdentyfikator podatkowy NIP wpisują pozostali podatnicy."]
[{"$f":"$A$2","v":9},"2)","Numer obrębu należy podać wraz z numerem arkusza mapy ewidencyjnej w przypadku, gdy działki numerowane są w ramach arkusza mapy."]
[{"$f":"$A$2","v":9},"3)","Należy podać z dokładnością do czterech miejsc po przecinku."]
[{"$f":"$A$2","v":9},"4)","Należy podać jednostkę redakcyjną z ustawy lub uchwały rady gminy."]
[{"$f":"$A$2","v":9}]
[{"$f":"$A$8","v":16.5},null,{"$f":"'DR-1'!M10&\".\"&'DR-1'!Q24&Wersja","v":"2023..1.15.0.44867"},null,null,null,null,null,null,null,null,null,null,"ZDR-2(1)","1/2"]
[{"$f":"$A$2","v":9}]
[{"$f":"$A$2","v":9},"WYPEŁNIĆ DUŻYMI, DRUKOWANYMI LITERAMI, CZARNYM LUB NIEBIESKIM KOLOREM."]
[4.5]
[{"$f":"$A$8*1.5","v":24.75},"Lp.","Położenie (adres, w tym dzielnica)",null,null,"Nr księgi wieczystej\n(zbioru dokumentów)","Nr obrębu\n(arkusza mapy)2)","Nr działki","Powierzchnia \nw ha3)",null,"Rodzaj\nużytku","Klasa\nużytku","Podstawa prawna zwolnienia 4)"]
[{"$f":"$A$2","v":9},null,"a",null,null,"b","c","d","e",null,"f","g","h"]
[{"$f":"$A$6","v":19.5},9]
[19.5,{"$f":"B247+1","v":10}]
[19.5,{"$f":"B248+1","v":11}]
[19.5,12]
[19.5,13]
[19.5,14]
[19.5,15]
[19.5,16]
[19.5,17]
[19.5,18]
[19.5,19]
[19.5,20]
[19.5,21]
[19.5,22]
[19.5,23]
[19.5,24]
[19.5,25]
[19.5,26]
[19.5,27]
[19.5,28]
[{"$f":"$A$2","v":9}]
[{"$f":"$A$2","v":9}]
[9]
[9]
[9]
[{"$f":"$A$8","v":16.5},null,"ZDR-2(1)","2/2",null,null,null,null,null,null,null,null,{"$f":"'DR-1'!M10&\".\"&'DR-1'!Q24&Wersja","v":"2023..1.15.0.44867"}]
[9]
[9,"Załącznik nr 6"]
[{"$f":"$A$2","v":9},"WYPEŁNIĆ DUŻYMI, DRUKOWANYMI LITERAMI, CZARNYM LUB NIEBIESKIM KOLOREM."]
[4.5]
[{"$f":"$A$2","v":9},"1. Identyfikator podatkowy NIP/numer PESEL (niepotrzebne skreślić)1)\n└────┴────┴────┴────┴────┴────┴────┴────┴────┴────┴────┘",null,null,null,null,null,null,"2.  Nr dokumentu"]
[19.5,null,{"$f":"$C$6","v":0}]
[{"$f":"$A$2","v":9}]
[16.5,"ZDR-2"]
[{"$f":"$A$8","v":16.5},"ZAŁĄCZNIK DO DEKLARACJI NA PODATEK OD ROLNY"]
["","- DANE O PRZEDMIOTACH OPODATKOWANIA ZWOLNIONYCH Z OPODATKOWANIA"]
[{"$f":"$A$2","v":9},null,null,null,null,null,null,null,null,null,null,null,null,"3. Nr załącznika"]
[{"$f":"$A$6","v":19.5},null,null,null,null,null,null,null,null,null,null,null,null,{"$f":"N216+1","v":5},null,null,{"$f":"IF(COUNTA(C294:O301,C315:O334)=0,0,1)","v":0}]
[{"$f":"$A$4","v":4.5}]
[{"$f":"$A$4","v":4.5}]
[{"$f":"$A$8*1.5","v":24.75},"A.  DANE PODATNIKA WSKAZANEGO W CZĘŚCI C.1 DEKLARACJI DR-1\n* - dotyczy podatnika niebędącego osobą fizyczną               ** - dotyczy podatnika będącego osobą fizyczną"]
[{"$f":"$A$2","v":9},null,"4. Nazwa pełna * / Nazwisko **",null,null,null,null,null,"5. Nazwa skrócona * / Pierwsze imię **"]
[{"$f":"$A$6","v":19.5},null,{"$f":"\"\"&C221","v":""},null,null,null,null,null,{"$f":"\"\"&I221","v":""}]
[{"$f":"$A$4","v":4.5}]
[{"$f":"$A$8","v":16.5},"B.  DANE O POSZCZEGÓLNYCH PRZEDMIOTACH OPODATKOWANIA PODLEGAJĄCYCH OPODATKOWANIU"]
[{"$f":"$A$8*1.5","v":24.75},"Lp.","Położenie (adres, w tym dzielnica)",null,null,"Nr księgi wieczystej\n(zbioru dokumentów)","Nr obrębu\n(arkusza mapy)2)","Nr działki","Powierzchnia \nw ha3)",null,"Rodzaj\nużytku","Klasa\nużytku","Podstawa prawna zwolnienia 4)"]
[{"$f":"$A$2","v":9},null,"a",null,null,"b","c","d","e",null,"f","g","h"]
[{"$f":"$A$6","v":19.5},1]
[19.5,2]
[19.5,3]
[19.5,4]
[19.5,5]
[19.5,6]
[19.5,7]
[19.5,8]
[{"$f":"$A$2","v":9}]
[{"$f":"$A$2","v":9}]
[{"$f":"$A$2*2","v":18},"1)","Numer PESEL wpisują podatnicy będący osobami fizycznymi objętymi rejestrem PESEL, nieprowadzący działalności gospodarczej lub niebędący zarejestrowanymi podatnikami podatku od towarów i usług.\nIdentyfikator podatkowy NIP wpisują pozostali podatnicy."]
[{"$f":"$A$2","v":9},"2)","Numer obrębu należy podać wraz z numerem arkusza mapy ewidencyjnej w przypadku, gdy działki numerowane są w ramach arkusza mapy."]
[{"$f":"$A$2","v":9},"3)","Należy podać z dokładnością do czterech miejsc po przecinku."]
[{"$f":"$A$2","v":9},"4)","Należy podać jednostkę redakcyjną z ustawy lub uchwały rady gminy."]
[{"$f":"$A$2","v":9}]
[{"$f":"$A$8","v":16.5},null,{"$f":"'DR-1'!M10&\".\"&'DR-1'!Q24&Wersja","v":"2023..1.15.0.44867"},null,null,null,null,null,null,null,null,null,null,"ZDR-2(1)","1/2"]
[{"$f":"$A$2","v":9}]
[{"$f":"$A$2","v":9},"WYPEŁNIĆ DUŻYMI, DRUKOWANYMI LITERAMI, CZARNYM LUB NIEBIESKIM KOLOREM."]
[4.5]
[{"$f":"$A$8*1.5","v":24.75},"Lp.","Położenie (adres, w tym dzielnica)",null,null,"Nr księgi wieczystej\n(zbioru dokumentów)","Nr obrębu\n(arkusza mapy)2)","Nr działki","Powierzchnia \nw ha3)",null,"Rodzaj\nużytku","Klasa\nużytku","Podstawa prawna zwolnienia 4)"]
[{"$f":"$A$2","v":9},null,"a",null,null,"b","c","d","e",null,"f","g","h"]
[{"$f":"$A$6","v":19.5},9]
[19.5,{"$f":"B315+1","v":10}]
[19.5,{"$f":"B316+1","v":11}]
[19.5,12]
[19.5,13]
[19.5,14]
[19.5,15]
[19.5,16]
[19.5,17]
[19.5,18]
[19.5,19]
[19.5,20]
[19.5,21]
[19.5,22]
[19.5,23]
[19.5,24]
[19.5,25]
[19.5,26]
[19.5,27]
[19.5,28]
[{"$f":"$A$2","v":9}]
[{"$f":"$A$2","v":9}]
[9]
[9]
[9]
[{"$f":"$A$8","v":16.5},null,"ZDR-2(1)","2/2",null,null,null,null,null,null,null,null,{"$f":"'DR-1'!M10&\".\"&'DR-1'!Q24&Wersja","v":"2023..1.15.0.44867"}]
[9]
[9,"Załącznik nr 6"]
[{"$f":"$A$2","v":9},"WYPEŁNIĆ DUŻYMI, DRUKOWANYMI LITERAMI, CZARNYM LUB NIEBIESKIM KOLOREM."]
[4.5]
[{"$f":"$A$2","v":9},"1. Identyfikator podatkowy NIP/numer PESEL (niepotrzebne skreślić)1)\n└────┴────┴────┴────┴────┴────┴────┴────┴────┴────┴────┘",null,null,null,null,null,null,"2.  Nr dokumentu"]
[19.5,null,{"$f":"$C$6","v":0}]
[{"$f":"$A$2","v":9}]
[16.5,"ZDR-2"]
[{"$f":"$A$8","v":16.5},"ZAŁĄCZNIK DO DEKLARACJI NA PODATEK OD ROLNY"]
["","- DANE O PRZEDMIOTACH OPODATKOWANIA ZWOLNIONYCH Z OPODATKOWANIA"]
[{"$f":"$A$2","v":9},null,null,null,null,null,null,null,null,null,null,null,null,"3. Nr załącznika"]
[{"$f":"$A$6","v":19.5},null,null,null,null,null,null,null,null,null,null,null,null,{"$f":"N284+1","v":6},null,null,{"$f":"IF(COUNTA(C362:O369,C383:O402)=0,0,1)","v":0}]
[{"$f":"$A$4","v":4.5}]
[{"$f":"$A$4","v":4.5}]
[{"$f":"$A$8*1.5","v":24.75},"A.  DANE PODATNIKA WSKAZANEGO W CZĘŚCI C.1 DEKLARACJI DR-1\n* - dotyczy podatnika niebędącego osobą fizyczną               ** - dotyczy podatnika będącego osobą fizyczną"]
[{"$f":"$A$2","v":9},null,"4. Nazwa pełna * / Nazwisko **",null,null,null,null,null,"5. Nazwa skrócona * / Pierwsze imię **"]
[{"$f":"$A$6","v":19.5},null,{"$f":"\"\"&C289","v":""},null,null,null,null,null,{"$f":"\"\"&I289","v":""}]
[{"$f":"$A$4","v":4.5}]
[{"$f":"$A$8","v":16.5},"B.  DANE O POSZCZEGÓLNYCH PRZEDMIOTACH OPODATKOWANIA PODLEGAJĄCYCH OPODATKOWANIU"]
[{"$f":"$A$8*1.5","v":24.75},"Lp.","Położenie (adres, w tym dzielnica)",null,null,"Nr księgi wieczystej\n(zbioru dokumentów)","Nr obrębu\n(arkusza mapy)2)","Nr działki","Powierzchnia \nw ha3)",null,"Rodzaj\nużytku","Klasa\nużytku","Podstawa prawna zwolnienia 4)"]
[{"$f":"$A$2","v":9},null,"a",null,null,"b","c","d","e",null,"f","g","h"]
[{"$f":"$A$6","v":19.5},1]
[19.5,2]
[19.5,3]
[19.5,4]
[19.5,5]
[19.5,6]
[19.5,7]
[19.5,8]
[{"$f":"$A$2","v":9}]
[{"$f":"$A$2","v":9}]
[{"$f":"$A$2*2","v":18},"1)","Numer PESEL wpisują podatnicy będący osobami fizycznymi objętymi rejestrem PESEL, nieprowadzący działalności gospodarczej lub niebędący zarejestrowanymi podatnikami podatku od towarów i usług.\nIdentyfikator podatkowy NIP wpisują pozostali podatnicy."]
[{"$f":"$A$2","v":9},"2)","Numer obrębu należy podać wraz z numerem arkusza mapy ewidencyjnej w przypadku, gdy działki numerowane są w ramach arkusza mapy."]
[{"$f":"$A$2","v":9},"3)","Należy podać z dokładnością do czterech miejsc po przecinku."]
[{"$f":"$A$2","v":9},"4)","Należy podać jednostkę redakcyjną z ustawy lub uchwały rady gminy."]
[{"$f":"$A$2","v":9}]
[{"$f":"$A$8","v":16.5},null,{"$f":"'DR-1'!M10&\".\"&'DR-1'!Q24&Wersja","v":"2023..1.15.0.44867"},null,null,null,null,null,null,null,null,null,null,"ZDR-2(1)","1/2"]
[{"$f":"$A$2","v":9}]
[{"$f":"$A$2","v":9},"WYPEŁNIĆ DUŻYMI, DRUKOWANYMI LITERAMI, CZARNYM LUB NIEBIESKIM KOLOREM."]
[4.5]
[{"$f":"$A$8*1.5","v":24.75},"Lp.","Położenie (adres, w tym dzielnica)",null,null,"Nr księgi wieczystej\n(zbioru dokumentów)","Nr obrębu\n(arkusza mapy)2)","Nr działki","Powierzchnia \nw ha3)",null,"Rodzaj\nużytku","Klasa\nużytku","Podstawa prawna zwolnienia 4)"]
[{"$f":"$A$2","v":9},null,"a",null,null,"b","c","d","e",null,"f","g","h"]
[{"$f":"$A$6","v":19.5},9]
[19.5,{"$f":"B383+1","v":10}]
[19.5,{"$f":"B384+1","v":11}]
[19.5,12]
[19.5,13]
[19.5,14]
[19.5,15]
[19.5,16]
[19.5,17]
[19.5,18]
[19.5,19]
[19.5,20]
[19.5,21]
[19.5,22]
[19.5,23]
[19.5,24]
[19.5,25]
[19.5,26]
[19.5,27]
[19.5,28]
[{"$f":"$A$2","v":9}]
[{"$f":"$A$2","v":9}]
[9]
[9]
[9]
[{"$f":"$A$8","v":16.5},null,"ZDR-2(1)","2/2",null,null,null,null,null,null,null,null,{"$f":"'DR-1'!M10&\".\"&'DR-1'!Q24&Wersja","v":"2023..1.15.0.44867"}]
[9]
[9,"Załącznik nr 6"]
[{"$f":"$A$2","v":9},"WYPEŁNIĆ DUŻYMI, DRUKOWANYMI LITERAMI, CZARNYM LUB NIEBIESKIM KOLOREM."]
[4.5]
[{"$f":"$A$2","v":9},"1. Identyfikator podatkowy NIP/numer PESEL (niepotrzebne skreślić)1)\n└────┴────┴────┴────┴────┴────┴────┴────┴────┴────┴────┘",null,null,null,null,null,null,"2.  Nr dokumentu"]
[19.5,null,{"$f":"$C$6","v":0}]
[{"$f":"$A$2","v":9}]
[16.5,"ZDR-2"]
[{"$f":"$A$8","v":16.5},"ZAŁĄCZNIK DO DEKLARACJI NA PODATEK OD ROLNY"]
["","- DANE O PRZEDMIOTACH OPODATKOWANIA ZWOLNIONYCH Z OPODATKOWANIA"]
[{"$f":"$A$2","v":9},null,null,null,null,null,null,null,null,null,null,null,null,"3. Nr załącznika"]
[{"$f":"$A$6","v":19.5},null,null,null,null,null,null,null,null,null,null,null,null,{"$f":"N352+1","v":7},null,null,{"$f":"IF(COUNTA(C430:O437,C451:O470)=0,0,1)","v":0}]
[{"$f":"$A$4","v":4.5}]
[{"$f":"$A$4","v":4.5}]
[{"$f":"$A$8*1.5","v":24.75},"A.  DANE PODATNIKA WSKAZANEGO W CZĘŚCI C.1 DEKLARACJI DR-1\n* - dotyczy podatnika niebędącego osobą fizyczną               ** - dotyczy podatnika będącego osobą fizyczną"]
[{"$f":"$A$2","v":9},null,"4. Nazwa pełna * / Nazwisko **",null,null,null,null,null,"5. Nazwa skrócona * / Pierwsze imię **"]
[{"$f":"$A$6","v":19.5},null,{"$f":"\"\"&C357","v":""},null,null,null,null,null,{"$f":"\"\"&I357","v":""}]
[{"$f":"$A$4","v":4.5}]
[{"$f":"$A$8","v":16.5},"B.  DANE O POSZCZEGÓLNYCH PRZEDMIOTACH OPODATKOWANIA PODLEGAJĄCYCH OPODATKOWANIU"]
[{"$f":"$A$8*1.5","v":24.75},"Lp.","Położenie (adres, w tym dzielnica)",null,null,"Nr księgi wieczystej\n(zbioru dokumentów)","Nr obrębu\n(arkusza mapy)2)","Nr działki","Powierzchnia \nw ha3)",null,"Rodzaj\nużytku","Klasa\nużytku","Podstawa prawna zwolnienia 4)"]
[{"$f":"$A$2","v":9},null,"a",null,null,"b","c","d","e",null,"f","g","h"]
[{"$f":"$A$6","v":19.5},1]
[19.5,2]
[19.5,3]
[19.5,4]
[19.5,5]
[19.5,6]
[19.5,7]
[19.5,8]
[{"$f":"$A$2","v":9}]
[{"$f":"$A$2","v":9}]
[{"$f":"$A$2*2","v":18},"1)","Numer PESEL wpisują podatnicy będący osobami fizycznymi objętymi rejestrem PESEL, nieprowadzący działalności gospodarczej lub niebędący zarejestrowanymi podatnikami podatku od towarów i usług.\nIdentyfikator podatkowy NIP wpisują pozostali podatnicy."]
[{"$f":"$A$2","v":9},"2)","Numer obrębu należy podać wraz z numerem arkusza mapy ewidencyjnej w przypadku, gdy działki numerowane są w ramach arkusza mapy."]
[{"$f":"$A$2","v":9},"3)","Należy podać z dokładnością do czterech miejsc po przecinku."]
[{"$f":"$A$2","v":9},"4)","Należy podać jednostkę redakcyjną z ustawy lub uchwały rady gminy."]
[{"$f":"$A$2","v":9}]
[{"$f":"$A$8","v":16.5},null,{"$f":"'DR-1'!M10&\".\"&'DR-1'!Q24&Wersja","v":"2023..1.15.0.44867"},null,null,null,null,null,null,null,null,null,null,"ZDR-2(1)","1/2"]
[{"$f":"$A$2","v":9}]
[{"$f":"$A$2","v":9},"WYPEŁNIĆ DUŻYMI, DRUKOWANYMI LITERAMI, CZARNYM LUB NIEBIESKIM KOLOREM."]
[4.5]
[{"$f":"$A$8*1.5","v":24.75},"Lp.","Położenie (adres, w tym dzielnica)",null,null,"Nr księgi wieczystej\n(zbioru dokumentów)","Nr obrębu\n(arkusza mapy)2)","Nr działki","Powierzchnia \nw ha3)",null,"Rodzaj\nużytku","Klasa\nużytku","Podstawa prawna zwolnienia 4)"]
[{"$f":"$A$2","v":9},null,"a",null,null,"b","c","d","e",null,"f","g","h"]
[{"$f":"$A$6","v":19.5},9]
[19.5,{"$f":"B451+1","v":10}]
[19.5,{"$f":"B452+1","v":11}]
[19.5,12]
[19.5,13]
[19.5,14]
[19.5,15]
[19.5,16]
[19.5,17]
[19.5,18]
[19.5,19]
[19.5,20]
[19.5,21]
[19.5,22]
[19.5,23]
[19.5,24]
[19.5,25]
[19.5,26]
[19.5,27]
[19.5,28]
[{"$f":"$A$2","v":9}]
[{"$f":"$A$2","v":9}]
[9]
[9]
[9]
[{"$f":"$A$8","v":16.5},null,"ZDR-2(1)","2/2",null,null,null,null,null,null,null,null,{"$f":"'DR-1'!M10&\".\"&'DR-1'!Q24&Wersja","v":"2023..1.15.0.44867"}]
[9]
[9,"Załącznik nr 6"]
[{"$f":"$A$2","v":9},"WYPEŁNIĆ DUŻYMI, DRUKOWANYMI LITERAMI, CZARNYM LUB NIEBIESKIM KOLOREM."]
[4.5]
[{"$f":"$A$2","v":9},"1. Identyfikator podatkowy NIP/numer PESEL (niepotrzebne skreślić)1)\n└────┴────┴────┴────┴────┴────┴────┴────┴────┴────┴────┘",null,null,null,null,null,null,"2.  Nr dokumentu"]
[19.5,null,{"$f":"$C$6","v":0}]
[{"$f":"$A$2","v":9}]
[16.5,"ZDR-2"]
[{"$f":"$A$8","v":16.5},"ZAŁĄCZNIK DO DEKLARACJI NA PODATEK OD ROLNY"]
["","- DANE O PRZEDMIOTACH OPODATKOWANIA ZWOLNIONYCH Z OPODATKOWANIA"]
[{"$f":"$A$2","v":9},null,null,null,null,null,null,null,null,null,null,null,null,"3. Nr załącznika"]
[{"$f":"$A$6","v":19.5},null,null,null,null,null,null,null,null,null,null,null,null,{"$f":"N420+1","v":8},null,null,{"$f":"IF(COUNTA(C498:O505,C519:O538)=0,0,1)","v":0}]
[{"$f":"$A$4","v":4.5}]
[{"$f":"$A$4","v":4.5}]
[{"$f":"$A$8*1.5","v":24.75},"A.  DANE PODATNIKA WSKAZANEGO W CZĘŚCI C.1 DEKLARACJI DR-1\n* - dotyczy podatnika niebędącego osobą fizyczną               ** - dotyczy podatnika będącego osobą fizyczną"]
[{"$f":"$A$2","v":9},null,"4. Nazwa pełna * / Nazwisko **",null,null,null,null,null,"5. Nazwa skrócona * / Pierwsze imię **"]
[{"$f":"$A$6","v":19.5},null,{"$f":"\"\"&C425","v":""},null,null,null,null,null,{"$f":"\"\"&I425","v":""}]
[{"$f":"$A$4","v":4.5}]
[{"$f":"$A$8","v":16.5},"B.  DANE O POSZCZEGÓLNYCH PRZEDMIOTACH OPODATKOWANIA PODLEGAJĄCYCH OPODATKOWANIU"]
[{"$f":"$A$8*1.5","v":24.75},"Lp.","Położenie (adres, w tym dzielnica)",null,null,"Nr księgi wieczystej\n(zbioru dokumentów)","Nr obrębu\n(arkusza mapy)2)","Nr działki","Powierzchnia \nw ha3)",null,"Rodzaj\nużytku","Klasa\nużytku","Podstawa prawna zwolnienia 4)"]
[{"$f":"$A$2","v":9},null,"a",null,null,"b","c","d","e",null,"f","g","h"]
[{"$f":"$A$6","v":19.5},1]
[19.5,2]
[19.5,3]
[19.5,4]
[19.5,5]
[19.5,6]
[19.5,7]
[19.5,8]
[{"$f":"$A$2","v":9}]
[{"$f":"$A$2","v":9}]
[{"$f":"$A$2*2","v":18},"1)","Numer PESEL wpisują podatnicy będący osobami fizycznymi objętymi rejestrem PESEL, nieprowadzący działalności gospodarczej lub niebędący zarejestrowanymi podatnikami podatku od towarów i usług.\nIdentyfikator podatkowy NIP wpisują pozostali podatnicy."]
[{"$f":"$A$2","v":9},"2)","Numer obrębu należy podać wraz z numerem arkusza mapy ewidencyjnej w przypadku, gdy działki numerowane są w ramach arkusza mapy."]
[{"$f":"$A$2","v":9},"3)","Należy podać z dokładnością do czterech miejsc po przecinku."]
[{"$f":"$A$2","v":9},"4)","Należy podać jednostkę redakcyjną z ustawy lub uchwały rady gminy."]
[{"$f":"$A$2","v":9}]
[{"$f":"$A$8","v":16.5},null,{"$f":"'DR-1'!M10&\".\"&'DR-1'!Q24&Wersja","v":"2023..1.15.0.44867"},null,null,null,null,null,null,null,null,null,null,"ZDR-2(1)","1/2"]
[{"$f":"$A$2","v":9}]
[{"$f":"$A$2","v":9},"WYPEŁNIĆ DUŻYMI, DRUKOWANYMI LITERAMI, CZARNYM LUB NIEBIESKIM KOLOREM."]
[4.5]
[{"$f":"$A$8*1.5","v":24.75},"Lp.","Położenie (adres, w tym dzielnica)",null,null,"Nr księgi wieczystej\n(zbioru dokumentów)","Nr obrębu\n(arkusza mapy)2)","Nr działki","Powierzchnia \nw ha3)",null,"Rodzaj\nużytku","Klasa\nużytku","Podstawa prawna zwolnienia 4)"]
[{"$f":"$A$2","v":9},null,"a",null,null,"b","c","d","e",null,"f","g","h"]
[{"$f":"$A$6","v":19.5},9]
[19.5,{"$f":"B519+1","v":10}]
[19.5,{"$f":"B520+1","v":11}]
[19.5,12]
[19.5,13]
[19.5,14]
[19.5,15]
[19.5,16]
[19.5,17]
[19.5,18]
[19.5,19]
[19.5,20]
[19.5,21]
[19.5,22]
[19.5,23]
[19.5,24]
[19.5,25]
[19.5,26]
[19.5,27]
[19.5,28]
[{"$f":"$A$2","v":9}]
[{"$f":"$A$2","v":9}]
[9]
[9]
[9]
[{"$f":"$A$8","v":16.5},null,"ZDR-2(1)","2/2",null,null,null,null,null,null,null,null,{"$f":"'DR-1'!M10&\".\"&'DR-1'!Q24&Wersja","v":"2023..1.15.0.44867"}]
[9]
[9,"Załącznik nr 6"]
[{"$f":"$A$2","v":9},"WYPEŁNIĆ DUŻYMI, DRUKOWANYMI LITERAMI, CZARNYM LUB NIEBIESKIM KOLOREM."]
[4.5]
[{"$f":"$A$2","v":9},"1. Identyfikator podatkowy NIP/numer PESEL (niepotrzebne skreślić)1)\n└────┴────┴────┴────┴────┴────┴────┴────┴────┴────┴────┘",null,null,null,null,null,null,"2.  Nr dokumentu"]
[19.5,null,{"$f":"$C$6","v":0}]
[{"$f":"$A$2","v":9}]
[16.5,"ZDR-2"]
[{"$f":"$A$8","v":16.5},"ZAŁĄCZNIK DO DEKLARACJI NA PODATEK OD ROLNY"]
["","- DANE O PRZEDMIOTACH OPODATKOWANIA ZWOLNIONYCH Z OPODATKOWANIA"]
[{"$f":"$A$2","v":9},null,null,null,null,null,null,null,null,null,null,null,null,"3. Nr załącznika"]
[{"$f":"$A$6","v":19.5},null,null,null,null,null,null,null,null,null,null,null,null,{"$f":"N488+1","v":9},null,null,{"$f":"IF(COUNTA(C566:O573,C587:O606)=0,0,1)","v":0}]
[{"$f":"$A$4","v":4.5}]
[{"$f":"$A$4","v":4.5}]
[{"$f":"$A$8*1.5","v":24.75},"A.  DANE PODATNIKA WSKAZANEGO W CZĘŚCI C.1 DEKLARACJI DR-1\n* - dotyczy podatnika niebędącego osobą fizyczną               ** - dotyczy podatnika będącego osobą fizyczną"]
[{"$f":"$A$2","v":9},null,"4. Nazwa pełna * / Nazwisko **",null,null,null,null,null,"5. Nazwa skrócona * / Pierwsze imię **"]
[{"$f":"$A$6","v":19.5},null,{"$f":"\"\"&C493","v":""},null,null,null,null,null,{"$f":"\"\"&I493","v":""}]
[{"$f":"$A$4","v":4.5}]
[{"$f":"$A$8","v":16.5},"B.  DANE O POSZCZEGÓLNYCH PRZEDMIOTACH OPODATKOWANIA PODLEGAJĄCYCH OPODATKOWANIU"]
[{"$f":"$A$8*1.5","v":24.75},"Lp.","Położenie (adres, w tym dzielnica)",null,null,"Nr księgi wieczystej\n(zbioru dokumentów)","Nr obrębu\n(arkusza mapy)2)","Nr działki","Powierzchnia \nw ha3)",null,"Rodzaj\nużytku","Klasa\nużytku","Podstawa prawna zwolnienia 4)"]
[{"$f":"$A$2","v":9},null,"a",null,null,"b","c","d","e",null,"f","g","h"]
[{"$f":"$A$6","v":19.5},1]
[19.5,2]
[19.5,3]
[19.5,4]
[19.5,5]
[19.5,6]
[19.5,7]
[19.5,8]
[{"$f":"$A$2","v":9}]
[{"$f":"$A$2","v":9}]
[{"$f":"$A$2*2","v":18},"1)","Numer PESEL wpisują podatnicy będący osobami fizycznymi objętymi rejestrem PESEL, nieprowadzący działalności gospodarczej lub niebędący zarejestrowanymi podatnikami podatku od towarów i usług.\nIdentyfikator podatkowy NIP wpisują pozostali podatnicy."]
[{"$f":"$A$2","v":9},"2)","Numer obrębu należy podać wraz z numerem arkusza mapy ewidencyjnej w przypadku, gdy działki numerowane są w ramach arkusza mapy."]
[{"$f":"$A$2","v":9},"3)","Należy podać z dokładnością do czterech miejsc po przecinku."]
[{"$f":"$A$2","v":9},"4)","Należy podać jednostkę redakcyjną z ustawy lub uchwały rady gminy."]
[{"$f":"$A$2","v":9}]
[{"$f":"$A$8","v":16.5},null,{"$f":"'DR-1'!M10&\".\"&'DR-1'!Q24&Wersja","v":"2023..1.15.0.44867"},null,null,null,null,null,null,null,null,null,null,"ZDR-2(1)","1/2"]
[{"$f":"$A$2","v":9}]
[{"$f":"$A$2","v":9},"WYPEŁNIĆ DUŻYMI, DRUKOWANYMI LITERAMI, CZARNYM LUB NIEBIESKIM KOLOREM."]
[4.5]
[{"$f":"$A$8*1.5","v":24.75},"Lp.","Położenie (adres, w tym dzielnica)",null,null,"Nr księgi wieczystej\n(zbioru dokumentów)","Nr obrębu\n(arkusza mapy)2)","Nr działki","Powierzchnia \nw ha3)",null,"Rodzaj\nużytku","Klasa\nużytku","Podstawa prawna zwolnienia 4)"]
[{"$f":"$A$2","v":9},null,"a",null,null,"b","c","d","e",null,"f","g","h"]
[{"$f":"$A$6","v":19.5},9]
[19.5,{"$f":"B587+1","v":10}]
[19.5,{"$f":"B588+1","v":11}]
[19.5,12]
[19.5,13]
[19.5,14]
[19.5,15]
[19.5,16]
[19.5,17]
[19.5,18]
[19.5,19]
[19.5,20]
[19.5,21]
[19.5,22]
[19.5,23]
[19.5,24]
[19.5,25]
[19.5,26]
[19.5,27]
[19.5,28]
[{"$f":"$A$2","v":9}]
[{"$f":"$A$2","v":9}]
[9]
[9]
[9]
[{"$f":"$A$8","v":16.5},null,"ZDR-2(1)","2/2",null,null,null,null,null,null,null,null,{"$f":"'DR-1'!M10&\".\"&'DR-1'!Q24&Wersja","v":"2023..1.15.0.44867"}]
[9]
[9,"Załącznik nr 6"]
[{"$f":"$A$2","v":9},"WYPEŁNIĆ DUŻYMI, DRUKOWANYMI LITERAMI, CZARNYM LUB NIEBIESKIM KOLOREM."]
[4.5]
[{"$f":"$A$2","v":9},"1. Identyfikator podatkowy NIP/numer PESEL (niepotrzebne skreślić)1)\n└────┴────┴────┴────┴────┴────┴────┴────┴────┴────┴────┘",null,null,null,null,null,null,"2.  Nr dokumentu"]
[19.5,null,{"$f":"$C$6","v":0}]
[{"$f":"$A$2","v":9}]
[16.5,"ZDR-2"]
[{"$f":"$A$8","v":16.5},"ZAŁĄCZNIK DO DEKLARACJI NA PODATEK OD ROLNY"]
["","- DANE O PRZEDMIOTACH OPODATKOWANIA ZWOLNIONYCH Z OPODATKOWANIA"]
[{"$f":"$A$2","v":9},null,null,null,null,null,null,null,null,null,null,null,null,"3. Nr załącznika"]
[{"$f":"$A$6","v":19.5},null,null,null,null,null,null,null,null,null,null,null,null,{"$f":"N556+1","v":10},null,null,{"$f":"IF(COUNTA(C634:O641,C655:O674)=0,0,1)","v":0}]
[{"$f":"$A$4","v":4.5}]
[{"$f":"$A$4","v":4.5}]
[{"$f":"$A$8*1.5","v":24.75},"A.  DANE PODATNIKA WSKAZANEGO W CZĘŚCI C.1 DEKLARACJI DR-1\n* - dotyczy podatnika niebędącego osobą fizyczną               ** - dotyczy podatnika będącego osobą fizyczną"]
[{"$f":"$A$2","v":9},null,"4. Nazwa pełna * / Nazwisko **",null,null,null,null,null,"5. Nazwa skrócona * / Pierwsze imię **"]
[{"$f":"$A$6","v":19.5},null,{"$f":"\"\"&C561","v":""},null,null,null,null,null,{"$f":"\"\"&I561","v":""}]
[{"$f":"$A$4","v":4.5}]
[{"$f":"$A$8","v":16.5},"B.  DANE O POSZCZEGÓLNYCH PRZEDMIOTACH OPODATKOWANIA PODLEGAJĄCYCH OPODATKOWANIU"]
[{"$f":"$A$8*1.5","v":24.75},"Lp.","Położenie (adres, w tym dzielnica)",null,null,"Nr księgi wieczystej\n(zbioru dokumentów)","Nr obrębu\n(arkusza mapy)2)","Nr działki","Powierzchnia \nw ha3)",null,"Rodzaj\nużytku","Klasa\nużytku","Podstawa prawna zwolnienia 4)"]
[{"$f":"$A$2","v":9},null,"a",null,null,"b","c","d","e",null,"f","g","h"]
[{"$f":"$A$6","v":19.5},1]
[19.5,2]
[19.5,3]
[19.5,4]
[19.5,5]
[19.5,6]
[19.5,7]
[19.5,8]
[{"$f":"$A$2","v":9}]
[{"$f":"$A$2","v":9}]
[{"$f":"$A$2*2","v":18},"1)","Numer PESEL wpisują podatnicy będący osobami fizycznymi objętymi rejestrem PESEL, nieprowadzący działalności gospodarczej lub niebędący zarejestrowanymi podatnikami podatku od towarów i usług.\nIdentyfikator podatkowy NIP wpisują pozostali podatnicy."]
[{"$f":"$A$2","v":9},"2)","Numer obrębu należy podać wraz z numerem arkusza mapy ewidencyjnej w przypadku, gdy działki numerowane są w ramach arkusza mapy."]
[{"$f":"$A$2","v":9},"3)","Należy podać z dokładnością do czterech miejsc po przecinku."]
[{"$f":"$A$2","v":9},"4)","Należy podać jednostkę redakcyjną z ustawy lub uchwały rady gminy."]
[{"$f":"$A$2","v":9}]
[{"$f":"$A$8","v":16.5},null,{"$f":"'DR-1'!M10&\".\"&'DR-1'!Q24&Wersja","v":"2023..1.15.0.44867"},null,null,null,null,null,null,null,null,null,null,"ZDR-2(1)","1/2"]
[{"$f":"$A$2","v":9}]
[{"$f":"$A$2","v":9},"WYPEŁNIĆ DUŻYMI, DRUKOWANYMI LITERAMI, CZARNYM LUB NIEBIESKIM KOLOREM."]
[4.5]
[{"$f":"$A$8*1.5","v":24.75},"Lp.","Położenie (adres, w tym dzielnica)",null,null,"Nr księgi wieczystej\n(zbioru dokumentów)","Nr obrębu\n(arkusza mapy)2)","Nr działki","Powierzchnia \nw ha3)",null,"Rodzaj\nużytku","Klasa\nużytku","Podstawa prawna zwolnienia 4)"]
[{"$f":"$A$2","v":9},null,"a",null,null,"b","c","d","e",null,"f","g","h"]
[{"$f":"$A$6","v":19.5},9]
[19.5,{"$f":"B655+1","v":10}]
[19.5,{"$f":"B656+1","v":11}]
[19.5,12]
[19.5,13]
[19.5,14]
[19.5,15]
[19.5,16]
[19.5,17]
[19.5,18]
[19.5,19]
[19.5,20]
[19.5,21]
[19.5,22]
[19.5,23]
[19.5,24]
[19.5,25]
[19.5,26]
[19.5,27]
[19.5,28]
[{"$f":"$A$2","v":9}]
[{"$f":"$A$2","v":9}]
[9]
[9]
[9]
[{"$f":"$A$8","v":16.5},null,"ZDR-2(1)","2/2",null,null,null,null,null,null,null,null,{"$f":"'DR-1'!M10&\".\"&'DR-1'!Q24&Wersja","v":"2023..1.15.0.44867"}]
[9]

{"sheet":"DL-1","index":6,"n_rows":161,"n_cols":55,"rows_kept":161,"cut":false,"hidden":false,"merged":[[159,2,159,9],[110,17,110,24],[6,1,6,25],[7,1,7,25],[8,12,8,16],[9,1,9,11],[9,12,9,16],[11,1,11,3],[11,4,11,25],[18,2,18,25],[19,2,19,25],[21,2,21,25],[29,1,29,25],[30,1,30,25],[31,1,31,25],[32,1,32,25],[33,2,33,25],[34,5,34,8],[34,11,34,14],[34,16,34,25],[22,2,22,25],[23,2,23,15],[23,16,23,17],[24,1,24,25],[1,1,1,25],[2,1,2,25],[4,1,4,13],[4,14,4,25],[5,1,5,11],[5,14,5,25],[15,1,15,25],[16,1,16,25],[17,2,17,25],[12,1,12,3],[12,4,12,25],[13,1,13,3],[13,4,13,25],[14,1,14,3],[14,4,14,25],[8,17,9,25],[25,1,25,25],[26,2,26,25],[39,9,39,19],[40,1,40,25],[41,2,41,12],[41,13,41,19],[41,20,41,25],[42,2,42,12],[42,13,42,19],[42,20,42,25],[35,2,35,25],[36,2,36,14],[36,15,36,25],[37,2,37,14],[37,15,37,25],[38,2,38,25],[46,2,46,9],[46,10,46,19],[46,20,46,22],[46,23,46,25],[47,2,47,9],[47,10,47,19],[47,20,47,22],[47,23,47,25],[43,1,43,25],[44,2,44,8],[44,9,44,17],[44,18,44,25],[45,2,45,8],[45,9,45,17],[45,18,45,25],[52,2,52,8],[52,9,52,17],[52,18,52,25],[53,2,53,9],[53,10,53,19],[53,20,53,22],[53,23,53,25],[48,2,48,14],[48,15,48,25],[49,2,49,14],[49,15,49,25],[50,1,50,25],[51,2,51,8],[51,9,51,17],[51,18,51,25],[56,2,56,14],[56,15,56,25],[61,21,61,24],[63,1,63,25],[54,2,54,9],[54,10,54,19],[54,20,54,22],[54,23,54,25],[55,2,55,14],[55,15,55,25],[61,2,61,9],[134,2,134,25],[135,2,135,25],[69,1,70,1],[128,2,128,25],[129,2,129,25],[130,2,130,25],[132,1,132,25],[133,2,133,25],[122,2,122,25],[123,2,123,25],[124,2,124,25],[125,2,125,25],[126,2,126,25],[127,2,127,25],[120,1,120,25],[121,2,121,25],[76,1,76,25],[72,1,72,25],[73,2,73,14],[73,17,73,22],[74,17,74,22],[75,17,75,24],[69,2,69,12],[70,2,70,12],[66,1,66,25],[77,15,77,20],[77,2,77,8],[91,2,91,25],[92,2,92,25],[93,1,93,25],[84,1,84,25],[82,10,82,13],[82,22,82,24],[77,1,82,1],[73,1,75,1],[78,2,78,8],[79,2,79,8],[80,2,80,8],[81,2,81,8],[82,2,82,8],[78,15,78,20],[79,15,79,20],[80,15,80,20],[81,15,81,20],[82,15,82,20],[74,2,74,14],[70,23,70,25],[69,23,69,25],[85,2,85,14],[85,15,85,25],[94,1,94,25],[95,1,95,25],[96,1,98,1],[96,2,96,14],[96,15,96,25],[97,2,97,14],[97,15,97,25],[98,2,98,14],[98,15,98,25],[86,8,86,9],[86,20,86,21],[87,1,87,25],[88,1,88,25],[89,1,91,1],[89,2,89,14],[89,15,89,25],[90,2,90,14],[90,15,90,25],[108,15,108,25],[103,2,103,14],[103,15,103,25],[104,5,104,12],[104,15,104,25],[105,2,105,14],[105,15,105,25],[99,5,99,12],[99,15,99,25],[100,1,100,25],[101,1,107,1],[101,2,101,14],[101,15,101,25],[102,2,102,14],[102,15,102,25],[159,21,159,24],[112,1,112,25],[65,1,65,25],[67,1,68,1],[67,2,68,2],[67,3,68,3],[67,4,68,4],[70,19,70,21],[69,19,69,21],[70,14,70,17],[69,14,69,17],[67,13,68,17],[67,18,67,21],[114,1,114,25],[115,1,115,25],[116,2,116,25],[117,2,117,25],[110,1,110,4],[110,5,110,6],[106,2,106,14],[106,15,106,25],[107,2,107,14],[107,15,107,25],[108,5,108,12],[67,11,68,11],[67,12,68,12],[71,1,71,25],[83,1,83,25],[67,5,68,5],[67,6,68,6],[67,7,68,7],[67,8,68,8],[67,9,68,9],[67,10,68,10],[67,22,67,25],[68,18,68,21],[68,22,68,25],[77,10,77,13],[77,22,77,24],[78,10,78,13],[79,10,79,13],[80,10,80,13],[81,10,81,13],[78,22,78,24],[79,22,79,24],[80,22,80,24],[81,22,81,24],[75,2,75,14]]}
[15,2.5,3.83,{"$f":"$C$1","v":3.83},2.5,{"$f":"$C$1-E1","v":1.33},{"$f":"$C$1-H1","v":1.33},2.5,{"$f":"$C$1","v":3.83},3.83,2.5,{"$f":"$C$1-K1","v":1.33},3.83,3.83,3.83,2.5,{"$f":"C1-P1","v":1.33},3.83,3.83,3.83,3.83,3.83,3.83,3.83,3.83,3.83,"sumy",null,null,null,null,null,null,null,null,null,null,null,null,null,null,null,null,null,null,null,null,null,null,null,null,null,{"$f":"COUNTA(BC:BC)","v":50},null,{"$f":"B6&\";\"&K21&\";\"&P21&\";\"&Q24&\";\"&E28&\";\"&P28&\";\"&E35&\";\"&K35&\";\"&P35&\";\"&C38&\";\"&P38&\";\"&J40&\";\"&C43&\";\"&N43&\";\"&U43&\";\"&C46&\";\"&J46&\";\"&S46&\";\"&C48&\";\"&K48&\";\"&U48&\";\"&X48&\";\"&C50&\";\"&P50&\";\"&C53&\";\"&J53&\";\"&S53&\";\"&C55&\";\"&K55&\";\"&U55&\";\"&X55&\";\"&C57&\";\"&P57&\";\"&C91&\";\"&P91&\";\"&C98&\";\"&P98&\";\"&F100&\";\"&C103&\";\"&P103&\";\"&F105&\";\"&C107&\";\"&P107&\";\"&F109=Dane!E19","v":false}]
[{"$f":"$A$3","v":9},"Załącznik nr 5",null,null,null,null,null,null,null,null,null,null,null,null,null,null,null,null,null,null,null,null,null,null,null,null,"kontrolne",null,null,null,null,null,null,null,null,null,null,null,null,null,null,null,null,null,null,null,null,null,null,null,null,null,{"$f":"SUM(BB:BB)","v":17}]
[9,"WYPEŁNIĆ DUŻYMI, DRUKOWANYMI LITERAMI, CZARNYM LUB NIEBIESKIM KOLOREM.",null,null,null,null,null,null,null,null,null,null,null,null,null,null,null,null,null,null,null,null,null,null,null,null,null,null,null,null,null,null,null,null,null,null,null,null,null,null,null,null,null,null,null,null,null,null,null,null,null,null,{"$f":"IF(LEN(C91&P91)=0,1,0)","v":1},null,"Czy podano dane kontaktowe 56 i 57"]
[4.5,null,null,null,null,null,null,null,null,null,null,null,null,null,null,null,null,null,null,null,null,null,null,null,null,null,null,null,null,null,null,null,null,null,null,null,null,null,null,null,null,null,null,null,null,null,null,null,null,null,null,null,91]
[{"$f":"$A$3","v":9},"1. Identyfikator podatkowy NIP/numer PESEL (niepotrzebne skreślić)1)",null,null,null,null,null,null,null,null,null,null,null,null,"2.  Nr dokumentu",null,null,null,null,null,null,null,null,null,null,null,null,null,null,null,null,null,null,null,null,null,null,null,null,null,null,null,null,null,null,null,null,null,null,null,"wiersz błędu","kolumna błedu",3]
[16.5,null,null,null,null,null,null,null,null,null,null,null,null,null,null,null,null,null,null,null,null,null,null,null,null,null,{"$f":"LEN(B6)","v":0},null,null,null,null,null,null,null,null,null,null,null,null,null,null,null,null,null,null,null,null,null,null,null,6,2,1,{"$f":"IF(E35<>\"\",IF(B6<>\"\",0,1),IF(B6<>\"\",0,1))","v":1},{"$f":"IF(E35<>\"\",IF(B6<>\"\",\"ok\",\"Pole 1 [Identyfikator podatkowy NIP/numer PESEL]. Jeżeli deklarację składa osoba fizyczna nieprowadząca działalności gospodarczej, której nie nadano nr PESEL należy wpisać -brak.\"),IF(B6<>\"\",\"ok\",\"Pole 1 [Identyfikator podatkowy NIP/numer PESEL]. Jeżeli deklarację składa inny podmiot niż osoba fizyczna należy wipsać NIP.\"))","v":"Pole 1 [Identyfikator podatkowy NIP/numer PESEL]. Jeżeli deklarację składa inny podmiot niż osoba fizyczna należy wipsać NIP."}]
[16.5,"DL-1",null,null,null,null,null,null,null,null,null,null,null,null,null,null,null,null,null,null,null,null,null,null,null,null,{"$f":"SUM(BB7:BB10)","v":1},null,null,null,null,null,null,null,null,null,null,null,null,null,null,null,null,null,null,null,null,null,null,null,6,2,"1 długość 10 lub 11",{"$f":"IF(OR(LEN(B6)=10,LEN(B6)=11,B6=\"brak\"),0,1)","v":1},"Pole 1 [Identyfikator podatkowy NIP/numer PESEL] zawiera błąd."]
[{"$f":"$A$7","v":16.5},"DEKLARACJA NA PODATEK LEŚNY",null,null,null,null,null,null,null,null,null,null,null,null,null,null,null,null,null,null,null,null,null,null,null,null,null,null,null,null,null,null,null,null,null,null,null,null,null,null,null,null,null,null,null,null,null,null,null,null,6,2,"1 NIP",{"$f":"IF(B6=\"nie nadano\",0,IF(LEN(B6)=10,IF(MOD(MOD(6*MID(B6,1,1)+5*MID(B6,2,1)+7*MID(B6,3,1)+2*MID(B6,4,1)+3*MID(B6,5,1)+4*MID(B6,6,1)+5*MID(B6,7,1)+6*MID(B6,8,1)+7*MID(B6,9,1),11),10) = 1*MID(B6,10,1),0,1),0))","v":0},"Podany w polu 1 NIP jest błędny."]
[{"$f":"$A$3","v":9},null,null,null,null,null,null,null,null,null,null,null,"3. Rok",null,null,null,null,null,null,null,null,null,null,null,null,null,null,null,null,null,null,null,null,null,null,null,null,null,null,null,null,null,null,null,null,null,null,null,null,null,6,2,"1 PESEL",{"$f":"IF(LEN(B6)=11,IF(MOD(10-MOD(1*MID(B6,1,1)+3*MID(B6,2,1)+7*MID(B6,3,1)+9*MID(B6,4,1)+1*MID(B6,5,1)+3*MID(B6,6,1)+5*MID(B6,7,1)+9*MID(B6,8,1)+1*MID(B6,9,1)+ 3*MID(B6,10,1),10),10)=1*MID(B6,11,1),0,1),0)","v":0},"Podany w polu 1 PESEL jest błędny."]
[{"$f":"$A$6","v":16.5},"NA ROK",null,null,null,null,null,null,null,null,null,null,{"$f":"Dane!AN1","v":2023},null,null,null,null,null,null,null,null,null,null,null,null,null,null,null,null,null,null,null,null,null,null,null,null,null,null,null,null,null,null,null,null,null,null,null,null,null,6,2,"1 PESEL",{"$f":"IF(AND(LEN(B6)=11,OR(K35<>\"\",P35<>\"\")       ),1,0)","v":0},"W polu 1 PESEL podają wyłącznie osoby fizyczne, które nie prowadzą działalności gospodarczej."]
[{"$f":"$A$4","v":4.5}]
[9,"Podstawa prawna:",null,null,"Art. 6 ust. 5, 6 i 7 ustawy z dnia 30 października 2002 r. o podatku leśnym (Dz. U. z 2019 r. poz. 888), zwanej dalej „ustawą”. "]
[42,"Składający:",null,null," Osoby prawne, jednostki organizacyjne, w tym spółki, nieposiadające osobowości prawnej, jednostki organizacyjne Lasów\nPaństwowych, a także jednostki organizacyjne Krajowego Ośrodka Wsparcia Rolnictwa będące właścicielami lasów,\nposiadaczami samoistnymi lasów, użytkownikami wieczystymi lasów, posiadaczami lasów stanowiących własność Skarbu\nPaństwa lub jednostki samorządu terytorialnego oraz osoby fizyczne będące współwłaścicielami lub współposiadaczami\nlasów z osobami prawnymi lub z jednostkami organizacyjnymi, w tym spółkami, nieposiadającymi osobowości prawnej."]
[24.75,"Termin składania:",null,null,"Do dnia 15 stycznia danego roku podatkowego lub w terminie 14 dni od dnia wystąpienia okoliczności uzasadniających\npowstanie obowiązku podatkowego lub od dnia zaistnienia zmian mających wpływ na wysokość opodatkowania, o których\nmowa w art. 5 ust. 4 ustawy."]
[{"$f":"$A$3","v":9},"Miejsce składania:",null,null,"Organ podatkowy właściwy ze względu na miejsce położenia przedmiotów opodatkowania."]
[{"$f":"$A$4","v":4.5}]
[{"$f":"$A$7","v":16.5},"A. MIEJSCE I CEL SKŁADANIA DEKLARACJI2)"]
[{"$f":"$A$3","v":9},null,"4. Nazwa i adres siedziby organu podatkowego"]
[{"$f":"$A$6","v":16.5},null,{"$f":"Organ","v":"Burmistrz Miasta Kluczborka, ul.Katowicka 1, 46-200 Kluczbork"}]
[{"$f":"$A$3","v":9},null,"5. Cel złożenia formularza (zaznaczyć właściwy kwadrat):"]
[15,null,null,null,null,null,null,null,null,null,null,"1. złożenie deklaracji",null,null,null,null,"2. korekta deklaracji3)",null,null,null,null,null,null,null,null,null,null,null,null,null,null,null,null,null,null,null,null,null,null,null,null,null,null,null,null,null,null,null,null,null,21,11,"5a i 5b",{"$f":"IF(LEN(K21&P21)=1,0,1)","v":1},"W polu 5 [Cel złożenia formularza] powinna być zaznaczona jedna wartość."]
[{"$f":"$A$4","v":4.5}]
[{"$f":"$A$3","v":9},null,"6. Okres – od którego deklaracja obowiązuje"]
[{"$f":"$A$6","v":16.5},null,"(miesiąc)",null,null,null,null,null,null,null,null,null,null,null,null,null,null,null,null,null,null,null,null,null,null,null,{"$f":"13-Q24","v":13},null,null,null,null,null,null,null,null,null,null,null,null,null,null,null,null,null,null,null,null,null,null,null,24,17,6,{"$f":"IF(AND(Q24>=1,Q24<=12),0,1)","v":1},"Pole 6 [Okres – od którego deklaracja obowiązuje] powinno mieć wartość 1 - 12"]
[{"$f":"$A$4","v":4.5}]
[{"$f":"$A$7","v":16.5},"B. PODMIOT ZOBOWIĄZANY DO ZŁOŻENIA DEKLARACJI"]
[{"$f":"$A$3","v":9},null,"7. Rodzaj podmiotu (zaznaczyć właściwy kwadrat):"]
[{"$f":"$A$21","v":15},null,null,null,null,"1. właściciel, użytkownik wieczysty lub posiadacz",null,null,null,null,null,null,null,null,null,null,"2. współwłaściciel, współużytkownik wieczysty lub współposiadacz",null,null,null,null,null,null,null,null,null,null,null,null,null,null,null,null,null,null,null,null,null,null,null,null,null,null,null,null,null,null,null,null,null,28,5,"7a i 7b",{"$f":"IF(LEN(E28&P28)=1,0,1)","v":1},"W polu 7 [Rodzaj podmiotu] powinna być zaznaczona jedna wartość."]
[{"$f":"$A$4","v":4.5}]
[4.5]
[{"$f":"$A$7","v":16.5},"C. DANE PODATNIKA"]
[{"$f":"$A$3","v":9},"* - dotyczy podatnika niebędącego osobą fizyczną  ** - dotyczy podatnika będącego osobą fizyczną",null,null,null,null,null,null,null,null,null,null,null,null,null,null,null,null,null,null,null,null,null,null,null,null,null,null,null,null,null,null,null,null,null,null,null,null,null,null,null,null,null,null,null,null,null,null,null,null,35,5,"8a, 8b i 8c",{"$f":"IF(LEN(E35&K35&P35)<>1,1,0)","v":1},"W polu 8 [Rodzaj podatnika] powinno być zaznaczona jedna wartość."]
[{"$f":"$A$7","v":16.5},"C.1. DANE IDENTYFIKACYJNE",null,null,null,null,null,null,null,null,null,null,null,null,null,null,null,null,null,null,null,null,null,null,null,null,null,null,null,null,null,null,null,null,null,null,null,null,null,null,null,null,null,null,null,null,null,null,null,null,35,5,"8b i nip",{"$f":"IF(AND(LEN(B6)<>10,K35<>\"\"),1-BB32,0)","v":0},"W polu 8 wybrano [Rodzaj podatnika - osoba prawna], więc pole 1 powinno zawierać NIP."]
[{"$f":"$A$3","v":9},null,"8. Rodzaj podatnika (zaznaczyć właściwy kwadrat):",null,null,null,null,null,null,null,null,null,null,null,null,null,null,null,null,null,null,null,null,null,null,null,null,null,null,null,null,null,null,null,null,null,null,null,null,null,null,null,null,null,null,null,null,null,null,null,35,5,"8c i nip",{"$f":"IF(AND(LEN(B6)<>10,P35<>\"\"),1-BB32,0)","v":0},"W polu 8 wybrano [Rodzaj podatnika - jednostka organizacyjna ...], więc pole 1 powinno zawierać NIP."]
[{"$f":"$A$21","v":15},null,null,null,null,"1. osoba fizyczna",null,null,null,null,null,"2. osoba prawna",null,null,null,null,"3. jednostka organizacyjna, wtym spółka nieposiadająca osobowości prawnej",null,null,null,null,null,null,null,null,null,{"$f":"SUM(BB32:BB34)","v":1}]
[{"$f":"$A$4","v":4.5}]
[{"$f":"$A$3","v":9},null,"9. Nazwa pełna * / Nazwisko **",null,null,null,null,null,null,null,null,null,null,null,null,"10. Nazwa skrócona * / Pierwsze imię**",null,null,null,null,null,null,null,null,null,null,null,12345678512347]
[{"$f":"$A$6","v":16.5},null,null,null,null,null,null,null,null,null,null,null,null,null,null,null,null,null,null,null,null,null,null,null,null,null,null,{"$f":"\"00000000000000\"&J40","v":"00000000000000"},null,null,null,null,null,null,null,null,null,null,null,null,null,null,null,null,null,null,null,null,null,null,38,3,9,{"$f":"IF(C38=\"\",1,0)","v":1},"Pole 9 [Nazwa pełna / Nazwisko] powinno być wypełnione"]
[{"$f":"$A$3","v":9},null,"11. Identyfikator REGON (w przypadku osób fizycznych REGON podaje się, o ile został nadany)",null,null,null,null,null,null,null,null,null,null,null,null,null,null,null,null,null,null,null,null,null,null,null,null,null,"REGON","regon9","regon14","regon9","regon14",null,null,null,null,null,null,null,null,null,null,null,null,null,null,null,null,null,38,16,10,{"$f":"IF(P38=\"\",1,0)","v":1},"Pole 10 Nazwa skrócona / Pierwsze imię] powinno być wypełnione"]
[{"$f":"$A$6","v":16.5},null,null,null,null,null,null,null,null,null,null,null,null,null,null,null,null,null,null,null,null,null,null,null,null,null,{"$f":"LEN(J40)","v":0},14,{"$f":"LEFT(RIGHT($AB$38,AB40),1)","v":"0"},null,2,{"$f":"AD40*$AC40","v":0},{"$f":"AE40*$AC40","v":0},null,null,null,null,null,null,null,null,null,null,null,null,null,null,null,null,null,40,10,"REGON",{"$f":"IF(LEN(J40)>14,\"Podany REGON jest za długi.\",IF(LEN(J40)<=9,IF(AC53+0=AF53,0,1),IF(LEN(J40)>9,IF(AC53+0=AG53,0,1),1)))","v":0},{"$f":"IF(LEN(J40)>14,\"Podany REGON jest za długi.\",IF(LEN(J40)<=9,IF(AC53+0=AF53,\"REGON 9 cyfr ok\",\"Podany REGON jest błędny\"),IF(LEN(J40)>9,IF(AC53+0=AG53,\"REGON 14 cyfr ok\",\"Podany REGON jest błędny\"),1)))","v":"REGON 9 cyfr ok"}]
[{"$f":"$A$3","v":9},"Pola 12, 13, 14 wypełnia osoba fizyczna w przypadku, gdy numer PESEL nie został nadany.",null,null,null,null,null,null,null,null,null,null,null,null,null,null,null,null,null,null,null,null,null,null,null,null,null,{"$f":"AB40-1","v":13},{"$f":"LEFT(RIGHT($AB$38,AB41),1)","v":"0"},null,4,{"$f":"AD41*$AC41","v":0},0]
[{"$f":"$A$3","v":9},null,"12. Data urodzenia (dzień - miesiąc - rok)",null,null,null,null,null,null,null,null,null,null,"13. Imię ojca",null,null,null,null,null,null,"14. Imię matki",null,null,null,null,null,null,{"$f":"AB41-1","v":12},"0",null,8,0,0,null,null,null,null,null,null,null,null,null,null,null,null,null,null,null,null,null,43,3,12,{"$f":"IF(AND(E35<>\"\",C43=\"\",B6=\"brak\"),1,0)","v":0},"Pole 12 [Data urodzenia] wypełniają osoby fizyczne, którym nie nadano PESEL."]
[{"$f":"$A$6","v":16.5},null,null,null,null,null,null,null,null,null,null,null,null,null,null,null,null,null,null,null,null,null,null,null,null,null,null,11,"0",null,5,0,0,null,null,null,null,null,null,null,null,null,null,null,null,null,null,null,null,null,43,14,13,{"$f":"IF(AND(E35<>\"\",N43=\"\",B6=\"brak\"),1,0)","v":0},"Pole 13 [Imię ojca] wypełniają osoby fizyczne, którym nie nadano PESEL."]
[{"$f":"$A$7","v":16.5},"C.2. ADRES SIEDZIBY * / ADRES ZAMIESZKANIA **",null,null,null,null,null,null,null,null,null,null,null,null,null,null,null,null,null,null,null,null,null,null,null,null,null,10,"0",null,0,0,0,null,null,null,null,null,null,null,null,null,null,null,null,null,null,null,null,null,43,21,14,{"$f":"IF(AND(E35<>\"\",U43=\"\",B6=\"brak\"),1,0)","v":0},"Pole 12 [Imię matki] wypełniają osoby fizyczne, którym nie nadano PESEL."]
[{"$f":"$A$3","v":9},null,"15. Kraj",null,null,null,null,null,null,"16. Województwo",null,null,null,null,null,null,null,null,"17. Powiat",null,null,null,null,null,null,null,null,9,"0",8,9,0,0,null,null,null,null,null,null,null,null,null,null,null,null,null,null,null,null,null,46,3,15,{"$f":"IF(C46=\"\",1,0)","v":1},"Pole 15 [Kraj] powinno być wypełnione"]
[{"$f":"$A$6","v":16.5},null,null,null,null,null,null,null,null,null,null,null,null,null,null,null,null,null,null,null,null,null,null,null,null,null,null,8,"0",9,7,0,0,null,null,null,null,null,null,null,null,null,null,null,null,null,null,null,null,null,46,10,16,{"$f":"IF(J46=\"\",1,0)","v":1},"Pole 16 [Województwo] powinno być wypełnione"]
[{"$f":"$A$3","v":9},null,"18. Gmina",null,null,null,null,null,null,null,"19. Ulica",null,null,null,null,null,null,null,null,null,"20. Nr domu",null,null,"21. Nr lokalu",null,null,null,7,"0",2,3,0,0,null,null,null,null,null,null,null,null,null,null,null,null,null,null,null,null,null,46,19,17,{"$f":"IF(S46=\"\",1,0)","v":1},"Pole 17 [Powiat] powinno być wypełnione"]
[{"$f":"$A$6","v":16.5},null,null,null,null,null,null,null,null,null,null,null,null,null,null,null,null,null,null,null,null,null,null,null,null,null,null,6,"0",3,6,0,0,null,null,null,null,null,null,null,null,null,null,null,null,null,null,null,null,null,48,3,18,{"$f":"IF(C48=\"\",1,0)","v":1},"Pole 18 [Gmina] powinno być wypełnione"]
[{"$f":"$A$3","v":9},null,"22. Miejscowość",null,null,null,null,null,null,null,null,null,null,null,null,"23. Kod pocztowy",null,null,null,null,null,null,null,null,null,null,null,5,"0",4,1,0,0,null,null,null,null,null,null,null,null,null,null,null,null,null,null,null,null,null,48,11,"19, 20,21",{"$f":"IF(AND(K48=\"\",U48=\"\",X48=\"\"),1,0)","v":1},"Pola 19 - 21 powinny zawierać dokładny ADRES"]
[{"$f":"$A$6","v":16.5},null,null,null,null,null,null,null,null,null,null,null,null,null,null,null,null,null,null,null,null,null,null,null,null,null,null,4,"0",5,2,0,0,null,null,null,null,null,null,null,null,null,null,null,null,null,null,null,null,null,50,3,22,{"$f":"IF(C50=\"\",1,0)","v":1},"Pole 22 [Miejscowość] powinno być wypełnione"]
[{"$f":"$A$7","v":16.5},"C.3. ADRES DO DORĘCZEŃ Należy wypełnić tylko wówczas, gdy ADRES do doręczeń jest inny niż w części C.2.",null,null,null,null,null,null,null,null,null,null,null,null,null,null,null,null,null,null,null,null,null,null,null,null,null,3,"0",6,4,0,0,null,null,null,null,null,null,null,null,null,null,null,null,null,null,null,null,null,50,16,23,{"$f":"IF(P50=\"\",1,0)","v":1},"Pole 23 [Kod pocztowy] powinno być wypełnione"]
[{"$f":"$A$3","v":9},null,"24. Kraj",null,null,null,null,null,null,"25. Województwo",null,null,null,null,null,null,null,null,"26. Powiat",null,null,null,null,null,null,null,null,2,"0",7,8,0,0]
[{"$f":"$A$6","v":16.5},null,null,null,null,null,null,null,null,null,null,null,null,null,null,null,null,null,null,null,null,null,null,null,null,null,null,1,"0",null,null,{"$f":"MOD(MOD(SUM(AF40:AF52),11),10)","v":0},{"$f":"MOD(MOD(SUM(AG40:AG52),11),10)","v":0},null,null,null,null,null,null,null,null,null,null,null,null,null,null,null,null,null,53,3,"24 - 32",{"$f":"IF(AND(C46=C53,J46=J53,S46=S53,C48=C55,K48=K55,U48=U55,X48=X55,C50=C57,P50=P57),1,0)","v":1},"ADRES DO DORĘCZEŃ Należy wypełnić tylko wówczas, gdy ADRES do doręczeń jest inny niż w części C.2."]
[{"$f":"$A$3","v":9},null,"27. Gmina",null,null,null,null,null,null,null,"28. Ulica",null,null,null,null,null,null,null,null,null,"29. Nr domu",null,null,"30. Nr lokalu"]
[{"$f":"$A$6","v":16.5}]
[{"$f":"$A$3","v":9},null,"31. Miejscowość",null,null,null,null,null,null,null,null,null,null,null,null,"32. Kod pocztowy"]
[{"$f":"$A$6","v":16.5}]
[{"$f":"$A$3","v":9}]
[{"$f":"$A$3","v":9}]
[9]
[9]
[{"$f":"$A$6","v":16.5},null,{"$f":"'DL-1'!M10&\".\"&'DL-1'!Q24&Wersja","v":"2023..1.15.0.44867"},null,null,null,null,null,null,null,null,null,null,null,null,null,null,null,null,null,null,"DL-1(1)",null,null,null,"1/3"]
[{"$f":"$A$3","v":9}]
[9,"WYPEŁNIĆ DUŻYMI, DRUKOWANYMI LITERAMI, CZARNYM LUB NIEBIESKIM KOLOREM."]
[{"$f":"$A$4","v":4.5}]
[{"$f":"$A$4","v":4.5}]
[{"$f":"$A$7","v":16.5},"D. DANE O LASACH PODLEGAJĄCYCH OPODATKOWANIU"]
[18,null,null,null,null,null,null,null,null,null,null,null,null,"Powierzchnia w ha4)",null,null,null,null,"Stawka podatku",null,null,null,"Kwota podatku za okres, którego dotyczy deklaracja5)"]
[{"$f":"$A$3","v":9},null,null,null,null,null,null,null,null,null,null,null,null,null,null,null,null,null,"zł       gr",null,null,null,"zł       gr"]
[24.75,null,"Lasy\n(z wyjątkiem lasów wchodzących w skład rezerwatów\nprzyrody i parków narodowych)",null,null,null,null,null,null,null,null,null,null,"33.",null,null,null,null,"34.",{"$f":"ROUND(Dane!AN16*0.22,4)","v":71.099599999999995},null,null,"35.",{"$f":"IF(AND(AA24>=1,AA24<=12),ROUND(O70*T70*AA24/12,2),\"Pole 6 - ???\")","v":"Pole 6 - ???"},null,null,{"$f":"'ZDL-1'!R19","v":0},null,null,null,null,null,null,null,null,null,null,null,null,null,null,null,null,null,null,null,null,null,null,null,70,15,33,{"$f":"IF(O70<>AA70,1,0)","v":0},{"$f":"\"W DL-1 polu. 33 wykazano powierzchnię \"& O70 &\" ha, a w ZDL-1 \"&AA70&\" ha\"","v":"W DL-1 polu. 33 wykazano powierzchnię  ha, a w ZDL-1 0 ha"}]
[21,null,"Lasy wchodzące w skład rezerwatów przyrody\ni parków narodowych",null,null,null,null,null,null,null,null,null,null,"36.",null,null,null,null,"37.",{"$f":"ROUND(Dane!AN16*0.22*0.5,4)","v":35.549799999999998},null,null,"38.",{"$f":"IF(AND(AA24>=1,AA24<=12),ROUND(O71*T71*AA24/12,2),\"Pole 6 - ???\")","v":"Pole 6 - ???"},null,null,{"$f":"'ZDL-1'!R20","v":0},null,null,null,null,null,null,null,null,null,null,null,null,null,null,null,null,null,null,null,null,null,null,null,71,15,36,{"$f":"IF(O71<>AA71,1,0)","v":0},{"$f":"\"W DL-1 polu. 36 wykazano powierzchnię \"& O71 &\" ha, a w ZDL-1 \"&AA71&\" ha\"","v":"W DL-1 polu. 36 wykazano powierzchnię  ha, a w ZDL-1 0 ha"}]
[{"$f":"$A$4","v":4.5}]
[{"$f":"$A$7","v":16.5},"E. WYSOKOŚĆ ZOBOWIĄZANIA PODATKOWEGO I RAT PODATKU",null,null,null,null,null,null,null,null,null,null,null,null,null,null,null,null,null,null,null,null,null,null,null,null,null,null,null,null,null,null,null,null,null,null,null,null,null,null,null,null,null,null,null,null,null,null,null,null,75,18,40,{"$f":"IF(AND(AA75>0,Q24=1),1,0)","v":0},"Ponieważ w polu 6 [Okres – od którego deklaracja obowiązuje] wpisano 1, pole 40 [Kwota podatku za miesiące nieobjęte deklaracją] powinna być równa 0."]
[{"$f":"$A$71","v":21},null,"Łączna kwota podatku za okres, którego dotyczy deklaracja\nSuma kwot podatku z poz. 35 i 38.",null,null,null,null,null,null,null,null,null,null,null,null,"39.",null,{"$f":"IF(AND($Q$24>=1,$Q$24<=12),QUOTIENT(SUM(X70:Z71),1),\"Pole 6 - ???\")","v":"Pole 6 - ???"},null,null,null,null,null,"zł,",{"$f":"IF(AND(AA24>=1,AA24<=12),(AA74-R74)*100,\"???\")","v":"???"},"gr",{"$f":"SUM(X70:Z71)","v":0},null,null,null,null,null,null,null,null,null,null,null,null,null,null,null,null,null,null,null,null,null,null,null,75,18,40,{"$f":"IF(AND(K21<>\"\",AA75<>0),1,0)","v":0},"Jeżeli w poz. 5 zaznaczono kwadrat 1, w pole 95 należy wpisać 0."]
[21,null,"Kwota podatku za miesiące nieobjęte deklaracją6)\nJeżeli w poz. 5 zaznaczono kwadrat 1, należy wpisać 0.",null,null,null,null,null,null,null,null,null,null,null,null,"40.",null,null,null,null,null,null,null,"zł,",null,"gr",{"$f":"R75+Y75/100*SIGN(R75)","v":0},null,null,null,null,null,null,null,null,null,null,null,null,null,null,null,null,null,null,null,null,null,null,null,null,null,41,{"$f":"IF(R76<0,1,0)","v":0},"Kwota podatku nie może mieć wartości ujemnej."]
[21,null,"Wysokość zobowiązania podatkowego7)\nSuma kwot z poz. 39 i 40 (po zaokrągleniu do pełnych złotych).",null,null,null,null,null,null,null,null,null,null,null,null,"41.",null,{"$f":"ROUND(SUM(AA74:AA75),0)","v":0},null,null,null,null,null,null,null,"zł",{"$f":"SUM(K78:N83,W78:Y83)","v":0},null,null,null,null,null,null,null,null,null,null,null,null,null,null,null,null,null,null,null,null,null,null,null,78,11,"42-53",{"$f":"IF(AA76>R76,1,0)","v":0},{"$f":"\"Suma rat jest większa od kwoty podatku o \" & ROUND(AA76-R76,0) & \" zł\"","v":"Suma rat jest większa od kwoty podatku o 0 zł"}]
[21,"Suma kwot z poz. od 42 do 53 musi być równa kwocie z poz. 417). W przypadku korekty deklaracji raty, które nie zostały objęte korektą, pozostają bez zmian.",null,null,null,null,null,null,null,null,null,null,null,null,null,null,null,null,null,null,null,null,null,null,null,null,null,null,null,null,null,null,null,null,null,null,null,null,null,null,null,null,null,null,null,null,null,null,null,null,78,11,"42-53",{"$f":"IF(AA76<R76,1,0)","v":0},{"$f":"\"Suma rat jest mniejsza od kwoty podatku o \" & ROUND(R76-AA76,0) & \" zł\"","v":"Suma rat jest mniejsza od kwoty podatku o 0 zł"}]
[21,null,"Kwota I raty",null,null,null,null,null,null,"42.",null,null,null,null,"zł","Kwota II raty",null,null,null,null,null,"43.",null,null,null,"zł",null,null,null,null,null,null,null,null,null,null,null,null,null,null,null,null,null,null,null,null,null,null,null,null,78,11,42,{"$f":"IF(K78<0,1,0)","v":0},{"$f":"\"Kwota raty \"&BA78-41&\" nie może być mniejsza od zera\"","v":"Kwota raty 1 nie może być mniejsza od zera"}]
[21,null,"Kwota III raty",null,null,null,null,null,null,"44.",null,null,null,null,"zł","Kwota IV raty",null,null,null,null,null,"45.",null,null,null,"zł",null,null,null,null,null,null,null,null,null,null,null,null,null,null,null,null,null,null,null,null,null,null,null,null,78,23,{"$f":"BA78+1","v":43},{"$f":"IF(W78<0,1,0)","v":0},{"$f":"\"Kwota raty \"&BA79-41&\" nie może być mniejsza od zera\"","v":"Kwota raty 2 nie może być mniejsza od zera"}]
[21,null,"Kwota V raty",null,null,null,null,null,null,"46.",null,null,null,null,"zł","Kwota VI raty",null,null,null,null,null,"47.",null,null,null,"zł",null,null,null,null,null,null,null,null,null,null,null,null,null,null,null,null,null,null,null,null,null,null,null,null,79,11,{"$f":"BA79+1","v":44},{"$f":"IF(K79<0,1,0)","v":0},"Kwota raty 3 nie może być mniejsza od zera"]
[21,null,"Kwota VII raty",null,null,null,null,null,null,"48.",null,null,null,null,"zł","Kwota VIII raty",null,null,null,null,null,"49.",null,null,null,"zł",null,null,null,null,null,null,null,null,null,null,null,null,null,null,null,null,null,null,null,null,null,null,null,null,79,23,45,{"$f":"IF(W79<0,1,0)","v":0},"Kwota raty 4 nie może być mniejsza od zera"]
[21,null,"Kwota IX raty",null,null,null,null,null,null,"50.",null,null,null,null,"zł","Kwota X raty",null,null,null,null,null,"51.",null,null,null,"zł",null,null,null,null,null,null,null,null,null,null,null,null,null,null,null,null,null,null,null,null,null,null,null,null,80,11,46,{"$f":"IF(K80<0,1,0)","v":0},"Kwota raty 5 nie może być mniejsza od zera"]
[21,null,"Kwota XI raty",null,null,null,null,null,null,"52.",null,null,null,null,"zł","Kwota XII raty",null,null,null,null,null,"53.",null,null,null,"zł",null,null,null,null,null,null,null,null,null,null,null,null,null,null,null,null,null,null,null,null,null,null,null,null,80,23,47,{"$f":"IF(W80<0,1,0)","v":0},"Kwota raty 6 nie może być mniejsza od zera"]
[{"$f":"$A$4","v":4.5},null,null,null,null,null,null,null,null,null,null,null,null,null,null,null,null,null,null,null,null,null,null,null,null,null,null,null,null,null,null,null,null,null,null,null,null,null,null,null,null,null,null,null,null,null,null,null,null,null,81,11,48,{"$f":"IF(K81<0,1,0)","v":0},"Kwota raty 7 nie może być mniejsza od zera"]
[{"$f":"$A$7","v":16.5},"F. INFORMACJA O ZAŁĄCZNIKACH Deklarację należy składać wraz z odpowiednimi załącznikami, które stanowią jej integralną część.",null,null,null,null,null,null,null,null,null,null,null,null,null,null,null,null,null,null,null,null,null,null,null,null,null,null,null,null,null,null,null,null,null,null,null,null,null,null,null,null,null,null,null,null,null,null,null,null,81,23,49,{"$f":"IF(W81<0,1,0)","v":0},"Kwota raty 8 nie może być mniejsza od zera"]
[{"$f":"$A$3","v":9},null,"54. Liczba załączników ZDL-1",null,null,null,null,null,null,null,null,null,null,null,null,"55. Liczba załączników ZDL-2",null,null,null,null,null,null,null,null,null,null,{"$f":"'ZDL-1'!P12","v":0},null,null,null,null,null,null,null,null,null,null,null,null,null,null,null,null,null,null,null,null,null,null,null,82,11,50,{"$f":"IF(K82<0,1,0)","v":0},"Kwota raty 9 nie może być mniejsza od zera"]
[{"$f":"$A$71","v":21},null,null,null,null,null,null,null,null,null,null,null,null,null,null,null,null,null,null,null,null,null,null,null,null,null,{"$f":"'ZDL-2'!P12","v":0},null,null,null,null,null,null,null,null,null,null,null,null,null,null,null,null,null,null,null,null,null,null,null,82,23,51,{"$f":"IF(W82<0,1,0)","v":0},"Kwota raty 10 nie może być mniejsza od zera"]
[{"$f":"$A$4","v":4.5},null,null,null,null,null,null,null,null,null,null,null,null,null,null,null,null,null,null,null,null,null,null,null,null,null,null,null,null,null,null,null,null,null,null,null,null,null,null,null,null,null,null,null,null,null,null,null,null,null,83,11,52,{"$f":"IF(K83<0,1,0)","v":0},"Kwota raty 11 nie może być mniejsza od zera"]
[{"$f":"$A$7*2","v":33},"G. KONTAKT DO OSOBY ODPOWIEDZIALNEJ ZA SPORZĄDZENIE DEKLARACJI\n     I DODATKOWE INFORMACJE Podanie informacji w części G nie jest obowiązkowe.",null,null,null,null,null,null,null,null,null,null,null,null,null,null,null,null,null,null,null,null,null,null,null,null,null,null,null,null,null,null,null,null,null,null,null,null,null,null,null,null,null,null,null,null,null,null,null,null,83,23,53,{"$f":"IF(W83<0,1,0)","v":0},"Kwota raty 12 nie może być mniejsza od zera"]
[{"$f":"$A$3","v":9},null,"56. Telefon",null,null,null,null,null,null,null,null,null,null,null,null,"57. E-mail"]
[{"$f":"$A$71","v":21},null,null,null,null,null,null,null,null,null,null,null,null,null,null,null,null,null,null,null,null,null,null,null,null,null,null,null,null,null,null,null,null,null,null,null,null,null,null,null,null,null,null,null,null,null,null,null,null,null,87,9,54,{"$f":"IF(I87=AA86,0,1)","v":0},{"$f":"\"Wypełniono \"&AA86&\" zał. ZDL-1, a w polu 54 wpisano \"&SUM(I87)&\".\"","v":"Wypełniono 0 zał. ZDL-1, a w polu 54 wpisano 0."}]
[{"$f":"$A$3","v":9},null,"58. Inne (np. określenie zdarzenia powodującego obowiązek złożenia deklaracji)",null,null,null,null,null,null,null,null,null,null,null,null,null,null,null,null,null,null,null,null,null,null,null,null,null,null,null,null,null,null,null,null,null,null,null,null,null,null,null,null,null,null,null,null,null,null,null,87,21,57,{"$f":"IF(U87=AA87,0,1)","v":0},{"$f":"\"Wypełniono \"&AA87&\" zał. ZDL-2, a w polu 55 wpisano \"&SUM(U87)&\".\"","v":"Wypełniono 0 zał. ZDL-2, a w polu 55 wpisano 0."}]
[{"$f":"$A$6*2","v":33}]
[{"$f":"$A$4","v":4.5}]
[{"$f":"$A$7","v":16.5},"H. PODPIS PODATNIKA I OSÓB REPREZENTUJĄCYCH PODATNIKA"]
[{"$f":"$A$7","v":16.5},"H.1. PODPIS PODATNIKA"]
[{"$f":"$A$3","v":9},null,"59. Pierwsze imię",null,null,null,null,null,null,null,null,null,null,null,null,"60. Nazwisko"]
[{"$f":"$A$71","v":21},null,null,null,null,null,null,null,null,null,null,null,null,null,null,null,null,null,null,null,null,null,null,null,null,null,null,null,null,null,null,null,null,null,null,null,null,null,null,null,null,null,null,null,null,null,null,null,null,null,98,3,"59 - 61",{"$f":"IF(AND(LEN(K35&P35)>0,LEN(C98&P98)),1,0)","v":0},"Pola 59 - 62 wypełniają wyłącznie osoby fizyczne."]
[{"$f":"$A$3","v":9},null,"61. Data wypełnienia (dzień - miesiąc - rok)",null,null,null,null,null,null,null,null,null,null,null,null,"62. Podpis podatnika",null,null,null,null,null,null,null,null,null,null,null,null,null,null,null,null,null,null,null,null,null,null,null,null,null,null,null,null,null,null,null,null,null,null,103,3,"63 - 69",{"$f":"IF(LEN(C98&P98&C103&P103&C107&P107)=0,1,0)","v":1},"Brak informacji o osobach reprezentujących podatnika"]
[{"$f":"$A$71","v":21},null,null,null,null,null,null,null,null,null,null,null,null,null,null,{"$f":"IF(BA2>0,InfoBłędy & \" [ \"&BA2&\" ] !!!\",\"\")","v":"Arkusz zawiera błędy [ 17 ] !!!"}]
[{"$f":"$A$7","v":16.5},"H.2. PODPISY OSÓB REPREZENTUJĄCYCH PODATNIKA"]
[{"$f":"$A$3","v":9},null,"63. Pierwsze imię",null,null,null,null,null,null,null,null,null,null,null,null,"64. Nazwisko"]
[{"$f":"$A$71","v":21}]
[{"$f":"$A$3","v":9},null,"65. Data wypełnienia (dzień - miesiąc - rok)",null,null,null,null,null,null,null,null,null,null,null,null,"66. Podpis osoby reprezentującej podatnika"]
[{"$f":"$A$71","v":21},null,null,null,null,null,null,null,null,null,null,null,null,null,null,{"$f":"IF(BA2>0,InfoBłędy & \" [ \"&BA2&\" ] !!!\",\"\")","v":"Arkusz zawiera błędy [ 17 ] !!!"}]
[{"$f":"$A$3","v":9},null,"67. Pierwsze imię",null,null,null,null,null,null,null,null,null,null,null,null,"68. Nazwisko"]
[{"$f":"$A$71","v":21}]
[{"$f":"$A$3","v":9},null,"69. Data wypełnienia (dzień - miesiąc - rok)",null,null,null,null,null,null,null,null,null,null,null,null,"70. Podpis osoby reprezentującej podatnika"]
[{"$f":"$A$71","v":21},null,null,null,null,null,null,null,null,null,null,null,null,null,null,{"$f":"IF(BA2>0,InfoBłędy & \" [ \"&BA2&\" ] !!!\",\"\")","v":"Arkusz zawiera błędy [ 17 ] !!!"}]
[{"$f":"$A$4","v":4.5}]
[{"$f":"$A$6","v":16.5},"DL-1(1)",null,null,null,"2/3",null,null,null,null,null,null,null,null,null,null,null,{"$f":"'DL-1'!M10&\".\"&'DL-1'!Q24&Wersja","v":"2023..1.15.0.44867"}]
[{"$f":"$A$4","v":4.5}]
[{"$f":"$A$3","v":9},"WYPEŁNIĆ DUŻYMI, DRUKOWANYMI LITERAMI, CZARNYM LUB NIEBIESKIM KOLOREM."]
[{"$f":"$A$4","v":4.5}]
[{"$f":"$A$4","v":4.5}]
[{"$f":"$A$7","v":16.5},"I. ADNOTACJE ORGANU PODATKOWEGO"]
[{"$f":"$A$3","v":9},null,"71. Uwagi organu podatkowego"]
[{"$f":"$A$6*5","v":82.5}]
[9]
[{"$f":"$A$3","v":9}]
[9,"Objaśnienia"]
[{"$f":"$A$3*2","v":18},"1)","Numer PESEL wpisują podatnicy będący osobami fizycznymi objętymi rejestrem PESEL, nieprowadzący działalności gospodarczej lub\nniebędący zarejestrowanymi podatnikami podatku od towarów i usług. Identyfikator podatkowy NIP wpisują pozostali podatnicy."]
[9,"2)","Z wyjątkiem poz. 5 kwadrat 1, ilekroć jest mowa o deklaracji, rozumie się przez to również korektę deklaracji."]
[9,"3)","Zgodnie z przepisami Ordynacji podatkowej."]
[9,"4)","Należy podać z dokładnością do czterech miejsc po przecinku."]
[{"$f":"$A$3*2","v":18},"5)","Kwotę podatku należy obliczyć, mnożąc podstawę opodatkowania przez stawkę podatku, proporcjonalnie do liczby miesięcy, których\ndotyczy deklaracja."]
[{"$f":"$A$3*2","v":18},"6)","W przypadku korekty deklaracji należy wpisać sumę miesięcznych kwot podatku za miesiące nieobjęte składaną korektą deklaracji."]
[{"$f":"$A$3*2","v":18},"7)","Kwotę podatku (rat podatku) zaokrągla się do pełnych złotych, w ten sposób, że końcówki kwot wynoszące mniej niż 50 groszy pomija\nsię, a końcówki kwot wynoszące 50 i więcej groszy podwyższa się do pełnych złotych."]
[9,null,"W ostatniej racie następuje wyrównanie do kwoty zobowiązania podatkowego (poz. 41)."]
[{"$f":"$A$3*2","v":18},null,"Obliczony w deklaracji podatek należy wpłacać w ratach proporcjonalnych do czasu trwania obowiązku podatkowego w terminach do\ndnia 15 każdego miesiąca."]
[9,null,"W przypadku gdy kwota podatku nie przekracza 100 zł, podatek jest płatny jednorazowo w terminie płatności pierwszej raty."]
[9]
[9,"Pouczenia"]
[{"$f":"$A$3*2","v":18},null,"W przypadku niewpłacenia w obowiązujących terminach zobowiązania podatkowego lub raty podatku lub wpłacenia ich w niepełnej wysokości\nniniejsza deklaracja stanowi podstawę do wystawienia tytułu wykonawczego, zgodnie z przepisami ustawy o postępowaniu egzekucyjnym w administracji."]
[9]
[{"$f":"$A$3*2","v":18},null,"Za podanie nieprawdy lub zatajenie prawdy i przez to narażenie podatku na uszczuplenie grozi odpowiedzialność przewidziana w Kodeksie karnym\nskarbowym."]
[{"$f":"$A$6","v":16.5}]
[16.5]
[16.5]
[16.5]
[16.5]
[16.5]
[16.5]
[16.5]
[16.5]
[16.5]
[16.5]
[16.5]
[16.5]
[16.5]
[16.5]
[16.5]
[16.5]
[16.5]
[16.5]
[16.5]
[16.5]
[16.5]
[16.5]
[{"$f":"$A$6","v":16.5},null,{"$f":"'DL-1'!M10&\".\"&'DL-1'!Q24&Wersja","v":"2023..1.15.0.44867"},null,null,null,null,null,null,null,null,null,null,null,null,null,null,null,null,null,null,"DL-1(1)",null,null,null,"3/3"]
[{"$f":"$A$3","v":9}]

{"sheet":"ZDL-1","index":7,"n_rows":2801,"n_cols":18,"rows_kept":2801,"cut":false,"hidden":false,"merged":[[80,12,80,13],[2800,12,2800,13],[2720,12,2720,13],[2640,12,2640,13],[2560,12,2560,13],[2480,12,2480,13],[2400,12,2400,13],[2320,12,2320,13],[2240,12,2240,13],[2160,12,2160,13],[2080,12,2080,13],[2000,12,2000,13],[1920,12,1920,13],[1840,12,1840,13],[1760,12,1760,13],[1680,12,1680,13],[1600,12,1600,13],[1520,12,1520,13],[1937,1,1937,14],[1938,1,1938,14],[1939,1,1939,14],[1940,2,1940,6],[1940,11,1940,14],[1941,2,1941,6],[1941,11,1941,14],[1942,2,1942,6],[1942,11,1942,14],[1928,1,1928,13],[1929,1,1929,13],[1930,13,1930,14],[1933,1,1933,14],[1934,1,1934,14],[1969,2,1969,6],[1969,11,1969,14],[1964,2,1964,6],[1964,11,1964,14],[1965,2,1965,6],[1965,11,1965,14],[1966,2,1966,6],[1966,11,1966,14],[1967,2,1967,6],[1967,11,1967,14],[1968,2,1968,6],[1968,11,1968,14],[1959,1,1959,14],[1960,2,1960,6],[1960,11,1960,14],[1961,2,1961,6],[1961,11,1961,14],[1962,2,1962,6],[1962,11,1962,14],[1963,2,1963,6],[1963,11,1963,14],[1948,2,1948,6],[1948,11,1948,14],[1949,2,1949,6],[1949,11,1949,14],[1951,2,1951,14],[1952,2,1952,14],[1953,2,1953,14],[1954,2,1954,14],[1957,1,1957,14],[1943,2,1943,6],[1943,11,1943,14],[1944,2,1944,6],[1944,11,1944,14],[1945,2,1945,6],[1945,11,1945,14],[1946,2,1946,6],[1946,11,1946,14],[1947,2,1947,6],[1947,11,1947,14],[1955,2,1955,3],[1935,2,1935,7],[1935,8,1935,14],[1936,2,1936,7],[1936,8,1936,14],[1888,2,1888,6],[1888,11,1888,14],[1889,2,1889,6],[1889,11,1889,14],[1921,1,1921,14],[1922,1,1922,14],[1924,1,1924,7],[1924,8,1924,14],[1925,2,1925,6],[1925,8,1925,14],[1883,2,1883,6],[1883,11,1883,14],[1884,2,1884,6],[1884,11,1884,14],[1885,2,1885,6],[1885,11,1885,14],[1886,2,1886,6],[1886,11,1886,14],[1887,2,1887,6],[1887,11,1887,14],[1874,2,1874,14],[1877,1,1877,14],[1879,1,1879,14],[1880,2,1880,6],[1880,11,1880,14],[1881,2,1881,6],[1881,11,1881,14],[1882,2,1882,6],[1882,11,1882,14],[1867,2,1867,6],[1867,11,1867,14],[1868,2,1868,6],[1868,11,1868,14],[1869,2,1869,6],[1869,11,1869,14],[1871,2,1871,14],[1872,2,1872,14],[1873,2,1873,14],[1875,2,1875,3],[1862,2,1862,6],[1862,11,1862,14],[1863,2,1863,6],[1863,11,1863,14],[1864,2,1864,6],[1864,11,1864,14],[1865,2,1865,6],[1865,11,1865,14],[1866,2,1866,6],[1866,11,1866,14],[1856,2,1856,7],[1856,8,1856,14],[1857,1,1857,14],[1858,1,1858,14],[1859,1,1859,14],[1860,2,1860,6],[1860,11,1860,14],[1861,2,1861,6],[1861,11,1861,14],[1845,2,1845,6],[1845,8,1845,14],[1848,1,1848,13],[1849,1,1849,13],[1850,13,1850,14],[1853,1,1853,14],[1854,1,1854,14],[1855,2,1855,7],[1855,8,1855,14],[1807,2,1807,6],[1807,11,1807,14],[1808,2,1808,6],[1808,11,1808,14],[1809,2,1809,6],[1809,11,1809,14],[1841,1,1841,14],[1842,1,1842,14],[1844,1,1844,7],[1844,8,1844,14],[1802,2,1802,6],[1802,11,1802,14],[1803,2,1803,6],[1803,11,1803,14],[1804,2,1804,6],[1804,11,1804,14],[1805,2,1805,6],[1805,11,1805,14],[1806,2,1806,6],[1806,11,1806,14],[1792,2,1792,14],[1793,2,1793,14],[1794,2,1794,14],[1797,1,1797,14],[1799,1,1799,14],[1800,2,1800,6],[1800,11,1800,14],[1801,2,1801,6],[1801,11,1801,14],[1795,2,1795,3],[1786,2,1786,6],[1786,11,1786,14],[1787,2,1787,6],[1787,11,1787,14],[1788,2,1788,6],[1788,11,1788,14],[1789,2,1789,6],[1789,11,1789,14],[1791,2,1791,14],[1781,2,1781,6],[1781,11,1781,14],[1782,2,1782,6],[1782,11,1782,14],[1783,2,1783,6],[1783,11,1783,14],[1784,2,1784,6],[1784,11,1784,14],[1785,2,1785,6],[1785,11,1785,14],[1774,1,1774,14],[1775,2,1775,7],[1775,8,1775,14],[1776,2,1776,7],[1776,8,1776,14],[1777,1,1777,14],[1778,1,1778,14],[1779,1,1779,14],[1780,2,1780,6],[1780,11,1780,14],[1762,1,1762,14],[1764,1,1764,7],[1764,8,1764,14],[1765,2,1765,6],[1765,8,1765,14],[1768,1,1768,13],[1769,1,1769,13],[1770,13,1770,14],[1773,1,1773,14],[1726,2,1726,6],[1726,11,1726,14],[1727,2,1727,6],[1727,11,1727,14],[1728,2,1728,6],[1728,11,1728,14],[1729,2,1729,6],[1729,11,1729,14],[1761,1,1761,14],[1721,2,1721,6],[1721,11,1721,14],[1722,2,1722,6],[1722,11,1722,14],[1723,2,1723,6],[1723,11,1723,14],[1724,2,1724,6],[1724,11,1724,14],[1725,2,1725,6],[1725,11,1725,14],[1709,2,1709,6],[1709,11,1709,14],[1711,2,1711,14],[1712,2,1712,14],[1713,2,1713,14],[1714,2,1714,14],[1717,1,1717,14],[1719,1,1719,14],[1720,2,1720,6],[1720,11,1720,14],[1704,2,1704,6],[1704,11,1704,14],[1705,2,1705,6],[1705,11,1705,14],[1706,2,1706,6],[1706,11,1706,14],[1707,2,1707,6],[1707,11,1707,14],[1708,2,1708,6],[1708,11,1708,14],[1715,2,1715,3],[1698,1,1698,14],[1699,1,1699,14],[1700,2,1700,6],[1700,11,1700,14],[1701,2,1701,6],[1701,11,1701,14],[1702,2,1702,6],[1702,11,1702,14],[1703,2,1703,6],[1703,11,1703,14],[1689,1,1689,13],[1690,13,1690,14],[1693,1,1693,14],[1694,1,1694,14],[1695,2,1695,7],[1695,8,1695,14],[1696,2,1696,7],[1696,8,1696,14],[1697,1,1697,14],[1649,2,1649,6],[1649,11,1649,14],[1681,1,1681,14],[1682,1,1682,14],[1684,1,1684,7],[1684,8,1684,14],[1685,2,1685,6],[1685,8,1685,14],[1688,1,1688,13],[1644,2,1644,6],[1644,11,1644,14],[1645,2,1645,6],[1645,11,1645,14],[1646,2,1646,6],[1646,11,1646,14],[1647,2,1647,6],[1647,11,1647,14],[1648,2,1648,6],[1648,11,1648,14],[1639,1,1639,14],[1640,2,1640,6],[1640,11,1640,14],[1641,2,1641,6],[1641,11,1641,14],[1642,2,1642,6],[1642,11,1642,14],[1643,2,1643,6],[1643,11,1643,14],[1628,2,1628,6],[1628,11,1628,14],[1629,2,1629,6],[1629,11,1629,14],[1631,2,1631,14],[1632,2,1632,14],[1633,2,1633,14],[1634,2,1634,14],[1637,1,1637,14],[1635,2,1635,3],[1623,2,1623,6],[1623,11,1623,14],[1624,2,1624,6],[1624,11,1624,14],[1625,2,1625,6],[1625,11,1625,14],[1626,2,1626,6],[1626,11,1626,14],[1627,2,1627,6],[1627,11,1627,14],[1617,1,1617,14],[1618,1,1618,14],[1619,1,1619,14],[1620,2,1620,6],[1620,11,1620,14],[1621,2,1621,6],[1621,11,1621,14],[1622,2,1622,6],[1622,11,1622,14],[1608,1,1608,13],[1609,1,1609,13],[1610,13,1610,14],[1613,1,1613,14],[1614,1,1614,14],[1615,2,1615,7],[1615,8,1615,14],[1616,2,1616,7],[1616,8,1616,14],[1568,2,1568,6],[1568,11,1568,14],[1569,2,1569,6],[1569,11,1569,14],[1601,1,1601,14],[1602,1,1602,14],[1604,1,1604,7],[1604,8,1604,14],[1605,2,1605,6],[1605,8,1605,14],[1563,2,1563,6],[1563,11,1563,14],[1564,2,1564,6],[1564,11,1564,14],[1565,2,1565,6],[1565,11,1565,14],[1566,2,1566,6],[1566,11,1566,14],[1567,2,1567,6],[1567,11,1567,14],[1554,2,1554,14],[1557,1,1557,14],[1559,1,1559,14],[1560,2,1560,6],[1560,11,1560,14],[1561,2,1561,6],[1561,11,1561,14],[1562,2,1562,6],[1562,11,1562,14],[1555,2,1555,3],[1547,2,1547,6],[1547,11,1547,14],[1548,2,1548,6],[1548,11,1548,14],[1549,2,1549,6],[1549,11,1549,14],[1551,2,1551,14],[1552,2,1552,14],[1553,2,1553,14],[1542,2,1542,6],[1542,11,1542,14],[1543,2,1543,6],[1543,11,1543,14],[1544,2,1544,6],[1544,11,1544,14],[1545,2,1545,6],[1545,11,1545,14],[1546,2,1546,6],[1546,11,1546,14],[1536,2,1536,7],[1536,8,1536,14],[1537,1,1537,14],[1538,1,1538,14],[1539,1,1539,14],[1540,2,1540,6],[1540,11,1540,14],[1541,2,1541,6],[1541,11,1541,14],[1525,2,1525,6],[1525,8,1525,14],[1528,1,1528,13],[1529,1,1529,13],[1530,13,1530,14],[1533,1,1533,14],[1534,1,1534,14],[1535,2,1535,7],[1535,8,1535,14],[1487,2,1487,6],[1487,11,1487,14],[1488,2,1488,6],[1488,11,1488,14],[1489,2,1489,6],[1489,11,1489,14],[1521,1,1521,14],[1522,1,1522,14],[1524,1,1524,7],[1524,8,1524,14],[1482,2,1482,6],[1482,11,1482,14],[1483,2,1483,6],[1483,11,1483,14],[1484,2,1484,6],[1484,11,1484,14],[1485,2,1485,6],[1485,11,1485,14],[1486,2,1486,6],[1486,11,1486,14],[1472,2,1472,14],[1473,2,1473,14],[1474,2,1474,14],[1477,1,1477,14],[1479,1,1479,14],[1480,2,1480,6],[1480,11,1480,14],[1481,2,1481,6],[1481,11,1481,14],[1466,2,1466,6],[1466,11,1466,14],[1467,2,1467,6],[1467,11,1467,14],[1468,2,1468,6],[1468,11,1468,14],[1469,2,1469,6],[1469,11,1469,14],[1471,2,1471,14],[1475,2,1475,3],[1461,2,1461,6],[1461,11,1461,14],[1462,2,1462,6],[1462,11,1462,14],[1463,2,1463,6],[1463,11,1463,14],[1464,2,1464,6],[1464,11,1464,14],[1465,2,1465,6],[1465,11,1465,14],[1454,1,1454,14],[1455,2,1455,7],[1455,8,1455,14],[1456,2,1456,7],[1456,8,1456,14],[1457,1,1457,14],[1458,1,1458,14],[1459,1,1459,14],[1460,2,1460,6],[1460,11,1460,14],[1442,1,1442,14],[1444,1,1444,7],[1444,8,1444,14],[1445,2,1445,6],[1445,8,1445,14],[1448,1,1448,13],[1449,1,1449,13],[1450,13,1450,14],[1453,1,1453,14],[1406,2,1406,6],[1406,11,1406,14],[1407,2,1407,6],[1407,11,1407,14],[1408,2,1408,6],[1408,11,1408,14],[1409,2,1409,6],[1409,11,1409,14],[1441,1,1441,14],[1440,12,1440,13],[1401,2,1401,6],[1401,11,1401,14],[1402,2,1402,6],[1402,11,1402,14],[1403,2,1403,6],[1403,11,1403,14],[1404,2,1404,6],[1404,11,1404,14],[1405,2,1405,6],[1405,11,1405,14],[1389,2,1389,6],[1389,11,1389,14],[1391,2,1391,14],[1392,2,1392,14],[1393,2,1393,14],[1394,2,1394,14],[1397,1,1397,14],[1399,1,1399,14],[1400,2,1400,6],[1400,11,1400,14],[1395,2,1395,3],[1384,2,1384,6],[1384,11,1384,14],[1385,2,1385,6],[1385,11,1385,14],[1386,2,1386,6],[1386,11,1386,14],[1387,2,1387,6],[1387,11,1387,14],[1388,2,1388,6],[1388,11,1388,14],[1378,1,1378,14],[1379,1,1379,14],[1380,2,1380,6],[1380,11,1380,14],[1381,2,1381,6],[1381,11,1381,14],[1382,2,1382,6],[1382,11,1382,14],[1383,2,1383,6],[1383,11,1383,14],[1369,1,1369,13],[1370,13,1370,14],[1373,1,1373,14],[1374,1,1374,14],[1375,2,1375,7],[1375,8,1375,14],[1376,2,1376,7],[1376,8,1376,14],[1377,1,1377,14],[1329,2,1329,6],[1329,11,1329,14],[1361,1,1361,14],[1362,1,1362,14],[1364,1,1364,7],[1364,8,1364,14],[1365,2,1365,6],[1365,8,1365,14],[1368,1,1368,13],[1360,12,1360,13],[1324,2,1324,6],[1324,11,1324,14],[1325,2,1325,6],[1325,11,1325,14],[1326,2,1326,6],[1326,11,1326,14],[1327,2,1327,6],[1327,11,1327,14],[1328,2,1328,6],[1328,11,1328,14],[1319,1,1319,14],[1320,2,1320,6],[1320,11,1320,14],[1321,2,1321,6],[1321,11,1321,14],[1322,2,1322,6],[1322,11,1322,14],[1323,2,1323,6],[1323,11,1323,14],[1308,2,1308,6],[1308,11,1308,14],[1309,2,1309,6],[1309,11,1309,14],[1311,2,1311,14],[1312,2,1312,14],[1313,2,1313,14],[1314,2,1314,14],[1317,1,1317,14],[1303,2,1303,6],[1303,11,1303,14],[1304,2,1304,6],[1304,11,1304,14],[1305,2,1305,6],[1305,11,1305,14],[1306,2,1306,6],[1306,11,1306,14],[1307,2,1307,6],[1307,11,1307,14],[1315,2,1315,3],[1297,1,1297,14],[1298,1,1298,14],[1299,1,1299,14],[1300,2,1300,6],[1300,11,1300,14],[1301,2,1301,6],[1301,11,1301,14],[1302,2,1302,6],[1302,11,1302,14],[1288,1,1288,13],[1289,1,1289,13],[1290,13,1290,14],[1293,1,1293,14],[1294,1,1294,14],[1295,2,1295,7],[1295,8,1295,14],[1296,2,1296,7],[1296,8,1296,14],[1248,2,1248,6],[1248,11,1248,14],[1249,2,1249,6],[1249,11,1249,14],[1281,1,1281,14],[1282,1,1282,14],[1284,1,1284,7],[1284,8,1284,14],[1285,2,1285,6],[1285,8,1285,14],[1243,2,1243,6],[1243,11,1243,14],[1244,2,1244,6],[1244,11,1244,14],[1245,2,1245,6],[1245,11,1245,14],[1246,2,1246,6],[1246,11,1246,14],[1247,2,1247,6],[1247,11,1247,14],[1280,12,1280,13],[1234,2,1234,14],[1237,1,1237,14],[1239,1,1239,14],[1240,2,1240,6],[1240,11,1240,14],[1241,2,1241,6],[1241,11,1241,14],[1242,2,1242,6],[1242,11,1242,14],[1227,2,1227,6],[1227,11,1227,14],[1228,2,1228,6],[1228,11,1228,14],[1229,2,1229,6],[1229,11,1229,14],[1231,2,1231,14],[1232,2,1232,14],[1233,2,1233,14],[1235,2,1235,3],[1222,2,1222,6],[1222,11,1222,14],[1223,2,1223,6],[1223,11,1223,14],[1224,2,1224,6],[1224,11,1224,14],[1225,2,1225,6],[1225,11,1225,14],[1226,2,1226,6],[1226,11,1226,14],[1216,2,1216,7],[1216,8,1216,14],[1217,1,1217,14],[1218,1,1218,14],[1219,1,1219,14],[1220,2,1220,6],[1220,11,1220,14],[1221,2,1221,6],[1221,11,1221,14],[1205,2,1205,6],[1205,8,1205,14],[1208,1,1208,13],[1209,1,1209,13],[1210,13,1210,14],[1213,1,1213,14],[1214,1,1214,14],[1215,2,1215,7],[1215,8,1215,14],[1167,2,1167,6],[1167,11,1167,14],[1168,2,1168,6],[1168,11,1168,14],[1169,2,1169,6],[1169,11,1169,14],[1201,1,1201,14],[1202,1,1202,14],[1204,1,1204,7],[1204,8,1204,14],[1200,12,1200,13],[1162,2,1162,6],[1162,11,1162,14],[1163,2,1163,6],[1163,11,1163,14],[1164,2,1164,6],[1164,11,1164,14],[1165,2,1165,6],[1165,11,1165,14],[1166,2,1166,6],[1166,11,1166,14],[1152,2,1152,14],[1153,2,1153,14],[1154,2,1154,14],[1157,1,1157,14],[1159,1,1159,14],[1160,2,1160,6],[1160,11,1160,14],[1161,2,1161,6],[1161,11,1161,14],[1155,2,1155,3],[1146,2,1146,6],[1146,11,1146,14],[1147,2,1147,6],[1147,11,1147,14],[1148,2,1148,6],[1148,11,1148,14],[1149,2,1149,6],[1149,11,1149,14],[1151,2,1151,14],[1141,2,1141,6],[1141,11,1141,14],[1142,2,1142,6],[1142,11,1142,14],[1143,2,1143,6],[1143,11,1143,14],[1144,2,1144,6],[1144,11,1144,14],[1145,2,1145,6],[1145,11,1145,14],[1134,1,1134,14],[1135,2,1135,7],[1135,8,1135,14],[1136,2,1136,7],[1136,8,1136,14],[1137,1,1137,14],[1138,1,1138,14],[1139,1,1139,14],[1140,2,1140,6],[1140,11,1140,14],[1122,1,1122,14],[1124,1,1124,7],[1124,8,1124,14],[1125,2,1125,6],[1125,8,1125,14],[1128,1,1128,13],[1129,1,1129,13],[1130,13,1130,14],[1133,1,1133,14],[1086,2,1086,6],[1086,11,1086,14],[1087,2,1087,6],[1087,11,1087,14],[1088,2,1088,6],[1088,11,1088,14],[1089,2,1089,6],[1089,11,1089,14],[1121,1,1121,14],[1081,2,1081,6],[1081,11,1081,14],[1082,2,1082,6],[1082,11,1082,14],[1083,2,1083,6],[1083,11,1083,14],[1084,2,1084,6],[1084,11,1084,14],[1085,2,1085,6],[1085,11,1085,14],[1120,12,1120,13],[1069,2,1069,6],[1069,11,1069,14],[1071,2,1071,14],[1072,2,1072,14],[1073,2,1073,14],[1074,2,1074,14],[1077,1,1077,14],[1079,1,1079,14],[1080,2,1080,6],[1080,11,1080,14],[1064,2,1064,6],[1064,11,1064,14],[1065,2,1065,6],[1065,11,1065,14],[1066,2,1066,6],[1066,11,1066,14],[1067,2,1067,6],[1067,11,1067,14],[1068,2,1068,6],[1068,11,1068,14],[1075,2,1075,3],[1058,1,1058,14],[1059,1,1059,14],[1060,2,1060,6],[1060,11,1060,14],[1061,2,1061,6],[1061,11,1061,14],[1062,2,1062,6],[1062,11,1062,14],[1063,2,1063,6],[1063,11,1063,14],[1049,1,1049,13],[1050,13,1050,14],[1053,1,1053,14],[1054,1,1054,14],[1055,2,1055,7],[1055,8,1055,14],[1056,2,1056,7],[1056,8,1056,14],[1057,1,1057,14],[1009,2,1009,6],[1009,11,1009,14],[1041,1,1041,14],[1042,1,1042,14],[1044,1,1044,7],[1044,8,1044,14],[1045,2,1045,6],[1045,8,1045,14],[1048,1,1048,13],[1004,2,1004,6],[1004,11,1004,14],[1005,2,1005,6],[1005,11,1005,14],[1006,2,1006,6],[1006,11,1006,14],[1007,2,1007,6],[1007,11,1007,14],[1008,2,1008,6],[1008,11,1008,14],[1040,12,1040,13],[999,1,999,14],[1000,2,1000,6],[1000,11,1000,14],[1001,2,1001,6],[1001,11,1001,14],[1002,2,1002,6],[1002,11,1002,14],[1003,2,1003,6],[1003,11,1003,14],[988,2,988,6],[988,11,988,14],[989,2,989,6],[989,11,989,14],[991,2,991,14],[992,2,992,14],[993,2,993,14],[994,2,994,14],[997,1,997,14],[995,2,995,3],[983,2,983,6],[983,11,983,14],[984,2,984,6],[984,11,984,14],[985,2,985,6],[985,11,985,14],[986,2,986,6],[986,11,986,14],[987,2,987,6],[987,11,987,14],[977,1,977,14],[978,1,978,14],[979,1,979,14],[980,2,980,6],[980,11,980,14],[981,2,981,6],[981,11,981,14],[982,2,982,6],[982,11,982,14],[968,1,968,13],[969,1,969,13],[970,13,970,14],[973,1,973,14],[974,1,974,14],[975,2,975,7],[975,8,975,14],[976,2,976,7],[976,8,976,14],[928,2,928,6],[928,11,928,14],[929,2,929,6],[929,11,929,14],[961,1,961,14],[962,1,962,14],[964,1,964,7],[964,8,964,14],[965,2,965,6],[965,8,965,14],[960,12,960,13],[923,2,923,6],[923,11,923,14],[924,2,924,6],[924,11,924,14],[925,2,925,6],[925,11,925,14],[926,2,926,6],[926,11,926,14],[927,2,927,6],[927,11,927,14],[914,2,914,14],[917,1,917,14],[919,1,919,14],[920,2,920,6],[920,11,920,14],[921,2,921,6],[921,11,921,14],[922,2,922,6],[922,11,922,14],[915,2,915,3],[907,2,907,6],[907,11,907,14],[908,2,908,6],[908,11,908,14],[909,2,909,6],[909,11,909,14],[911,2,911,14],[912,2,912,14],[913,2,913,14],[902,2,902,6],[902,11,902,14],[903,2,903,6],[903,11,903,14],[904,2,904,6],[904,11,904,14],[905,2,905,6],[905,11,905,14],[906,2,906,6],[906,11,906,14],[896,2,896,7],[896,8,896,14],[897,1,897,14],[898,1,898,14],[899,1,899,14],[900,2,900,6],[900,11,900,14],[901,2,901,6],[901,11,901,14],[885,2,885,6],[885,8,885,14],[888,1,888,13],[889,1,889,13],[890,13,890,14],[893,1,893,14],[894,1,894,14],[895,2,895,7],[895,8,895,14],[847,2,847,6],[847,11,847,14],[848,2,848,6],[848,11,848,14],[849,2,849,6],[849,11,849,14],[881,1,881,14],[882,1,882,14],[884,1,884,7],[884,8,884,14],[842,2,842,6],[842,11,842,14],[843,2,843,6],[843,11,843,14],[844,2,844,6],[844,11,844,14],[845,2,845,6],[845,11,845,14],[846,2,846,6],[846,11,846,14],[880,12,880,13],[831,2,831,14],[832,2,832,14],[833,2,833,14],[834,2,834,14],[837,1,837,14],[839,1,839,14],[840,2,840,6],[840,11,840,14],[841,2,841,6],[841,11,841,14],[825,2,825,6],[825,11,825,14],[826,2,826,6],[826,11,826,14],[827,2,827,6],[827,11,827,14],[828,2,828,6],[828,11,828,14],[829,2,829,6],[829,11,829,14],[835,2,835,3],[820,2,820,6],[820,11,820,14],[821,2,821,6],[821,11,821,14],[822,2,822,6],[822,11,822,14],[823,2,823,6],[823,11,823,14],[824,2,824,6],[824,11,824,14],[813,1,813,14],[814,1,814,14],[815,2,815,7],[815,8,815,14],[816,2,816,7],[816,8,816,14],[817,1,817,14],[818,1,818,14],[819,1,819,14],[801,1,801,14],[802,1,802,14],[804,1,804,7],[804,8,804,14],[805,2,805,6],[805,8,805,14],[808,1,808,13],[809,1,809,13]],"merged_total":2310,"flags":["merged_cut"]}
[17,2.5,{"$f":"$A$1-D1","v":11},6,{"$f":"$A$1*0.5","v":8.5},{"$f":"$A$1*0.6","v":10.199999999999999},{"$f":"$A$1","v":17},{"$f":"$A$1","v":17},{"$f":"$A$1*0.6","v":10.199999999999999},{"$f":"$A$1*0.6","v":10.199999999999999},{"$f":"$A$1","v":17},{"$f":"$A$1*0.3","v":5.0999999999999996},{"$f":"$A$1*0.3","v":5.0999999999999996},{"$f":"$A$1-O1","v":11},6]
[9,"Załącznik nr 6"]
[{"$f":"$A$2","v":9},"WYPEŁNIĆ DUŻYMI, DRUKOWANYMI LITERAMI, CZARNYM LUB NIEBIESKIM KOLOREM."]
[4.5]
[{"$f":"$A$2","v":9},"1. Identyfikator podatkowy NIP/numer PESEL (niepotrzebne skreślić)1)\n└────┴────┴────┴────┴────┴────┴────┴────┴────┴────┴────┘",null,null,null,null,null,null,"2.  Nr dokumentu"]
[19.5]
[{"$f":"$A$2","v":9}]
[16.5,"ZDL-1"]
[{"$f":"$A$8","v":16.5},"ZAŁĄCZNIK DO DEKLARACJI NA PODATEK LEŚNY"]
[{"$f":"$A$8","v":16.5},"- DANE O PRZEDMIOTACH OPODATKOWANIA PODLEGAJĄCYCH OPODATKOWANIU"]
[{"$f":"$A$2","v":9},null,null,null,null,null,null,null,null,null,null,null,null,"3. Nr załącznika"]
[{"$f":"$A$6","v":19.5},null,null,null,null,null,null,null,null,null,null,null,null,1,null,{"$f":"SUM(Q:Q)","v":0},{"$f":"IF(COUNTA(C23:O30,C43:O50)=0,0,1)","v":0}]
[{"$f":"$A$4","v":4.5}]
[{"$f":"$A$4","v":4.5}]
[{"$f":"$A$8*1.5","v":24.75},"A.  DANE PODATNIKA WSKAZANEGO W CZĘŚCI C.1 DEKLARACJI DL-1\n* - dotyczy podatnika niebędącego osobą fizyczną               ** - dotyczy podatnika będącego osobą fizyczną"]
[{"$f":"$A$2","v":9},null,"4. Nazwa pełna * / Nazwisko **",null,null,null,null,null,"5. Nazwa skrócona * / Pierwsze imię **"]
[{"$f":"$A$6","v":19.5}]
[{"$f":"$A$4","v":4.5}]
[{"$f":"$A$8","v":16.5},"B.  DANE O POSZCZEGÓLNYCH PRZEDMIOTACH OPODATKOWANIA PODLEGAJĄCYCH OPODATKOWANIU",null,null,null,null,null,null,null,null,null,null,null,null,null,null,null,{"$f":"SUMIF(P:P,\"a\",K:K)","v":0}]
[16.5,"B.1.  LASY (z wyjątkiem lasów wchodzących w skład rezerwatów przyrody i parków narodowych)",null,null,null,null,null,null,null,null,null,null,null,null,null,null,null,{"$f":"SUMIF(P:P,\"b\",K:K)","v":0}]
[{"$f":"$A$8*1.5","v":24.75},"Lp.","Położenie (adres, w tym dzielnica)",null,null,null,null,"Nr księgi wieczystej\n(zbioru dokumentów)","Nr obrębu\n(arkusza mapy)2)","Nr działki","Powierzchnia w ha3)","Forma władania4)"]
[{"$f":"$A$2","v":9},null,"a",null,null,null,null,"b","c","d","e","f"]
[{"$f":"$A$6","v":19.5},1,null,null,null,null,null,null,null,null,null,null,null,null,null,"a"]
[19.5,2,null,null,null,null,null,null,null,null,null,null,null,null,null,"a"]
[19.5,3,null,null,null,null,null,null,null,null,null,null,null,null,null,"a"]
[19.5,4,null,null,null,null,null,null,null,null,null,null,null,null,null,"a"]
[19.5,5,null,null,null,null,null,null,null,null,null,null,null,null,null,"a"]
[19.5,6,null,null,null,null,null,null,null,null,null,null,null,null,null,"a"]
[19.5,7,null,null,null,null,null,null,null,null,null,null,null,null,null,"a"]
[19.5,8,null,null,null,null,null,null,null,null,null,null,null,null,null,"a"]
[{"$f":"$A$2","v":9}]
[{"$f":"$A$2*2","v":18},"1)","Numer PESEL wpisują podatnicy będący osobami fizycznymi objętymi rejestrem PESEL, nieprowadzący działalności gospodarczej lub niebędący zarejestrowanymi podatnikami podatku od towarów i usług.\nIdentyfikator podatkowy NIP wpisują pozostali podatnicy."]
[{"$f":"$A$2","v":9},"2)","Numer obrębu należy podać wraz z numerem arkusza mapy ewidencyjnej w przypadku, gdy działki numerowane są w ramach arkusza mapy."]
[{"$f":"$A$2","v":9},"3)","Należy podać z dokładnością do czterech miejsc po przecinku."]
[{"$f":"$A$2","v":9},"4)","Należy podać jedną z form władania: własność, użytkowanie wieczyste, posiadanie samoistne, posiadanie zależne lub posiadanie bez tytułu prawnego."]
[{"$f":"$A$8","v":16.5},null,{"$f":"'DL-1'!M10&\".\"&'DL-1'!Q24&Wersja","v":"2023..1.15.0.44867"},null,null,null,null,null,null,null,null,null,null,"ZDL-1(1)","1/2"]
[{"$f":"$A$2","v":9}]
[{"$f":"$A$2","v":9},"WYPEŁNIĆ DUŻYMI, DRUKOWANYMI LITERAMI, CZARNYM LUB NIEBIESKIM KOLOREM."]
[4.5]
[{"$f":"$A$8","v":16.5},"B.2.  LASY WCHODZĄCE W SKŁAD REZERWATÓW PRZYRODY I PARKÓW NARODOWYCH"]
[{"$f":"$A$8*1.5","v":24.75},"Lp.","Położenie (adres, w tym dzielnica)",null,null,null,null,"Nr księgi wieczystej\n(zbioru dokumentów)","Nr obrębu\n(arkusza mapy)2)","Nr działki","Powierzchnia w ha3)","Forma władania4)"]
[{"$f":"$A$2","v":9},null,"a",null,null,null,null,"b","c","d","e","f"]
[{"$f":"$A$6","v":19.5},1,null,null,null,null,null,null,null,null,null,null,null,null,null,"b"]
[19.5,2,null,null,null,null,null,null,null,null,null,null,null,null,null,"b"]
[19.5,3,null,null,null,null,null,null,null,null,null,null,null,null,null,"b"]
[19.5,4,null,null,null,null,null,null,null,null,null,null,null,null,null,"b"]
[19.5,5,null,null,null,null,null,null,null,null,null,null,null,null,null,"b"]
[19.5,6,null,null,null,null,null,null,null,null,null,null,null,null,null,"b"]
[19.5,7,null,null,null,null,null,null,null,null,null,null,null,null,null,"b"]
[19.5,8,null,null,null,null,null,null,null,null,null,null,null,null,null,"b"]
[{"$f":"$A$2","v":9}]
[{"$f":"$A$2","v":9}]
[9]
[9]
[9]
[9]
[9]
[9]
[9]
[9]
[9]
[9]
[9]
[9]
[9]
[9]
[9]
[9]
[9]
[9]
[9]
[9]
[9]
[9]
[9]
[9]
[9]
[9]
[9]
[9]
[{"$f":"$A$8","v":16.5},null,"ZDL-1(1)","2/2",null,null,null,null,null,null,null,null,{"$f":"'DL-1'!M10&\".\"&'DL-1'!Q24&Wersja","v":"2023..1.15.0.44867"}]
[9,"Załącznik nr 6"]
[{"$f":"$A$2","v":9},"WYPEŁNIĆ DUŻYMI, DRUKOWANYMI LITERAMI, CZARNYM LUB NIEBIESKIM KOLOREM."]
[4.5]
[{"$f":"$A$2","v":9},"1. Identyfikator podatkowy NIP/numer PESEL (niepotrzebne skreślić)1)\n└────┴────┴────┴────┴────┴────┴────┴────┴────┴────┴────┘",null,null,null,null,null,null,"2.  Nr dokumentu"]
[19.5,null,{"$f":"$C$6","v":0}]
[{"$f":"$A$2","v":9}]
[16.5,"ZDL-1"]
[{"$f":"$A$8","v":16.5},"ZAŁĄCZNIK DO DEKLARACJI NA PODATEK LEŚNY"]
[{"$f":"$A$8","v":16.5},"- DANE O PRZEDMIOTACH OPODATKOWANIA PODLEGAJĄCYCH OPODATKOWANIU"]
[{"$f":"$A$2","v":9},null,null,null,null,null,null,null,null,null,null,null,null,"3. Nr załącznika"]
[{"$f":"$A$6","v":19.5},null,null,null,null,null,null,null,null,null,null,null,null,{"$f":"N12+1","v":2},null,{"$f":"SUM(Q:Q)","v":0},{"$f":"IF(COUNTA(C103:O110,C123:O130)=0,0,1)","v":0}]
[{"$f":"$A$4","v":4.5}]
[{"$f":"$A$4","v":4.5}]
[{"$f":"$A$8*1.5","v":24.75},"A.  DANE PODATNIKA WSKAZANEGO W CZĘŚCI C.1 DEKLARACJI DL-1\n* - dotyczy podatnika niebędącego osobą fizyczną               ** - dotyczy podatnika będącego osobą fizyczną"]
[{"$f":"$A$2","v":9},null,"4. Nazwa pełna * / Nazwisko **",null,null,null,null,null,"5. Nazwa skrócona * / Pierwsze imię **"]
[{"$f":"$A$6","v":19.5},null,{"$f":"\"\"&$C$17","v":""},null,null,null,null,null,{"$f":"\"\"&$I$17","v":""}]
[{"$f":"$A$4","v":4.5}]
[{"$f":"$A$8","v":16.5},"B.  DANE O POSZCZEGÓLNYCH PRZEDMIOTACH OPODATKOWANIA PODLEGAJĄCYCH OPODATKOWANIU"]
[16.5,"B.1.  LASY (z wyjątkiem lasów wchodzących w skład rezerwatów przyrody i parków narodowych)"]
[{"$f":"$A$8*1.5","v":24.75},"Lp.","Położenie (adres, w tym dzielnica)",null,null,null,null,"Nr księgi wieczystej\n(zbioru dokumentów)","Nr obrębu\n(arkusza mapy)2)","Nr działki","Powierzchnia w ha3)","Forma władania5)"]
[{"$f":"$A$2","v":9},null,"a",null,null,null,null,"b","c","d","e","f"]
[{"$f":"$A$6","v":19.5},1,null,null,null,null,null,null,null,null,null,null,null,null,null,"a"]
[19.5,2,null,null,null,null,null,null,null,null,null,null,null,null,null,"a"]
[19.5,3,null,null,null,null,null,null,null,null,null,null,null,null,null,"a"]
[19.5,4,null,null,null,null,null,null,null,null,null,null,null,null,null,"a"]
[19.5,5,null,null,null,null,null,null,null,null,null,null,null,null,null,"a"]
[19.5,6,null,null,null,null,null,null,null,null,null,null,null,null,null,"a"]
[19.5,7,null,null,null,null,null,null,null,null,null,null,null,null,null,"a"]
[19.5,8,null,null,null,null,null,null,null,null,null,null,null,null,null,"a"]
[{"$f":"$A$2","v":9}]
[{"$f":"$A$2*2","v":18},"1)","Numer PESEL wpisują podatnicy będący osobami fizycznymi objętymi rejestrem PESEL, nieprowadzący działalności gospodarczej lub niebędący zarejestrowanymi podatnikami podatku od towarów i usług.\nIdentyfikator podatkowy NIP wpisują pozostali podatnicy."]
[{"$f":"$A$2","v":9},"2)","Numer obrębu należy podać wraz z numerem arkusza mapy ewidencyjnej w przypadku, gdy działki numerowane są w ramach arkusza mapy."]
[{"$f":"$A$2","v":9},"3)","Należy podać z dokładnością do czterech miejsc po przecinku."]
[{"$f":"$A$2","v":9},"4)","Należy podać jedną z form władania: własność, użytkowanie wieczyste, posiadanie samoistne, posiadanie zależne lub posiadanie bez tytułu prawnego."]
[{"$f":"$A$8","v":16.5},null,{"$f":"'DL-1'!M10&\".\"&'DL-1'!Q24&Wersja","v":"2023..1.15.0.44867"},null,null,null,null,null,null,null,null,null,null,"ZDL-1(1)","1/2"]
[{"$f":"$A$2","v":9}]
[{"$f":"$A$2","v":9},"WYPEŁNIĆ DUŻYMI, DRUKOWANYMI LITERAMI, CZARNYM LUB NIEBIESKIM KOLOREM."]
[4.5]
[{"$f":"$A$8","v":16.5},"B.2.  LASY WCHODZĄCE W SKŁAD REZERWATÓW PRZYRODY I PARKÓW NARODOWYCH"]
[{"$f":"$A$8*1.5","v":24.75},"Lp.","Położenie (adres, w tym dzielnica)",null,null,null,null,"Nr księgi wieczystej\n(zbioru dokumentów)","Nr obrębu\n(arkusza mapy)2)","Nr działki","Powierzchnia w ha3)","Forma władania5)"]
[{"$f":"$A$2","v":9},null,"a",null,null,null,null,"b","c","d","e","f"]
[{"$f":"$A$6","v":19.5},1,null,null,null,null,null,null,null,null,null,null,null,null,null,"b"]
[19.5,2,null,null,null,null,null,null,null,null,null,null,null,null,null,"b"]
[19.5,3,null,null,null,null,null,null,null,null,null,null,null,null,null,"b"]
[19.5,4,null,null,null,null,null,null,null,null,null,null,null,null,null,"b"]
[19.5,5,null,null,null,null,null,null,null,null,null,null,null,null,null,"b"]
[19.5,6,null,null,null,null,null,null,null,null,null,null,null,null,null,"b"]
[19.5,7,null,null,null,null,null,null,null,null,null,null,null,null,null,"b"]
[19.5,8,null,null,null,null,null,null,null,null,null,null,null,null,null,"b"]
[{"$f":"$A$2","v":9}]
[9]
[9]
[9]
[9]
[9]
[9]
[9]
[9]
[9]
[9]
[9]
[9]
[9]
[9]
[9]
[9]
[9]
[9]
[9]
[9]
[9]
[9]
[9]
[9]
[9]
[9]
[9]
[9]
[9]
[{"$f":"$A$8","v":16.5},null,"ZDL-1(1)","2/2",null,null,null,null,null,null,null,null,{"$f":"'DL-1'!M10&\".\"&'DL-1'!Q24&Wersja","v":"2023..1.15.0.44867"}]
[9,"Załącznik nr 6"]
[{"$f":"$A$2","v":9},"WYPEŁNIĆ DUŻYMI, DRUKOWANYMI LITERAMI, CZARNYM LUB NIEBIESKIM KOLOREM."]
[4.5]
[{"$f":"$A$2","v":9},"1. Identyfikator podatkowy NIP/numer PESEL (niepotrzebne skreślić)1)\n└────┴────┴────┴────┴────┴────┴────┴────┴────┴────┴────┘",null,null,null,null,null,null,"2.  Nr dokumentu"]
[19.5,null,{"$f":"$C$6","v":0}]
[{"$f":"$A$2","v":9}]
[16.5,"ZDL-1"]
[{"$f":"$A$8","v":16.5},"ZAŁĄCZNIK DO DEKLARACJI NA PODATEK LEŚNY"]
[{"$f":"$A$8","v":16.5},"- DANE O PRZEDMIOTACH OPODATKOWANIA PODLEGAJĄCYCH OPODATKOWANIU"]
[{"$f":"$A$2","v":9},null,null,null,null,null,null,null,null,null,null,null,null,"3. Nr załącznika"]
[{"$f":"$A$6","v":19.5},null,null,null,null,null,null,null,null,null,null,null,null,{"$f":"N92+1","v":3},null,{"$f":"SUM(Q:Q)","v":0},{"$f":"IF(COUNTA(C183:O190,C203:O210)=0,0,1)","v":0}]
[{"$f":"$A$4","v":4.5}]
[{"$f":"$A$4","v":4.5}]
[{"$f":"$A$8*1.5","v":24.75},"A.  DANE PODATNIKA WSKAZANEGO W CZĘŚCI C.1 DEKLARACJI DL-1\n* - dotyczy podatnika niebędącego osobą fizyczną               ** - dotyczy podatnika będącego osobą fizyczną"]
[{"$f":"$A$2","v":9},null,"4. Nazwa pełna * / Nazwisko **",null,null,null,null,null,"5. Nazwa skrócona * / Pierwsze imię **"]
[{"$f":"$A$6","v":19.5},null,{"$f":"\"\"&$C$17","v":""},null,null,null,null,null,{"$f":"\"\"&$I$17","v":""}]
[{"$f":"$A$4","v":4.5}]
[{"$f":"$A$8","v":16.5},"B.  DANE O POSZCZEGÓLNYCH PRZEDMIOTACH OPODATKOWANIA PODLEGAJĄCYCH OPODATKOWANIU"]
[16.5,"B.1.  LASY (z wyjątkiem lasów wchodzących w skład rezerwatów przyrody i parków narodowych)"]
[{"$f":"$A$8*1.5","v":24.75},"Lp.","Położenie (adres, w tym dzielnica)",null,null,null,null,"Nr księgi wieczystej\n(zbioru dokumentów)","Nr obrębu\n(arkusza mapy)2)","Nr działki","Powierzchnia w ha3)","Forma władania5)"]
[{"$f":"$A$2","v":9},null,"a",null,null,null,null,"b","c","d","e","f"]
[{"$f":"$A$6","v":19.5},1,null,null,null,null,null,null,null,null,null,null,null,null,null,"a"]
[19.5,2,null,null,null,null,null,null,null,null,null,null,null,null,null,"a"]
[19.5,3,null,null,null,null,null,null,null,null,null,null,null,null,null,"a"]
[19.5,4,null,null,null,null,null,null,null,null,null,null,null,null,null,"a"]
[19.5,5,null,null,null,null,null,null,null,null,null,null,null,null,null,"a"]
[19.5,6,null,null,null,null,null,null,null,null,null,null,null,null,null,"a"]
[19.5,7,null,null,null,null,null,null,null,null,null,null,null,null,null,"a"]
[19.5,8,null,null,null,null,null,null,null,null,null,null,null,null,null,"a"]
[{"$f":"$A$2","v":9}]
[{"$f":"$A$2*2","v":18},"1)","Numer PESEL wpisują podatnicy będący osobami fizycznymi objętymi rejestrem PESEL, nieprowadzący działalności gospodarczej lub niebędący zarejestrowanymi podatnikami podatku od towarów i usług.\nIdentyfikator podatkowy NIP wpisują pozostali podatnicy."]
[{"$f":"$A$2","v":9},"2)","Numer obrębu należy podać wraz z numerem arkusza mapy ewidencyjnej w przypadku, gdy działki numerowane są w ramach arkusza mapy."]
[{"$f":"$A$2","v":9},"3)","Należy podać z dokładnością do czterech miejsc po przecinku."]
[{"$f":"$A$2","v":9},"4)","Należy podać jedną z form władania: własność, użytkowanie wieczyste, posiadanie samoistne, posiadanie zależne lub posiadanie bez tytułu prawnego."]
[{"$f":"$A$8","v":16.5},null,{"$f":"'DL-1'!M10&\".\"&'DL-1'!Q24&Wersja","v":"2023..1.15.0.44867"},null,null,null,null,null,null,null,null,null,null,"ZDL-1(1)","1/2"]
[{"$f":"$A$2","v":9}]
[{"$f":"$A$2","v":9},"WYPEŁNIĆ DUŻYMI, DRUKOWANYMI LITERAMI, CZARNYM LUB NIEBIESKIM KOLOREM."]
[4.5]
[{"$f":"$A$8","v":16.5},"B.2.  LASY WCHODZĄCE W SKŁAD REZERWATÓW PRZYRODY I PARKÓW NARODOWYCH"]
[{"$f":"$A$8*1.5","v":24.75},"Lp.","Położenie (adres, w tym dzielnica)",null,null,null,null,"Nr księgi wieczystej\n(zbioru dokumentów)","Nr obrębu\n(arkusza mapy)2)","Nr działki","Powierzchnia w ha3)","Forma władania5)"]
[{"$f":"$A$2","v":9},null,"a",null,null,null,null,"b","c","d","e","f"]
[{"$f":"$A$6","v":19.5},1,null,null,null,null,null,null,null,null,null,null,null,null,null,"b"]
[19.5,2,null,null,null,null,null,null,null,null,null,null,null,null,null,"b"]
[19.5,3,null,null,null,null,null,null,null,null,null,null,null,null,null,"b"]
[19.5,4,null,null,null,null,null,null,null,null,null,null,null,null,null,"b"]
[19.5,5,null,null,null,null,null,null,null,null,null,null,null,null,null,"b"]
[19.5,6,null,null,null,null,null,null,null,null,null,null,null,null,null,"b"]
[19.5,7,null,null,null,null,null,null,null,null,null,null,null,null,null,"b"]
[19.5,8,null,null,null,null,null,null,null,null,null,null,null,null,null,"b"]
[{"$f":"$A$2","v":9}]
[9]
[9]
[9]
[9]
[9]
[9]
[9]
[9]
[9]
[9]
[9]
[9]
[9]
[9]
[9]
[9]
[9]
[9]
[9]
[9]
[9]
[9]
[9]
[9]
[9]
[9]
[9]
[9]
[9]
[{"$f":"$A$8","v":16.5},null,"ZDL-1(1)","2/2",null,null,null,null,null,null,null,null,{"$f":"'DL-1'!M10&\".\"&'DL-1'!Q24&Wersja","v":"2023..1.15.0.44867"}]
[9,"Załącznik nr 6"]
[{"$f":"$A$2","v":9},"WYPEŁNIĆ DUŻYMI, DRUKOWANYMI LITERAMI, CZARNYM LUB NIEBIESKIM KOLOREM."]
[4.5]
[{"$f":"$A$2","v":9},"1. Identyfikator podatkowy NIP/numer PESEL (niepotrzebne skreślić)1)\n└────┴────┴────┴────┴────┴────┴────┴────┴────┴────┴────┘",null,null,null,null,null,null,"2.  Nr dokumentu"]
[19.5,null,{"$f":"$C$6","v":0}]
[{"$f":"$A$2","v":9}]
[16.5,"ZDL-1"]
[{"$f":"$A$8","v":16.5},"ZAŁĄCZNIK DO DEKLARACJI NA PODATEK LEŚNY"]
[{"$f":"$A$8","v":16.5},"- DANE O PRZEDMIOTACH OPODATKOWANIA PODLEGAJĄCYCH OPODATKOWANIU"]
[{"$f":"$A$2","v":9},null,null,null,null,null,null,null,null,null,null,null,null,"3. Nr załącznika"]
[{"$f":"$A$6","v":19.5},null,null,null,null,null,null,null,null,null,null,null,null,{"$f":"N172+1","v":4},null,{"$f":"SUM(Q:Q)","v":0},{"$f":"IF(COUNTA(C263:O270,C283:O290)=0,0,1)","v":0}]
[{"$f":"$A$4","v":4.5}]
[{"$f":"$A$4","v":4.5}]
[{"$f":"$A$8*1.5","v":24.75},"A.  DANE PODATNIKA WSKAZANEGO W CZĘŚCI C.1 DEKLARACJI DL-1\n* - dotyczy podatnika niebędącego osobą fizyczną               ** - dotyczy podatnika będącego osobą fizyczną"]
[{"$f":"$A$2","v":9},null,"4. Nazwa pełna * / Nazwisko **",null,null,null,null,null,"5. Nazwa skrócona * / Pierwsze imię **"]
[{"$f":"$A$6","v":19.5},null,{"$f":"\"\"&$C$17","v":""},null,null,null,null,null,{"$f":"\"\"&$I$17","v":""}]
[{"$f":"$A$4","v":4.5}]
[{"$f":"$A$8","v":16.5},"B.  DANE O POSZCZEGÓLNYCH PRZEDMIOTACH OPODATKOWANIA PODLEGAJĄCYCH OPODATKOWANIU"]
[16.5,"B.1.  LASY (z wyjątkiem lasów wchodzących w skład rezerwatów przyrody i parków narodowych)"]
[{"$f":"$A$8*1.5","v":24.75},"Lp.","Położenie (adres, w tym dzielnica)",null,null,null,null,"Nr księgi wieczystej\n(zbioru dokumentów)","Nr obrębu\n(arkusza mapy)2)","Nr działki","Powierzchnia w ha3)","Forma władania5)"]
[{"$f":"$A$2","v":9},null,"a",null,null,null,null,"b","c","d","e","f"]
[{"$f":"$A$6","v":19.5},1,null,null,null,null,null,null,null,null,null,null,null,null,null,"a"]
[19.5,2,null,null,null,null,null,null,null,null,null,null,null,null,null,"a"]
[19.5,3,null,null,null,null,null,null,null,null,null,null,null,null,null,"a"]
[19.5,4,null,null,null,null,null,null,null,null,null,null,null,null,null,"a"]
[19.5,5,null,null,null,null,null,null,null,null,null,null,null,null,null,"a"]
[19.5,6,null,null,null,null,null,null,null,null,null,null,null,null,null,"a"]
[19.5,7,null,null,null,null,null,null,null,null,null,null,null,null,null,"a"]
[19.5,8,null,null,null,null,null,null,null,null,null,null,null,null,null,"a"]
[{"$f":"$A$2","v":9}]
[{"$f":"$A$2*2","v":18},"1)","Numer PESEL wpisują podatnicy będący osobami fizycznymi objętymi rejestrem PESEL, nieprowadzący działalności gospodarczej lub niebędący zarejestrowanymi podatnikami podatku od towarów i usług.\nIdentyfikator podatkowy NIP wpisują pozostali podatnicy."]
[{"$f":"$A$2","v":9},"2)","Numer obrębu należy podać wraz z numerem arkusza mapy ewidencyjnej w przypadku, gdy działki numerowane są w ramach arkusza mapy."]
[{"$f":"$A$2","v":9},"3)","Należy podać z dokładnością do czterech miejsc po przecinku."]
[{"$f":"$A$2","v":9},"4)","Należy podać jedną z form władania: własność, użytkowanie wieczyste, posiadanie samoistne, posiadanie zależne lub posiadanie bez tytułu prawnego."]
[{"$f":"$A$8","v":16.5},null,{"$f":"'DL-1'!M10&\".\"&'DL-1'!Q24&Wersja","v":"2023..1.15.0.44867"},null,null,null,null,null,null,null,null,null,null,"ZDL-1(1)","1/2"]
[{"$f":"$A$2","v":9}]
[{"$f":"$A$2","v":9},"WYPEŁNIĆ DUŻYMI, DRUKOWANYMI LITERAMI, CZARNYM LUB NIEBIESKIM KOLOREM."]
[4.5]
[{"$f":"$A$8","v":16.5},"B.2.  LASY WCHODZĄCE W SKŁAD REZERWATÓW PRZYRODY I PARKÓW NARODOWYCH"]
[{"$f":"$A$8*1.5","v":24.75},"Lp.","Położenie (adres, w tym dzielnica)",null,null,null,null,"Nr księgi wieczystej\n(zbioru dokumentów)","Nr obrębu\n(arkusza mapy)2)","Nr działki","Powierzchnia w ha3)","Forma władania5)"]
[{"$f":"$A$2","v":9},null,"a",null,null,null,null,"b","c","d","e","f"]
[{"$f":"$A$6","v":19.5},1,null,null,null,null,null,null,null,null,null,null,null,null,null,"b"]
[19.5,2,null,null,null,null,null,null,null,null,null,null,null,null,null,"b"]
[19.5,3,null,null,null,null,null,null,null,null,null,null,null,null,null,"b"]
[19.5,4,null,null,null,null,null,null,null,null,null,null,null,null,null,"b"]
[19.5,5,null,null,null,null,null,null,null,null,null,null,null,null,null,"b"]
[19.5,6,null,null,null,null,null,null,null,null,null,null,null,null,null,"b"]
[19.5,7,null,null,null,null,null,null,null,null,null,null,null,null,null,"b"]
[19.5,8,null,null,null,null,null,null,null,null,null,null,null,null,null,"b"]
[{"$f":"$A$2","v":9}]
[9]
[9]
[9]
[9]
[9]
[9]
[9]
[9]
[9]
[9]
[9]
[9]
[9]
[9]
[9]
[9]
[9]
[9]
[9]
[9]
[9]
[9]
[9]
[9]
[9]
[9]
[9]
[9]
[9]
[{"$f":"$A$8","v":16.5},null,"ZDL-1(1)","2/2",null,null,null,null,null,null,null,null,{"$f":"'DL-1'!M10&\".\"&'DL-1'!Q24&Wersja","v":"2023..1.15.0.44867"}]
[9,"Załącznik nr 6"]
[{"$f":"$A$2","v":9},"WYPEŁNIĆ DUŻYMI, DRUKOWANYMI LITERAMI, CZARNYM LUB NIEBIESKIM KOLOREM."]
[4.5]
[{"$f":"$A$2","v":9},"1. Identyfikator podatkowy NIP/numer PESEL (niepotrzebne skreślić)1)\n└────┴────┴────┴────┴────┴────┴────┴────┴────┴────┴────┘",null,null,null,null,null,null,"2.  Nr dokumentu"]
[19.5,null,{"$f":"$C$6","v":0}]
[{"$f":"$A$2","v":9}]
[16.5,"ZDL-1"]
[{"$f":"$A$8","v":16.5},"ZAŁĄCZNIK DO DEKLARACJI NA PODATEK LEŚNY"]
[{"$f":"$A$8","v":16.5},"- DANE O PRZEDMIOTACH OPODATKOWANIA PODLEGAJĄCYCH OPODATKOWANIU"]
[{"$f":"$A$2","v":9},null,null,null,null,null,null,null,null,null,null,null,null,"3. Nr załącznika"]
[{"$f":"$A$6","v":19.5},null,null,null,null,null,null,null,null,null,null,null,null,{"$f":"N252+1","v":5},null,{"$f":"SUM(Q:Q)","v":0},{"$f":"IF(COUNTA(C343:O350,C363:O370)=0,0,1)","v":0}]
[{"$f":"$A$4","v":4.5}]
[{"$f":"$A$4","v":4.5}]
[{"$f":"$A$8*1.5","v":24.75},"A.  DANE PODATNIKA WSKAZANEGO W CZĘŚCI C.1 DEKLARACJI DL-1\n* - dotyczy podatnika niebędącego osobą fizyczną               ** - dotyczy podatnika będącego osobą fizyczną"]
[{"$f":"$A$2","v":9},null,"4. Nazwa pełna * / Nazwisko **",null,null,null,null,null,"5. Nazwa skrócona * / Pierwsze imię **"]
[{"$f":"$A$6","v":19.5},null,{"$f":"\"\"&$C$17","v":""},null,null,null,null,null,{"$f":"\"\"&$I$17","v":""}]
[{"$f":"$A$4","v":4.5}]
[{"$f":"$A$8","v":16.5},"B.  DANE O POSZCZEGÓLNYCH PRZEDMIOTACH OPODATKOWANIA PODLEGAJĄCYCH OPODATKOWANIU"]
[16.5,"B.1.  LASY (z wyjątkiem lasów wchodzących w skład rezerwatów przyrody i parków narodowych)"]
[{"$f":"$A$8*1.5","v":24.75},"Lp.","Położenie (adres, w tym dzielnica)",null,null,null,null,"Nr księgi wieczystej\n(zbioru dokumentów)","Nr obrębu\n(arkusza mapy)2)","Nr działki","Powierzchnia w ha3)","Forma władania5)"]
[{"$f":"$A$2","v":9},null,"a",null,null,null,null,"b","c","d","e","f"]
[{"$f":"$A$6","v":19.5},1,null,null,null,null,null,null,null,null,null,null,null,null,null,"a"]
[19.5,2,null,null,null,null,null,null,null,null,null,null,null,null,null,"a"]
[19.5,3,null,null,null,null,null,null,null,null,null,null,null,null,null,"a"]
[19.5,4,null,null,null,null,null,null,null,null,null,null,null,null,null,"a"]
[19.5,5,null,null,null,null,null,null,null,null,null,null,null,null,null,"a"]
[19.5,6,null,null,null,null,null,null,null,null,null,null,null,null,null,"a"]
[19.5,7,null,null,null,null,null,null,null,null,null,null,null,null,null,"a"]
[19.5,8,null,null,null,null,null,null,null,null,null,null,null,null,null,"a"]
[{"$f":"$A$2","v":9}]
[{"$f":"$A$2*2","v":18},"1)","Numer PESEL wpisują podatnicy będący osobami fizycznymi objętymi rejestrem PESEL, nieprowadzący działalności gospodarczej lub niebędący zarejestrowanymi podatnikami podatku od towarów i usług.\nIdentyfikator podatkowy NIP wpisują pozostali podatnicy."]
[{"$f":"$A$2","v":9},"2)","Numer obrębu należy podać wraz z numerem arkusza mapy ewidencyjnej w przypadku, gdy działki numerowane są w ramach arkusza mapy."]
[{"$f":"$A$2","v":9},"3)","Należy podać z dokładnością do czterech miejsc po przecinku."]
[{"$f":"$A$2","v":9},"4)","Należy podać jedną z form władania: własność, użytkowanie wieczyste, posiadanie samoistne, posiadanie zależne lub posiadanie bez tytułu prawnego."]
[{"$f":"$A$8","v":16.5},null,{"$f":"'DL-1'!M10&\".\"&'DL-1'!Q24&Wersja","v":"2023..1.15.0.44867"},null,null,null,null,null,null,null,null,null,null,"ZDL-1(1)","1/2"]
[{"$f":"$A$2","v":9}]
[{"$f":"$A$2","v":9},"WYPEŁNIĆ DUŻYMI, DRUKOWANYMI LITERAMI, CZARNYM LUB NIEBIESKIM KOLOREM."]
[4.5]
[{"$f":"$A$8","v":16.5},"B.2.  LASY WCHODZĄCE W SKŁAD REZERWATÓW PRZYRODY I PARKÓW NARODOWYCH"]
[{"$f":"$A$8*1.5","v":24.75},"Lp.","Położenie (adres, w tym dzielnica)",null,null,null,null,"Nr księgi wieczystej\n(zbioru dokumentów)","Nr obrębu\n(arkusza mapy)2)","Nr działki","Powierzchnia w ha3)","Forma władania5)"]
[{"$f":"$A$2","v":9},null,"a",null,null,null,null,"b","c","d","e","f"]
[{"$f":"$A$6","v":19.5},1,null,null,null,null,null,null,null,null,null,null,null,null,null,"b"]
[19.5,2,null,null,null,null,null,null,null,null,null,null,null,null,null,"b"]
[19.5,3,null,null,null,null,null,null,null,null,null,null,null,null,null,"b"]
[19.5,4,null,null,null,null,null,null,null,null,null,null,null,null,null,"b"]
[19.5,5,null,null,null,null,null,null,null,null,null,null,null,null,null,"b"]
[19.5,6,null,null,null,null,null,null,null,null,null,null,null,null,null,"b"]
[19.5,7,null,null,null,null,null,null,null,null,null,null,null,null,null,"b"]
[19.5,8,null,null,null,null,null,null,null,null,null,null,null,null,null,"b"]
[{"$f":"$A$2","v":9}]
[9]
[9]
[9]
[9]
[9]
[9]
[9]
[9]
[9]
[9]
[9]
[9]
[9]
[9]
[9]
[9]
[9]
[9]
[9]
[9]
[9]
[9]
[9]
[9]
[9]
[9]
[9]
[9]
[9]
[{"$f":"$A$8","v":16.5},null,"ZDL-1(1)","2/2",null,null,null,null,null,null,null,null,{"$f":"'DL-1'!M10&\".\"&'DL-1'!Q24&Wersja","v":"2023..1.15.0.44867"}]
[9,"Załącznik nr 6"]
[{"$f":"$A$2","v":9},"WYPEŁNIĆ DUŻYMI, DRUKOWANYMI LITERAMI, CZARNYM LUB NIEBIESKIM KOLOREM."]
[4.5]
[{"$f":"$A$2","v":9},"1. Identyfikator podatkowy NIP/numer PESEL (niepotrzebne skreślić)1)\n└────┴────┴────┴────┴────┴────┴────┴────┴────┴────┴────┘",null,null,null,null,null,null,"2.  Nr dokumentu"]
[19.5,null,{"$f":"$C$6","v":0}]
[{"$f":"$A$2","v":9}]
[16.5,"ZDL-1"]
[{"$f":"$A$8","v":16.5},"ZAŁĄCZNIK DO DEKLARACJI NA PODATEK LEŚNY"]
[{"$f":"$A$8","v":16.5},"- DANE O PRZEDMIOTACH OPODATKOWANIA PODLEGAJĄCYCH OPODATKOWANIU"]
[{"$f":"$A$2","v":9},null,null,null,null,null,null,null,null,null,null,null,null,"3. Nr załącznika"]
[{"$f":"$A$6","v":19.5},null,null,null,null,null,null,null,null,null,null,null,null,{"$f":"N332+1","v":6},null,{"$f":"SUM(Q:Q)","v":0},{"$f":"IF(COUNTA(C423:O430,C443:O450)=0,0,1)","v":0}]
[{"$f":"$A$4","v":4.5}]
[{"$f":"$A$4","v":4.5}]
[{"$f":"$A$8*1.5","v":24.75},"A.  DANE PODATNIKA WSKAZANEGO W CZĘŚCI C.1 DEKLARACJI DL-1\n* - dotyczy podatnika niebędącego osobą fizyczną               ** - dotyczy podatnika będącego osobą fizyczną"]
[{"$f":"$A$2","v":9},null,"4. Nazwa pełna * / Nazwisko **",null,null,null,null,null,"5. Nazwa skrócona * / Pierwsze imię **"]
[{"$f":"$A$6","v":19.5},null,{"$f":"\"\"&$C$17","v":""},null,null,null,null,null,{"$f":"\"\"&$I$17","v":""}]
[{"$f":"$A$4","v":4.5}]
[{"$f":"$A$8","v":16.5},"B.  DANE O POSZCZEGÓLNYCH PRZEDMIOTACH OPODATKOWANIA PODLEGAJĄCYCH OPODATKOWANIU"]
[16.5,"B.1.  LASY (z wyjątkiem lasów wchodzących w skład rezerwatów przyrody i parków narodowych)"]
[{"$f":"$A$8*1.5","v":24.75},"Lp.","Położenie (adres, w tym dzielnica)",null,null,null,null,"Nr księgi wieczystej\n(zbioru dokumentów)","Nr obrębu\n(arkusza mapy)2)","Nr działki","Powierzchnia w ha3)","Forma władania5)"]
[{"$f":"$A$2","v":9},null,"a",null,null,null,null,"b","c","d","e","f"]
[{"$f":"$A$6","v":19.5},1,null,null,null,null,null,null,null,null,null,null,null,null,null,"a"]
[19.5,2,null,null,null,null,null,null,null,null,null,null,null,null,null,"a"]
[19.5,3,null,null,null,null,null,null,null,null,null,null,null,null,null,"a"]
[19.5,4,null,null,null,null,null,null,null,null,null,null,null,null,null,"a"]
[19.5,5,null,null,null,null,null,null,null,null,null,null,null,null,null,"a"]
[19.5,6,null,null,null,null,null,null,null,null,null,null,null,null,null,"a"]
[19.5,7,null,null,null,null,null,null,null,null,null,null,null,null,null,"a"]
[19.5,8,null,null,null,null,null,null,null,null,null,null,null,null,null,"a"]
[{"$f":"$A$2","v":9}]
[{"$f":"$A$2*2","v":18},"1)","Numer PESEL wpisują podatnicy będący osobami fizycznymi objętymi rejestrem PESEL, nieprowadzący działalności gospodarczej lub niebędący zarejestrowanymi podatnikami podatku od towarów i usług.\nIdentyfikator podatkowy NIP wpisują pozostali podatnicy."]
[{"$f":"$A$2","v":9},"2)","Numer obrębu należy podać wraz z numerem arkusza mapy ewidencyjnej w przypadku, gdy działki numerowane są w ramach arkusza mapy."]
[{"$f":"$A$2","v":9},"3)","Należy podać z dokładnością do czterech miejsc po przecinku."]
[{"$f":"$A$2","v":9},"4)","Należy podać jedną z form władania: własność, użytkowanie wieczyste, posiadanie samoistne, posiadanie zależne lub posiadanie bez tytułu prawnego."]
[{"$f":"$A$8","v":16.5},null,{"$f":"'DL-1'!M10&\".\"&'DL-1'!Q24&Wersja","v":"2023..1.15.0.44867"},null,null,null,null,null,null,null,null,null,null,"ZDL-1(1)","1/2"]
[{"$f":"$A$2","v":9}]
[{"$f":"$A$2","v":9},"WYPEŁNIĆ DUŻYMI, DRUKOWANYMI LITERAMI, CZARNYM LUB NIEBIESKIM KOLOREM."]
[4.5]
[{"$f":"$A$8","v":16.5},"B.2.  LASY WCHODZĄCE W SKŁAD REZERWATÓW PRZYRODY I PARKÓW NARODOWYCH"]
[{"$f":"$A$8*1.5","v":24.75},"Lp.","Położenie (adres, w tym dzielnica)",null,null,null,null,"Nr księgi wieczystej\n(zbioru dokumentów)","Nr obrębu\n(arkusza mapy)2)","Nr działki","Powierzchnia w ha3)","Forma władania5)"]
[{"$f":"$A$2","v":9},null,"a",null,null,null,null,"b","c","d","e","f"]
[{"$f":"$A$6","v":19.5},1,null,null,null,null,null,null,null,null,null,null,null,null,null,"b"]
[19.5,2,null,null,null,null,null,null,null,null,null,null,null,null,null,"b"]
[19.5,3,null,null,null,null,null,null,null,null,null,null,null,null,null,"b"]
[19.5,4,null,null,null,null,null,null,null,null,null,null,null,null,null,"b"]
[19.5,5,null,null,null,null,null,null,null,null,null,null,null,null,null,"b"]
[19.5,6,null,null,null,null,null,null,null,null,null,null,null,null,null,"b"]
[19.5,7,null,null,null,null,null,null,null,null,null,null,null,null,null,"b"]
[19.5,8,null,null,null,null,null,null,null,null,null,null,null,null,null,"b"]
[{"$f":"$A$2","v":9}]
[9]
[9]
[9]
[9]
[9]
[9]
[9]
[9]
[9]
[9]
[9]
[9]
[9]
[9]
[9]
[9]
[9]
[9]
[9]
[9]
[9]
[9]
[9]
[9]
[9]
[9]
[9]
[9]
[9]
[{"$f":"$A$8","v":16.5},null,"ZDL-1(1)","2/2",null,null,null,null,null,null,null,null,{"$f":"'DL-1'!M10&\".\"&'DL-1'!Q24&Wersja","v":"2023..1.15.0.44867"}]
[9,"Załącznik nr 6"]
[{"$f":"$A$2","v":9},"WYPEŁNIĆ DUŻYMI, DRUKOWANYMI LITERAMI, CZARNYM LUB NIEBIESKIM KOLOREM."]
[4.5]
[{"$f":"$A$2","v":9},"1. Identyfikator podatkowy NIP/numer PESEL (niepotrzebne skreślić)1)\n└────┴────┴────┴────┴────┴────┴────┴────┴────┴────┴────┘",null,null,null,null,null,null,"2.  Nr dokumentu"]
[19.5,null,{"$f":"$C$6","v":0}]
[{"$f":"$A$2","v":9}]
[16.5,"ZDL-1"]
[{"$f":"$A$8","v":16.5},"ZAŁĄCZNIK DO DEKLARACJI NA PODATEK LEŚNY"]
[{"$f":"$A$8","v":16.5},"- DANE O PRZEDMIOTACH OPODATKOWANIA PODLEGAJĄCYCH OPODATKOWANIU"]
[{"$f":"$A$2","v":9},null,null,null,null,null,null,null,null,null,null,null,null,"3. Nr załącznika"]
[{"$f":"$A$6","v":19.5},null,null,null,null,null,null,null,null,null,null,null,null,{"$f":"N412+1","v":7},null,{"$f":"SUM(Q:Q)","v":0},{"$f":"IF(COUNTA(C503:O510,C523:O530)=0,0,1)","v":0}]
[{"$f":"$A$4","v":4.5}]
[{"$f":"$A$4","v":4.5}]
[{"$f":"$A$8*1.5","v":24.75},"A.  DANE PODATNIKA WSKAZANEGO W CZĘŚCI C.1 DEKLARACJI DL-1\n* - dotyczy podatnika niebędącego osobą fizyczną               ** - dotyczy podatnika będącego osobą fizyczną"]
[{"$f":"$A$2","v":9},null,"4. Nazwa pełna * / Nazwisko **",null,null,null,null,null,"5. Nazwa skrócona * / Pierwsze imię **"]
[{"$f":"$A$6","v":19.5},null,{"$f":"\"\"&$C$17","v":""},null,null,null,null,null,{"$f":"\"\"&$I$17","v":""}]
[{"$f":"$A$4","v":4.5}]
[{"$f":"$A$8","v":16.5},"B.  DANE O POSZCZEGÓLNYCH PRZEDMIOTACH OPODATKOWANIA PODLEGAJĄCYCH OPODATKOWANIU"]
[16.5,"B.1.  LASY (z wyjątkiem lasów wchodzących w skład rezerwatów przyrody i parków narodowych)"]
[{"$f":"$A$8*1.5","v":24.75},"Lp.","Położenie (adres, w tym dzielnica)",null,null,null,null,"Nr księgi wieczystej\n(zbioru dokumentów)","Nr obrębu\n(arkusza mapy)2)","Nr działki","Powierzchnia w ha3)","Forma władania5)"]
[{"$f":"$A$2","v":9},null,"a",null,null,null,null,"b","c","d","e","f"]
[{"$f":"$A$6","v":19.5},1,null,null,null,null,null,null,null,null,null,null,null,null,null,"a"]
[19.5,2,null,null,null,null,null,null,null,null,null,null,null,null,null,"a"]
[19.5,3,null,null,null,null,null,null,null,null,null,null,null,null,null,"a"]
[19.5,4,null,null,null,null,null,null,null,null,null,null,null,null,null,"a"]
[19.5,5,null,null,null,null,null,null,null,null,null,null,null,null,null,"a"]
[19.5,6,null,null,null,null,null,null,null,null,null,null,null,null,null,"a"]
[19.5,7,null,null,null,null,null,null,null,null,null,null,null,null,null,"a"]
[19.5,8,null,null,null,null,null,null,null,null,null,null,null,null,null,"a"]
[{"$f":"$A$2","v":9}]
[{"$f":"$A$2*2","v":18},"1)","Numer PESEL wpisują podatnicy będący osobami fizycznymi objętymi rejestrem PESEL, nieprowadzący działalności gospodarczej lub niebędący zarejestrowanymi podatnikami podatku od towarów i usług.\nIdentyfikator podatkowy NIP wpisują pozostali podatnicy."]
[{"$f":"$A$2","v":9},"2)","Numer obrębu należy podać wraz z numerem arkusza mapy ewidencyjnej w przypadku, gdy działki numerowane są w ramach arkusza mapy."]
[{"$f":"$A$2","v":9},"3)","Należy podać z dokładnością do czterech miejsc po przecinku."]
[{"$f":"$A$2","v":9},"4)","Należy podać jedną z form władania: własność, użytkowanie wieczyste, posiadanie samoistne, posiadanie zależne lub posiadanie bez tytułu prawnego."]
[{"$f":"$A$8","v":16.5},null,{"$f":"'DL-1'!M10&\".\"&'DL-1'!Q24&Wersja","v":"2023..1.15.0.44867"},null,null,null,null,null,null,null,null,null,null,"ZDL-1(1)","1/2"]
[{"$f":"$A$2","v":9}]
[{"$f":"$A$2","v":9},"WYPEŁNIĆ DUŻYMI, DRUKOWANYMI LITERAMI, CZARNYM LUB NIEBIESKIM KOLOREM."]
[4.5]
[{"$f":"$A$8","v":16.5},"B.2.  LASY WCHODZĄCE W SKŁAD REZERWATÓW PRZYRODY I PARKÓW NARODOWYCH"]
[{"$f":"$A$8*1.5","v":24.75},"Lp.","Położenie (adres, w tym dzielnica)",null,null,null,null,"Nr księgi wieczystej\n(zbioru dokumentów)","Nr obrębu\n(arkusza mapy)2)","Nr działki","Powierzchnia w ha3)","Forma władania5)"]
[{"$f":"$A$2","v":9},null,"a",null,null,null,null,"b","c","d","e","f"]
[{"$f":"$A$6","v":19.5},1,null,null,null,null,null,null,null,null,null,null,null,null,null,"b"]
[19.5,2,null,null,null,null,null,null,null,null,null,null,null,null,null,"b"]
[19.5,3,null,null,null,null,null,null,null,null,null,null,null,null,null,"b"]
[19.5,4,null,null,null,null,null,null,null,null,null,null,null,null,null,"b"]
[19.5,5,null,null,null,null,null,null,null,null,null,null,null,null,null,"b"]
[19.5,6,null,null,null,null,null,null,null,null,null,null,null,null,null,"b"]
[19.5,7,null,null,null,null,null,null,null,null,null,null,null,null,null,"b"]
[19.5,8,null,null,null,null,null,null,null,null,null,null,null,null,null,"b"]
[{"$f":"$A$2","v":9}]
[9]
[9]
[9]
[9]
[9]
[9]
[9]
[9]
[9]
[9]
[9]
[9]
[9]
[9]
[9]
[9]
[9]
[9]
[9]
[9]
[9]
[9]
[9]
[9]
[9]
[9]
[9]
[9]
[9]
[{"$f":"$A$8","v":16.5},null,"ZDL-1(1)","2/2",null,null,null,null,null,null,null,null,{"$f":"'DL-1'!M10&\".\"&'DL-1'!Q24&Wersja","v":"2023..1.15.0.44867"}]
[9,"Załącznik nr 6"]
[{"$f":"$A$2","v":9},"WYPEŁNIĆ DUŻYMI, DRUKOWANYMI LITERAMI, CZARNYM LUB NIEBIESKIM KOLOREM."]
[4.5]
[{"$f":"$A$2","v":9},"1. Identyfikator podatkowy NIP/numer PESEL (niepotrzebne skreślić)1)\n└────┴────┴────┴────┴────┴────┴────┴────┴────┴────┴────┘",null,null,null,null,null,null,"2.  Nr dokumentu"]
[19.5,null,{"$f":"$C$6","v":0}]
[{"$f":"$A$2","v":9}]
[16.5,"ZDL-1"]
[{"$f":"$A$8","v":16.5},"ZAŁĄCZNIK DO DEKLARACJI NA PODATEK LEŚNY"]
[{"$f":"$A$8","v":16.5},"- DANE O PRZEDMIOTACH OPODATKOWANIA PODLEGAJĄCYCH OPODATKOWANIU"]
[{"$f":"$A$2","v":9},null,null,null,null,null,null,null,null,null,null,null,null,"3. Nr załącznika"]
[{"$f":"$A$6","v":19.5},null,null,null,null,null,null,null,null,null,null,null,null,{"$f":"N492+1","v":8},null,{"$f":"SUM(Q:Q)","v":0},{"$f":"IF(COUNTA(C583:O590,C603:O610)=0,0,1)","v":0}]
[{"$f":"$A$4","v":4.5}]
[{"$f":"$A$4","v":4.5}]
[{"$f":"$A$8*1.5","v":24.75},"A.  DANE PODATNIKA WSKAZANEGO W CZĘŚCI C.1 DEKLARACJI DL-1\n* - dotyczy podatnika niebędącego osobą fizyczną               ** - dotyczy podatnika będącego osobą fizyczną"]
[{"$f":"$A$2","v":9},null,"4. Nazwa pełna * / Nazwisko **",null,null,null,null,null,"5. Nazwa skrócona * / Pierwsze imię **"]
[{"$f":"$A$6","v":19.5},null,{"$f":"\"\"&$C$17","v":""},null,null,null,null,null,{"$f":"\"\"&$I$17","v":""}]
[{"$f":"$A$4","v":4.5}]
[{"$f":"$A$8","v":16.5},"B.  DANE O POSZCZEGÓLNYCH PRZEDMIOTACH OPODATKOWANIA PODLEGAJĄCYCH OPODATKOWANIU"]
[16.5,"B.1.  LASY (z wyjątkiem lasów wchodzących w skład rezerwatów przyrody i parków narodowych)"]
[{"$f":"$A$8*1.5","v":24.75},"Lp.","Położenie (adres, w tym dzielnica)",null,null,null,null,"Nr księgi wieczystej\n(zbioru dokumentów)","Nr obrębu\n(arkusza mapy)2)","Nr działki","Powierzchnia w ha3)","Forma władania5)"]
[{"$f":"$A$2","v":9},null,"a",null,null,null,null,"b","c","d","e","f"]
[{"$f":"$A$6","v":19.5},1,null,null,null,null,null,null,null,null,null,null,null,null,null,"a"]
[19.5,2,null,null,null,null,null,null,null,null,null,null,null,null,null,"a"]
[19.5,3,null,null,null,null,null,null,null,null,null,null,null,null,null,"a"]
[19.5,4,null,null,null,null,null,null,null,null,null,null,null,null,null,"a"]
[19.5,5,null,null,null,null,null,null,null,null,null,null,null,null,null,"a"]
[19.5,6,null,null,null,null,null,null,null,null,null,null,null,null,null,"a"]
[19.5,7,null,null,null,null,null,null,null,null,null,null,null,null,null,"a"]
[19.5,8,null,null,null,null,null,null,null,null,null,null,null,null,null,"a"]
[{"$f":"$A$2","v":9}]
[{"$f":"$A$2*2","v":18},"1)","Numer PESEL wpisują podatnicy będący osobami fizycznymi objętymi rejestrem PESEL, nieprowadzący działalności gospodarczej lub niebędący zarejestrowanymi podatnikami podatku od towarów i usług.\nIdentyfikator podatkowy NIP wpisują pozostali podatnicy."]
[{"$f":"$A$2","v":9},"2)","Numer obrębu należy podać wraz z numerem arkusza mapy ewidencyjnej w przypadku, gdy działki numerowane są w ramach arkusza mapy."]
[{"$f":"$A$2","v":9},"3)","Należy podać z dokładnością do czterech miejsc po przecinku."]
[{"$f":"$A$2","v":9},"4)","Należy podać jedną z form władania: własność, użytkowanie wieczyste, posiadanie samoistne, posiadanie zależne lub posiadanie bez tytułu prawnego."]
[{"$f":"$A$8","v":16.5},null,{"$f":"'DL-1'!M10&\".\"&'DL-1'!Q24&Wersja","v":"2023..1.15.0.44867"},null,null,null,null,null,null,null,null,null,null,"ZDL-1(1)","1/2"]
[{"$f":"$A$2","v":9}]
[{"$f":"$A$2","v":9},"WYPEŁNIĆ DUŻYMI, DRUKOWANYMI LITERAMI, CZARNYM LUB NIEBIESKIM KOLOREM."]
[4.5]
[{"$f":"$A$8","v":16.5},"B.2.  LASY WCHODZĄCE W SKŁAD REZERWATÓW PRZYRODY I PARKÓW NARODOWYCH"]
[{"$f":"$A$8*1.5","v":24.75},"Lp.","Położenie (adres, w tym dzielnica)",null,null,null,null,"Nr księgi wieczystej\n(zbioru dokumentów)","Nr obrębu\n(arkusza mapy)2)","Nr działki","Powierzchnia w ha3)","Forma władania5)"]
[{"$f":"$A$2","v":9},null,"a",null,null,null,null,"b","c","d","e","f"]
[{"$f":"$A$6","v":19.5},1,null,null,null,null,null,null,null,null,null,null,null,null,null,"b"]
[19.5,2,null,null,null,null,null,null,null,null,null,null,null,null,null,"b"]
[19.5,3,null,null,null,null,null,null,null,null,null,null,null,null,null,"b"]
[19.5,4,null,null,null,null,null,null,null,null,null,null,null,null,null,"b"]
[19.5,5,null,null,null,null,null,null,null,null,null,null,null,null,null,"b"]
[19.5,6,null,null,null,null,null,null,null,null,null,null,null,null,null,"b"]
[19.5,7,null,null,null,null,null,null,null,null,null,null,null,null,null,"b"]
[19.5,8,null,null,null,null,null,null,null,null,null,null,null,null,null,"b"]
[{"$f":"$A$2","v":9}]
[9]
[9]
[9]
[9]
[9]
[9]
[9]
[9]
[9]
[9]
[9]
[9]
[9]
[9]
[9]
[9]
[9]
[9]
[9]
[9]
[9]
[9]
[9]
[9]
[9]
[9]
[9]
[9]
[9]
[{"$f":"$A$8","v":16.5},null,"ZDL-1(1)","2/2",null,null,null,null,null,null,null,null,{"$f":"'DL-1'!M10&\".\"&'DL-1'!Q24&Wersja","v":"2023..1.15.0.44867"}]
[9,"Załącznik nr 6"]
[{"$f":"$A$2","v":9},"WYPEŁNIĆ DUŻYMI, DRUKOWANYMI LITERAMI, CZARNYM LUB NIEBIESKIM KOLOREM."]
[4.5]
[{"$f":"$A$2","v":9},"1. Identyfikator podatkowy NIP/numer PESEL (niepotrzebne skreślić)1)\n└────┴────┴────┴────┴────┴────┴────┴────┴────┴────┴────┘",null,null,null,null,null,null,"2.  Nr dokumentu"]
[19.5,null,{"$f":"$C$6","v":0}]
[{"$f":"$A$2","v":9}]
[16.5,"ZDL-1"]
[{"$f":"$A$8","v":16.5},"ZAŁĄCZNIK DO DEKLARACJI NA PODATEK LEŚNY"]
[{"$f":"$A$8","v":16.5},"- DANE O PRZEDMIOTACH OPODATKOWANIA PODLEGAJĄCYCH OPODATKOWANIU"]
[{"$f":"$A$2","v":9},null,null,null,null,null,null,null,null,null,null,null,null,"3. Nr załącznika"]
[{"$f":"$A$6","v":19.5},null,null,null,null,null,null,null,null,null,null,null,null,{"$f":"N572+1","v":9},null,{"$f":"SUM(Q:Q)","v":0},{"$f":"IF(COUNTA(C663:O670,C683:O690)=0,0,1)","v":0}]
[{"$f":"$A$4","v":4.5}]
[{"$f":"$A$4","v":4.5}]
[{"$f":"$A$8*1.5","v":24.75},"A.  DANE PODATNIKA WSKAZANEGO W CZĘŚCI C.1 DEKLARACJI DL-1\n* - dotyczy podatnika niebędącego osobą fizyczną               ** - dotyczy podatnika będącego osobą fizyczną"]
[{"$f":"$A$2","v":9},null,"4. Nazwa pełna * / Nazwisko **",null,null,null,null,null,"5. Nazwa skrócona * / Pierwsze imię **"]
[{"$f":"$A$6","v":19.5},null,{"$f":"\"\"&$C$17","v":""},null,null,null,null,null,{"$f":"\"\"&$I$17","v":""}]
[{"$f":"$A$4","v":4.5}]
[{"$f":"$A$8","v":16.5},"B.  DANE O POSZCZEGÓLNYCH PRZEDMIOTACH OPODATKOWANIA PODLEGAJĄCYCH OPODATKOWANIU"]
[16.5,"B.1.  LASY (z wyjątkiem lasów wchodzących w skład rezerwatów przyrody i parków narodowych)"]
[{"$f":"$A$8*1.5","v":24.75},"Lp.","Położenie (adres, w tym dzielnica)",null,null,null,null,"Nr księgi wieczystej\n(zbioru dokumentów)","Nr obrębu\n(arkusza mapy)2)","Nr działki","Powierzchnia w ha3)","Forma władania5)"]
[{"$f":"$A$2","v":9},null,"a",null,null,null,null,"b","c","d","e","f"]
[{"$f":"$A$6","v":19.5},1,null,null,null,null,null,null,null,null,null,null,null,null,null,"a"]
[19.5,2,null,null,null,null,null,null,null,null,null,null,null,null,null,"a"]
[19.5,3,null,null,null,null,null,null,null,null,null,null,null,null,null,"a"]
[19.5,4,null,null,null,null,null,null,null,null,null,null,null,null,null,"a"]
[19.5,5,null,null,null,null,null,null,null,null,null,null,null,null,null,"a"]
[19.5,6,null,null,null,null,null,null,null,null,null,null,null,null,null,"a"]
[19.5,7,null,null,null,null,null,null,null,null,null,null,null,null,null,"a"]
[19.5,8,null,null,null,null,null,null,null,null,null,null,null,null,null,"a"]
[{"$f":"$A$2","v":9}]
[{"$f":"$A$2*2","v":18},"1)","Numer PESEL wpisują podatnicy będący osobami fizycznymi objętymi rejestrem PESEL, nieprowadzący działalności gospodarczej lub niebędący zarejestrowanymi podatnikami podatku od towarów i usług.\nIdentyfikator podatkowy NIP wpisują pozostali podatnicy."]
[{"$f":"$A$2","v":9},"2)","Numer obrębu należy podać wraz z numerem arkusza mapy ewidencyjnej w przypadku, gdy działki numerowane są w ramach arkusza mapy."]
[{"$f":"$A$2","v":9},"3)","Należy podać z dokładnością do czterech miejsc po przecinku."]
[{"$f":"$A$2","v":9},"4)","Należy podać jedną z form władania: własność, użytkowanie wieczyste, posiadanie samoistne, posiadanie zależne lub posiadanie bez tytułu prawnego."]
[{"$f":"$A$8","v":16.5},null,{"$f":"'DL-1'!M10&\".\"&'DL-1'!Q24&Wersja","v":"2023..1.15.0.44867"},null,null,null,null,null,null,null,null,null,null,"ZDL-1(1)","1/2"]
[{"$f":"$A$2","v":9}]
[{"$f":"$A$2","v":9},"WYPEŁNIĆ DUŻYMI, DRUKOWANYMI LITERAMI, CZARNYM LUB NIEBIESKIM KOLOREM."]
[4.5]
[{"$f":"$A$8","v":16.5},"B.2.  LASY WCHODZĄCE W SKŁAD REZERWATÓW PRZYRODY I PARKÓW NARODOWYCH"]
[{"$f":"$A$8*1.5","v":24.75},"Lp.","Położenie (adres, w tym dzielnica)",null,null,null,null,"Nr księgi wieczystej\n(zbioru dokumentów)","Nr obrębu\n(arkusza mapy)2)","Nr działki","Powierzchnia w ha3)","Forma władania5)"]
[{"$f":"$A$2","v":9},null,"a",null,null,null,null,"b","c","d","e","f"]
[{"$f":"$A$6","v":19.5},1,null,null,null,null,null,null,null,null,null,null,null,null,null,"b"]
[19.5,2,null,null,null,null,null,null,null,null,null,null,null,null,null,"b"]
[19.5,3,null,null,null,null,null,null,null,null,null,null,null,null,null,"b"]
[19.5,4,null,null,null,null,null,null,null,null,null,null,null,null,null,"b"]
[19.5,5,null,null,null,null,null,null,null,null,null,null,null,null,null,"b"]
[19.5,6,null,null,null,null,null,null,null,null,null,null,null,null,null,"b"]
[19.5,7,null,null,null,null,null,null,null,null,null,null,null,null,null,"b"]
[19.5,8,null,null,null,null,null,null,null,null,null,null,null,null,null,"b"]
[{"$f":"$A$2","v":9}]
[9]
[9]
[9]
[9]
[9]
[9]
[9]
[9]
[9]
[9]
[9]
[9]
[9]
[9]
[9]
[9]
[9]
[9]
[9]
[9]
[{"$f":"$A$2","v":9}]
[9]
[9]
[9]
[9]
[9]
[9]
[9]
[9]
[{"$f":"$A$8","v":16.5},null,"ZDL-1(1)","2/2",null,null,null,null,null,null,null,null,{"$f":"'DL-1'!M10&\".\"&'DL-1'!Q24&Wersja","v":"2023..1.15.0.44867"}]
[9,"Załącznik nr 6"]
[{"$f":"$A$2","v":9},"WYPEŁNIĆ DUŻYMI, DRUKOWANYMI LITERAMI, CZARNYM LUB NIEBIESKIM KOLOREM."]
[4.5]
[{"$f":"$A$2","v":9},"1. Identyfikator podatkowy NIP/numer PESEL (niepotrzebne skreślić)1)\n└────┴────┴────┴────┴────┴────┴────┴────┴────┴────┴────┘",null,null,null,null,null,null,"2.  Nr dokumentu"]
[19.5,null,{"$f":"$C$6","v":0}]
[{"$f":"$A$2","v":9}]
[16.5,"ZDL-1"]
[{"$f":"$A$8","v":16.5},"ZAŁĄCZNIK DO DEKLARACJI NA PODATEK LEŚNY"]
[{"$f":"$A$8","v":16.5},"- DANE O PRZEDMIOTACH OPODATKOWANIA PODLEGAJĄCYCH OPODATKOWANIU"]
[{"$f":"$A$2","v":9},null,null,null,null,null,null,null,null,null,null,null,null,"3. Nr załącznika"]
[{"$f":"$A$6","v":19.5},null,null,null,null,null,null,null,null,null,null,null,null,{"$f":"N652+1","v":10},null,{"$f":"SUM(Q:Q)","v":0},{"$f":"IF(COUNTA(C743:O750,C763:O770)=0,0,1)","v":0}]
[{"$f":"$A$4","v":4.5}]
[{"$f":"$A$4","v":4.5}]
[{"$f":"$A$8*1.5","v":24.75},"A.  DANE PODATNIKA WSKAZANEGO W CZĘŚCI C.1 DEKLARACJI DL-1\n* - dotyczy podatnika niebędącego osobą fizyczną               ** - dotyczy podatnika będącego osobą fizyczną"]
[{"$f":"$A$2","v":9},null,"4. Nazwa pełna * / Nazwisko **",null,null,null,null,null,"5. Nazwa skrócona * / Pierwsze imię **"]
[{"$f":"$A$6","v":19.5},null,{"$f":"\"\"&$C$17","v":""},null,null,null,null,null,{"$f":"\"\"&$I$17","v":""}]
[{"$f":"$A$4","v":4.5}]
[{"$f":"$A$8","v":16.5},"B.  DANE O POSZCZEGÓLNYCH PRZEDMIOTACH OPODATKOWANIA PODLEGAJĄCYCH OPODATKOWANIU"]
[16.5,"B.1.  LASY (z wyjątkiem lasów wchodzących w skład rezerwatów przyrody i parków narodowych)"]
[{"$f":"$A$8*1.5","v":24.75},"Lp.","Położenie (adres, w tym dzielnica)",null,null,null,null,"Nr księgi wieczystej\n(zbioru dokumentów)","Nr obrębu\n(arkusza mapy)2)","Nr działki","Powierzchnia w ha3)","Forma władania5)"]
[{"$f":"$A$2","v":9},null,"a",null,null,null,null,"b","c","d","e","f"]
[{"$f":"$A$6","v":19.5},1,null,null,null,null,null,null,null,null,null,null,null,null,null,"a"]
[19.5,2,null,null,null,null,null,null,null,null,null,null,null,null,null,"a"]
[19.5,3,null,null,null,null,null,null,null,null,null,null,null,null,null,"a"]
[19.5,4,null,null,null,null,null,null,null,null,null,null,null,null,null,"a"]
[19.5,5,null,null,null,null,null,null,null,null,null,null,null,null,null,"a"]
[19.5,6,null,null,null,null,null,null,null,null,null,null,null,null,null,"a"]
[19.5,7,null,null,null,null,null,null,null,null,null,null,null,null,null,"a"]
[19.5,8,null,null,null,null,null,null,null,null,null,null,null,null,null,"a"]
[{"$f":"$A$2","v":9}]
[{"$f":"$A$2*2","v":18},"1)","Numer PESEL wpisują podatnicy będący osobami fizycznymi objętymi rejestrem PESEL, nieprowadzący działalności gospodarczej lub niebędący zarejestrowanymi podatnikami podatku od towarów i usług.\nIdentyfikator podatkowy NIP wpisują pozostali podatnicy."]
[{"$f":"$A$2","v":9},"2)","Numer obrębu należy podać wraz z numerem arkusza mapy ewidencyjnej w przypadku, gdy działki numerowane są w ramach arkusza mapy."]
[{"$f":"$A$2","v":9},"3)","Należy podać z dokładnością do czterech miejsc po przecinku."]
[{"$f":"$A$2","v":9},"4)","Należy podać jedną z form władania: własność, użytkowanie wieczyste, posiadanie samoistne, posiadanie zależne lub posiadanie bez tytułu prawnego."]
[{"$f":"$A$8","v":16.5},null,{"$f":"'DL-1'!M10&\".\"&'DL-1'!Q24&Wersja","v":"2023..1.15.0.44867"},null,null,null,null,null,null,null,null,null,null,"ZDL-1(1)","1/2"]
[{"$f":"$A$2","v":9}]
[{"$f":"$A$2","v":9},"WYPEŁNIĆ DUŻYMI, DRUKOWANYMI LITERAMI, CZARNYM LUB NIEBIESKIM KOLOREM."]
[4.5]
[{"$f":"$A$8","v":16.5},"B.2.  LASY WCHODZĄCE W SKŁAD REZERWATÓW PRZYRODY I PARKÓW NARODOWYCH"]
[{"$f":"$A$8*1.5","v":24.75},"Lp.","Położenie (adres, w tym dzielnica)",null,null,null,null,"Nr księgi wieczystej\n(zbioru dokumentów)","Nr obrębu\n(arkusza mapy)2)","Nr działki","Powierzchnia w ha3)","Forma władania5)"]
[{"$f":"$A$2","v":9},null,"a",null,null,null,null,"b","c","d","e","f"]
[{"$f":"$A$6","v":19.5},1,null,null,null,null,null,null,null,null,null,null,null,null,null,"b"]
[19.5,2,null,null,null,null,null,null,null,null,null,null,null,null,null,"b"]
[19.5,3,null,null,null,null,null,null,null,null,null,null,null,null,null,"b"]
[19.5,4,null,null,null,null,null,null,null,null,null,null,null,null,null,"b"]
[19.5,5,null,null,null,null,null,null,null,null,null,null,null,null,null,"b"]
[19.5,6,null,null,null,null,null,null,null,null,null,null,null,null,null,"b"]
[19.5,7,null,null,null,null,null,null,null,null,null,null,null,null,null,"b"]
[19.5,8,null,null,null,null,null,null,null,null,null,null,null,null,null,"b"]
[{"$f":"$A$2","v":9}]
[9]
[9]
[9]
[9]
[9]
[9]
[9]
[9]
[9]
[9]
[9]
[9]
[9]
[9]
[9]
[9]
[9]
[9]
[9]
[9]
[9]
[9]
[9]
[9]
[9]
[9]
[9]
[9]
[9]
[{"$f":"$A$8","v":16.5},null,"ZDL-1(1)","2/2",null,null,null,null,null,null,null,null,{"$f":"'DL-1'!M10&\".\"&'DL-1'!Q24&Wersja","v":"2023..1.15.0.44867"}]
[9,"Załącznik nr 6"]
[{"$f":"$A$2","v":9},"WYPEŁNIĆ DUŻYMI, DRUKOWANYMI LITERAMI, CZARNYM LUB NIEBIESKIM KOLOREM."]
[4.5]
[{"$f":"$A$2","v":9},"1. Identyfikator podatkowy NIP/numer PESEL (niepotrzebne skreślić)1)\n└────┴────┴────┴────┴────┴────┴────┴────┴────┴────┴────┘",null,null,null,null,null,null,"2.  Nr dokumentu"]
[19.5,null,{"$f":"$C$6","v":0}]
[{"$f":"$A$2","v":9}]
[16.5,"ZDL-1"]
[{"$f":"$A$8","v":16.5},"ZAŁĄCZNIK DO DEKLARACJI NA PODATEK LEŚNY"]
[{"$f":"$A$8","v":16.5},"- DANE O PRZEDMIOTACH OPODATKOWANIA PODLEGAJĄCYCH OPODATKOWANIU"]
[{"$f":"$A$2","v":9},null,null,null,null,null,null,null,null,null,null,null,null,"3. Nr załącznika"]
[{"$f":"$A$6","v":19.5},null,null,null,null,null,null,null,null,null,null,null,null,{"$f":"N732+1","v":11},null,{"$f":"SUM(Q:Q)","v":0},{"$f":"IF(COUNTA(C823:O830,C843:O850)=0,0,1)","v":0}]
[{"$f":"$A$4","v":4.5}]
[{"$f":"$A$4","v":4.5}]
[{"$f":"$A$8*1.5","v":24.75},"A.  DANE PODATNIKA WSKAZANEGO W CZĘŚCI C.1 DEKLARACJI DL-1\n* - dotyczy podatnika niebędącego osobą fizyczną               ** - dotyczy podatnika będącego osobą fizyczną"]
[{"$f":"$A$2","v":9},null,"4. Nazwa pełna * / Nazwisko **",null,null,null,null,null,"5. Nazwa skrócona * / Pierwsze imię **"]
[{"$f":"$A$6","v":19.5},null,{"$f":"\"\"&$C$17","v":""},null,null,null,null,null,{"$f":"\"\"&$I$17","v":""}]
[{"$f":"$A$4","v":4.5}]
[{"$f":"$A$8","v":16.5},"B.  DANE O POSZCZEGÓLNYCH PRZEDMIOTACH OPODATKOWANIA PODLEGAJĄCYCH OPODATKOWANIU"]
[16.5,"B.1.  LASY (z wyjątkiem lasów wchodzących w skład rezerwatów przyrody i parków narodowych)"]
[{"$f":"$A$8*1.5","v":24.75},"Lp.","Położenie (adres, w tym dzielnica)",null,null,null,null,"Nr księgi wieczystej\n(zbioru dokumentów)","Nr obrębu\n(arkusza mapy)2)","Nr działki","Powierzchnia w ha3)","Forma władania5)"]
[{"$f":"$A$2","v":9},null,"a",null,null,null,null,"b","c","d","e","f"]
[{"$f":"$A$6","v":19.5},1,null,null,null,null,null,null,null,null,null,null,null,null,null,"a"]
[19.5,2,null,null,null,null,null,null,null,null,null,null,null,null,null,"a"]
[19.5,3,null,null,null,null,null,null,null,null,null,null,null,null,null,"a"]
[19.5,4,null,null,null,null,null,null,null,null,null,null,null,null,null,"a"]
[19.5,5,null,null,null,null,null,null,null,null,null,null,null,null,null,"a"]
[19.5,6,null,null,null,null,null,null,null,null,null,null,null,null,null,"a"]
[19.5,7,null,null,null,null,null,null,null,null,null,null,null,null,null,"a"]
[19.5,8,null,null,null,null,null,null,null,null,null,null,null,null,null,"a"]
[{"$f":"$A$2","v":9}]
[{"$f":"$A$2*2","v":18},"1)","Numer PESEL wpisują podatnicy będący osobami fizycznymi objętymi rejestrem PESEL, nieprowadzący działalności gospodarczej lub niebędący zarejestrowanymi podatnikami podatku od towarów i usług.\nIdentyfikator podatkowy NIP wpisują pozostali podatnicy."]
[{"$f":"$A$2","v":9},"2)","Numer obrębu należy podać wraz z numerem arkusza mapy ewidencyjnej w przypadku, gdy działki numerowane są w ramach arkusza mapy."]
[9,"3)","Należy podać z dokładnością do czterech miejsc po przecinku."]
[9,"4)","Należy podać jedną z form władania: własność, użytkowanie wieczyste, posiadanie samoistne, posiadanie zależne lub posiadanie bez tytułu prawnego."]
[{"$f":"$A$8","v":16.5},null,{"$f":"'DL-1'!M10&\".\"&'DL-1'!Q24&Wersja","v":"2023..1.15.0.44867"},null,null,null,null,null,null,null,null,null,null,"ZDL-1(1)","1/2"]
[{"$f":"$A$2","v":9}]
[9,"WYPEŁNIĆ DUŻYMI, DRUKOWANYMI LITERAMI, CZARNYM LUB NIEBIESKIM KOLOREM."]
[4.5]
[{"$f":"$A$8","v":16.5},"B.2.  LASY WCHODZĄCE W SKŁAD REZERWATÓW PRZYRODY I PARKÓW NARODOWYCH"]
[{"$f":"$A$8*1.5","v":24.75},"Lp.","Położenie (adres, w tym dzielnica)",null,null,null,null,"Nr księgi wieczystej\n(zbioru dokumentów)","Nr obrębu\n(arkusza mapy)2)","Nr działki","Powierzchnia w ha3)","Forma władania5)"]
[{"$f":"$A$2","v":9},null,"a",null,null,null,null,"b","c","d","e","f"]
[{"$f":"$A$6","v":19.5},1,null,null,null,null,null,null,null,null,null,null,null,null,null,"b"]
[19.5,2,null,null,null,null,null,null,null,null,null,null,null,null,null,"b"]
[19.5,3,null,null,null,null,null,null,null,null,null,null,null,null,null,"b"]
[19.5,4,null,null,null,null,null,null,null,null,null,null,null,null,null,"b"]
[19.5,5,null,null,null,null,null,null,null,null,null,null,null,null,null,"b"]
[19.5,6,null,null,null,null,null,null,null,null,null,null,null,null,null,"b"]
[19.5,7,null,null,null,null,null,null,null,null,null,null,null,null,null,"b"]
[19.5,8,null,null,null,null,null,null,null,null,null,null,null,null,null,"b"]
[{"$f":"$A$2","v":9}]
[9]
[9]
[9]
[9]
[9]
[9]
[9]
[9]
[9]
[9]
[9]
[9]
[9]
[9]
[9]
[9]
[9]
[9]
[9]
[9]
[9]
[9]
[9]
[9]
[9]
[9]
[9]
[9]
[9]
[{"$f":"$A$8","v":16.5},null,"ZDL-1(1)","2/2",null,null,null,null,null,null,null,null,{"$f":"'DL-1'!M10&\".\"&'DL-1'!Q24&Wersja","v":"2023..1.15.0.44867"}]
[9,"Załącznik nr 6"]
[{"$f":"$A$2","v":9},"WYPEŁNIĆ DUŻYMI, DRUKOWANYMI LITERAMI, CZARNYM LUB NIEBIESKIM KOLOREM."]
[4.5]
[{"$f":"$A$2","v":9},"1. Identyfikator podatkowy NIP/numer PESEL (niepotrzebne skreślić)1)\n└────┴────┴────┴────┴────┴────┴────┴────┴────┴────┴────┘",null,null,null,null,null,null,"2.  Nr dokumentu"]
[19.5,null,{"$f":"$C$6","v":0}]
[{"$f":"$A$2","v":9}]
[16.5,"ZDL-1"]
[{"$f":"$A$8","v":16.5},"ZAŁĄCZNIK DO DEKLARACJI NA PODATEK LEŚNY"]
[{"$f":"$A$8","v":16.5},"- DANE O PRZEDMIOTACH OPODATKOWANIA PODLEGAJĄCYCH OPODATKOWANIU"]
[{"$f":"$A$2","v":9},null,null,null,null,null,null,null,null,null,null,null,null,"3. Nr załącznika"]
[{"$f":"$A$6","v":19.5},null,null,null,null,null,null,null,null,null,null,null,null,{"$f":"N812+1","v":12},null,{"$f":"SUM(Q:Q)","v":0},{"$f":"IF(COUNTA(C903:O910,C923:O930)=0,0,1)","v":0}]
[{"$f":"$A$4","v":4.5}]
[{"$f":"$A$4","v":4.5}]
[{"$f":"$A$8*1.5","v":24.75},"A.  DANE PODATNIKA WSKAZANEGO W CZĘŚCI C.1 DEKLARACJI DL-1\n* - dotyczy podatnika niebędącego osobą fizyczną               ** - dotyczy podatnika będącego osobą fizyczną"]
[{"$f":"$A$2","v":9},null,"4. Nazwa pełna * / Nazwisko **",null,null,null,null,null,"5. Nazwa skrócona * / Pierwsze imię **"]
[{"$f":"$A$6","v":19.5},null,{"$f":"\"\"&$C$17","v":""},null,null,null,null,null,{"$f":"\"\"&$I$17","v":""}]
[{"$f":"$A$4","v":4.5}]
[{"$f":"$A$8","v":16.5},"B.  DANE O POSZCZEGÓLNYCH PRZEDMIOTACH OPODATKOWANIA PODLEGAJĄCYCH OPODATKOWANIU"]
[16.5,"B.1.  LASY (z wyjątkiem lasów wchodzących w skład rezerwatów przyrody i parków narodowych)"]
[{"$f":"$A$8*1.5","v":24.75},"Lp.","Położenie (adres, w tym dzielnica)",null,null,null,null,"Nr księgi wieczystej\n(zbioru dokumentów)","Nr obrębu\n(arkusza mapy)2)","Nr działki","Powierzchnia w ha3)","Forma władania5)"]
[{"$f":"$A$2","v":9},null,"a",null,null,null,null,"b","c","d","e","f"]
[{"$f":"$A$6","v":19.5},1,null,null,null,null,null,null,null,null,null,null,null,null,null,"a"]
[19.5,2,null,null,null,null,null,null,null,null,null,null,null,null,null,"a"]
[19.5,3,null,null,null,null,null,null,null,null,null,null,null,null,null,"a"]
[19.5,4,null,null,null,null,null,null,null,null,null,null,null,null,null,"a"]
[19.5,5,null,null,null,null,null,null,null,null,null,null,null,null,null,"a"]
[19.5,6,null,null,null,null,null,null,null,null,null,null,null,null,null,"a"]
[19.5,7,null,null,null,null,null,null,null,null,null,null,null,null,null,"a"]
[19.5,8,null,null,null,null,null,null,null,null,null,null,null,null,null,"a"]
[{"$f":"$A$2","v":9}]
[{"$f":"$A$2*2","v":18},"1)","Numer PESEL wpisują podatnicy będący osobami fizycznymi objętymi rejestrem PESEL, nieprowadzący działalności gospodarczej lub niebędący zarejestrowanymi podatnikami podatku od towarów i usług.\nIdentyfikator podatkowy NIP wpisują pozostali podatnicy."]
[{"$f":"$A$2","v":9},"2)","Numer obrębu należy podać wraz z numerem arkusza mapy ewidencyjnej w przypadku, gdy działki numerowane są w ramach arkusza mapy."]
[9,"3)","Należy podać z dokładnością do czterech miejsc po przecinku."]
[9,"4)","Należy podać jedną z form władania: własność, użytkowanie wieczyste, posiadanie samoistne, posiadanie zależne lub posiadanie bez tytułu prawnego."]
[{"$f":"$A$8","v":16.5},null,{"$f":"'DL-1'!M10&\".\"&'DL-1'!Q24&Wersja","v":"2023..1.15.0.44867"},null,null,null,null,null,null,null,null,null,null,"ZDL-1(1)","1/2"]
[{"$f":"$A$2","v":9}]
[9,"WYPEŁNIĆ DUŻYMI, DRUKOWANYMI LITERAMI, CZARNYM LUB NIEBIESKIM KOLOREM."]
[4.5]
[{"$f":"$A$8","v":16.5},"B.2.  LASY WCHODZĄCE W SKŁAD REZERWATÓW PRZYRODY I PARKÓW NARODOWYCH"]
[{"$f":"$A$8*1.5","v":24.75},"Lp.","Położenie (adres, w tym dzielnica)",null,null,null,null,"Nr księgi wieczystej\n(zbioru dokumentów)","Nr obrębu\n(arkusza mapy)2)","Nr działki","Powierzchnia w ha3)","Forma władania5)"]
[{"$f":"$A$2","v":9},null,"a",null,null,null,null,"b","c","d","e","f"]
[{"$f":"$A$6","v":19.5},1,null,null,null,null,null,null,null,null,null,null,null,null,null,"b"]
[19.5,2,null,null,null,null,null,null,null,null,null,null,null,null,null,"b"]
[19.5,3,null,null,null,null,null,null,null,null,null,null,null,null,null,"b"]
[19.5,4,null,null,null,null,null,null,null,null,null,null,null,null,null,"b"]
[19.5,5,null,null,null,null,null,null,null,null,null,null,null,null,null,"b"]
[19.5,6,null,null,null,null,null,null,null,null,null,null,null,null,null,"b"]
[19.5,7,null,null,null,null,null,null,null,null,null,null,null,null,null,"b"]
[19.5,8,null,null,null,null,null,null,null,null,null,null,null,null,null,"b"]
[{"$f":"$A$2","v":9}]
[9]
[9]
[9]
[9]
[9]
[9]
[9]
[9]
[9]
[9]
[9]
[9]
[9]
[9]
[9]
[9]
[9]
[9]
[9]
[9]
[9]
[9]
[9]
[9]
[9]
[9]
[9]
[9]
[9]
[{"$f":"$A$8","v":16.5},null,"ZDL-1(1)","2/2",null,null,null,null,null,null,null,null,{"$f":"'DL-1'!M10&\".\"&'DL-1'!Q24&Wersja","v":"2023..1.15.0.44867"}]
[9,"Załącznik nr 6"]
[{"$f":"$A$2","v":9},"WYPEŁNIĆ DUŻYMI, DRUKOWANYMI LITERAMI, CZARNYM LUB NIEBIESKIM KOLOREM."]
[4.5]
[{"$f":"$A$2","v":9},"1. Identyfikator podatkowy NIP/numer PESEL (niepotrzebne skreślić)1)\n└────┴────┴────┴────┴────┴────┴────┴────┴────┴────┴────┘",null,null,null,null,null,null,"2.  Nr dokumentu"]
[19.5,null,{"$f":"$C$6","v":0}]
[{"$f":"$A$2","v":9}]
[16.5,"ZDL-1"]
[{"$f":"$A$8","v":16.5},"ZAŁĄCZNIK DO DEKLARACJI NA PODATEK LEŚNY"]
[{"$f":"$A$8","v":16.5},"- DANE O PRZEDMIOTACH OPODATKOWANIA PODLEGAJĄCYCH OPODATKOWANIU"]
[{"$f":"$A$2","v":9},null,null,null,null,null,null,null,null,null,null,null,null,"3. Nr załącznika"]
[{"$f":"$A$6","v":19.5},null,null,null,null,null,null,null,null,null,null,null,null,{"$f":"N892+1","v":13},null,{"$f":"SUM(Q:Q)","v":0},{"$f":"IF(COUNTA(C983:O990,C1003:O1010)=0,0,1)","v":0}]
[{"$f":"$A$4","v":4.5}]
[{"$f":"$A$4","v":4.5}]
[{"$f":"$A$8*1.5","v":24.75},"A.  DANE PODATNIKA WSKAZANEGO W CZĘŚCI C.1 DEKLARACJI DL-1\n* - dotyczy podatnika niebędącego osobą fizyczną               ** - dotyczy podatnika będącego osobą fizyczną"]
[{"$f":"$A$2","v":9},null,"4. Nazwa pełna * / Nazwisko **",null,null,null,null,null,"5. Nazwa skrócona * / Pierwsze imię **"]
[{"$f":"$A$6","v":19.5},null,{"$f":"\"\"&$C$17","v":""},null,null,null,null,null,{"$f":"\"\"&$I$17","v":""}]
[{"$f":"$A$4","v":4.5}]
[{"$f":"$A$8","v":16.5},"B.  DANE O POSZCZEGÓLNYCH PRZEDMIOTACH OPODATKOWANIA PODLEGAJĄCYCH OPODATKOWANIU"]
[16.5,"B.1.  LASY (z wyjątkiem lasów wchodzących w skład rezerwatów przyrody i parków narodowych)"]
[{"$f":"$A$8*1.5","v":24.75},"Lp.","Położenie (adres, w tym dzielnica)",null,null,null,null,"Nr księgi wieczystej\n(zbioru dokumentów)","Nr obrębu\n(arkusza mapy)2)","Nr działki","Powierzchnia w ha3)","Forma władania5)"]
[{"$f":"$A$2","v":9},null,"a",null,null,null,null,"b","c","d","e","f"]
[{"$f":"$A$6","v":19.5},1,null,null,null,null,null,null,null,null,null,null,null,null,null,"a"]
[19.5,2,null,null,null,null,null,null,null,null,null,null,null,null,null,"a"]
[19.5,3,null,null,null,null,null,null,null,null,null,null,null,null,null,"a"]
[19.5,4,null,null,null,null,null,null,null,null,null,null,null,null,null,"a"]
[19.5,5,null,null,null,null,null,null,null,null,null,null,null,null,null,"a"]
[19.5,6,null,null,null,null,null,null,null,null,null,null,null,null,null,"a"]
[19.5,7,null,null,null,null,null,null,null,null,null,null,null,null,null,"a"]
[19.5,8,null,null,null,null,null,null,null,null,null,null,null,null,null,"a"]
[{"$f":"$A$2","v":9}]
[{"$f":"$A$2*2","v":18},"1)","Numer PESEL wpisują podatnicy będący osobami fizycznymi objętymi rejestrem PESEL, nieprowadzący działalności gospodarczej lub niebędący zarejestrowanymi podatnikami podatku od towarów i usług.\nIdentyfikator podatkowy NIP wpisują pozostali podatnicy."]
[{"$f":"$A$2","v":9},"2)","Numer obrębu należy podać wraz z numerem arkusza mapy ewidencyjnej w przypadku, gdy działki numerowane są w ramach arkusza mapy."]
[9,"3)","Należy podać z dokładnością do czterech miejsc po przecinku."]
[9,"4)","Należy podać jedną z form władania: własność, użytkowanie wieczyste, posiadanie samoistne, posiadanie zależne lub posiadanie bez tytułu prawnego."]
[{"$f":"$A$8","v":16.5},null,{"$f":"'DL-1'!M10&\".\"&'DL-1'!Q24&Wersja","v":"2023..1.15.0.44867"},null,null,null,null,null,null,null,null,null,null,"ZDL-1(1)","1/2"]
[{"$f":"$A$2","v":9}]
[9,"WYPEŁNIĆ DUŻYMI, DRUKOWANYMI LITERAMI, CZARNYM LUB NIEBIESKIM KOLOREM."]
[4.5]
[{"$f":"$A$8","v":16.5},"B.2.  LASY WCHODZĄCE W SKŁAD REZERWATÓW PRZYRODY I PARKÓW NARODOWYCH"]
[{"$f":"$A$8*1.5","v":24.75},"Lp.","Położenie (adres, w tym dzielnica)",null,null,null,null,"Nr księgi wieczystej\n(zbioru dokumentów)","Nr obrębu\n(arkusza mapy)2)","Nr działki","Powierzchnia w ha3)","Forma władania5)"]
[{"$f":"$A$2","v":9},null,"a",null,null,null,null,"b","c","d","e","f"]
[{"$f":"$A$6","v":19.5},1,null,null,null,null,null,null,null,null,null,null,null,null,null,"b"]
[19.5,2,null,null,null,null,null,null,null,null,null,null,null,null,null,"b"]
[19.5,3,null,null,null,null,null,null,null,null,null,null,null,null,null,"b"]
[19.5,4,null,null,null,null,null,null,null,null,null,null,null,null,null,"b"]
[19.5,5,null,null,null,null,null,null,null,null,null,null,null,null,null,"b"]
[19.5,6,null,null,null,null,null,null,null,null,null,null,null,null,null,"b"]
[19.5,7,null,null,null,null,null,null,null,null,null,null,null,null,null,"b"]
[19.5,8,null,null,null,null,null,null,null,null,null,null,null,null,null,"b"]
[{"$f":"$A$2","v":9}]
[9]
[9]
[9]
[9]
[9]
[9]
[9]
[9]
[9]
[9]
[9]
[9]
[9]
[9]
[9]
[9]
[9]
[9]
[9]
[9]
[9]
[9]
[9]
[9]
[9]
[9]
[9]
[9]
[9]
[{"$f":"$A$8","v":16.5},null,"ZDL-1(1)","2/2",null,null,null,null,null,null,null,null,{"$f":"'DL-1'!M10&\".\"&'DL-1'!Q24&Wersja","v":"2023..1.15.0.44867"}]
[9,"Załącznik nr 6"]
[{"$f":"$A$2","v":9},"WYPEŁNIĆ DUŻYMI, DRUKOWANYMI LITERAMI, CZARNYM LUB NIEBIESKIM KOLOREM."]
[4.5]
[{"$f":"$A$2","v":9},"1. Identyfikator podatkowy NIP/numer PESEL (niepotrzebne skreślić)1)\n└────┴────┴────┴────┴────┴────┴────┴────┴────┴────┴────┘",null,null,null,null,null,null,"2.  Nr dokumentu"]
[19.5,null,{"$f":"$C$6","v":0}]
[{"$f":"$A$2","v":9}]
[16.5,"ZDL-1"]
[{"$f":"$A$8","v":16.5},"ZAŁĄCZNIK DO DEKLARACJI NA PODATEK LEŚNY"]
[{"$f":"$A$8","v":16.5},"- DANE O PRZEDMIOTACH OPODATKOWANIA PODLEGAJĄCYCH OPODATKOWANIU"]
[{"$f":"$A$2","v":9},null,null,null,null,null,null,null,null,null,null,null,null,"3. Nr załącznika"]
[{"$f":"$A$6","v":19.5},null,null,null,null,null,null,null,null,null,null,null,null,{"$f":"N972+1","v":14},null,{"$f":"SUM(Q:Q)","v":0},{"$f":"IF(COUNTA(C1063:O1070,C1083:O1090)=0,0,1)","v":0}]
[{"$f":"$A$4","v":4.5}]
[{"$f":"$A$4","v":4.5}]
[{"$f":"$A$8*1.5","v":24.75},"A.  DANE PODATNIKA WSKAZANEGO W CZĘŚCI C.1 DEKLARACJI DL-1\n* - dotyczy podatnika niebędącego osobą fizyczną               ** - dotyczy podatnika będącego osobą fizyczną"]
[{"$f":"$A$2","v":9},null,"4. Nazwa pełna * / Nazwisko **",null,null,null,null,null,"5. Nazwa skrócona * / Pierwsze imię **"]
[{"$f":"$A$6","v":19.5},null,{"$f":"\"\"&$C$17","v":""},null,null,null,null,null,{"$f":"\"\"&$I$17","v":""}]
[{"$f":"$A$4","v":4.5}]
[{"$f":"$A$8","v":16.5},"B.  DANE O POSZCZEGÓLNYCH PRZEDMIOTACH OPODATKOWANIA PODLEGAJĄCYCH OPODATKOWANIU"]
[16.5,"B.1.  LASY (z wyjątkiem lasów wchodzących w skład rezerwatów przyrody i parków narodowych)"]
[{"$f":"$A$8*1.5","v":24.75},"Lp.","Położenie (adres, w tym dzielnica)",null,null,null,null,"Nr księgi wieczystej\n(zbioru dokumentów)","Nr obrębu\n(arkusza mapy)2)","Nr działki","Powierzchnia w ha3)","Forma władania5)"]
[{"$f":"$A$2","v":9},null,"a",null,null,null,null,"b","c","d","e","f"]
[{"$f":"$A$6","v":19.5},1,null,null,null,null,null,null,null,null,null,null,null,null,null,"a"]
[19.5,2,null,null,null,null,null,null,null,null,null,null,null,null,null,"a"]
[19.5,3,null,null,null,null,null,null,null,null,null,null,null,null,null,"a"]
[19.5,4,null,null,null,null,null,null,null,null,null,null,null,null,null,"a"]
[19.5,5,null,null,null,null,null,null,null,null,null,null,null,null,null,"a"]
[19.5,6,null,null,null,null,null,null,null,null,null,null,null,null,null,"a"]
[19.5,7,null,null,null,null,null,null,null,null,null,null,null,null,null,"a"]
[19.5,8,null,null,null,null,null,null,null,null,null,null,null,null,null,"a"]
[{"$f":"$A$2","v":9}]
[{"$f":"$A$2*2","v":18},"1)","Numer PESEL wpisują podatnicy będący osobami fizycznymi objętymi rejestrem PESEL, nieprowadzący działalności gospodarczej lub niebędący zarejestrowanymi podatnikami podatku od towarów i usług.\nIdentyfikator podatkowy NIP wpisują pozostali podatnicy."]
[{"$f":"$A$2","v":9},"2)","Numer obrębu należy podać wraz z numerem arkusza mapy ewidencyjnej w przypadku, gdy działki numerowane są w ramach arkusza mapy."]
[9,"3)","Należy podać z dokładnością do czterech miejsc po przecinku."]
[9,"4)","Należy podać jedną z form władania: własność, użytkowanie wieczyste, posiadanie samoistne, posiadanie zależne lub posiadanie bez tytułu prawnego."]
[{"$f":"$A$8","v":16.5},null,{"$f":"'DL-1'!M10&\".\"&'DL-1'!Q24&Wersja","v":"2023..1.15.0.44867"},null,null,null,null,null,null,null,null,null,null,"ZDL-1(1)","1/2"]
[{"$f":"$A$2","v":9}]
[9,"WYPEŁNIĆ DUŻYMI, DRUKOWANYMI LITERAMI, CZARNYM LUB NIEBIESKIM KOLOREM."]
[4.5]
[{"$f":"$A$8","v":16.5},"B.2.  LASY WCHODZĄCE W SKŁAD REZERWATÓW PRZYRODY I PARKÓW NARODOWYCH"]
[{"$f":"$A$8*1.5","v":24.75},"Lp.","Położenie (adres, w tym dzielnica)",null,null,null,null,"Nr księgi wieczystej\n(zbioru dokumentów)","Nr obrębu\n(arkusza mapy)2)","Nr działki","Powierzchnia w ha3)","Forma władania5)"]
[{"$f":"$A$2","v":9},null,"a",null,null,null,null,"b","c","d","e","f"]
[{"$f":"$A$6","v":19.5},1,null,null,null,null,null,null,null,null,null,null,null,null,null,"b"]
[19.5,2,null,null,null,null,null,null,null,null,null,null,null,null,null,"b"]
[19.5,3,null,null,null,null,null,null,null,null,null,null,null,null,null,"b"]
[19.5,4,null,null,null,null,null,null,null,null,null,null,null,null,null,"b"]
[19.5,5,null,null,null,null,null,null,null,null,null,null,null,null,null,"b"]
[19.5,6,null,null,null,null,null,null,null,null,null,null,null,null,null,"b"]
[19.5,7,null,null,null,null,null,null,null,null,null,null,null,null,null,"b"]
[19.5,8,null,null,null,null,null,null,null,null,null,null,null,null,null,"b"]
[{"$f":"$A$2","v":9}]
[9]
[9]
[9]
[9]
[9]
[9]
[9]
[9]
[9]
[9]
[9]
[9]
[9]
[9]
[9]
[9]
[9]
[9]
[9]
[9]
[9]
[9]
[9]
[9]
[9]
[9]
[9]
[9]
[9]
[{"$f":"$A$8","v":16.5},null,"ZDL-1(1)","2/2",null,null,null,null,null,null,null,null,{"$f":"'DL-1'!M10&\".\"&'DL-1'!Q24&Wersja","v":"2023..1.15.0.44867"}]
[9,"Załącznik nr 6"]
[{"$f":"$A$2","v":9},"WYPEŁNIĆ DUŻYMI, DRUKOWANYMI LITERAMI, CZARNYM LUB NIEBIESKIM KOLOREM."]
[4.5]
[{"$f":"$A$2","v":9},"1. Identyfikator podatkowy NIP/numer PESEL (niepotrzebne skreślić)1)\n└────┴────┴────┴────┴────┴────┴────┴────┴────┴────┴────┘",null,null,null,null,null,null,"2.  Nr dokumentu"]
[19.5,null,{"$f":"$C$6","v":0}]
[{"$f":"$A$2","v":9}]
[16.5,"ZDL-1"]
[{"$f":"$A$8","v":16.5},"ZAŁĄCZNIK DO DEKLARACJI NA PODATEK LEŚNY"]
[{"$f":"$A$8","v":16.5},"- DANE O PRZEDMIOTACH OPODATKOWANIA PODLEGAJĄCYCH OPODATKOWANIU"]
[{"$f":"$A$2","v":9},null,null,null,null,null,null,null,null,null,null,null,null,"3. Nr załącznika"]
[{"$f":"$A$6","v":19.5},null,null,null,null,null,null,null,null,null,null,null,null,{"$f":"N1052+1","v":15},null,{"$f":"SUM(Q:Q)","v":0},{"$f":"IF(COUNTA(C1143:O1150,C1163:O1170)=0,0,1)","v":0}]
[{"$f":"$A$4","v":4.5}]
[{"$f":"$A$4","v":4.5}]
[{"$f":"$A$8*1.5","v":24.75},"A.  DANE PODATNIKA WSKAZANEGO W CZĘŚCI C.1 DEKLARACJI DL-1\n* - dotyczy podatnika niebędącego osobą fizyczną               ** - dotyczy podatnika będącego osobą fizyczną"]
[{"$f":"$A$2","v":9},null,"4. Nazwa pełna * / Nazwisko **",null,null,null,null,null,"5. Nazwa skrócona * / Pierwsze imię **"]
[{"$f":"$A$6","v":19.5},null,{"$f":"\"\"&$C$17","v":""},null,null,null,null,null,{"$f":"\"\"&$I$17","v":""}]
[{"$f":"$A$4","v":4.5}]
[{"$f":"$A$8","v":16.5},"B.  DANE O POSZCZEGÓLNYCH PRZEDMIOTACH OPODATKOWANIA PODLEGAJĄCYCH OPODATKOWANIU"]
[16.5,"B.1.  LASY (z wyjątkiem lasów wchodzących w skład rezerwatów przyrody i parków narodowych)"]
[{"$f":"$A$8*1.5","v":24.75},"Lp.","Położenie (adres, w tym dzielnica)",null,null,null,null,"Nr księgi wieczystej\n(zbioru dokumentów)","Nr obrębu\n(arkusza mapy)2)","Nr działki","Powierzchnia w ha3)","Forma władania5)"]
[{"$f":"$A$2","v":9},null,"a",null,null,null,null,"b","c","d","e","f"]
[{"$f":"$A$6","v":19.5},1,null,null,null,null,null,null,null,null,null,null,null,null,null,"a"]
[19.5,2,null,null,null,null,null,null,null,null,null,null,null,null,null,"a"]
[19.5,3,null,null,null,null,null,null,null,null,null,null,null,null,null,"a"]
[19.5,4,null,null,null,null,null,null,null,null,null,null,null,null,null,"a"]
[19.5,5,null,null,null,null,null,null,null,null,null,null,null,null,null,"a"]
[19.5,6,null,null,null,null,null,null,null,null,null,null,null,null,null,"a"]
[19.5,7,null,null,null,null,null,null,null,null,null,null,null,null,null,"a"]
[19.5,8,null,null,null,null,null,null,null,null,null,null,null,null,null,"a"]
[{"$f":"$A$2","v":9}]
[{"$f":"$A$2*2","v":18},"1)","Numer PESEL wpisują podatnicy będący osobami fizycznymi objętymi rejestrem PESEL, nieprowadzący działalności gospodarczej lub niebędący zarejestrowanymi podatnikami podatku od towarów i usług.\nIdentyfikator podatkowy NIP wpisują pozostali podatnicy."]
[{"$f":"$A$2","v":9},"2)","Numer obrębu należy podać wraz z numerem arkusza mapy ewidencyjnej w przypadku, gdy działki numerowane są w ramach arkusza mapy."]
[9,"3)","Należy podać z dokładnością do czterech miejsc po przecinku."]
[9,"4)","Należy podać jedną z form władania: własność, użytkowanie wieczyste, posiadanie samoistne, posiadanie zależne lub posiadanie bez tytułu prawnego."]
[{"$f":"$A$8","v":16.5},null,{"$f":"'DL-1'!M10&\".\"&'DL-1'!Q24&Wersja","v":"2023..1.15.0.44867"},null,null,null,null,null,null,null,null,null,null,"ZDL-1(1)","1/2"]
[{"$f":"$A$2","v":9}]
[9,"WYPEŁNIĆ DUŻYMI, DRUKOWANYMI LITERAMI, CZARNYM LUB NIEBIESKIM KOLOREM."]
[4.5]
[{"$f":"$A$8","v":16.5},"B.2.  LASY WCHODZĄCE W SKŁAD REZERWATÓW PRZYRODY I PARKÓW NARODOWYCH"]
[{"$f":"$A$8*1.5","v":24.75},"Lp.","Położenie (adres, w tym dzielnica)",null,null,null,null,"Nr księgi wieczystej\n(zbioru dokumentów)","Nr obrębu\n(arkusza mapy)2)","Nr działki","Powierzchnia w ha3)","Forma władania5)"]
[{"$f":"$A$2","v":9},null,"a",null,null,null,null,"b","c","d","e","f"]
[{"$f":"$A$6","v":19.5},1,null,null,null,null,null,null,null,null,null,null,null,null,null,"b"]
[19.5,2,null,null,null,null,null,null,null,null,null,null,null,null,null,"b"]
[19.5,3,null,null,null,null,null,null,null,null,null,null,null,null,null,"b"]
[19.5,4,null,null,null,null,null,null,null,null,null,null,null,null,null,"b"]
[19.5,5,null,null,null,null,null,null,null,null,null,null,null,null,null,"b"]
[19.5,6,null,null,null,null,null,null,null,null,null,null,null,null,null,"b"]
[19.5,7,null,null,null,null,null,null,null,null,null,null,null,null,null,"b"]
[19.5,8,null,null,null,null,null,null,null,null,null,null,null,null,null,"b"]
[{"$f":"$A$2","v":9}]
[9]
[9]
[9]
[9]
[9]
[9]
[9]
[9]
[9]
[9]
[9]
[9]
[9]
[9]
[9]
[9]
[9]
[9]
[9]
[9]
[9]
[9]
[9]
[9]
[9]
[9]
[9]
[9]
[9]
[{"$f":"$A$8","v":16.5},null,"ZDL-1(1)","2/2",null,null,null,null,null,null,null,null,{"$f":"'DL-1'!M10&\".\"&'DL-1'!Q24&Wersja","v":"2023..1.15.0.44867"}]
[9,"Załącznik nr 6"]
[{"$f":"$A$2","v":9},"WYPEŁNIĆ DUŻYMI, DRUKOWANYMI LITERAMI, CZARNYM LUB NIEBIESKIM KOLOREM."]
[4.5]
[{"$f":"$A$2","v":9},"1. Identyfikator podatkowy NIP/numer PESEL (niepotrzebne skreślić)1)\n└────┴────┴────┴────┴────┴────┴────┴────┴────┴────┴────┘",null,null,null,null,null,null,"2.  Nr dokumentu"]
[19.5,null,{"$f":"$C$6","v":0}]
[{"$f":"$A$2","v":9}]
[16.5,"ZDL-1"]
[{"$f":"$A$8","v":16.5},"ZAŁĄCZNIK DO DEKLARACJI NA PODATEK LEŚNY"]
[{"$f":"$A$8","v":16.5},"- DANE O PRZEDMIOTACH OPODATKOWANIA PODLEGAJĄCYCH OPODATKOWANIU"]
[{"$f":"$A$2","v":9},null,null,null,null,null,null,null,null,null,null,null,null,"3. Nr załącznika"]
[{"$f":"$A$6","v":19.5},null,null,null,null,null,null,null,null,null,null,null,null,{"$f":"N1132+1","v":16},null,{"$f":"SUM(Q:Q)","v":0},{"$f":"IF(COUNTA(C1223:O1230,C1243:O1250)=0,0,1)","v":0}]
[{"$f":"$A$4","v":4.5}]
[{"$f":"$A$4","v":4.5}]
[{"$f":"$A$8*1.5","v":24.75},"A.  DANE PODATNIKA WSKAZANEGO W CZĘŚCI C.1 DEKLARACJI DL-1\n* - dotyczy podatnika niebędącego osobą fizyczną               ** - dotyczy podatnika będącego osobą fizyczną"]
[{"$f":"$A$2","v":9},null,"4. Nazwa pełna * / Nazwisko **",null,null,null,null,null,"5. Nazwa skrócona * / Pierwsze imię **"]
[{"$f":"$A$6","v":19.5},null,{"$f":"\"\"&$C$17","v":""},null,null,null,null,null,{"$f":"\"\"&$I$17","v":""}]
[{"$f":"$A$4","v":4.5}]
[{"$f":"$A$8","v":16.5},"B.  DANE O POSZCZEGÓLNYCH PRZEDMIOTACH OPODATKOWANIA PODLEGAJĄCYCH OPODATKOWANIU"]
[16.5,"B.1.  LASY (z wyjątkiem lasów wchodzących w skład rezerwatów przyrody i parków narodowych)"]
[{"$f":"$A$8*1.5","v":24.75},"Lp.","Położenie (adres, w tym dzielnica)",null,null,null,null,"Nr księgi wieczystej\n(zbioru dokumentów)","Nr obrębu\n(arkusza mapy)2)","Nr działki","Powierzchnia w ha3)","Forma władania5)"]
[{"$f":"$A$2","v":9},null,"a",null,null,null,null,"b","c","d","e","f"]
[{"$f":"$A$6","v":19.5},1,null,null,null,null,null,null,null,null,null,null,null,null,null,"a"]
[19.5,2,null,null,null,null,null,null,null,null,null,null,null,null,null,"a"]
[19.5,3,null,null,null,null,null,null,null,null,null,null,null,null,null,"a"]
[19.5,4,null,null,null,null,null,null,null,null,null,null,null,null,null,"a"]
[19.5,5,null,null,null,null,null,null,null,null,null,null,null,null,null,"a"]
[19.5,6,null,null,null,null,null,null,null,null,null,null,null,null,null,"a"]
[19.5,7,null,null,null,null,null,null,null,null,null,null,null,null,null,"a"]
[19.5,8,null,null,null,null,null,null,null,null,null,null,null,null,null,"a"]
[{"$f":"$A$2","v":9}]
[{"$f":"$A$2*2","v":18},"1)","Numer PESEL wpisują podatnicy będący osobami fizycznymi objętymi rejestrem PESEL, nieprowadzący działalności gospodarczej lub niebędący zarejestrowanymi podatnikami podatku od towarów i usług.\nIdentyfikator podatkowy NIP wpisują pozostali podatnicy."]
[{"$f":"$A$2","v":9},"2)","Numer obrębu należy podać wraz z numerem arkusza mapy ewidencyjnej w przypadku, gdy działki numerowane są w ramach arkusza mapy."]
[9,"3)","Należy podać z dokładnością do czterech miejsc po przecinku."]
[9,"4)","Należy podać jedną z form władania: własność, użytkowanie wieczyste, posiadanie samoistne, posiadanie zależne lub posiadanie bez tytułu prawnego."]
[{"$f":"$A$8","v":16.5},null,{"$f":"'DL-1'!M10&\".\"&'DL-1'!Q24&Wersja","v":"2023..1.15.0.44867"},null,null,null,null,null,null,null,null,null,null,"ZDL-1(1)","1/2"]
[{"$f":"$A$2","v":9}]
[9,"WYPEŁNIĆ DUŻYMI, DRUKOWANYMI LITERAMI, CZARNYM LUB NIEBIESKIM KOLOREM."]
[4.5]
[{"$f":"$A$8","v":16.5},"B.2.  LASY WCHODZĄCE W SKŁAD REZERWATÓW PRZYRODY I PARKÓW NARODOWYCH"]
[{"$f":"$A$8*1.5","v":24.75},"Lp.","Położenie (adres, w tym dzielnica)",null,null,null,null,"Nr księgi wieczystej\n(zbioru dokumentów)","Nr obrębu\n(arkusza mapy)2)","Nr działki","Powierzchnia w ha3)","Forma władania5)"]
[{"$f":"$A$2","v":9},null,"a",null,null,null,null,"b","c","d","e","f"]
[{"$f":"$A$6","v":19.5},1,null,null,null,null,null,null,null,null,null,null,null,null,null,"b"]
[19.5,2,null,null,null,null,null,null,null,null,null,null,null,null,null,"b"]
[19.5,3,null,null,null,null,null,null,null,null,null,null,null,null,null,"b"]
[19.5,4,null,null,null,null,null,null,null,null,null,null,null,null,null,"b"]
[19.5,5,null,null,null,null,null,null,null,null,null,null,null,null,null,"b"]
[19.5,6,null,null,null,null,null,null,null,null,null,null,null,null,null,"b"]
[19.5,7,null,null,null,null,null,null,null,null,null,null,null,null,null,"b"]
[19.5,8,null,null,null,null,null,null,null,null,null,null,null,null,null,"b"]
[{"$f":"$A$2","v":9}]
[9]
[9]
[9]
[9]
[9]
[9]
[9]
[9]
[9]
[9]
[9]
[9]
[9]
[9]
[9]
[9]
[9]
[9]
[9]
[9]
[9]
[9]
[9]
[9]
[9]
[9]
[9]
[9]
[9]
[{"$f":"$A$8","v":16.5},null,"ZDL-1(1)","2/2",null,null,null,null,null,null,null,null,{"$f":"'DL-1'!M10&\".\"&'DL-1'!Q24&Wersja","v":"2023..1.15.0.44867"}]
[9,"Załącznik nr 6"]
[{"$f":"$A$2","v":9},"WYPEŁNIĆ DUŻYMI, DRUKOWANYMI LITERAMI, CZARNYM LUB NIEBIESKIM KOLOREM."]
[4.5]
[{"$f":"$A$2","v":9},"1. Identyfikator podatkowy NIP/numer PESEL (niepotrzebne skreślić)1)\n└────┴────┴────┴────┴────┴────┴────┴────┴────┴────┴────┘",null,null,null,null,null,null,"2.  Nr dokumentu"]
[19.5,null,{"$f":"$C$6","v":0}]
[{"$f":"$A$2","v":9}]
[16.5,"ZDL-1"]
[{"$f":"$A$8","v":16.5},"ZAŁĄCZNIK DO DEKLARACJI NA PODATEK LEŚNY"]
[{"$f":"$A$8","v":16.5},"- DANE O PRZEDMIOTACH OPODATKOWANIA PODLEGAJĄCYCH OPODATKOWANIU"]
[{"$f":"$A$2","v":9},null,null,null,null,null,null,null,null,null,null,null,null,"3. Nr załącznika"]
[{"$f":"$A$6","v":19.5},null,null,null,null,null,null,null,null,null,null,null,null,{"$f":"N1212+1","v":17},null,{"$f":"SUM(Q:Q)","v":0},{"$f":"IF(COUNTA(C1303:O1310,C1323:O1330)=0,0,1)","v":0}]
[{"$f":"$A$4","v":4.5}]
[{"$f":"$A$4","v":4.5}]
[{"$f":"$A$8*1.5","v":24.75},"A.  DANE PODATNIKA WSKAZANEGO W CZĘŚCI C.1 DEKLARACJI DL-1\n* - dotyczy podatnika niebędącego osobą fizyczną               ** - dotyczy podatnika będącego osobą fizyczną"]
[{"$f":"$A$2","v":9},null,"4. Nazwa pełna * / Nazwisko **",null,null,null,null,null,"5. Nazwa skrócona * / Pierwsze imię **"]
[{"$f":"$A$6","v":19.5},null,{"$f":"\"\"&$C$17","v":""},null,null,null,null,null,{"$f":"\"\"&$I$17","v":""}]
[{"$f":"$A$4","v":4.5}]
[{"$f":"$A$8","v":16.5},"B.  DANE O POSZCZEGÓLNYCH PRZEDMIOTACH OPODATKOWANIA PODLEGAJĄCYCH OPODATKOWANIU"]
[16.5,"B.1.  LASY (z wyjątkiem lasów wchodzących w skład rezerwatów przyrody i parków narodowych)"]
[{"$f":"$A$8*1.5","v":24.75},"Lp.","Położenie (adres, w tym dzielnica)",null,null,null,null,"Nr księgi wieczystej\n(zbioru dokumentów)","Nr obrębu\n(arkusza mapy)2)","Nr działki","Powierzchnia w ha3)","Forma władania5)"]
[{"$f":"$A$2","v":9},null,"a",null,null,null,null,"b","c","d","e","f"]
[{"$f":"$A$6","v":19.5},1,null,null,null,null,null,null,null,null,null,null,null,null,null,"a"]
[19.5,2,null,null,null,null,null,null,null,null,null,null,null,null,null,"a"]
[19.5,3,null,null,null,null,null,null,null,null,null,null,null,null,null,"a"]
[19.5,4,null,null,null,null,null,null,null,null,null,null,null,null,null,"a"]
[19.5,5,null,null,null,null,null,null,null,null,null,null,null,null,null,"a"]
[19.5,6,null,null,null,null,null,null,null,null,null,null,null,null,null,"a"]
[19.5,7,null,null,null,null,null,null,null,null,null,null,null,null,null,"a"]
[19.5,8,null,null,null,null,null,null,null,null,null,null,null,null,null,"a"]
[{"$f":"$A$2","v":9}]
[{"$f":"$A$2*2","v":18},"1)","Numer PESEL wpisują podatnicy będący osobami fizycznymi objętymi rejestrem PESEL, nieprowadzący działalności gospodarczej lub niebędący zarejestrowanymi podatnikami podatku od towarów i usług.\nIdentyfikator podatkowy NIP wpisują pozostali podatnicy."]
[{"$f":"$A$2","v":9},"2)","Numer obrębu należy podać wraz z numerem arkusza mapy ewidencyjnej w przypadku, gdy działki numerowane są w ramach arkusza mapy."]
[9,"3)","Należy podać z dokładnością do czterech miejsc po przecinku."]
[9,"4)","Należy podać jedną z form władania: własność, użytkowanie wieczyste, posiadanie samoistne, posiadanie zależne lub posiadanie bez tytułu prawnego."]
[{"$f":"$A$8","v":16.5},null,{"$f":"'DL-1'!M10&\".\"&'DL-1'!Q24&Wersja","v":"2023..1.15.0.44867"},null,null,null,null,null,null,null,null,null,null,"ZDL-1(1)","1/2"]
[{"$f":"$A$2","v":9}]
[9,"WYPEŁNIĆ DUŻYMI, DRUKOWANYMI LITERAMI, CZARNYM LUB NIEBIESKIM KOLOREM."]
[4.5]
[{"$f":"$A$8","v":16.5},"B.2.  LASY WCHODZĄCE W SKŁAD REZERWATÓW PRZYRODY I PARKÓW NARODOWYCH"]
[{"$f":"$A$8*1.5","v":24.75},"Lp.","Położenie (adres, w tym dzielnica)",null,null,null,null,"Nr księgi wieczystej\n(zbioru dokumentów)","Nr obrębu\n(arkusza mapy)2)","Nr działki","Powierzchnia w ha3)","Forma władania5)"]
[{"$f":"$A$2","v":9},null,"a",null,null,null,null,"b","c","d","e","f"]
[{"$f":"$A$6","v":19.5},1,null,null,null,null,null,null,null,null,null,null,null,null,null,"b"]
[19.5,2,null,null,null,null,null,null,null,null,null,null,null,null,null,"b"]
[19.5,3,null,null,null,null,null,null,null,null,null,null,null,null,null,"b"]
[19.5,4,null,null,null,null,null,null,null,null,null,null,null,null,null,"b"]
[19.5,5,null,null,null,null,null,null,null,null,null,null,null,null,null,"b"]
[19.5,6,null,null,null,null,null,null,null,null,null,null,null,null,null,"b"]
[19.5,7,null,null,null,null,null,null,null,null,null,null,null,null,null,"b"]
[19.5,8,null,null,null,null,null,null,null,null,null,null,null,null,null,"b"]
[{"$f":"$A$2","v":9}]
[9]
[9]
[9]
[9]
[9]
[9]
[9]
[9]
[9]
[9]
[9]
[9]
[9]
[9]
[9]
[9]
[9]
[9]
[9]
[9]
[9]
[9]
[9]
[9]
[9]
[9]
[9]
[9]
[9]
[{"$f":"$A$8","v":16.5},null,"ZDL-1(1)","2/2",null,null,null,null,null,null,null,null,{"$f":"'DL-1'!M10&\".\"&'DL-1'!Q24&Wersja","v":"2023..1.15.0.44867"}]
[9,"Załącznik nr 6"]
[{"$f":"$A$2","v":9},"WYPEŁNIĆ DUŻYMI, DRUKOWANYMI LITERAMI, CZARNYM LUB NIEBIESKIM KOLOREM."]
[4.5]
[{"$f":"$A$2","v":9},"1. Identyfikator podatkowy NIP/numer PESEL (niepotrzebne skreślić)1)\n└────┴────┴────┴────┴────┴────┴────┴────┴────┴────┴────┘",null,null,null,null,null,null,"2.  Nr dokumentu"]
[19.5,null,{"$f":"$C$6","v":0}]
[{"$f":"$A$2","v":9}]
[16.5,"ZDL-1"]
[{"$f":"$A$8","v":16.5},"ZAŁĄCZNIK DO DEKLARACJI NA PODATEK LEŚNY"]
[{"$f":"$A$8","v":16.5},"- DANE O PRZEDMIOTACH OPODATKOWANIA PODLEGAJĄCYCH OPODATKOWANIU"]
[{"$f":"$A$2","v":9},null,null,null,null,null,null,null,null,null,null,null,null,"3. Nr załącznika"]
[{"$f":"$A$6","v":19.5},null,null,null,null,null,null,null,null,null,null,null,null,{"$f":"N1292+1","v":18},null,{"$f":"SUM(Q:Q)","v":0},{"$f":"IF(COUNTA(C1383:O1390,C1403:O1410)=0,0,1)","v":0}]
[{"$f":"$A$4","v":4.5}]
[{"$f":"$A$4","v":4.5}]
[{"$f":"$A$8*1.5","v":24.75},"A.  DANE PODATNIKA WSKAZANEGO W CZĘŚCI C.1 DEKLARACJI DL-1\n* - dotyczy podatnika niebędącego osobą fizyczną               ** - dotyczy podatnika będącego osobą fizyczną"]
[{"$f":"$A$2","v":9},null,"4. Nazwa pełna * / Nazwisko **",null,null,null,null,null,"5. Nazwa skrócona * / Pierwsze imię **"]
[{"$f":"$A$6","v":19.5},null,{"$f":"\"\"&$C$17","v":""},null,null,null,null,null,{"$f":"\"\"&$I$17","v":""}]
[{"$f":"$A$4","v":4.5}]
[{"$f":"$A$8","v":16.5},"B.  DANE O POSZCZEGÓLNYCH PRZEDMIOTACH OPODATKOWANIA PODLEGAJĄCYCH OPODATKOWANIU"]
[16.5,"B.1.  LASY (z wyjątkiem lasów wchodzących w skład rezerwatów przyrody i parków narodowych)"]
[{"$f":"$A$8*1.5","v":24.75},"Lp.","Położenie (adres, w tym dzielnica)",null,null,null,null,"Nr księgi wieczystej\n(zbioru dokumentów)","Nr obrębu\n(arkusza mapy)2)","Nr działki","Powierzchnia w ha3)","Forma władania5)"]
[{"$f":"$A$2","v":9},null,"a",null,null,null,null,"b","c","d","e","f"]
[{"$f":"$A$6","v":19.5},1,null,null,null,null,null,null,null,null,null,null,null,null,null,"a"]
[19.5,2,null,null,null,null,null,null,null,null,null,null,null,null,null,"a"]
[19.5,3,null,null,null,null,null,null,null,null,null,null,null,null,null,"a"]
[19.5,4,null,null,null,null,null,null,null,null,null,null,null,null,null,"a"]
[19.5,5,null,null,null,null,null,null,null,null,null,null,null,null,null,"a"]
[19.5,6,null,null,null,null,null,null,null,null,null,null,null,null,null,"a"]
[19.5,7,null,null,null,null,null,null,null,null,null,null,null,null,null,"a"]
[19.5,8,null,null,null,null,null,null,null,null,null,null,null,null,null,"a"]
[{"$f":"$A$2","v":9}]
[{"$f":"$A$2*2","v":18},"1)","Numer PESEL wpisują podatnicy będący osobami fizycznymi objętymi rejestrem PESEL, nieprowadzący działalności gospodarczej lub niebędący zarejestrowanymi podatnikami podatku od towarów i usług.\nIdentyfikator podatkowy NIP wpisują pozostali podatnicy."]
[{"$f":"$A$2","v":9},"2)","Numer obrębu należy podać wraz z numerem arkusza mapy ewidencyjnej w przypadku, gdy działki numerowane są w ramach arkusza mapy."]
[9,"3)","Należy podać z dokładnością do czterech miejsc po przecinku."]
[9,"4)","Należy podać jedną z form władania: własność, użytkowanie wieczyste, posiadanie samoistne, posiadanie zależne lub posiadanie bez tytułu prawnego."]
[{"$f":"$A$8","v":16.5},null,{"$f":"'DL-1'!M10&\".\"&'DL-1'!Q24&Wersja","v":"2023..1.15.0.44867"},null,null,null,null,null,null,null,null,null,null,"ZDL-1(1)","1/2"]
[{"$f":"$A$2","v":9}]
[9,"WYPEŁNIĆ DUŻYMI, DRUKOWANYMI LITERAMI, CZARNYM LUB NIEBIESKIM KOLOREM."]
[4.5]
[{"$f":"$A$8","v":16.5},"B.2.  LASY WCHODZĄCE W SKŁAD REZERWATÓW PRZYRODY I PARKÓW NARODOWYCH"]
[{"$f":"$A$8*1.5","v":24.75},"Lp.","Położenie (adres, w tym dzielnica)",null,null,null,null,"Nr księgi wieczystej\n(zbioru dokumentów)","Nr obrębu\n(arkusza mapy)2)","Nr działki","Powierzchnia w ha3)","Forma władania5)"]
[{"$f":"$A$2","v":9},null,"a",null,null,null,null,"b","c","d","e","f"]
[{"$f":"$A$6","v":19.5},1,null,null,null,null,null,null,null,null,null,null,null,null,null,"b"]
[19.5,2,null,null,null,null,null,null,null,null,null,null,null,null,null,"b"]
[19.5,3,null,null,null,null,null,null,null,null,null,null,null,null,null,"b"]
[19.5,4,null,null,null,null,null,null,null,null,null,null,null,null,null,"b"]
[19.5,5,null,null,null,null,null,null,null,null,null,null,null,null,null,"b"]
[19.5,6,null,null,null,null,null,null,null,null,null,null,null,null,null,"b"]
[19.5,7,null,null,null,null,null,null,null,null,null,null,null,null,null,"b"]
[19.5,8,null,null,null,null,null,null,null,null,null,null,null,null,null,"b"]
[{"$f":"$A$2","v":9}]
[9]
[9]
[9]
[9]
[9]
[9]
[9]
[9]
[9]
[9]
[9]
[9]
[9]
[9]
[9]
[9]
[9]
[9]
[9]
[9]
[9]
[9]
[9]
[9]
[9]
[9]
[9]
[9]
[9]
[{"$f":"$A$8","v":16.5},null,"ZDL-1(1)","2/2",null,null,null,null,null,null,null,null,{"$f":"'DL-1'!M10&\".\"&'DL-1'!Q24&Wersja","v":"2023..1.15.0.44867"}]
[9,"Załącznik nr 6"]
[{"$f":"$A$2","v":9},"WYPEŁNIĆ DUŻYMI, DRUKOWANYMI LITERAMI, CZARNYM LUB NIEBIESKIM KOLOREM."]
[4.5]
[{"$f":"$A$2","v":9},"1. Identyfikator podatkowy NIP/numer PESEL (niepotrzebne skreślić)1)\n└────┴────┴────┴────┴────┴────┴────┴────┴────┴────┴────┘",null,null,null,null,null,null,"2.  Nr dokumentu"]
[19.5,null,{"$f":"$C$6","v":0}]
[{"$f":"$A$2","v":9}]
[16.5,"ZDL-1"]
[{"$f":"$A$8","v":16.5},"ZAŁĄCZNIK DO DEKLARACJI NA PODATEK LEŚNY"]
[{"$f":"$A$8","v":16.5},"- DANE O PRZEDMIOTACH OPODATKOWANIA PODLEGAJĄCYCH OPODATKOWANIU"]
[{"$f":"$A$2","v":9},null,null,null,null,null,null,null,null,null,null,null,null,"3. Nr załącznika"]
[{"$f":"$A$6","v":19.5},null,null,null,null,null,null,null,null,null,null,null,null,{"$f":"N1372+1","v":19},null,{"$f":"SUM(Q:Q)","v":0},{"$f":"IF(COUNTA(C1463:O1470,C1483:O1490)=0,0,1)","v":0}]
[{"$f":"$A$4","v":4.5}]
[{"$f":"$A$4","v":4.5}]
[{"$f":"$A$8*1.5","v":24.75},"A.  DANE PODATNIKA WSKAZANEGO W CZĘŚCI C.1 DEKLARACJI DL-1\n* - dotyczy podatnika niebędącego osobą fizyczną               ** - dotyczy podatnika będącego osobą fizyczną"]
[{"$f":"$A$2","v":9},null,"4. Nazwa pełna * / Nazwisko **",null,null,null,null,null,"5. Nazwa skrócona * / Pierwsze imię **"]
[{"$f":"$A$6","v":19.5},null,{"$f":"\"\"&$C$17","v":""},null,null,null,null,null,{"$f":"\"\"&$I$17","v":""}]
[{"$f":"$A$4","v":4.5}]
[{"$f":"$A$8","v":16.5},"B.  DANE O POSZCZEGÓLNYCH PRZEDMIOTACH OPODATKOWANIA PODLEGAJĄCYCH OPODATKOWANIU"]
[16.5,"B.1.  LASY (z wyjątkiem lasów wchodzących w skład rezerwatów przyrody i parków narodowych)"]
[{"$f":"$A$8*1.5","v":24.75},"Lp.","Położenie (adres, w tym dzielnica)",null,null,null,null,"Nr księgi wieczystej\n(zbioru dokumentów)","Nr obrębu\n(arkusza mapy)2)","Nr działki","Powierzchnia w ha3)","Forma władania5)"]
[{"$f":"$A$2","v":9},null,"a",null,null,null,null,"b","c","d","e","f"]
[{"$f":"$A$6","v":19.5},1,null,null,null,null,null,null,null,null,null,null,null,null,null,"a"]
[19.5,2,null,null,null,null,null,null,null,null,null,null,null,null,null,"a"]
[19.5,3,null,null,null,null,null,null,null,null,null,null,null,null,null,"a"]
[19.5,4,null,null,null,null,null,null,null,null,null,null,null,null,null,"a"]
[19.5,5,null,null,null,null,null,null,null,null,null,null,null,null,null,"a"]
[19.5,6,null,null,null,null,null,null,null,null,null,null,null,null,null,"a"]
[19.5,7,null,null,null,null,null,null,null,null,null,null,null,null,null,"a"]
[19.5,8,null,null,null,null,null,null,null,null,null,null,null,null,null,"a"]
[{"$f":"$A$2","v":9}]
[{"$f":"$A$2*2","v":18},"1)","Numer PESEL wpisują podatnicy będący osobami fizycznymi objętymi rejestrem PESEL, nieprowadzący działalności gospodarczej lub niebędący zarejestrowanymi podatnikami podatku od towarów i usług.\nIdentyfikator podatkowy NIP wpisują pozostali podatnicy."]
[{"$f":"$A$2","v":9},"2)","Numer obrębu należy podać wraz z numerem arkusza mapy ewidencyjnej w przypadku, gdy działki numerowane są w ramach arkusza mapy."]
[9,"3)","Należy podać z dokładnością do czterech miejsc po przecinku."]
[9,"4)","Należy podać jedną z form władania: własność, użytkowanie wieczyste, posiadanie samoistne, posiadanie zależne lub posiadanie bez tytułu prawnego."]
[{"$f":"$A$8","v":16.5},null,{"$f":"'DL-1'!M10&\".\"&'DL-1'!Q24&Wersja","v":"2023..1.15.0.44867"},null,null,null,null,null,null,null,null,null,null,"ZDL-1(1)","1/2"]
[{"$f":"$A$2","v":9}]
[9,"WYPEŁNIĆ DUŻYMI, DRUKOWANYMI LITERAMI, CZARNYM LUB NIEBIESKIM KOLOREM."]
[4.5]
[{"$f":"$A$8","v":16.5},"B.2.  LASY WCHODZĄCE W SKŁAD REZERWATÓW PRZYRODY I PARKÓW NARODOWYCH"]
[{"$f":"$A$8*1.5","v":24.75},"Lp.","Położenie (adres, w tym dzielnica)",null,null,null,null,"Nr księgi wieczystej\n(zbioru dokumentów)","Nr obrębu\n(arkusza mapy)2)","Nr działki","Powierzchnia w ha3)","Forma władania5)"]
[{"$f":"$A$2","v":9},null,"a",null,null,null,null,"b","c","d","e","f"]
[{"$f":"$A$6","v":19.5},1,null,null,null,null,null,null,null,null,null,null,null,null,null,"b"]
[19.5,2,null,null,null,null,null,null,null,null,null,null,null,null,null,"b"]
[19.5,3,null,null,null,null,null,null,null,null,null,null,null,null,null,"b"]
[19.5,4,null,null,null,null,null,null,null,null,null,null,null,null,null,"b"]
[19.5,5,null,null,null,null,null,null,null,null,null,null,null,null,null,"b"]
[19.5,6,null,null,null,null,null,null,null,null,null,null,null,null,null,"b"]
[19.5,7,null,null,null,null,null,null,null,null,null,null,null,null,null,"b"]
[19.5,8,null,null,null,null,null,null,null,null,null,null,null,null,null,"b"]
[{"$f":"$A$2","v":9}]
[9]
[9]
[9]
[9]
[9]
[9]
[9]
[9]
[9]
[9]
[9]
[9]
[9]
[9]
[9]
[9]
[9]
[9]
[9]
[9]
[9]
[9]
[9]
[9]
[9]
[9]
[9]
[9]
[9]
[{"$f":"$A$8","v":16.5},null,"ZDL-1(1)","2/2",null,null,null,null,null,null,null,null,{"$f":"'DL-1'!M10&\".\"&'DL-1'!Q24&Wersja","v":"2023..1.15.0.44867"}]
[9,"Załącznik nr 6"]
[{"$f":"$A$2","v":9},"WYPEŁNIĆ DUŻYMI, DRUKOWANYMI LITERAMI, CZARNYM LUB NIEBIESKIM KOLOREM."]
[4.5]
[{"$f":"$A$2","v":9},"1. Identyfikator podatkowy NIP/numer PESEL (niepotrzebne skreślić)1)\n└────┴────┴────┴────┴────┴────┴────┴────┴────┴────┴────┘",null,null,null,null,null,null,"2.  Nr dokumentu"]
[19.5,null,{"$f":"$C$6","v":0}]
[{"$f":"$A$2","v":9}]
[16.5,"ZDL-1"]
[{"$f":"$A$8","v":16.5},"ZAŁĄCZNIK DO DEKLARACJI NA PODATEK LEŚNY"]
[{"$f":"$A$8","v":16.5},"- DANE O PRZEDMIOTACH OPODATKOWANIA PODLEGAJĄCYCH OPODATKOWANIU"]
[{"$f":"$A$2","v":9},null,null,null,null,null,null,null,null,null,null,null,null,"3. Nr załącznika"]
[{"$f":"$A$6","v":19.5},null,null,null,null,null,null,null,null,null,null,null,null,{"$f":"N1452+1","v":20},null,{"$f":"SUM(Q:Q)","v":0},{"$f":"IF(COUNTA(C1543:O1550,C1563:O1570)=0,0,1)","v":0}]
[{"$f":"$A$4","v":4.5}]
[{"$f":"$A$4","v":4.5}]
[{"$f":"$A$8*1.5","v":24.75},"A.  DANE PODATNIKA WSKAZANEGO W CZĘŚCI C.1 DEKLARACJI DL-1\n* - dotyczy podatnika niebędącego osobą fizyczną               ** - dotyczy podatnika będącego osobą fizyczną"]
[{"$f":"$A$2","v":9},null,"4. Nazwa pełna * / Nazwisko **",null,null,null,null,null,"5. Nazwa skrócona * / Pierwsze imię **"]
[{"$f":"$A$6","v":19.5},null,{"$f":"\"\"&$C$17","v":""},null,null,null,null,null,{"$f":"\"\"&$I$17","v":""}]
[{"$f":"$A$4","v":4.5}]
[{"$f":"$A$8","v":16.5},"B.  DANE O POSZCZEGÓLNYCH PRZEDMIOTACH OPODATKOWANIA PODLEGAJĄCYCH OPODATKOWANIU"]
[16.5,"B.1.  LASY (z wyjątkiem lasów wchodzących w skład rezerwatów przyrody i parków narodowych)"]
[{"$f":"$A$8*1.5","v":24.75},"Lp.","Położenie (adres, w tym dzielnica)",null,null,null,null,"Nr księgi wieczystej\n(zbioru dokumentów)","Nr obrębu\n(arkusza mapy)2)","Nr działki","Powierzchnia w ha3)","Forma władania5)"]
[{"$f":"$A$2","v":9},null,"a",null,null,null,null,"b","c","d","e","f"]
[{"$f":"$A$6","v":19.5},1,null,null,null,null,null,null,null,null,null,null,null,null,null,"a"]
[19.5,2,null,null,null,null,null,null,null,null,null,null,null,null,null,"a"]
[19.5,3,null,null,null,null,null,null,null,null,null,null,null,null,null,"a"]
[19.5,4,null,null,null,null,null,null,null,null,null,null,null,null,null,"a"]
[19.5,5,null,null,null,null,null,null,null,null,null,null,null,null,null,"a"]
[19.5,6,null,null,null,null,null,null,null,null,null,null,null,null,null,"a"]
[19.5,7,null,null,null,null,null,null,null,null,null,null,null,null,null,"a"]
[19.5,8,null,null,null,null,null,null,null,null,null,null,null,null,null,"a"]
[{"$f":"$A$2","v":9}]
[{"$f":"$A$2*2","v":18},"1)","Numer PESEL wpisują podatnicy będący osobami fizycznymi objętymi rejestrem PESEL, nieprowadzący działalności gospodarczej lub niebędący zarejestrowanymi podatnikami podatku od towarów i usług.\nIdentyfikator podatkowy NIP wpisują pozostali podatnicy."]
[{"$f":"$A$2","v":9},"2)","Numer obrębu należy podać wraz z numerem arkusza mapy ewidencyjnej w przypadku, gdy działki numerowane są w ramach arkusza mapy."]
[9,"3)","Należy podać z dokładnością do czterech miejsc po przecinku."]
[9,"4)","Należy podać jedną z form władania: własność, użytkowanie wieczyste, posiadanie samoistne, posiadanie zależne lub posiadanie bez tytułu prawnego."]
[{"$f":"$A$8","v":16.5},null,{"$f":"'DL-1'!M10&\".\"&'DL-1'!Q24&Wersja","v":"2023..1.15.0.44867"},null,null,null,null,null,null,null,null,null,null,"ZDL-1(1)","1/2"]
[{"$f":"$A$2","v":9}]
[9,"WYPEŁNIĆ DUŻYMI, DRUKOWANYMI LITERAMI, CZARNYM LUB NIEBIESKIM KOLOREM."]
[4.5]
[{"$f":"$A$8","v":16.5},"B.2.  LASY WCHODZĄCE W SKŁAD REZERWATÓW PRZYRODY I PARKÓW NARODOWYCH"]
[{"$f":"$A$8*1.5","v":24.75},"Lp.","Położenie (adres, w tym dzielnica)",null,null,null,null,"Nr księgi wieczystej\n(zbioru dokumentów)","Nr obrębu\n(arkusza mapy)2)","Nr działki","Powierzchnia w ha3)","Forma władania5)"]
[{"$f":"$A$2","v":9},null,"a",null,null,null,null,"b","c","d","e","f"]
[{"$f":"$A$6","v":19.5},1,null,null,null,null,null,null,null,null,null,null,null,null,null,"b"]
[19.5,2,null,null,null,null,null,null,null,null,null,null,null,null,null,"b"]
[19.5,3,null,null,null,null,null,null,null,null,null,null,null,null,null,"b"]
[19.5,4,null,null,null,null,null,null,null,null,null,null,null,null,null,"b"]
[19.5,5,null,null,null,null,null,null,null,null,null,null,null,null,null,"b"]
[19.5,6,null,null,null,null,null,null,null,null,null,null,null,null,null,"b"]
[19.5,7,null,null,null,null,null,null,null,null,null,null,null,null,null,"b"]
[19.5,8,null,null,null,null,null,null,null,null,null,null,null,null,null,"b"]
[{"$f":"$A$2","v":9}]
[9]
[9]
[9]
[9]
[9]
[9]
[9]
[9]
[9]
[9]
[9]
[9]
[9]
[9]
[9]
[9]
[9]
[9]
[9]
[9]
[9]
[9]
[9]
[9]
[9]
[9]
[9]
[9]
[9]
[{"$f":"$A$8","v":16.5},null,"ZDL-1(1)","2/2",null,null,null,null,null,null,null,null,{"$f":"'DL-1'!M10&\".\"&'DL-1'!Q24&Wersja","v":"2023..1.15.0.44867"}]
[9,"Załącznik nr 6"]
[{"$f":"$A$2","v":9},"WYPEŁNIĆ DUŻYMI, DRUKOWANYMI LITERAMI, CZARNYM LUB NIEBIESKIM KOLOREM."]
[4.5]
[{"$f":"$A$2","v":9},"1. Identyfikator podatkowy NIP/numer PESEL (niepotrzebne skreślić)1)\n└────┴────┴────┴────┴────┴────┴────┴────┴────┴────┴────┘",null,null,null,null,null,null,"2.  Nr dokumentu"]
[19.5,null,{"$f":"$C$6","v":0}]
[{"$f":"$A$2","v":9}]
[16.5,"ZDL-1"]
[{"$f":"$A$8","v":16.5},"ZAŁĄCZNIK DO DEKLARACJI NA PODATEK LEŚNY"]
[{"$f":"$A$8","v":16.5},"- DANE O PRZEDMIOTACH OPODATKOWANIA PODLEGAJĄCYCH OPODATKOWANIU"]
[{"$f":"$A$2","v":9},null,null,null,null,null,null,null,null,null,null,null,null,"3. Nr załącznika"]
[{"$f":"$A$6","v":19.5},null,null,null,null,null,null,null,null,null,null,null,null,{"$f":"N1532+1","v":21},null,{"$f":"SUM(Q:Q)","v":0},{"$f":"IF(COUNTA(C1623:O1630,C1643:O1650)=0,0,1)","v":0}]
[{"$f":"$A$4","v":4.5}]
[{"$f":"$A$4","v":4.5}]
[{"$f":"$A$8*1.5","v":24.75},"A.  DANE PODATNIKA WSKAZANEGO W CZĘŚCI C.1 DEKLARACJI DL-1\n* - dotyczy podatnika niebędącego osobą fizyczną               ** - dotyczy podatnika będącego osobą fizyczną"]
[{"$f":"$A$2","v":9},null,"4. Nazwa pełna * / Nazwisko **",null,null,null,null,null,"5. Nazwa skrócona * / Pierwsze imię **"]
[{"$f":"$A$6","v":19.5},null,{"$f":"\"\"&$C$17","v":""},null,null,null,null,null,{"$f":"\"\"&$I$17","v":""}]
[{"$f":"$A$4","v":4.5}]
[{"$f":"$A$8","v":16.5},"B.  DANE O POSZCZEGÓLNYCH PRZEDMIOTACH OPODATKOWANIA PODLEGAJĄCYCH OPODATKOWANIU"]
[16.5,"B.1.  LASY (z wyjątkiem lasów wchodzących w skład rezerwatów przyrody i parków narodowych)"]
[{"$f":"$A$8*1.5","v":24.75},"Lp.","Położenie (adres, w tym dzielnica)",null,null,null,null,"Nr księgi wieczystej\n(zbioru dokumentów)","Nr obrębu\n(arkusza mapy)2)","Nr działki","Powierzchnia w ha3)","Forma władania5)"]
[{"$f":"$A$2","v":9},null,"a",null,null,null,null,"b","c","d","e","f"]
[{"$f":"$A$6","v":19.5},1,null,null,null,null,null,null,null,null,null,null,null,null,null,"a"]
[19.5,2,null,null,null,null,null,null,null,null,null,null,null,null,null,"a"]
[19.5,3,null,null,null,null,null,null,null,null,null,null,null,null,null,"a"]
[19.5,4,null,null,null,null,null,null,null,null,null,null,null,null,null,"a"]
[19.5,5,null,null,null,null,null,null,null,null,null,null,null,null,null,"a"]
[19.5,6,null,null,null,null,null,null,null,null,null,null,null,null,null,"a"]
[19.5,7,null,null,null,null,null,null,null,null,null,null,null,null,null,"a"]
[19.5,8,null,null,null,null,null,null,null,null,null,null,null,null,null,"a"]
[{"$f":"$A$2","v":9}]
[{"$f":"$A$2*2","v":18},"1)","Numer PESEL wpisują podatnicy będący osobami fizycznymi objętymi rejestrem PESEL, nieprowadzący działalności gospodarczej lub niebędący zarejestrowanymi podatnikami podatku od towarów i usług.\nIdentyfikator podatkowy NIP wpisują pozostali podatnicy."]
[{"$f":"$A$2","v":9},"2)","Numer obrębu należy podać wraz z numerem arkusza mapy ewidencyjnej w przypadku, gdy działki numerowane są w ramach arkusza mapy."]
[9,"3)","Należy podać z dokładnością do czterech miejsc po przecinku."]
[9,"4)","Należy podać jedną z form władania: własność, użytkowanie wieczyste, posiadanie samoistne, posiadanie zależne lub posiadanie bez tytułu prawnego."]
[{"$f":"$A$8","v":16.5},null,{"$f":"'DL-1'!M10&\".\"&'DL-1'!Q24&Wersja","v":"2023..1.15.0.44867"},null,null,null,null,null,null,null,null,null,null,"ZDL-1(1)","1/2"]
[{"$f":"$A$2","v":9}]
[9,"WYPEŁNIĆ DUŻYMI, DRUKOWANYMI LITERAMI, CZARNYM LUB NIEBIESKIM KOLOREM."]
[4.5]
[{"$f":"$A$8","v":16.5},"B.2.  LASY WCHODZĄCE W SKŁAD REZERWATÓW PRZYRODY I PARKÓW NARODOWYCH"]
[{"$f":"$A$8*1.5","v":24.75},"Lp.","Położenie (adres, w tym dzielnica)",null,null,null,null,"Nr księgi wieczystej\n(zbioru dokumentów)","Nr obrębu\n(arkusza mapy)2)","Nr działki","Powierzchnia w ha3)","Forma władania5)"]
[{"$f":"$A$2","v":9},null,"a",null,null,null,null,"b","c","d","e","f"]
[{"$f":"$A$6","v":19.5},1,null,null,null,null,null,null,null,null,null,null,null,null,null,"b"]
[19.5,2,null,null,null,null,null,null,null,null,null,null,null,null,null,"b"]
[19.5,3,null,null,null,null,null,null,null,null,null,null,null,null,null,"b"]
[19.5,4,null,null,null,null,null,null,null,null,null,null,null,null,null,"b"]
[19.5,5,null,null,null,null,null,null,null,null,null,null,null,null,null,"b"]
[19.5,6,null,null,null,null,null,null,null,null,null,null,null,null,null,"b"]
[19.5,7,null,null,null,null,null,null,null,null,null,null,null,null,null,"b"]
[19.5,8,null,null,null,null,null,null,null,null,null,null,null,null,null,"b"]
[{"$f":"$A$2","v":9}]
[9]
[9]
[9]
[9]
[9]
[9]
[9]
[9]
[9]
[9]
[9]
[9]
[9]
[9]
[9]
[9]
[9]
[9]
[9]
[9]
[9]
[9]
[9]
[9]
[9]
[9]
[9]
[9]
[9]
[{"$f":"$A$8","v":16.5},null,"ZDL-1(1)","2/2",null,null,null,null,null,null,null,null,{"$f":"'DL-1'!M10&\".\"&'DL-1'!Q24&Wersja","v":"2023..1.15.0.44867"}]
[9,"Załącznik nr 6"]
[{"$f":"$A$2","v":9},"WYPEŁNIĆ DUŻYMI, DRUKOWANYMI LITERAMI, CZARNYM LUB NIEBIESKIM KOLOREM."]
[4.5]
[{"$f":"$A$2","v":9},"1. Identyfikator podatkowy NIP/numer PESEL (niepotrzebne skreślić)1)\n└────┴────┴────┴────┴────┴────┴────┴────┴────┴────┴────┘",null,null,null,null,null,null,"2.  Nr dokumentu"]
[19.5,null,{"$f":"$C$6","v":0}]
[{"$f":"$A$2","v":9}]
[16.5,"ZDL-1"]
[{"$f":"$A$8","v":16.5},"ZAŁĄCZNIK DO DEKLARACJI NA PODATEK LEŚNY"]
[{"$f":"$A$8","v":16.5},"- DANE O PRZEDMIOTACH OPODATKOWANIA PODLEGAJĄCYCH OPODATKOWANIU"]
[{"$f":"$A$2","v":9},null,null,null,null,null,null,null,null,null,null,null,null,"3. Nr załącznika"]
[{"$f":"$A$6","v":19.5},null,null,null,null,null,null,null,null,null,null,null,null,{"$f":"N1612+1","v":22},null,{"$f":"SUM(Q:Q)","v":0},{"$f":"IF(COUNTA(C1703:O1710,C1723:O1730)=0,0,1)","v":0}]
[{"$f":"$A$4","v":4.5}]
[{"$f":"$A$4","v":4.5}]
[{"$f":"$A$8*1.5","v":24.75},"A.  DANE PODATNIKA WSKAZANEGO W CZĘŚCI C.1 DEKLARACJI DL-1\n* - dotyczy podatnika niebędącego osobą fizyczną               ** - dotyczy podatnika będącego osobą fizyczną"]
[{"$f":"$A$2","v":9},null,"4. Nazwa pełna * / Nazwisko **",null,null,null,null,null,"5. Nazwa skrócona * / Pierwsze imię **"]
[{"$f":"$A$6","v":19.5},null,{"$f":"\"\"&$C$17","v":""},null,null,null,null,null,{"$f":"\"\"&$I$17","v":""}]
[{"$f":"$A$4","v":4.5}]
[{"$f":"$A$8","v":16.5},"B.  DANE O POSZCZEGÓLNYCH PRZEDMIOTACH OPODATKOWANIA PODLEGAJĄCYCH OPODATKOWANIU"]
[16.5,"B.1.  LASY (z wyjątkiem lasów wchodzących w skład rezerwatów przyrody i parków narodowych)"]
[{"$f":"$A$8*1.5","v":24.75},"Lp.","Położenie (adres, w tym dzielnica)",null,null,null,null,"Nr księgi wieczystej\n(zbioru dokumentów)","Nr obrębu\n(arkusza mapy)2)","Nr działki","Powierzchnia w ha3)","Forma władania5)"]
[{"$f":"$A$2","v":9},null,"a",null,null,null,null,"b","c","d","e","f"]
[{"$f":"$A$6","v":19.5},1,null,null,null,null,null,null,null,null,null,null,null,null,null,"a"]
[19.5,2,null,null,null,null,null,null,null,null,null,null,null,null,null,"a"]
[19.5,3,null,null,null,null,null,null,null,null,null,null,null,null,null,"a"]
[19.5,4,null,null,null,null,null,null,null,null,null,null,null,null,null,"a"]
[19.5,5,null,null,null,null,null,null,null,null,null,null,null,null,null,"a"]
[19.5,6,null,null,null,null,null,null,null,null,null,null,null,null,null,"a"]
[19.5,7,null,null,null,null,null,null,null,null,null,null,null,null,null,"a"]
[19.5,8,null,null,null,null,null,null,null,null,null,null,null,null,null,"a"]
[{"$f":"$A$2","v":9}]
[{"$f":"$A$2*2","v":18},"1)","Numer PESEL wpisują podatnicy będący osobami fizycznymi objętymi rejestrem PESEL, nieprowadzący działalności gospodarczej lub niebędący zarejestrowanymi podatnikami podatku od towarów i usług.\nIdentyfikator podatkowy NIP wpisują pozostali podatnicy."]
[{"$f":"$A$2","v":9},"2)","Numer obrębu należy podać wraz z numerem arkusza mapy ewidencyjnej w przypadku, gdy działki numerowane są w ramach arkusza mapy."]
[9,"3)","Należy podać z dokładnością do czterech miejsc po przecinku."]
[9,"4)","Należy podać jedną z form władania: własność, użytkowanie wieczyste, posiadanie samoistne, posiadanie zależne lub posiadanie bez tytułu prawnego."]
[{"$f":"$A$8","v":16.5},null,{"$f":"'DL-1'!M10&\".\"&'DL-1'!Q24&Wersja","v":"2023..1.15.0.44867"},null,null,null,null,null,null,null,null,null,null,"ZDL-1(1)","1/2"]
[{"$f":"$A$2","v":9}]
[9,"WYPEŁNIĆ DUŻYMI, DRUKOWANYMI LITERAMI, CZARNYM LUB NIEBIESKIM KOLOREM."]
[4.5]
[{"$f":"$A$8","v":16.5},"B.2.  LASY WCHODZĄCE W SKŁAD REZERWATÓW PRZYRODY I PARKÓW NARODOWYCH"]
[{"$f":"$A$8*1.5","v":24.75},"Lp.","Położenie (adres, w tym dzielnica)",null,null,null,null,"Nr księgi wieczystej\n(zbioru dokumentów)","Nr obrębu\n(arkusza mapy)2)","Nr działki","Powierzchnia w ha3)","Forma władania5)"]
[{"$f":"$A$2","v":9},null,"a",null,null,null,null,"b","c","d","e","f"]
[{"$f":"$A$6","v":19.5},1,null,null,null,null,null,null,null,null,null,null,null,null,null,"b"]
[19.5,2,null,null,null,null,null,null,null,null,null,null,null,null,null,"b"]
[19.5,3,null,null,null,null,null,null,null,null,null,null,null,null,null,"b"]
[19.5,4,null,null,null,null,null,null,null,null,null,null,null,null,null,"b"]
[19.5,5,null,null,null,null,null,null,null,null,null,null,null,null,null,"b"]
[19.5,6,null,null,null,null,null,null,null,null,null,null,null,null,null,"b"]
[19.5,7,null,null,null,null,null,null,null,null,null,null,null,null,null,"b"]
[19.5,8,null,null,null,null,null,null,null,null,null,null,null,null,null,"b"]
[{"$f":"$A$2","v":9}]
[9]
[9]
[9]
[9]
[9]
[9]
[9]
[9]
[9]
[9]
[9]
[9]
[9]
[9]
[9]
[9]
[9]
[9]
[9]
[9]
[9]
[9]
[9]
[9]
[9]
[9]
[9]
[9]
[9]
[{"$f":"$A$8","v":16.5},null,"ZDL-1(1)","2/2",null,null,null,null,null,null,null,null,{"$f":"'DL-1'!M10&\".\"&'DL-1'!Q24&Wersja","v":"2023..1.15.0.44867"}]
[9,"Załącznik nr 6"]
[{"$f":"$A$2","v":9},"WYPEŁNIĆ DUŻYMI, DRUKOWANYMI LITERAMI, CZARNYM LUB NIEBIESKIM KOLOREM."]
[4.5]
[{"$f":"$A$2","v":9},"1. Identyfikator podatkowy NIP/numer PESEL (niepotrzebne skreślić)1)\n└────┴────┴────┴────┴────┴────┴────┴────┴────┴────┴────┘",null,null,null,null,null,null,"2.  Nr dokumentu"]
[19.5,null,{"$f":"$C$6","v":0}]
[{"$f":"$A$2","v":9}]
[16.5,"ZDL-1"]
[{"$f":"$A$8","v":16.5},"ZAŁĄCZNIK DO DEKLARACJI NA PODATEK LEŚNY"]
[{"$f":"$A$8","v":16.5},"- DANE O PRZEDMIOTACH OPODATKOWANIA PODLEGAJĄCYCH OPODATKOWANIU"]
[{"$f":"$A$2","v":9},null,null,null,null,null,null,null,null,null,null,null,null,"3. Nr załącznika"]
[{"$f":"$A$6","v":19.5},null,null,null,null,null,null,null,null,null,null,null,null,{"$f":"N1692+1","v":23},null,{"$f":"SUM(Q:Q)","v":0},{"$f":"IF(COUNTA(C1783:O1790,C1803:O1810)=0,0,1)","v":0}]
[{"$f":"$A$4","v":4.5}]
[{"$f":"$A$4","v":4.5}]
[{"$f":"$A$8*1.5","v":24.75},"A.  DANE PODATNIKA WSKAZANEGO W CZĘŚCI C.1 DEKLARACJI DL-1\n* - dotyczy podatnika niebędącego osobą fizyczną               ** - dotyczy podatnika będącego osobą fizyczną"]
[{"$f":"$A$2","v":9},null,"4. Nazwa pełna * / Nazwisko **",null,null,null,null,null,"5. Nazwa skrócona * / Pierwsze imię **"]
[{"$f":"$A$6","v":19.5},null,{"$f":"\"\"&$C$17","v":""},null,null,null,null,null,{"$f":"\"\"&$I$17","v":""}]
[{"$f":"$A$4","v":4.5}]
[{"$f":"$A$8","v":16.5},"B.  DANE O POSZCZEGÓLNYCH PRZEDMIOTACH OPODATKOWANIA PODLEGAJĄCYCH OPODATKOWANIU"]
[16.5,"B.1.  LASY (z wyjątkiem lasów wchodzących w skład rezerwatów przyrody i parków narodowych)"]
[{"$f":"$A$8*1.5","v":24.75},"Lp.","Położenie (adres, w tym dzielnica)",null,null,null,null,"Nr księgi wieczystej\n(zbioru dokumentów)","Nr obrębu\n(arkusza mapy)2)","Nr działki","Powierzchnia w ha3)","Forma władania5)"]
[{"$f":"$A$2","v":9},null,"a",null,null,null,null,"b","c","d","e","f"]
[{"$f":"$A$6","v":19.5},1,null,null,null,null,null,null,null,null,null,null,null,null,null,"a"]
[19.5,2,null,null,null,null,null,null,null,null,null,null,null,null,null,"a"]
[19.5,3,null,null,null,null,null,null,null,null,null,null,null,null,null,"a"]
[19.5,4,null,null,null,null,null,null,null,null,null,null,null,null,null,"a"]
[19.5,5,null,null,null,null,null,null,null,null,null,null,null,null,null,"a"]
[19.5,6,null,null,null,null,null,null,null,null,null,null,null,null,null,"a"]
[19.5,7,null,null,null,null,null,null,null,null,null,null,null,null,null,"a"]
[19.5,8,null,null,null,null,null,null,null,null,null,null,null,null,null,"a"]
[{"$f":"$A$2","v":9}]
[{"$f":"$A$2*2","v":18},"1)","Numer PESEL wpisują podatnicy będący osobami fizycznymi objętymi rejestrem PESEL, nieprowadzący działalności gospodarczej lub niebędący zarejestrowanymi podatnikami podatku od towarów i usług.\nIdentyfikator podatkowy NIP wpisują pozostali podatnicy."]
[{"$f":"$A$2","v":9},"2)","Numer obrębu należy podać wraz z numerem arkusza mapy ewidencyjnej w przypadku, gdy działki numerowane są w ramach arkusza mapy."]
[9,"3)","Należy podać z dokładnością do czterech miejsc po przecinku."]
[9,"4)","Należy podać jedną z form władania: własność, użytkowanie wieczyste, posiadanie samoistne, posiadanie zależne lub posiadanie bez tytułu prawnego."]
[{"$f":"$A$8","v":16.5},null,{"$f":"'DL-1'!M10&\".\"&'DL-1'!Q24&Wersja","v":"2023..1.15.0.44867"},null,null,null,null,null,null,null,null,null,null,"ZDL-1(1)","1/2"]
[{"$f":"$A$2","v":9}]
[9,"WYPEŁNIĆ DUŻYMI, DRUKOWANYMI LITERAMI, CZARNYM LUB NIEBIESKIM KOLOREM."]
[4.5]
[{"$f":"$A$8","v":16.5},"B.2.  LASY WCHODZĄCE W SKŁAD REZERWATÓW PRZYRODY I PARKÓW NARODOWYCH"]
[{"$f":"$A$8*1.5","v":24.75},"Lp.","Położenie (adres, w tym dzielnica)",null,null,null,null,"Nr księgi wieczystej\n(zbioru dokumentów)","Nr obrębu\n(arkusza mapy)2)","Nr działki","Powierzchnia w ha3)","Forma władania5)"]
[{"$f":"$A$2","v":9},null,"a",null,null,null,null,"b","c","d","e","f"]
[{"$f":"$A$6","v":19.5},1,null,null,null,null,null,null,null,null,null,null,null,null,null,"b"]
[19.5,2,null,null,null,null,null,null,null,null,null,null,null,null,null,"b"]
[19.5,3,null,null,null,null,null,null,null,null,null,null,null,null,null,"b"]
[19.5,4,null,null,null,null,null,null,null,null,null,null,null,null,null,"b"]
[19.5,5,null,null,null,null,null,null,null,null,null,null,null,null,null,"b"]
[19.5,6,null,null,null,null,null,null,null,null,null,null,null,null,null,"b"]
[19.5,7,null,null,null,null,null,null,null,null,null,null,null,null,null,"b"]
[19.5,8,null,null,null,null,null,null,null,null,null,null,null,null,null,"b"]
[{"$f":"$A$2","v":9}]
[9]
[9]
[9]
[9]
[9]
[9]
[9]
[9]
[9]
[9]
[9]
[9]
[9]
[9]
[9]
[9]
[9]
[9]
[9]
[9]
[9]
[9]
[9]
[9]
[9]
[9]
[9]
[9]
[9]
[{"$f":"$A$8","v":16.5},null,"ZDL-1(1)","2/2",null,null,null,null,null,null,null,null,{"$f":"'DL-1'!M10&\".\"&'DL-1'!Q24&Wersja","v":"2023..1.15.0.44867"}]
[9,"Załącznik nr 6"]
[{"$f":"$A$2","v":9},"WYPEŁNIĆ DUŻYMI, DRUKOWANYMI LITERAMI, CZARNYM LUB NIEBIESKIM KOLOREM."]
[4.5]
[{"$f":"$A$2","v":9},"1. Identyfikator podatkowy NIP/numer PESEL (niepotrzebne skreślić)1)\n└────┴────┴────┴────┴────┴────┴────┴────┴────┴────┴────┘",null,null,null,null,null,null,"2.  Nr dokumentu"]
[19.5,null,{"$f":"$C$6","v":0}]
[{"$f":"$A$2","v":9}]
[16.5,"ZDL-1"]
[{"$f":"$A$8","v":16.5},"ZAŁĄCZNIK DO DEKLARACJI NA PODATEK LEŚNY"]
[{"$f":"$A$8","v":16.5},"- DANE O PRZEDMIOTACH OPODATKOWANIA PODLEGAJĄCYCH OPODATKOWANIU"]
[{"$f":"$A$2","v":9},null,null,null,null,null,null,null,null,null,null,null,null,"3. Nr załącznika"]
[{"$f":"$A$6","v":19.5},null,null,null,null,null,null,null,null,null,null,null,null,{"$f":"N1772+1","v":24},null,{"$f":"SUM(Q:Q)","v":0},{"$f":"IF(COUNTA(C1863:O1870,C1883:O1890)=0,0,1)","v":0}]
[{"$f":"$A$4","v":4.5}]
[{"$f":"$A$4","v":4.5}]
[{"$f":"$A$8*1.5","v":24.75},"A.  DANE PODATNIKA WSKAZANEGO W CZĘŚCI C.1 DEKLARACJI DL-1\n* - dotyczy podatnika niebędącego osobą fizyczną               ** - dotyczy podatnika będącego osobą fizyczną"]
[{"$f":"$A$2","v":9},null,"4. Nazwa pełna * / Nazwisko **",null,null,null,null,null,"5. Nazwa skrócona * / Pierwsze imię **"]
[{"$f":"$A$6","v":19.5},null,{"$f":"\"\"&$C$17","v":""},null,null,null,null,null,{"$f":"\"\"&$I$17","v":""}]
[{"$f":"$A$4","v":4.5}]
[{"$f":"$A$8","v":16.5},"B.  DANE O POSZCZEGÓLNYCH PRZEDMIOTACH OPODATKOWANIA PODLEGAJĄCYCH OPODATKOWANIU"]
[16.5,"B.1.  LASY (z wyjątkiem lasów wchodzących w skład rezerwatów przyrody i parków narodowych)"]
[{"$f":"$A$8*1.5","v":24.75},"Lp.","Położenie (adres, w tym dzielnica)",null,null,null,null,"Nr księgi wieczystej\n(zbioru dokumentów)","Nr obrębu\n(arkusza mapy)2)","Nr działki","Powierzchnia w ha3)","Forma władania5)"]
[{"$f":"$A$2","v":9},null,"a",null,null,null,null,"b","c","d","e","f"]
[{"$f":"$A$6","v":19.5},1,null,null,null,null,null,null,null,null,null,null,null,null,null,"a"]
[19.5,2,null,null,null,null,null,null,null,null,null,null,null,null,null,"a"]
[19.5,3,null,null,null,null,null,null,null,null,null,null,null,null,null,"a"]
[19.5,4,null,null,null,null,null,null,null,null,null,null,null,null,null,"a"]
[19.5,5,null,null,null,null,null,null,null,null,null,null,null,null,null,"a"]
[19.5,6,null,null,null,null,null,null,null,null,null,null,null,null,null,"a"]
[19.5,7,null,null,null,null,null,null,null,null,null,null,null,null,null,"a"]
[19.5,8,null,null,null,null,null,null,null,null,null,null,null,null,null,"a"]
[{"$f":"$A$2","v":9}]
[{"$f":"$A$2*2","v":18},"1)","Numer PESEL wpisują podatnicy będący osobami fizycznymi objętymi rejestrem PESEL, nieprowadzący działalności gospodarczej lub niebędący zarejestrowanymi podatnikami podatku od towarów i usług.\nIdentyfikator podatkowy NIP wpisują pozostali podatnicy."]
[{"$f":"$A$2","v":9},"2)","Numer obrębu należy podać wraz z numerem arkusza mapy ewidencyjnej w przypadku, gdy działki numerowane są w ramach arkusza mapy."]
[9,"3)","Należy podać z dokładnością do czterech miejsc po przecinku."]
[9,"4)","Należy podać jedną z form władania: własność, użytkowanie wieczyste, posiadanie samoistne, posiadanie zależne lub posiadanie bez tytułu prawnego."]
[{"$f":"$A$8","v":16.5},null,{"$f":"'DL-1'!M10&\".\"&'DL-1'!Q24&Wersja","v":"2023..1.15.0.44867"},null,null,null,null,null,null,null,null,null,null,"ZDL-1(1)","1/2"]
[{"$f":"$A$2","v":9}]
[9,"WYPEŁNIĆ DUŻYMI, DRUKOWANYMI LITERAMI, CZARNYM LUB NIEBIESKIM KOLOREM."]
[4.5]
[{"$f":"$A$8","v":16.5},"B.2.  LASY WCHODZĄCE W SKŁAD REZERWATÓW PRZYRODY I PARKÓW NARODOWYCH"]
[{"$f":"$A$8*1.5","v":24.75},"Lp.","Położenie (adres, w tym dzielnica)",null,null,null,null,"Nr księgi wieczystej\n(zbioru dokumentów)","Nr obrębu\n(arkusza mapy)2)","Nr działki","Powierzchnia w ha3)","Forma władania5)"]
[{"$f":"$A$2","v":9},null,"a",null,null,null,null,"b","c","d","e","f"]
[{"$f":"$A$6","v":19.5},1,null,null,null,null,null,null,null,null,null,null,null,null,null,"b"]
[19.5,2,null,null,null,null,null,null,null,null,null,null,null,null,null,"b"]
[19.5,3,null,null,null,null,null,null,null,null,null,null,null,null,null,"b"]
[19.5,4,null,null,null,null,null,null,null,null,null,null,null,null,null,"b"]
[19.5,5,null,null,null,null,null,null,null,null,null,null,null,null,null,"b"]
[19.5,6,null,null,null,null,null,null,null,null,null,null,null,null,null,"b"]
[19.5,7,null,null,null,null,null,null,null,null,null,null,null,null,null,"b"]
[19.5,8,null,null,null,null,null,null,null,null,null,null,null,null,null,"b"]
[{"$f":"$A$2","v":9}]
[9]
[9]
[9]
[9]
[9]
[9]
[9]
[9]
[9]
[9]
[9]
[9]
[9]
[9]
[9]
[9]
[9]
[9]
[9]
[9]
[9]
[9]
[9]
[9]
[9]
[9]
[9]
[9]
[9]
[{"$f":"$A$8","v":16.5},null,"ZDL-1(1)","2/2",null,null,null,null,null,null,null,null,{"$f":"'DL-1'!M10&\".\"&'DL-1'!Q24&Wersja","v":"2023..1.15.0.44867"}]
[9,"Załącznik nr 6"]
[{"$f":"$A$2","v":9},"WYPEŁNIĆ DUŻYMI, DRUKOWANYMI LITERAMI, CZARNYM LUB NIEBIESKIM KOLOREM."]
[4.5]
[{"$f":"$A$2","v":9},"1. Identyfikator podatkowy NIP/numer PESEL (niepotrzebne skreślić)1)\n└────┴────┴────┴────┴────┴────┴────┴────┴────┴────┴────┘",null,null,null,null,null,null,"2.  Nr dokumentu"]
[19.5,null,{"$f":"$C$6","v":0}]
[{"$f":"$A$2","v":9}]
[16.5,"ZDL-1"]
[{"$f":"$A$8","v":16.5},"ZAŁĄCZNIK DO DEKLARACJI NA PODATEK LEŚNY"]
[{"$f":"$A$8","v":16.5},"- DANE O PRZEDMIOTACH OPODATKOWANIA PODLEGAJĄCYCH OPODATKOWANIU"]
[{"$f":"$A$2","v":9},null,null,null,null,null,null,null,null,null,null,null,null,"3. Nr załącznika"]
[{"$f":"$A$6","v":19.5},null,null,null,null,null,null,null,null,null,null,null,null,{"$f":"N1852+1","v":25},null,{"$f":"SUM(Q:Q)","v":0},{"$f":"IF(COUNTA(C1943:O1950,C1963:O1970)=0,0,1)","v":0}]
[{"$f":"$A$4","v":4.5}]
[{"$f":"$A$4","v":4.5}]
[{"$f":"$A$8*1.5","v":24.75},"A.  DANE PODATNIKA WSKAZANEGO W CZĘŚCI C.1 DEKLARACJI DL-1\n* - dotyczy podatnika niebędącego osobą fizyczną               ** - dotyczy podatnika będącego osobą fizyczną"]
[{"$f":"$A$2","v":9},null,"4. Nazwa pełna * / Nazwisko **",null,null,null,null,null,"5. Nazwa skrócona * / Pierwsze imię **"]
[{"$f":"$A$6","v":19.5},null,{"$f":"\"\"&$C$17","v":""},null,null,null,null,null,{"$f":"\"\"&$I$17","v":""}]
[{"$f":"$A$4","v":4.5}]
[{"$f":"$A$8","v":16.5},"B.  DANE O POSZCZEGÓLNYCH PRZEDMIOTACH OPODATKOWANIA PODLEGAJĄCYCH OPODATKOWANIU"]
[16.5,"B.1.  LASY (z wyjątkiem lasów wchodzących w skład rezerwatów przyrody i parków narodowych)"]
[{"$f":"$A$8*1.5","v":24.75},"Lp.","Położenie (adres, w tym dzielnica)",null,null,null,null,"Nr księgi wieczystej\n(zbioru dokumentów)","Nr obrębu\n(arkusza mapy)2)","Nr działki","Powierzchnia w ha3)","Forma władania5)"]
[{"$f":"$A$2","v":9},null,"a",null,null,null,null,"b","c","d","e","f"]
[{"$f":"$A$6","v":19.5},1,null,null,null,null,null,null,null,null,null,null,null,null,null,"a"]
[19.5,2,null,null,null,null,null,null,null,null,null,null,null,null,null,"a"]
[19.5,3,null,null,null,null,null,null,null,null,null,null,null,null,null,"a"]
[19.5,4,null,null,null,null,null,null,null,null,null,null,null,null,null,"a"]
[19.5,5,null,null,null,null,null,null,null,null,null,null,null,null,null,"a"]
[19.5,6,null,null,null,null,null,null,null,null,null,null,null,null,null,"a"]
[19.5,7,null,null,null,null,null,null,null,null,null,null,null,null,null,"a"]
[19.5,8,null,null,null,null,null,null,null,null,null,null,null,null,null,"a"]
[{"$f":"$A$2","v":9}]
[{"$f":"$A$2*2","v":18},"1)","Numer PESEL wpisują podatnicy będący osobami fizycznymi objętymi rejestrem PESEL, nieprowadzący działalności gospodarczej lub niebędący zarejestrowanymi podatnikami podatku od towarów i usług.\nIdentyfikator podatkowy NIP wpisują pozostali podatnicy."]
[{"$f":"$A$2","v":9},"2)","Numer obrębu należy podać wraz z numerem arkusza mapy ewidencyjnej w przypadku, gdy działki numerowane są w ramach arkusza mapy."]
[9,"3)","Należy podać z dokładnością do czterech miejsc po przecinku."]
[9,"4)","Należy podać jedną z form władania: własność, użytkowanie wieczyste, posiadanie samoistne, posiadanie zależne lub posiadanie bez tytułu prawnego."]
[{"$f":"$A$8","v":16.5},null,{"$f":"'DL-1'!M10&\".\"&'DL-1'!Q24&Wersja","v":"2023..1.15.0.44867"},null,null,null,null,null,null,null,null,null,null,"ZDL-1(1)","1/2"]
[{"$f":"$A$2","v":9}]
[9,"WYPEŁNIĆ DUŻYMI, DRUKOWANYMI LITERAMI, CZARNYM LUB NIEBIESKIM KOLOREM."]
[4.5]
[{"$f":"$A$8","v":16.5},"B.2.  LASY WCHODZĄCE W SKŁAD REZERWATÓW PRZYRODY I PARKÓW NARODOWYCH"]
[{"$f":"$A$8*1.5","v":24.75},"Lp.","Położenie (adres, w tym dzielnica)",null,null,null,null,"Nr księgi wieczystej\n(zbioru dokumentów)","Nr obrębu\n(arkusza mapy)2)","Nr działki","Powierzchnia w ha3)","Forma władania5)"]
[{"$f":"$A$2","v":9},null,"a",null,null,null,null,"b","c","d","e","f"]
[{"$f":"$A$6","v":19.5},1,null,null,null,null,null,null,null,null,null,null,null,null,null,"b"]
[19.5,2,null,null,null,null,null,null,null,null,null,null,null,null,null,"b"]
[19.5,3,null,null,null,null,null,null,null,null,null,null,null,null,null,"b"]
[19.5,4,null,null,null,null,null,null,null,null,null,null,null,null,null,"b"]
[19.5,5,null,null,null,null,null,null,null,null,null,null,null,null,null,"b"]
[19.5,6,null,null,null,null,null,null,null,null,null,null,null,null,null,"b"]
[19.5,7,null,null,null,null,null,null,null,null,null,null,null,null,null,"b"]
[19.5,8,null,null,null,null,null,null,null,null,null,null,null,null,null,"b"]
[{"$f":"$A$2","v":9}]
[9]
[9]
[9]
[9]
[9]
[9]
[9]
[9]
[9]
[9]
[9]
[9]
[9]
[9]
[9]
[9]
[9]
[9]
[9]
[9]
[9]
[9]
[9]
[9]
[9]
[9]
[9]
[9]
[9]
[{"$f":"$A$8","v":16.5},null,"ZDL-1(1)","2/2",null,null,null,null,null,null,null,null,{"$f":"'DL-1'!M10&\".\"&'DL-1'!Q24&Wersja","v":"2023..1.15.0.44867"}]
[9,"Załącznik nr 6"]
[{"$f":"$A$2","v":9},"WYPEŁNIĆ DUŻYMI, DRUKOWANYMI LITERAMI, CZARNYM LUB NIEBIESKIM KOLOREM."]
[4.5]
[{"$f":"$A$2","v":9},"1. Identyfikator podatkowy NIP/numer PESEL (niepotrzebne skreślić)1)\n└────┴────┴────┴────┴────┴────┴────┴────┴────┴────┴────┘",null,null,null,null,null,null,"2.  Nr dokumentu"]
[19.5,null,{"$f":"$C$6","v":0}]
[{"$f":"$A$2","v":9}]
[16.5,"ZDL-1"]
[{"$f":"$A$8","v":16.5},"ZAŁĄCZNIK DO DEKLARACJI NA PODATEK LEŚNY"]
[{"$f":"$A$8","v":16.5},"- DANE O PRZEDMIOTACH OPODATKOWANIA PODLEGAJĄCYCH OPODATKOWANIU"]
[{"$f":"$A$2","v":9},null,null,null,null,null,null,null,null,null,null,null,null,"3. Nr załącznika"]
[{"$f":"$A$6","v":19.5},null,null,null,null,null,null,null,null,null,null,null,null,{"$f":"N1932+1","v":26},null,{"$f":"SUM(Q:Q)","v":0},{"$f":"IF(COUNTA(C2023:O2030,C2043:O2050)=0,0,1)","v":0}]
[{"$f":"$A$4","v":4.5}]
[{"$f":"$A$4","v":4.5}]
[{"$f":"$A$8*1.5","v":24.75},"A.  DANE PODATNIKA WSKAZANEGO W CZĘŚCI C.1 DEKLARACJI DL-1\n* - dotyczy podatnika niebędącego osobą fizyczną               ** - dotyczy podatnika będącego osobą fizyczną"]
[{"$f":"$A$2","v":9},null,"4. Nazwa pełna * / Nazwisko **",null,null,null,null,null,"5. Nazwa skrócona * / Pierwsze imię **"]
[{"$f":"$A$6","v":19.5},null,{"$f":"\"\"&$C$17","v":""},null,null,null,null,null,{"$f":"\"\"&$I$17","v":""}]
[{"$f":"$A$4","v":4.5}]
[{"$f":"$A$8","v":16.5},"B.  DANE O POSZCZEGÓLNYCH PRZEDMIOTACH OPODATKOWANIA PODLEGAJĄCYCH OPODATKOWANIU"]
[16.5,"B.1.  LASY (z wyjątkiem lasów wchodzących w skład rezerwatów przyrody i parków narodowych)"]
[{"$f":"$A$8*1.5","v":24.75},"Lp.","Położenie (adres, w tym dzielnica)",null,null,null,null,"Nr księgi wieczystej\n(zbioru dokumentów)","Nr obrębu\n(arkusza mapy)2)","Nr działki","Powierzchnia w ha3)","Forma władania5)"]
[{"$f":"$A$2","v":9},null,"a",null,null,null,null,"b","c","d","e","f"]
[{"$f":"$A$6","v":19.5},1,null,null,null,null,null,null,null,null,null,null,null,null,null,"a"]
[19.5,2,null,null,null,null,null,null,null,null,null,null,null,null,null,"a"]
[19.5,3,null,null,null,null,null,null,null,null,null,null,null,null,null,"a"]
[19.5,4,null,null,null,null,null,null,null,null,null,null,null,null,null,"a"]
[19.5,5,null,null,null,null,null,null,null,null,null,null,null,null,null,"a"]
[19.5,6,null,null,null,null,null,null,null,null,null,null,null,null,null,"a"]
[19.5,7,null,null,null,null,null,null,null,null,null,null,null,null,null,"a"]
[19.5,8,null,null,null,null,null,null,null,null,null,null,null,null,null,"a"]
[{"$f":"$A$2","v":9}]
[{"$f":"$A$2*2","v":18},"1)","Numer PESEL wpisują podatnicy będący osobami fizycznymi objętymi rejestrem PESEL, nieprowadzący działalności gospodarczej lub niebędący zarejestrowanymi podatnikami podatku od towarów i usług.\nIdentyfikator podatkowy NIP wpisują pozostali podatnicy."]
[{"$f":"$A$2","v":9},"2)","Numer obrębu należy podać wraz z numerem arkusza mapy ewidencyjnej w przypadku, gdy działki numerowane są w ramach arkusza mapy."]
[9,"3)","Należy podać z dokładnością do czterech miejsc po przecinku."]
[9,"4)","Należy podać jedną z form władania: własność, użytkowanie wieczyste, posiadanie samoistne, posiadanie zależne lub posiadanie bez tytułu prawnego."]
[{"$f":"$A$8","v":16.5},null,{"$f":"'DL-1'!M10&\".\"&'DL-1'!Q24&Wersja","v":"2023..1.15.0.44867"},null,null,null,null,null,null,null,null,null,null,"ZDL-1(1)","1/2"]
[{"$f":"$A$2","v":9}]
[9,"WYPEŁNIĆ DUŻYMI, DRUKOWANYMI LITERAMI, CZARNYM LUB NIEBIESKIM KOLOREM."]
[4.5]
[{"$f":"$A$8","v":16.5},"B.2.  LASY WCHODZĄCE W SKŁAD REZERWATÓW PRZYRODY I PARKÓW NARODOWYCH"]
[{"$f":"$A$8*1.5","v":24.75},"Lp.","Położenie (adres, w tym dzielnica)",null,null,null,null,"Nr księgi wieczystej\n(zbioru dokumentów)","Nr obrębu\n(arkusza mapy)2)","Nr działki","Powierzchnia w ha3)","Forma władania5)"]
[{"$f":"$A$2","v":9},null,"a",null,null,null,null,"b","c","d","e","f"]
[{"$f":"$A$6","v":19.5},1,null,null,null,null,null,null,null,null,null,null,null,null,null,"b"]
[19.5,2,null,null,null,null,null,null,null,null,null,null,null,null,null,"b"]
[19.5,3,null,null,null,null,null,null,null,null,null,null,null,null,null,"b"]
[19.5,4,null,null,null,null,null,null,null,null,null,null,null,null,null,"b"]
[19.5,5,null,null,null,null,null,null,null,null,null,null,null,null,null,"b"]
[19.5,6,null,null,null,null,null,null,null,null,null,null,null,null,null,"b"]
[19.5,7,null,null,null,null,null,null,null,null,null,null,null,null,null,"b"]
[19.5,8,null,null,null,null,null,null,null,null,null,null,null,null,null,"b"]
[{"$f":"$A$2","v":9}]
[9]
[9]
[9]
[9]
[9]
[9]
[9]
[9]
[9]
[9]
[9]
[9]
[9]
[9]
[9]
[9]
[9]
[9]
[9]
[9]
[9]
[9]
[9]
[9]
[9]
[9]
[9]
[9]
[9]
[{"$f":"$A$8","v":16.5},null,"ZDL-1(1)","2/2",null,null,null,null,null,null,null,null,{"$f":"'DL-1'!M10&\".\"&'DL-1'!Q24&Wersja","v":"2023..1.15.0.44867"}]
[9,"Załącznik nr 6"]
[{"$f":"$A$2","v":9},"WYPEŁNIĆ DUŻYMI, DRUKOWANYMI LITERAMI, CZARNYM LUB NIEBIESKIM KOLOREM."]
[4.5]
[{"$f":"$A$2","v":9},"1. Identyfikator podatkowy NIP/numer PESEL (niepotrzebne skreślić)1)\n└────┴────┴────┴────┴────┴────┴────┴────┴────┴────┴────┘",null,null,null,null,null,null,"2.  Nr dokumentu"]
[19.5,null,{"$f":"$C$6","v":0}]
[{"$f":"$A$2","v":9}]
[16.5,"ZDL-1"]
[{"$f":"$A$8","v":16.5},"ZAŁĄCZNIK DO DEKLARACJI NA PODATEK LEŚNY"]
[{"$f":"$A$8","v":16.5},"- DANE O PRZEDMIOTACH OPODATKOWANIA PODLEGAJĄCYCH OPODATKOWANIU"]
[{"$f":"$A$2","v":9},null,null,null,null,null,null,null,null,null,null,null,null,"3. Nr załącznika"]
[{"$f":"$A$6","v":19.5},null,null,null,null,null,null,null,null,null,null,null,null,{"$f":"N2012+1","v":27},null,{"$f":"SUM(Q:Q)","v":0},{"$f":"IF(COUNTA(C2103:O2110,C2123:O2130)=0,0,1)","v":0}]
[{"$f":"$A$4","v":4.5}]
[{"$f":"$A$4","v":4.5}]
[{"$f":"$A$8*1.5","v":24.75},"A.  DANE PODATNIKA WSKAZANEGO W CZĘŚCI C.1 DEKLARACJI DL-1\n* - dotyczy podatnika niebędącego osobą fizyczną               ** - dotyczy podatnika będącego osobą fizyczną"]
[{"$f":"$A$2","v":9},null,"4. Nazwa pełna * / Nazwisko **",null,null,null,null,null,"5. Nazwa skrócona * / Pierwsze imię **"]
[{"$f":"$A$6","v":19.5},null,{"$f":"\"\"&$C$17","v":""},null,null,null,null,null,{"$f":"\"\"&$I$17","v":""}]
[{"$f":"$A$4","v":4.5}]
[{"$f":"$A$8","v":16.5},"B.  DANE O POSZCZEGÓLNYCH PRZEDMIOTACH OPODATKOWANIA PODLEGAJĄCYCH OPODATKOWANIU"]
[16.5,"B.1.  LASY (z wyjątkiem lasów wchodzących w skład rezerwatów przyrody i parków narodowych)"]
[{"$f":"$A$8*1.5","v":24.75},"Lp.","Położenie (adres, w tym dzielnica)",null,null,null,null,"Nr księgi wieczystej\n(zbioru dokumentów)","Nr obrębu\n(arkusza mapy)2)","Nr działki","Powierzchnia w ha3)","Forma władania5)"]
[{"$f":"$A$2","v":9},null,"a",null,null,null,null,"b","c","d","e","f"]
[{"$f":"$A$6","v":19.5},1,null,null,null,null,null,null,null,null,null,null,null,null,null,"a"]
[19.5,2,null,null,null,null,null,null,null,null,null,null,null,null,null,"a"]
[19.5,3,null,null,null,null,null,null,null,null,null,null,null,null,null,"a"]
[19.5,4,null,null,null,null,null,null,null,null,null,null,null,null,null,"a"]
[19.5,5,null,null,null,null,null,null,null,null,null,null,null,null,null,"a"]
[19.5,6,null,null,null,null,null,null,null,null,null,null,null,null,null,"a"]
[19.5,7,null,null,null,null,null,null,null,null,null,null,null,null,null,"a"]
[19.5,8,null,null,null,null,null,null,null,null,null,null,null,null,null,"a"]
[{"$f":"$A$2","v":9}]
[{"$f":"$A$2*2","v":18},"1)","Numer PESEL wpisują podatnicy będący osobami fizycznymi objętymi rejestrem PESEL, nieprowadzący działalności gospodarczej lub niebędący zarejestrowanymi podatnikami podatku od towarów i usług.\nIdentyfikator podatkowy NIP wpisują pozostali podatnicy."]
[{"$f":"$A$2","v":9},"2)","Numer obrębu należy podać wraz z numerem arkusza mapy ewidencyjnej w przypadku, gdy działki numerowane są w ramach arkusza mapy."]
[9,"3)","Należy podać z dokładnością do czterech miejsc po przecinku."]
[9,"4)","Należy podać jedną z form władania: własność, użytkowanie wieczyste, posiadanie samoistne, posiadanie zależne lub posiadanie bez tytułu prawnego."]
[{"$f":"$A$8","v":16.5},null,{"$f":"'DL-1'!M10&\".\"&'DL-1'!Q24&Wersja","v":"2023..1.15.0.44867"},null,null,null,null,null,null,null,null,null,null,"ZDL-1(1)","1/2"]
[{"$f":"$A$2","v":9}]
[9,"WYPEŁNIĆ DUŻYMI, DRUKOWANYMI LITERAMI, CZARNYM LUB NIEBIESKIM KOLOREM."]
[4.5]
[{"$f":"$A$8","v":16.5},"B.2.  LASY WCHODZĄCE W SKŁAD REZERWATÓW PRZYRODY I PARKÓW NARODOWYCH"]
[{"$f":"$A$8*1.5","v":24.75},"Lp.","Położenie (adres, w tym dzielnica)",null,null,null,null,"Nr księgi wieczystej\n(zbioru dokumentów)","Nr obrębu\n(arkusza mapy)2)","Nr działki","Powierzchnia w ha3)","Forma władania5)"]
[{"$f":"$A$2","v":9},null,"a",null,null,null,null,"b","c","d","e","f"]
[{"$f":"$A$6","v":19.5},1,null,null,null,null,null,null,null,null,null,null,null,null,null,"b"]
[19.5,2,null,null,null,null,null,null,null,null,null,null,null,null,null,"b"]
[19.5,3,null,null,null,null,null,null,null,null,null,null,null,null,null,"b"]
[19.5,4,null,null,null,null,null,null,null,null,null,null,null,null,null,"b"]
[19.5,5,null,null,null,null,null,null,null,null,null,null,null,null,null,"b"]
[19.5,6,null,null,null,null,null,null,null,null,null,null,null,null,null,"b"]
[19.5,7,null,null,null,null,null,null,null,null,null,null,null,null,null,"b"]
[19.5,8,null,null,null,null,null,null,null,null,null,null,null,null,null,"b"]
[{"$f":"$A$2","v":9}]
[9]
[9]
[9]
[9]
[9]
[9]
[9]
[9]
[9]
[9]
[9]
[9]
[9]
[9]
[9]
[9]
[9]
[9]
[9]
[9]
[9]
[9]
[9]
[9]
[9]
[9]
[9]
[9]
[9]
[{"$f":"$A$8","v":16.5},null,"ZDL-1(1)","2/2",null,null,null,null,null,null,null,null,{"$f":"'DL-1'!M10&\".\"&'DL-1'!Q24&Wersja","v":"2023..1.15.0.44867"}]
[9,"Załącznik nr 6"]
[{"$f":"$A$2","v":9},"WYPEŁNIĆ DUŻYMI, DRUKOWANYMI LITERAMI, CZARNYM LUB NIEBIESKIM KOLOREM."]
[4.5]
[{"$f":"$A$2","v":9},"1. Identyfikator podatkowy NIP/numer PESEL (niepotrzebne skreślić)1)\n└────┴────┴────┴────┴────┴────┴────┴────┴────┴────┴────┘",null,null,null,null,null,null,"2.  Nr dokumentu"]
[19.5,null,{"$f":"$C$6","v":0}]
[{"$f":"$A$2","v":9}]
[16.5,"ZDL-1"]
[{"$f":"$A$8","v":16.5},"ZAŁĄCZNIK DO DEKLARACJI NA PODATEK LEŚNY"]
[{"$f":"$A$8","v":16.5},"- DANE O PRZEDMIOTACH OPODATKOWANIA PODLEGAJĄCYCH OPODATKOWANIU"]
[{"$f":"$A$2","v":9},null,null,null,null,null,null,null,null,null,null,null,null,"3. Nr załącznika"]
[{"$f":"$A$6","v":19.5},null,null,null,null,null,null,null,null,null,null,null,null,{"$f":"N2092+1","v":28},null,{"$f":"SUM(Q:Q)","v":0},{"$f":"IF(COUNTA(C2183:O2190,C2203:O2210)=0,0,1)","v":0}]
[{"$f":"$A$4","v":4.5}]
[{"$f":"$A$4","v":4.5}]
[{"$f":"$A$8*1.5","v":24.75},"A.  DANE PODATNIKA WSKAZANEGO W CZĘŚCI C.1 DEKLARACJI DL-1\n* - dotyczy podatnika niebędącego osobą fizyczną               ** - dotyczy podatnika będącego osobą fizyczną"]
[{"$f":"$A$2","v":9},null,"4. Nazwa pełna * / Nazwisko **",null,null,null,null,null,"5. Nazwa skrócona * / Pierwsze imię **"]
[{"$f":"$A$6","v":19.5},null,{"$f":"\"\"&$C$17","v":""},null,null,null,null,null,{"$f":"\"\"&$I$17","v":""}]
[{"$f":"$A$4","v":4.5}]
[{"$f":"$A$8","v":16.5},"B.  DANE O POSZCZEGÓLNYCH PRZEDMIOTACH OPODATKOWANIA PODLEGAJĄCYCH OPODATKOWANIU"]
[16.5,"B.1.  LASY (z wyjątkiem lasów wchodzących w skład rezerwatów przyrody i parków narodowych)"]
[{"$f":"$A$8*1.5","v":24.75},"Lp.","Położenie (adres, w tym dzielnica)",null,null,null,null,"Nr księgi wieczystej\n(zbioru dokumentów)","Nr obrębu\n(arkusza mapy)2)","Nr działki","Powierzchnia w ha3)","Forma władania5)"]
[{"$f":"$A$2","v":9},null,"a",null,null,null,null,"b","c","d","e","f"]
[{"$f":"$A$6","v":19.5},1,null,null,null,null,null,null,null,null,null,null,null,null,null,"a"]
[19.5,2,null,null,null,null,null,null,null,null,null,null,null,null,null,"a"]
[19.5,3,null,null,null,null,null,null,null,null,null,null,null,null,null,"a"]
[19.5,4,null,null,null,null,null,null,null,null,null,null,null,null,null,"a"]
[19.5,5,null,null,null,null,null,null,null,null,null,null,null,null,null,"a"]
[19.5,6,null,null,null,null,null,null,null,null,null,null,null,null,null,"a"]
[19.5,7,null,null,null,null,null,null,null,null,null,null,null,null,null,"a"]
[19.5,8,null,null,null,null,null,null,null,null,null,null,null,null,null,"a"]
[{"$f":"$A$2","v":9}]
[{"$f":"$A$2*2","v":18},"1)","Numer PESEL wpisują podatnicy będący osobami fizycznymi objętymi rejestrem PESEL, nieprowadzący działalności gospodarczej lub niebędący zarejestrowanymi podatnikami podatku od towarów i usług.\nIdentyfikator podatkowy NIP wpisują pozostali podatnicy."]
[{"$f":"$A$2","v":9},"2)","Numer obrębu należy podać wraz z numerem arkusza mapy ewidencyjnej w przypadku, gdy działki numerowane są w ramach arkusza mapy."]
[9,"3)","Należy podać z dokładnością do czterech miejsc po przecinku."]
[9,"4)","Należy podać jedną z form władania: własność, użytkowanie wieczyste, posiadanie samoistne, posiadanie zależne lub posiadanie bez tytułu prawnego."]
[{"$f":"$A$8","v":16.5},null,{"$f":"'DL-1'!M10&\".\"&'DL-1'!Q24&Wersja","v":"2023..1.15.0.44867"},null,null,null,null,null,null,null,null,null,null,"ZDL-1(1)","1/2"]
[{"$f":"$A$2","v":9}]
[9,"WYPEŁNIĆ DUŻYMI, DRUKOWANYMI LITERAMI, CZARNYM LUB NIEBIESKIM KOLOREM."]
[4.5]
[{"$f":"$A$8","v":16.5},"B.2.  LASY WCHODZĄCE W SKŁAD REZERWATÓW PRZYRODY I PARKÓW NARODOWYCH"]
[{"$f":"$A$8*1.5","v":24.75},"Lp.","Położenie (adres, w tym dzielnica)",null,null,null,null,"Nr księgi wieczystej\n(zbioru dokumentów)","Nr obrębu\n(arkusza mapy)2)","Nr działki","Powierzchnia w ha3)","Forma władania5)"]
[{"$f":"$A$2","v":9},null,"a",null,null,null,null,"b","c","d","e","f"]
[{"$f":"$A$6","v":19.5},1,null,null,null,null,null,null,null,null,null,null,null,null,null,"b"]
[19.5,2,null,null,null,null,null,null,null,null,null,null,null,null,null,"b"]
[19.5,3,null,null,null,null,null,null,null,null,null,null,null,null,null,"b"]
[19.5,4,null,null,null,null,null,null,null,null,null,null,null,null,null,"b"]
[19.5,5,null,null,null,null,null,null,null,null,null,null,null,null,null,"b"]
[19.5,6,null,null,null,null,null,null,null,null,null,null,null,null,null,"b"]
[19.5,7,null,null,null,null,null,null,null,null,null,null,null,null,null,"b"]
[19.5,8,null,null,null,null,null,null,null,null,null,null,null,null,null,"b"]
[{"$f":"$A$2","v":9}]
[9]
[9]
[9]
[9]
[9]
[9]
[9]
[9]
[9]
[9]
[9]
[9]
[9]
[9]
[9]
[9]
[9]
[9]
[9]
[9]
[9]
[9]
[9]
[9]
[9]
[9]
[9]
[9]
[9]
[{"$f":"$A$8","v":16.5},null,"ZDL-1(1)","2/2",null,null,null,null,null,null,null,null,{"$f":"'DL-1'!M10&\".\"&'DL-1'!Q24&Wersja","v":"2023..1.15.0.44867"}]
[9,"Załącznik nr 6"]
[{"$f":"$A$2","v":9},"WYPEŁNIĆ DUŻYMI, DRUKOWANYMI LITERAMI, CZARNYM LUB NIEBIESKIM KOLOREM."]
[4.5]
[{"$f":"$A$2","v":9},"1. Identyfikator podatkowy NIP/numer PESEL (niepotrzebne skreślić)1)\n└────┴────┴────┴────┴────┴────┴────┴────┴────┴────┴────┘",null,null,null,null,null,null,"2.  Nr dokumentu"]
[19.5,null,{"$f":"$C$6","v":0}]
[{"$f":"$A$2","v":9}]
[16.5,"ZDL-1"]
[{"$f":"$A$8","v":16.5},"ZAŁĄCZNIK DO DEKLARACJI NA PODATEK LEŚNY"]
[{"$f":"$A$8","v":16.5},"- DANE O PRZEDMIOTACH OPODATKOWANIA PODLEGAJĄCYCH OPODATKOWANIU"]
[{"$f":"$A$2","v":9},null,null,null,null,null,null,null,null,null,null,null,null,"3. Nr załącznika"]
[{"$f":"$A$6","v":19.5},null,null,null,null,null,null,null,null,null,null,null,null,{"$f":"N2172+1","v":29},null,{"$f":"SUM(Q:Q)","v":0},{"$f":"IF(COUNTA(C2263:O2270,C2283:O2290)=0,0,1)","v":0}]
[{"$f":"$A$4","v":4.5}]
[{"$f":"$A$4","v":4.5}]
[{"$f":"$A$8*1.5","v":24.75},"A.  DANE PODATNIKA WSKAZANEGO W CZĘŚCI C.1 DEKLARACJI DL-1\n* - dotyczy podatnika niebędącego osobą fizyczną               ** - dotyczy podatnika będącego osobą fizyczną"]
[{"$f":"$A$2","v":9},null,"4. Nazwa pełna * / Nazwisko **",null,null,null,null,null,"5. Nazwa skrócona * / Pierwsze imię **"]
[{"$f":"$A$6","v":19.5},null,{"$f":"\"\"&$C$17","v":""},null,null,null,null,null,{"$f":"\"\"&$I$17","v":""}]
[{"$f":"$A$4","v":4.5}]
[{"$f":"$A$8","v":16.5},"B.  DANE O POSZCZEGÓLNYCH PRZEDMIOTACH OPODATKOWANIA PODLEGAJĄCYCH OPODATKOWANIU"]
[16.5,"B.1.  LASY (z wyjątkiem lasów wchodzących w skład rezerwatów przyrody i parków narodowych)"]
[{"$f":"$A$8*1.5","v":24.75},"Lp.","Położenie (adres, w tym dzielnica)",null,null,null,null,"Nr księgi wieczystej\n(zbioru dokumentów)","Nr obrębu\n(arkusza mapy)2)","Nr działki","Powierzchnia w ha3)","Forma władania5)"]
[{"$f":"$A$2","v":9},null,"a",null,null,null,null,"b","c","d","e","f"]
[{"$f":"$A$6","v":19.5},1,null,null,null,null,null,null,null,null,null,null,null,null,null,"a"]
[19.5,2,null,null,null,null,null,null,null,null,null,null,null,null,null,"a"]
[19.5,3,null,null,null,null,null,null,null,null,null,null,null,null,null,"a"]
[19.5,4,null,null,null,null,null,null,null,null,null,null,null,null,null,"a"]
[19.5,5,null,null,null,null,null,null,null,null,null,null,null,null,null,"a"]
[19.5,6,null,null,null,null,null,null,null,null,null,null,null,null,null,"a"]
[19.5,7,null,null,null,null,null,null,null,null,null,null,null,null,null,"a"]
[19.5,8,null,null,null,null,null,null,null,null,null,null,null,null,null,"a"]
[{"$f":"$A$2","v":9}]
[{"$f":"$A$2*2","v":18},"1)","Numer PESEL wpisują podatnicy będący osobami fizycznymi objętymi rejestrem PESEL, nieprowadzący działalności gospodarczej lub niebędący zarejestrowanymi podatnikami podatku od towarów i usług.\nIdentyfikator podatkowy NIP wpisują pozostali podatnicy."]
[{"$f":"$A$2","v":9},"2)","Numer obrębu należy podać wraz z numerem arkusza mapy ewidencyjnej w przypadku, gdy działki numerowane są w ramach arkusza mapy."]
[9,"3)","Należy podać z dokładnością do czterech miejsc po przecinku."]
[9,"4)","Należy podać jedną z form władania: własność, użytkowanie wieczyste, posiadanie samoistne, posiadanie zależne lub posiadanie bez tytułu prawnego."]
[{"$f":"$A$8","v":16.5},null,{"$f":"'DL-1'!M10&\".\"&'DL-1'!Q24&Wersja","v":"2023..1.15.0.44867"},null,null,null,null,null,null,null,null,null,null,"ZDL-1(1)","1/2"]
[{"$f":"$A$2","v":9}]
[9,"WYPEŁNIĆ DUŻYMI, DRUKOWANYMI LITERAMI, CZARNYM LUB NIEBIESKIM KOLOREM."]
[4.5]
[{"$f":"$A$8","v":16.5},"B.2.  LASY WCHODZĄCE W SKŁAD REZERWATÓW PRZYRODY I PARKÓW NARODOWYCH"]
[{"$f":"$A$8*1.5","v":24.75},"Lp.","Położenie (adres, w tym dzielnica)",null,null,null,null,"Nr księgi wieczystej\n(zbioru dokumentów)","Nr obrębu\n(arkusza mapy)2)","Nr działki","Powierzchnia w ha3)","Forma władania5)"]
[{"$f":"$A$2","v":9},null,"a",null,null,null,null,"b","c","d","e","f"]
[{"$f":"$A$6","v":19.5},1,null,null,null,null,null,null,null,null,null,null,null,null,null,"b"]
[19.5,2,null,null,null,null,null,null,null,null,null,null,null,null,null,"b"]
[19.5,3,null,null,null,null,null,null,null,null,null,null,null,null,null,"b"]
[19.5,4,null,null,null,null,null,null,null,null,null,null,null,null,null,"b"]
[19.5,5,null,null,null,null,null,null,null,null,null,null,null,null,null,"b"]
[19.5,6,null,null,null,null,null,null,null,null,null,null,null,null,null,"b"]
[19.5,7,null,null,null,null,null,null,null,null,null,null,null,null,null,"b"]
[19.5,8,null,null,null,null,null,null,null,null,null,null,null,null,null,"b"]
[{"$f":"$A$2","v":9}]
[9]
[9]
[9]
[9]
[9]
[9]
[9]
[9]
[9]
[9]
[9]
[9]
[9]
[9]
[9]
[9]
[9]
[9]
[9]
[9]
[9]
[9]
[9]
[9]
[9]
[9]
[9]
[9]
[9]
[{"$f":"$A$8","v":16.5},null,"ZDL-1(1)","2/2",null,null,null,null,null,null,null,null,{"$f":"'DL-1'!M10&\".\"&'DL-1'!Q24&Wersja","v":"2023..1.15.0.44867"}]
[9,"Załącznik nr 6"]
[{"$f":"$A$2","v":9},"WYPEŁNIĆ DUŻYMI, DRUKOWANYMI LITERAMI, CZARNYM LUB NIEBIESKIM KOLOREM."]
[4.5]
[{"$f":"$A$2","v":9},"1. Identyfikator podatkowy NIP/numer PESEL (niepotrzebne skreślić)1)\n└────┴────┴────┴────┴────┴────┴────┴────┴────┴────┴────┘",null,null,null,null,null,null,"2.  Nr dokumentu"]
[19.5,null,{"$f":"$C$6","v":0}]
[{"$f":"$A$2","v":9}]
[16.5,"ZDL-1"]
[{"$f":"$A$8","v":16.5},"ZAŁĄCZNIK DO DEKLARACJI NA PODATEK LEŚNY"]
[{"$f":"$A$8","v":16.5},"- DANE O PRZEDMIOTACH OPODATKOWANIA PODLEGAJĄCYCH OPODATKOWANIU"]
[{"$f":"$A$2","v":9},null,null,null,null,null,null,null,null,null,null,null,null,"3. Nr załącznika"]
[{"$f":"$A$6","v":19.5},null,null,null,null,null,null,null,null,null,null,null,null,{"$f":"N2252+1","v":30},null,{"$f":"SUM(Q:Q)","v":0},{"$f":"IF(COUNTA(C2343:O2350,C2363:O2370)=0,0,1)","v":0}]
[{"$f":"$A$4","v":4.5}]
[{"$f":"$A$4","v":4.5}]
[{"$f":"$A$8*1.5","v":24.75},"A.  DANE PODATNIKA WSKAZANEGO W CZĘŚCI C.1 DEKLARACJI DL-1\n* - dotyczy podatnika niebędącego osobą fizyczną               ** - dotyczy podatnika będącego osobą fizyczną"]
[{"$f":"$A$2","v":9},null,"4. Nazwa pełna * / Nazwisko **",null,null,null,null,null,"5. Nazwa skrócona * / Pierwsze imię **"]
[{"$f":"$A$6","v":19.5},null,{"$f":"\"\"&$C$17","v":""},null,null,null,null,null,{"$f":"\"\"&$I$17","v":""}]
[{"$f":"$A$4","v":4.5}]
[{"$f":"$A$8","v":16.5},"B.  DANE O POSZCZEGÓLNYCH PRZEDMIOTACH OPODATKOWANIA PODLEGAJĄCYCH OPODATKOWANIU"]
[16.5,"B.1.  LASY (z wyjątkiem lasów wchodzących w skład rezerwatów przyrody i parków narodowych)"]
[{"$f":"$A$8*1.5","v":24.75},"Lp.","Położenie (adres, w tym dzielnica)",null,null,null,null,"Nr księgi wieczystej\n(zbioru dokumentów)","Nr obrębu\n(arkusza mapy)2)","Nr działki","Powierzchnia w ha3)","Forma władania5)"]
[{"$f":"$A$2","v":9},null,"a",null,null,null,null,"b","c","d","e","f"]
[{"$f":"$A$6","v":19.5},1,null,null,null,null,null,null,null,null,null,null,null,null,null,"a"]
[19.5,2,null,null,null,null,null,null,null,null,null,null,null,null,null,"a"]
[19.5,3,null,null,null,null,null,null,null,null,null,null,null,null,null,"a"]
[19.5,4,null,null,null,null,null,null,null,null,null,null,null,null,null,"a"]
[19.5,5,null,null,null,null,null,null,null,null,null,null,null,null,null,"a"]
[19.5,6,null,null,null,null,null,null,null,null,null,null,null,null,null,"a"]
[19.5,7,null,null,null,null,null,null,null,null,null,null,null,null,null,"a"]
[19.5,8,null,null,null,null,null,null,null,null,null,null,null,null,null,"a"]
[{"$f":"$A$2","v":9}]
[{"$f":"$A$2*2","v":18},"1)","Numer PESEL wpisują podatnicy będący osobami fizycznymi objętymi rejestrem PESEL, nieprowadzący działalności gospodarczej lub niebędący zarejestrowanymi podatnikami podatku od towarów i usług.\nIdentyfikator podatkowy NIP wpisują pozostali podatnicy."]
[{"$f":"$A$2","v":9},"2)","Numer obrębu należy podać wraz z numerem arkusza mapy ewidencyjnej w przypadku, gdy działki numerowane są w ramach arkusza mapy."]
[9,"3)","Należy podać z dokładnością do czterech miejsc po przecinku."]
[9,"4)","Należy podać jedną z form władania: własność, użytkowanie wieczyste, posiadanie samoistne, posiadanie zależne lub posiadanie bez tytułu prawnego."]
[{"$f":"$A$8","v":16.5},null,{"$f":"'DL-1'!M10&\".\"&'DL-1'!Q24&Wersja","v":"2023..1.15.0.44867"},null,null,null,null,null,null,null,null,null,null,"ZDL-1(1)","1/2"]
[{"$f":"$A$2","v":9}]
[9,"WYPEŁNIĆ DUŻYMI, DRUKOWANYMI LITERAMI, CZARNYM LUB NIEBIESKIM KOLOREM."]
[4.5]
[{"$f":"$A$8","v":16.5},"B.2.  LASY WCHODZĄCE W SKŁAD REZERWATÓW PRZYRODY I PARKÓW NARODOWYCH"]
[{"$f":"$A$8*1.5","v":24.75},"Lp.","Położenie (adres, w tym dzielnica)",null,null,null,null,"Nr księgi wieczystej\n(zbioru dokumentów)","Nr obrębu\n(arkusza mapy)2)","Nr działki","Powierzchnia w ha3)","Forma władania5)"]
[{"$f":"$A$2","v":9},null,"a",null,null,null,null,"b","c","d","e","f"]
[{"$f":"$A$6","v":19.5},1,null,null,null,null,null,null,null,null,null,null,null,null,null,"b"]
[19.5,2,null,null,null,null,null,null,null,null,null,null,null,null,null,"b"]
[19.5,3,null,null,null,null,null,null,null,null,null,null,null,null,null,"b"]
[19.5,4,null,null,null,null,null,null,null,null,null,null,null,null,null,"b"]
[19.5,5,null,null,null,null,null,null,null,null,null,null,null,null,null,"b"]
[19.5,6,null,null,null,null,null,null,null,null,null,null,null,null,null,"b"]
[19.5,7,null,null,null,null,null,null,null,null,null,null,null,null,null,"b"]
[19.5,8,null,null,null,null,null,null,null,null,null,null,null,null,null,"b"]
[{"$f":"$A$2","v":9}]
[9]
[9]
[9]
[9]
[9]
[9]
[9]
[9]
[9]
[9]
[9]
[9]
[9]
[9]
[9]
[9]
[9]
[9]
[9]
[9]
[9]
[9]
[9]
[9]
[9]
[9]
[9]
[9]
[9]
[{"$f":"$A$8","v":16.5},null,"ZDL-1(1)","2/2",null,null,null,null,null,null,null,null,{"$f":"'DL-1'!M10&\".\"&'DL-1'!Q24&Wersja","v":"2023..1.15.0.44867"}]
[9,"Załącznik nr 6"]
[{"$f":"$A$2","v":9},"WYPEŁNIĆ DUŻYMI, DRUKOWANYMI LITERAMI, CZARNYM LUB NIEBIESKIM KOLOREM."]
[4.5]
[{"$f":"$A$2","v":9},"1. Identyfikator podatkowy NIP/numer PESEL (niepotrzebne skreślić)1)\n└────┴────┴────┴────┴────┴────┴────┴────┴────┴────┴────┘",null,null,null,null,null,null,"2.  Nr dokumentu"]
[19.5,null,{"$f":"$C$6","v":0}]
[{"$f":"$A$2","v":9}]
[16.5,"ZDL-1"]
[{"$f":"$A$8","v":16.5},"ZAŁĄCZNIK DO DEKLARACJI NA PODATEK LEŚNY"]
[{"$f":"$A$8","v":16.5},"- DANE O PRZEDMIOTACH OPODATKOWANIA PODLEGAJĄCYCH OPODATKOWANIU"]
[{"$f":"$A$2","v":9},null,null,null,null,null,null,null,null,null,null,null,null,"3. Nr załącznika"]
[{"$f":"$A$6","v":19.5},null,null,null,null,null,null,null,null,null,null,null,null,{"$f":"N2332+1","v":31},null,{"$f":"SUM(Q:Q)","v":0},{"$f":"IF(COUNTA(C2423:O2430,C2443:O2450)=0,0,1)","v":0}]
[{"$f":"$A$4","v":4.5}]
[{"$f":"$A$4","v":4.5}]
[{"$f":"$A$8*1.5","v":24.75},"A.  DANE PODATNIKA WSKAZANEGO W CZĘŚCI C.1 DEKLARACJI DL-1\n* - dotyczy podatnika niebędącego osobą fizyczną               ** - dotyczy podatnika będącego osobą fizyczną"]
[{"$f":"$A$2","v":9},null,"4. Nazwa pełna * / Nazwisko **",null,null,null,null,null,"5. Nazwa skrócona * / Pierwsze imię **"]
[{"$f":"$A$6","v":19.5},null,{"$f":"\"\"&$C$17","v":""},null,null,null,null,null,{"$f":"\"\"&$I$17","v":""}]
[{"$f":"$A$4","v":4.5}]
[{"$f":"$A$8","v":16.5},"B.  DANE O POSZCZEGÓLNYCH PRZEDMIOTACH OPODATKOWANIA PODLEGAJĄCYCH OPODATKOWANIU"]
[16.5,"B.1.  LASY (z wyjątkiem lasów wchodzących w skład rezerwatów przyrody i parków narodowych)"]
[{"$f":"$A$8*1.5","v":24.75},"Lp.","Położenie (adres, w tym dzielnica)",null,null,null,null,"Nr księgi wieczystej\n(zbioru dokumentów)","Nr obrębu\n(arkusza mapy)2)","Nr działki","Powierzchnia w ha3)","Forma władania5)"]
[{"$f":"$A$2","v":9},null,"a",null,null,null,null,"b","c","d","e","f"]
[{"$f":"$A$6","v":19.5},1,null,null,null,null,null,null,null,null,null,null,null,null,null,"a"]
[19.5,2,null,null,null,null,null,null,null,null,null,null,null,null,null,"a"]
[19.5,3,null,null,null,null,null,null,null,null,null,null,null,null,null,"a"]
[19.5,4,null,null,null,null,null,null,null,null,null,null,null,null,null,"a"]
[19.5,5,null,null,null,null,null,null,null,null,null,null,null,null,null,"a"]
[19.5,6,null,null,null,null,null,null,null,null,null,null,null,null,null,"a"]
[19.5,7,null,null,null,null,null,null,null,null,null,null,null,null,null,"a"]
[19.5,8,null,null,null,null,null,null,null,null,null,null,null,null,null,"a"]
[{"$f":"$A$2","v":9}]
[{"$f":"$A$2*2","v":18},"1)","Numer PESEL wpisują podatnicy będący osobami fizycznymi objętymi rejestrem PESEL, nieprowadzący działalności gospodarczej lub niebędący zarejestrowanymi podatnikami podatku od towarów i usług.\nIdentyfikator podatkowy NIP wpisują pozostali podatnicy."]
[{"$f":"$A$2","v":9},"2)","Numer obrębu należy podać wraz z numerem arkusza mapy ewidencyjnej w przypadku, gdy działki numerowane są w ramach arkusza mapy."]
[9,"3)","Należy podać z dokładnością do czterech miejsc po przecinku."]
[9,"4)","Należy podać jedną z form władania: własność, użytkowanie wieczyste, posiadanie samoistne, posiadanie zależne lub posiadanie bez tytułu prawnego."]
[{"$f":"$A$8","v":16.5},null,{"$f":"'DL-1'!M10&\".\"&'DL-1'!Q24&Wersja","v":"2023..1.15.0.44867"},null,null,null,null,null,null,null,null,null,null,"ZDL-1(1)","1/2"]
[{"$f":"$A$2","v":9}]
[9,"WYPEŁNIĆ DUŻYMI, DRUKOWANYMI LITERAMI, CZARNYM LUB NIEBIESKIM KOLOREM."]
[4.5]
[{"$f":"$A$8","v":16.5},"B.2.  LASY WCHODZĄCE W SKŁAD REZERWATÓW PRZYRODY I PARKÓW NARODOWYCH"]
[{"$f":"$A$8*1.5","v":24.75},"Lp.","Położenie (adres, w tym dzielnica)",null,null,null,null,"Nr księgi wieczystej\n(zbioru dokumentów)","Nr obrębu\n(arkusza mapy)2)","Nr działki","Powierzchnia w ha3)","Forma władania5)"]
[{"$f":"$A$2","v":9},null,"a",null,null,null,null,"b","c","d","e","f"]
[{"$f":"$A$6","v":19.5},1,null,null,null,null,null,null,null,null,null,null,null,null,null,"b"]
[19.5,2,null,null,null,null,null,null,null,null,null,null,null,null,null,"b"]
[19.5,3,null,null,null,null,null,null,null,null,null,null,null,null,null,"b"]
[19.5,4,null,null,null,null,null,null,null,null,null,null,null,null,null,"b"]
[19.5,5,null,null,null,null,null,null,null,null,null,null,null,null,null,"b"]
[19.5,6,null,null,null,null,null,null,null,null,null,null,null,null,null,"b"]
[19.5,7,null,null,null,null,null,null,null,null,null,null,null,null,null,"b"]
[19.5,8,null,null,null,null,null,null,null,null,null,null,null,null,null,"b"]
[{"$f":"$A$2","v":9}]
[9]
[9]
[9]
[9]
[9]
[9]
[9]
[9]
[9]
[9]
[9]
[9]
[9]
[9]
[9]
[9]
[9]
[9]
[9]
[9]
[9]
[9]
[9]
[9]
[9]
[9]
[9]
[9]
[9]
[{"$f":"$A$8","v":16.5},null,"ZDL-1(1)","2/2",null,null,null,null,null,null,null,null,{"$f":"'DL-1'!M10&\".\"&'DL-1'!Q24&Wersja","v":"2023..1.15.0.44867"}]
[9,"Załącznik nr 6"]
[{"$f":"$A$2","v":9},"WYPEŁNIĆ DUŻYMI, DRUKOWANYMI LITERAMI, CZARNYM LUB NIEBIESKIM KOLOREM."]
[4.5]
[{"$f":"$A$2","v":9},"1. Identyfikator podatkowy NIP/numer PESEL (niepotrzebne skreślić)1)\n└────┴────┴────┴────┴────┴────┴────┴────┴────┴────┴────┘",null,null,null,null,null,null,"2.  Nr dokumentu"]
[19.5,null,{"$f":"$C$6","v":0}]
[{"$f":"$A$2","v":9}]
[16.5,"ZDL-1"]
[{"$f":"$A$8","v":16.5},"ZAŁĄCZNIK DO DEKLARACJI NA PODATEK LEŚNY"]
[{"$f":"$A$8","v":16.5},"- DANE O PRZEDMIOTACH OPODATKOWANIA PODLEGAJĄCYCH OPODATKOWANIU"]
[{"$f":"$A$2","v":9},null,null,null,null,null,null,null,null,null,null,null,null,"3. Nr załącznika"]
[{"$f":"$A$6","v":19.5},null,null,null,null,null,null,null,null,null,null,null,null,{"$f":"N2412+1","v":32},null,{"$f":"SUM(Q:Q)","v":0},{"$f":"IF(COUNTA(C2503:O2510,C2523:O2530)=0,0,1)","v":0}]
[{"$f":"$A$4","v":4.5}]
[{"$f":"$A$4","v":4.5}]
[{"$f":"$A$8*1.5","v":24.75},"A.  DANE PODATNIKA WSKAZANEGO W CZĘŚCI C.1 DEKLARACJI DL-1\n* - dotyczy podatnika niebędącego osobą fizyczną               ** - dotyczy podatnika będącego osobą fizyczną"]
[{"$f":"$A$2","v":9},null,"4. Nazwa pełna * / Nazwisko **",null,null,null,null,null,"5. Nazwa skrócona * / Pierwsze imię **"]
[{"$f":"$A$6","v":19.5},null,{"$f":"\"\"&$C$17","v":""},null,null,null,null,null,{"$f":"\"\"&$I$17","v":""}]
[{"$f":"$A$4","v":4.5}]
[{"$f":"$A$8","v":16.5},"B.  DANE O POSZCZEGÓLNYCH PRZEDMIOTACH OPODATKOWANIA PODLEGAJĄCYCH OPODATKOWANIU"]
[16.5,"B.1.  LASY (z wyjątkiem lasów wchodzących w skład rezerwatów przyrody i parków narodowych)"]
[{"$f":"$A$8*1.5","v":24.75},"Lp.","Położenie (adres, w tym dzielnica)",null,null,null,null,"Nr księgi wieczystej\n(zbioru dokumentów)","Nr obrębu\n(arkusza mapy)2)","Nr działki","Powierzchnia w ha3)","Forma władania5)"]
[{"$f":"$A$2","v":9},null,"a",null,null,null,null,"b","c","d","e","f"]
[{"$f":"$A$6","v":19.5},1,null,null,null,null,null,null,null,null,null,null,null,null,null,"a"]
[19.5,2,null,null,null,null,null,null,null,null,null,null,null,null,null,"a"]
[19.5,3,null,null,null,null,null,null,null,null,null,null,null,null,null,"a"]
[19.5,4,null,null,null,null,null,null,null,null,null,null,null,null,null,"a"]
[19.5,5,null,null,null,null,null,null,null,null,null,null,null,null,null,"a"]
[19.5,6,null,null,null,null,null,null,null,null,null,null,null,null,null,"a"]
[19.5,7,null,null,null,null,null,null,null,null,null,null,null,null,null,"a"]
[19.5,8,null,null,null,null,null,null,null,null,null,null,null,null,null,"a"]
[{"$f":"$A$2","v":9}]
[{"$f":"$A$2*2","v":18},"1)","Numer PESEL wpisują podatnicy będący osobami fizycznymi objętymi rejestrem PESEL, nieprowadzący działalności gospodarczej lub niebędący zarejestrowanymi podatnikami podatku od towarów i usług.\nIdentyfikator podatkowy NIP wpisują pozostali podatnicy."]
[{"$f":"$A$2","v":9},"2)","Numer obrębu należy podać wraz z numerem arkusza mapy ewidencyjnej w przypadku, gdy działki numerowane są w ramach arkusza mapy."]
[9,"3)","Należy podać z dokładnością do czterech miejsc po przecinku."]
[9,"4)","Należy podać jedną z form władania: własność, użytkowanie wieczyste, posiadanie samoistne, posiadanie zależne lub posiadanie bez tytułu prawnego."]
[{"$f":"$A$8","v":16.5},null,{"$f":"'DL-1'!M10&\".\"&'DL-1'!Q24&Wersja","v":"2023..1.15.0.44867"},null,null,null,null,null,null,null,null,null,null,"ZDL-1(1)","1/2"]
[{"$f":"$A$2","v":9}]
[9,"WYPEŁNIĆ DUŻYMI, DRUKOWANYMI LITERAMI, CZARNYM LUB NIEBIESKIM KOLOREM."]
[4.5]
[{"$f":"$A$8","v":16.5},"B.2.  LASY WCHODZĄCE W SKŁAD REZERWATÓW PRZYRODY I PARKÓW NARODOWYCH"]
[{"$f":"$A$8*1.5","v":24.75},"Lp.","Położenie (adres, w tym dzielnica)",null,null,null,null,"Nr księgi wieczystej\n(zbioru dokumentów)","Nr obrębu\n(arkusza mapy)2)","Nr działki","Powierzchnia w ha3)","Forma władania5)"]
[{"$f":"$A$2","v":9},null,"a",null,null,null,null,"b","c","d","e","f"]
[{"$f":"$A$6","v":19.5},1,null,null,null,null,null,null,null,null,null,null,null,null,null,"b"]
[19.5,2,null,null,null,null,null,null,null,null,null,null,null,null,null,"b"]
[19.5,3,null,null,null,null,null,null,null,null,null,null,null,null,null,"b"]
[19.5,4,null,null,null,null,null,null,null,null,null,null,null,null,null,"b"]
[19.5,5,null,null,null,null,null,null,null,null,null,null,null,null,null,"b"]
[19.5,6,null,null,null,null,null,null,null,null,null,null,null,null,null,"b"]
[19.5,7,null,null,null,null,null,null,null,null,null,null,null,null,null,"b"]
[19.5,8,null,null,null,null,null,null,null,null,null,null,null,null,null,"b"]
[{"$f":"$A$2","v":9}]
[9]
[9]
[9]
[9]
[9]
[9]
[9]
[9]
[9]
[9]
[9]
[9]
[9]
[9]
[9]
[9]
[9]
[9]
[9]
[9]
[9]
[9]
[9]
[9]
[9]
[9]
[9]
[9]
[9]
[{"$f":"$A$8","v":16.5},null,"ZDL-1(1)","2/2",null,null,null,null,null,null,null,null,{"$f":"'DL-1'!M10&\".\"&'DL-1'!Q24&Wersja","v":"2023..1.15.0.44867"}]
[9,"Załącznik nr 6"]
[{"$f":"$A$2","v":9},"WYPEŁNIĆ DUŻYMI, DRUKOWANYMI LITERAMI, CZARNYM LUB NIEBIESKIM KOLOREM."]
[4.5]
[{"$f":"$A$2","v":9},"1. Identyfikator podatkowy NIP/numer PESEL (niepotrzebne skreślić)1)\n└────┴────┴────┴────┴────┴────┴────┴────┴────┴────┴────┘",null,null,null,null,null,null,"2.  Nr dokumentu"]
[19.5,null,{"$f":"$C$6","v":0}]
[{"$f":"$A$2","v":9}]
[16.5,"ZDL-1"]
[{"$f":"$A$8","v":16.5},"ZAŁĄCZNIK DO DEKLARACJI NA PODATEK LEŚNY"]
[{"$f":"$A$8","v":16.5},"- DANE O PRZEDMIOTACH OPODATKOWANIA PODLEGAJĄCYCH OPODATKOWANIU"]
[{"$f":"$A$2","v":9},null,null,null,null,null,null,null,null,null,null,null,null,"3. Nr załącznika"]
[{"$f":"$A$6","v":19.5},null,null,null,null,null,null,null,null,null,null,null,null,{"$f":"N2492+1","v":33},null,{"$f":"SUM(Q:Q)","v":0},{"$f":"IF(COUNTA(C2583:O2590,C2603:O2610)=0,0,1)","v":0}]
[{"$f":"$A$4","v":4.5}]
[{"$f":"$A$4","v":4.5}]
[{"$f":"$A$8*1.5","v":24.75},"A.  DANE PODATNIKA WSKAZANEGO W CZĘŚCI C.1 DEKLARACJI DL-1\n* - dotyczy podatnika niebędącego osobą fizyczną               ** - dotyczy podatnika będącego osobą fizyczną"]
[{"$f":"$A$2","v":9},null,"4. Nazwa pełna * / Nazwisko **",null,null,null,null,null,"5. Nazwa skrócona * / Pierwsze imię **"]
[{"$f":"$A$6","v":19.5},null,{"$f":"\"\"&$C$17","v":""},null,null,null,null,null,{"$f":"\"\"&$I$17","v":""}]
[{"$f":"$A$4","v":4.5}]
[{"$f":"$A$8","v":16.5},"B.  DANE O POSZCZEGÓLNYCH PRZEDMIOTACH OPODATKOWANIA PODLEGAJĄCYCH OPODATKOWANIU"]
[16.5,"B.1.  LASY (z wyjątkiem lasów wchodzących w skład rezerwatów przyrody i parków narodowych)"]
[{"$f":"$A$8*1.5","v":24.75},"Lp.","Położenie (adres, w tym dzielnica)",null,null,null,null,"Nr księgi wieczystej\n(zbioru dokumentów)","Nr obrębu\n(arkusza mapy)2)","Nr działki","Powierzchnia w ha3)","Forma władania5)"]
[{"$f":"$A$2","v":9},null,"a",null,null,null,null,"b","c","d","e","f"]
[{"$f":"$A$6","v":19.5},1,null,null,null,null,null,null,null,null,null,null,null,null,null,"a"]
[19.5,2,null,null,null,null,null,null,null,null,null,null,null,null,null,"a"]
[19.5,3,null,null,null,null,null,null,null,null,null,null,null,null,null,"a"]
[19.5,4,null,null,null,null,null,null,null,null,null,null,null,null,null,"a"]
[19.5,5,null,null,null,null,null,null,null,null,null,null,null,null,null,"a"]
[19.5,6,null,null,null,null,null,null,null,null,null,null,null,null,null,"a"]
[19.5,7,null,null,null,null,null,null,null,null,null,null,null,null,null,"a"]
[19.5,8,null,null,null,null,null,null,null,null,null,null,null,null,null,"a"]
[{"$f":"$A$2","v":9}]
[{"$f":"$A$2*2","v":18},"1)","Numer PESEL wpisują podatnicy będący osobami fizycznymi objętymi rejestrem PESEL, nieprowadzący działalności gospodarczej lub niebędący zarejestrowanymi podatnikami podatku od towarów i usług.\nIdentyfikator podatkowy NIP wpisują pozostali podatnicy."]
[{"$f":"$A$2","v":9},"2)","Numer obrębu należy podać wraz z numerem arkusza mapy ewidencyjnej w przypadku, gdy działki numerowane są w ramach arkusza mapy."]
[9,"3)","Należy podać z dokładnością do czterech miejsc po przecinku."]
[9,"4)","Należy podać jedną z form władania: własność, użytkowanie wieczyste, posiadanie samoistne, posiadanie zależne lub posiadanie bez tytułu prawnego."]
[{"$f":"$A$8","v":16.5},null,{"$f":"'DL-1'!M10&\".\"&'DL-1'!Q24&Wersja","v":"2023..1.15.0.44867"},null,null,null,null,null,null,null,null,null,null,"ZDL-1(1)","1/2"]
[{"$f":"$A$2","v":9}]
[9,"WYPEŁNIĆ DUŻYMI, DRUKOWANYMI LITERAMI, CZARNYM LUB NIEBIESKIM KOLOREM."]
[4.5]
[{"$f":"$A$8","v":16.5},"B.2.  LASY WCHODZĄCE W SKŁAD REZERWATÓW PRZYRODY I PARKÓW NARODOWYCH"]
[{"$f":"$A$8*1.5","v":24.75},"Lp.","Położenie (adres, w tym dzielnica)",null,null,null,null,"Nr księgi wieczystej\n(zbioru dokumentów)","Nr obrębu\n(arkusza mapy)2)","Nr działki","Powierzchnia w ha3)","Forma władania5)"]
[{"$f":"$A$2","v":9},null,"a",null,null,null,null,"b","c","d","e","f"]
[{"$f":"$A$6","v":19.5},1,null,null,null,null,null,null,null,null,null,null,null,null,null,"b"]
[19.5,2,null,null,null,null,null,null,null,null,null,null,null,null,null,"b"]
[19.5,3,null,null,null,null,null,null,null,null,null,null,null,null,null,"b"]
[19.5,4,null,null,null,null,null,null,null,null,null,null,null,null,null,"b"]
[19.5,5,null,null,null,null,null,null,null,null,null,null,null,null,null,"b"]
[19.5,6,null,null,null,null,null,null,null,null,null,null,null,null,null,"b"]
[19.5,7,null,null,null,null,null,null,null,null,null,null,null,null,null,"b"]
[19.5,8,null,null,null,null,null,null,null,null,null,null,null,null,null,"b"]
[{"$f":"$A$2","v":9}]
[9]
[9]
[9]
[9]
[9]
[9]
[9]
[9]
[9]
[9]
[9]
[9]
[9]
[9]
[9]
[9]
[9]
[9]
[9]
[9]
[9]
[9]
[9]
[9]
[9]
[9]
[9]
[9]
[9]
[{"$f":"$A$8","v":16.5},null,"ZDL-1(1)","2/2",null,null,null,null,null,null,null,null,{"$f":"'DL-1'!M10&\".\"&'DL-1'!Q24&Wersja","v":"2023..1.15.0.44867"}]
[9,"Załącznik nr 6"]
[{"$f":"$A$2","v":9},"WYPEŁNIĆ DUŻYMI, DRUKOWANYMI LITERAMI, CZARNYM LUB NIEBIESKIM KOLOREM."]
[4.5]
[{"$f":"$A$2","v":9},"1. Identyfikator podatkowy NIP/numer PESEL (niepotrzebne skreślić)1)\n└────┴────┴────┴────┴────┴────┴────┴────┴────┴────┴────┘",null,null,null,null,null,null,"2.  Nr dokumentu"]
[19.5,null,{"$f":"$C$6","v":0}]
[{"$f":"$A$2","v":9}]
[16.5,"ZDL-1"]
[{"$f":"$A$8","v":16.5},"ZAŁĄCZNIK DO DEKLARACJI NA PODATEK LEŚNY"]
[{"$f":"$A$8","v":16.5},"- DANE O PRZEDMIOTACH OPODATKOWANIA PODLEGAJĄCYCH OPODATKOWANIU"]
[{"$f":"$A$2","v":9},null,null,null,null,null,null,null,null,null,null,null,null,"3. Nr załącznika"]
[{"$f":"$A$6","v":19.5},null,null,null,null,null,null,null,null,null,null,null,null,{"$f":"N2572+1","v":34},null,{"$f":"SUM(Q:Q)","v":0},{"$f":"IF(COUNTA(C2663:O2670,C2683:O2690)=0,0,1)","v":0}]
[{"$f":"$A$4","v":4.5}]
[{"$f":"$A$4","v":4.5}]
[{"$f":"$A$8*1.5","v":24.75},"A.  DANE PODATNIKA WSKAZANEGO W CZĘŚCI C.1 DEKLARACJI DL-1\n* - dotyczy podatnika niebędącego osobą fizyczną               ** - dotyczy podatnika będącego osobą fizyczną"]
[{"$f":"$A$2","v":9},null,"4. Nazwa pełna * / Nazwisko **",null,null,null,null,null,"5. Nazwa skrócona * / Pierwsze imię **"]
[{"$f":"$A$6","v":19.5},null,{"$f":"\"\"&$C$17","v":""},null,null,null,null,null,{"$f":"\"\"&$I$17","v":""}]
[{"$f":"$A$4","v":4.5}]
[{"$f":"$A$8","v":16.5},"B.  DANE O POSZCZEGÓLNYCH PRZEDMIOTACH OPODATKOWANIA PODLEGAJĄCYCH OPODATKOWANIU"]
[16.5,"B.1.  LASY (z wyjątkiem lasów wchodzących w skład rezerwatów przyrody i parków narodowych)"]
[{"$f":"$A$8*1.5","v":24.75},"Lp.","Położenie (adres, w tym dzielnica)",null,null,null,null,"Nr księgi wieczystej\n(zbioru dokumentów)","Nr obrębu\n(arkusza mapy)2)","Nr działki","Powierzchnia w ha3)","Forma władania5)"]
[{"$f":"$A$2","v":9},null,"a",null,null,null,null,"b","c","d","e","f"]
[{"$f":"$A$6","v":19.5},1,null,null,null,null,null,null,null,null,null,null,null,null,null,"a"]
[19.5,2,null,null,null,null,null,null,null,null,null,null,null,null,null,"a"]
[19.5,3,null,null,null,null,null,null,null,null,null,null,null,null,null,"a"]
[19.5,4,null,null,null,null,null,null,null,null,null,null,null,null,null,"a"]
[19.5,5,null,null,null,null,null,null,null,null,null,null,null,null,null,"a"]
[19.5,6,null,null,null,null,null,null,null,null,null,null,null,null,null,"a"]
[19.5,7,null,null,null,null,null,null,null,null,null,null,null,null,null,"a"]
[19.5,8,null,null,null,null,null,null,null,null,null,null,null,null,null,"a"]
[{"$f":"$A$2","v":9}]
[{"$f":"$A$2*2","v":18},"1)","Numer PESEL wpisują podatnicy będący osobami fizycznymi objętymi rejestrem PESEL, nieprowadzący działalności gospodarczej lub niebędący zarejestrowanymi podatnikami podatku od towarów i usług.\nIdentyfikator podatkowy NIP wpisują pozostali podatnicy."]
[{"$f":"$A$2","v":9},"2)","Numer obrębu należy podać wraz z numerem arkusza mapy ewidencyjnej w przypadku, gdy działki numerowane są w ramach arkusza mapy."]
[9,"3)","Należy podać z dokładnością do czterech miejsc po przecinku."]
[9,"4)","Należy podać jedną z form władania: własność, użytkowanie wieczyste, posiadanie samoistne, posiadanie zależne lub posiadanie bez tytułu prawnego."]
[{"$f":"$A$8","v":16.5},null,{"$f":"'DL-1'!M10&\".\"&'DL-1'!Q24&Wersja","v":"2023..1.15.0.44867"},null,null,null,null,null,null,null,null,null,null,"ZDL-1(1)","1/2"]
[{"$f":"$A$2","v":9}]
[9,"WYPEŁNIĆ DUŻYMI, DRUKOWANYMI LITERAMI, CZARNYM LUB NIEBIESKIM KOLOREM."]
[4.5]
[{"$f":"$A$8","v":16.5},"B.2.  LASY WCHODZĄCE W SKŁAD REZERWATÓW PRZYRODY I PARKÓW NARODOWYCH"]
[{"$f":"$A$8*1.5","v":24.75},"Lp.","Położenie (adres, w tym dzielnica)",null,null,null,null,"Nr księgi wieczystej\n(zbioru dokumentów)","Nr obrębu\n(arkusza mapy)2)","Nr działki","Powierzchnia w ha3)","Forma władania5)"]
[{"$f":"$A$2","v":9},null,"a",null,null,null,null,"b","c","d","e","f"]
[{"$f":"$A$6","v":19.5},1,null,null,null,null,null,null,null,null,null,null,null,null,null,"b"]
[19.5,2,null,null,null,null,null,null,null,null,null,null,null,null,null,"b"]
[19.5,3,null,null,null,null,null,null,null,null,null,null,null,null,null,"b"]
[19.5,4,null,null,null,null,null,null,null,null,null,null,null,null,null,"b"]
[19.5,5,null,null,null,null,null,null,null,null,null,null,null,null,null,"b"]
[19.5,6,null,null,null,null,null,null,null,null,null,null,null,null,null,"b"]
[19.5,7,null,null,null,null,null,null,null,null,null,null,null,null,null,"b"]
[19.5,8,null,null,null,null,null,null,null,null,null,null,null,null,null,"b"]
[{"$f":"$A$2","v":9}]
[9]
[9]
[9]
[9]
[9]
[9]
[9]
[9]
[9]
[9]
[9]
[9]
[9]
[9]
[9]
[9]
[9]
[9]
[9]
[9]
[9]
[9]
[9]
[9]
[9]
[9]
[9]
[9]
[9]
[{"$f":"$A$8","v":16.5},null,"ZDL-1(1)","2/2",null,null,null,null,null,null,null,null,{"$f":"'DL-1'!M10&\".\"&'DL-1'!Q24&Wersja","v":"2023..1.15.0.44867"}]
[9,"Załącznik nr 6"]
[{"$f":"$A$2","v":9},"WYPEŁNIĆ DUŻYMI, DRUKOWANYMI LITERAMI, CZARNYM LUB NIEBIESKIM KOLOREM."]
[4.5]
[{"$f":"$A$2","v":9},"1. Identyfikator podatkowy NIP/numer PESEL (niepotrzebne skreślić)1)\n└────┴────┴────┴────┴────┴────┴────┴────┴────┴────┴────┘",null,null,null,null,null,null,"2.  Nr dokumentu"]
[19.5,null,{"$f":"$C$6","v":0}]
[{"$f":"$A$2","v":9}]
[16.5,"ZDL-1"]
[{"$f":"$A$8","v":16.5},"ZAŁĄCZNIK DO DEKLARACJI NA PODATEK LEŚNY"]
[{"$f":"$A$8","v":16.5},"- DANE O PRZEDMIOTACH OPODATKOWANIA PODLEGAJĄCYCH OPODATKOWANIU"]
[{"$f":"$A$2","v":9},null,null,null,null,null,null,null,null,null,null,null,null,"3. Nr załącznika"]
[{"$f":"$A$6","v":19.5},null,null,null,null,null,null,null,null,null,null,null,null,{"$f":"N2652+1","v":35},null,{"$f":"SUM(Q:Q)","v":0},{"$f":"IF(COUNTA(C2743:O2750,C2763:O2770)=0,0,1)","v":0}]
[{"$f":"$A$4","v":4.5}]
[{"$f":"$A$4","v":4.5}]
[{"$f":"$A$8*1.5","v":24.75},"A.  DANE PODATNIKA WSKAZANEGO W CZĘŚCI C.1 DEKLARACJI DL-1\n* - dotyczy podatnika niebędącego osobą fizyczną               ** - dotyczy podatnika będącego osobą fizyczną"]
[{"$f":"$A$2","v":9},null,"4. Nazwa pełna * / Nazwisko **",null,null,null,null,null,"5. Nazwa skrócona * / Pierwsze imię **"]
[{"$f":"$A$6","v":19.5},null,{"$f":"\"\"&$C$17","v":""},null,null,null,null,null,{"$f":"\"\"&$I$17","v":""}]
[{"$f":"$A$4","v":4.5}]
[{"$f":"$A$8","v":16.5},"B.  DANE O POSZCZEGÓLNYCH PRZEDMIOTACH OPODATKOWANIA PODLEGAJĄCYCH OPODATKOWANIU"]
[16.5,"B.1.  LASY (z wyjątkiem lasów wchodzących w skład rezerwatów przyrody i parków narodowych)"]
[{"$f":"$A$8*1.5","v":24.75},"Lp.","Położenie (adres, w tym dzielnica)",null,null,null,null,"Nr księgi wieczystej\n(zbioru dokumentów)","Nr obrębu\n(arkusza mapy)2)","Nr działki","Powierzchnia w ha3)","Forma władania5)"]
[{"$f":"$A$2","v":9},null,"a",null,null,null,null,"b","c","d","e","f"]
[{"$f":"$A$6","v":19.5},1,null,null,null,null,null,null,null,null,null,null,null,null,null,"a"]
[19.5,2,null,null,null,null,null,null,null,null,null,null,null,null,null,"a"]
[19.5,3,null,null,null,null,null,null,null,null,null,null,null,null,null,"a"]
[19.5,4,null,null,null,null,null,null,null,null,null,null,null,null,null,"a"]
[19.5,5,null,null,null,null,null,null,null,null,null,null,null,null,null,"a"]
[19.5,6,null,null,null,null,null,null,null,null,null,null,null,null,null,"a"]
[19.5,7,null,null,null,null,null,null,null,null,null,null,null,null,null,"a"]
[19.5,8,null,null,null,null,null,null,null,null,null,null,null,null,null,"a"]
[{"$f":"$A$2","v":9}]
[{"$f":"$A$2*2","v":18},"1)","Numer PESEL wpisują podatnicy będący osobami fizycznymi objętymi rejestrem PESEL, nieprowadzący działalności gospodarczej lub niebędący zarejestrowanymi podatnikami podatku od towarów i usług.\nIdentyfikator podatkowy NIP wpisują pozostali podatnicy."]
[{"$f":"$A$2","v":9},"2)","Numer obrębu należy podać wraz z numerem arkusza mapy ewidencyjnej w przypadku, gdy działki numerowane są w ramach arkusza mapy."]
[9,"3)","Należy podać z dokładnością do czterech miejsc po przecinku."]
[9,"4)","Należy podać jedną z form władania: własność, użytkowanie wieczyste, posiadanie samoistne, posiadanie zależne lub posiadanie bez tytułu prawnego."]
[{"$f":"$A$8","v":16.5},null,{"$f":"'DL-1'!M10&\".\"&'DL-1'!Q24&Wersja","v":"2023..1.15.0.44867"},null,null,null,null,null,null,null,null,null,null,"ZDL-1(1)","1/2"]
[{"$f":"$A$2","v":9}]
[9,"WYPEŁNIĆ DUŻYMI, DRUKOWANYMI LITERAMI, CZARNYM LUB NIEBIESKIM KOLOREM."]
[4.5]
[{"$f":"$A$8","v":16.5},"B.2.  LASY WCHODZĄCE W SKŁAD REZERWATÓW PRZYRODY I PARKÓW NARODOWYCH"]
[{"$f":"$A$8*1.5","v":24.75},"Lp.","Położenie (adres, w tym dzielnica)",null,null,null,null,"Nr księgi wieczystej\n(zbioru dokumentów)","Nr obrębu\n(arkusza mapy)2)","Nr działki","Powierzchnia w ha3)","Forma władania5)"]
[{"$f":"$A$2","v":9},null,"a",null,null,null,null,"b","c","d","e","f"]
[{"$f":"$A$6","v":19.5},1,null,null,null,null,null,null,null,null,null,null,null,null,null,"b"]
[19.5,2,null,null,null,null,null,null,null,null,null,null,null,null,null,"b"]
[19.5,3,null,null,null,null,null,null,null,null,null,null,null,null,null,"b"]
[19.5,4,null,null,null,null,null,null,null,null,null,null,null,null,null,"b"]
[19.5,5,null,null,null,null,null,null,null,null,null,null,null,null,null,"b"]
[19.5,6,null,null,null,null,null,null,null,null,null,null,null,null,null,"b"]
[19.5,7,null,null,null,null,null,null,null,null,null,null,null,null,null,"b"]
[19.5,8,null,null,null,null,null,null,null,null,null,null,null,null,null,"b"]
[{"$f":"$A$2","v":9}]
[9]
[9]
[9]
[9]
[9]
[9]
[9]
[9]
[9]
[9]
[9]
[9]
[9]
[9]
[9]
[9]
[9]
[9]
[9]
[9]
[9]
[9]
[9]
[9]
[9]
[9]
[9]
[9]
[9]
[{"$f":"$A$8","v":16.5},null,"ZDL-1(1)","2/2",null,null,null,null,null,null,null,null,{"$f":"'DL-1'!M10&\".\"&'DL-1'!Q24&Wersja","v":"2023..1.15.0.44867"}]

{"sheet":"ZDL-2","index":8,"n_rows":801,"n_cols":17,"rows_kept":801,"cut":false,"hidden":false,"merged":[[35,2,35,3],[800,12,800,13],[755,2,755,3],[675,2,675,3],[595,2,595,3],[515,2,515,3],[435,2,435,3],[355,2,355,3],[275,2,275,3],[195,2,195,3],[80,12,80,13],[160,12,160,13],[240,12,240,13],[320,12,320,13],[400,12,400,13],[480,12,480,13],[560,12,560,13],[640,12,640,13],[720,12,720,13],[769,2,769,6],[769,11,769,14],[766,2,766,6],[766,11,766,14],[767,2,767,6],[767,11,767,14],[768,2,768,6],[768,11,768,14],[763,2,763,6],[763,11,763,14],[764,2,764,6],[764,11,764,14],[765,2,765,6],[765,11,765,14],[760,2,760,6],[760,11,760,14],[761,2,761,6],[761,11,761,14],[762,2,762,6],[762,11,762,14],[752,2,752,14],[753,2,753,14],[754,2,754,14],[757,1,757,14],[759,1,759,14],[748,2,748,6],[748,11,748,14],[749,2,749,6],[749,11,749,14],[751,2,751,14],[745,2,745,6],[745,11,745,14],[746,2,746,6],[746,11,746,14],[747,2,747,6],[747,11,747,14],[742,2,742,6],[742,11,742,14],[743,2,743,6],[743,11,743,14],[744,2,744,6],[744,11,744,14],[738,1,738,14],[739,1,739,14],[740,2,740,6],[740,11,740,14],[741,2,741,6],[741,11,741,14],[735,2,735,7],[735,8,735,14],[736,2,736,7],[736,8,736,14],[737,1,737,14],[728,1,728,13],[729,1,729,13],[730,13,730,14],[733,1,733,14],[734,1,734,14],[722,1,722,14],[724,1,724,7],[724,8,724,14],[725,2,725,6],[725,8,725,14],[688,2,688,6],[688,11,688,14],[689,2,689,6],[689,11,689,14],[721,1,721,14],[685,2,685,6],[685,11,685,14],[686,2,686,6],[686,11,686,14],[687,2,687,6],[687,11,687,14],[682,2,682,6],[682,11,682,14],[683,2,683,6],[683,11,683,14],[684,2,684,6],[684,11,684,14],[679,1,679,14],[680,2,680,6],[680,11,680,14],[681,2,681,6],[681,11,681,14],[671,2,671,14],[672,2,672,14],[673,2,673,14],[674,2,674,14],[677,1,677,14],[667,2,667,6],[667,11,667,14],[668,2,668,6],[668,11,668,14],[669,2,669,6],[669,11,669,14],[664,2,664,6],[664,11,664,14],[665,2,665,6],[665,11,665,14],[666,2,666,6],[666,11,666,14],[661,2,661,6],[661,11,661,14],[662,2,662,6],[662,11,662,14],[663,2,663,6],[663,11,663,14],[657,1,657,14],[658,1,658,14],[659,1,659,14],[660,2,660,6],[660,11,660,14],[653,1,653,14],[654,1,654,14],[655,2,655,7],[655,8,655,14],[656,2,656,7],[656,8,656,14],[645,2,645,6],[645,8,645,14],[648,1,648,13],[649,1,649,13],[650,13,650,14],[609,2,609,6],[609,11,609,14],[641,1,641,14],[642,1,642,14],[644,1,644,7],[644,8,644,14],[606,2,606,6],[606,11,606,14],[607,2,607,6],[607,11,607,14],[608,2,608,6],[608,11,608,14],[603,2,603,6],[603,11,603,14],[604,2,604,6],[604,11,604,14],[605,2,605,6],[605,11,605,14],[600,2,600,6],[600,11,600,14],[601,2,601,6],[601,11,601,14],[602,2,602,6],[602,11,602,14],[592,2,592,14],[593,2,593,14],[594,2,594,14],[597,1,597,14],[599,1,599,14],[588,2,588,6],[588,11,588,14],[589,2,589,6],[589,11,589,14],[591,2,591,14],[585,2,585,6],[585,11,585,14],[586,2,586,6],[586,11,586,14],[587,2,587,6],[587,11,587,14],[582,2,582,6],[582,11,582,14],[583,2,583,6],[583,11,583,14],[584,2,584,6],[584,11,584,14],[578,1,578,14],[579,1,579,14],[580,2,580,6],[580,11,580,14],[581,2,581,6],[581,11,581,14],[575,2,575,7],[575,8,575,14],[576,2,576,7],[576,8,576,14],[577,1,577,14],[568,1,568,13],[569,1,569,13],[570,13,570,14],[573,1,573,14],[574,1,574,14],[562,1,562,14],[564,1,564,7],[564,8,564,14],[565,2,565,6],[565,8,565,14],[528,2,528,6],[528,11,528,14],[529,2,529,6],[529,11,529,14],[561,1,561,14],[525,2,525,6],[525,11,525,14],[526,2,526,6],[526,11,526,14],[527,2,527,6],[527,11,527,14],[522,2,522,6],[522,11,522,14],[523,2,523,6],[523,11,523,14],[524,2,524,6],[524,11,524,14],[519,1,519,14],[520,2,520,6],[520,11,520,14],[521,2,521,6],[521,11,521,14],[511,2,511,14],[512,2,512,14],[513,2,513,14],[514,2,514,14],[517,1,517,14],[507,2,507,6],[507,11,507,14],[508,2,508,6],[508,11,508,14],[509,2,509,6],[509,11,509,14],[504,2,504,6],[504,11,504,14],[505,2,505,6],[505,11,505,14],[506,2,506,6],[506,11,506,14],[501,2,501,6],[501,11,501,14],[502,2,502,6],[502,11,502,14],[503,2,503,6],[503,11,503,14],[497,1,497,14],[498,1,498,14],[499,1,499,14],[500,2,500,6],[500,11,500,14],[493,1,493,14],[494,1,494,14],[495,2,495,7],[495,8,495,14],[496,2,496,7],[496,8,496,14],[485,2,485,6],[485,8,485,14],[488,1,488,13],[489,1,489,13],[490,13,490,14],[449,2,449,6],[449,11,449,14],[481,1,481,14],[482,1,482,14],[484,1,484,7],[484,8,484,14],[446,2,446,6],[446,11,446,14],[447,2,447,6],[447,11,447,14],[448,2,448,6],[448,11,448,14],[443,2,443,6],[443,11,443,14],[444,2,444,6],[444,11,444,14],[445,2,445,6],[445,11,445,14],[440,2,440,6],[440,11,440,14],[441,2,441,6],[441,11,441,14],[442,2,442,6],[442,11,442,14],[432,2,432,14],[433,2,433,14],[434,2,434,14],[437,1,437,14],[439,1,439,14],[428,2,428,6],[428,11,428,14],[429,2,429,6],[429,11,429,14],[431,2,431,14],[425,2,425,6],[425,11,425,14],[426,2,426,6],[426,11,426,14],[427,2,427,6],[427,11,427,14],[422,2,422,6],[422,11,422,14],[423,2,423,6],[423,11,423,14],[424,2,424,6],[424,11,424,14],[418,1,418,14],[419,1,419,14],[420,2,420,6],[420,11,420,14],[421,2,421,6],[421,11,421,14],[415,2,415,7],[415,8,415,14],[416,2,416,7],[416,8,416,14],[417,1,417,14],[408,1,408,13],[409,1,409,13],[410,13,410,14],[413,1,413,14],[414,1,414,14],[402,1,402,14],[404,1,404,7],[404,8,404,14],[405,2,405,6],[405,8,405,14],[368,2,368,6],[368,11,368,14],[369,2,369,6],[369,11,369,14],[401,1,401,14],[365,2,365,6],[365,11,365,14],[366,2,366,6],[366,11,366,14],[367,2,367,6],[367,11,367,14],[362,2,362,6],[362,11,362,14],[363,2,363,6],[363,11,363,14],[364,2,364,6],[364,11,364,14],[359,1,359,14],[360,2,360,6],[360,11,360,14],[361,2,361,6],[361,11,361,14],[351,2,351,14],[352,2,352,14],[353,2,353,14],[354,2,354,14],[357,1,357,14],[347,2,347,6],[347,11,347,14],[348,2,348,6],[348,11,348,14],[349,2,349,6],[349,11,349,14],[344,2,344,6],[344,11,344,14],[345,2,345,6],[345,11,345,14],[346,2,346,6],[346,11,346,14],[341,2,341,6],[341,11,341,14],[342,2,342,6],[342,11,342,14],[343,2,343,6],[343,11,343,14],[337,1,337,14],[338,1,338,14],[339,1,339,14],[340,2,340,6],[340,11,340,14],[333,1,333,14],[334,1,334,14],[335,2,335,7],[335,8,335,14],[336,2,336,7],[336,8,336,14],[325,2,325,6],[325,8,325,14],[328,1,328,13],[329,1,329,13],[330,13,330,14],[289,2,289,6],[289,11,289,14],[321,1,321,14],[322,1,322,14],[324,1,324,7],[324,8,324,14],[286,2,286,6],[286,11,286,14],[287,2,287,6],[287,11,287,14],[288,2,288,6],[288,11,288,14],[283,2,283,6],[283,11,283,14],[284,2,284,6],[284,11,284,14],[285,2,285,6],[285,11,285,14],[280,2,280,6],[280,11,280,14],[281,2,281,6],[281,11,281,14],[282,2,282,6],[282,11,282,14],[272,2,272,14],[273,2,273,14],[274,2,274,14],[277,1,277,14],[279,1,279,14],[268,2,268,6],[268,11,268,14],[269,2,269,6],[269,11,269,14],[271,2,271,14],[265,2,265,6],[265,11,265,14],[266,2,266,6],[266,11,266,14],[267,2,267,6],[267,11,267,14],[262,2,262,6],[262,11,262,14],[263,2,263,6],[263,11,263,14],[264,2,264,6],[264,11,264,14],[258,1,258,14],[259,1,259,14],[260,2,260,6],[260,11,260,14],[261,2,261,6],[261,11,261,14],[255,2,255,7],[255,8,255,14],[256,2,256,7],[256,8,256,14],[257,1,257,14],[248,1,248,13],[249,1,249,13],[250,13,250,14],[253,1,253,14],[254,1,254,14],[242,1,242,14],[244,1,244,7],[244,8,244,14],[245,2,245,6],[245,8,245,14],[208,2,208,6],[208,11,208,14],[209,2,209,6],[209,11,209,14],[241,1,241,14],[205,2,205,6],[205,11,205,14],[206,2,206,6],[206,11,206,14],[207,2,207,6],[207,11,207,14],[202,2,202,6],[202,11,202,14],[203,2,203,6],[203,11,203,14],[204,2,204,6],[204,11,204,14],[199,1,199,14],[200,2,200,6],[200,11,200,14],[201,2,201,6],[201,11,201,14],[191,2,191,14],[192,2,192,14],[193,2,193,14],[194,2,194,14],[197,1,197,14],[187,2,187,6],[187,11,187,14],[188,2,188,6],[188,11,188,14],[189,2,189,6],[189,11,189,14],[184,2,184,6],[184,11,184,14],[185,2,185,6],[185,11,185,14],[186,2,186,6],[186,11,186,14],[181,2,181,6],[181,11,181,14],[182,2,182,6],[182,11,182,14],[183,2,183,6],[183,11,183,14],[177,1,177,14],[178,1,178,14],[179,1,179,14],[180,2,180,6],[180,11,180,14],[173,1,173,14],[174,1,174,14],[175,2,175,7],[175,8,175,14],[176,2,176,7],[176,8,176,14],[165,2,165,6],[165,8,165,14],[168,1,168,13],[169,1,169,13],[170,13,170,14],[129,2,129,6],[129,11,129,14],[161,1,161,14],[162,1,162,14],[164,1,164,7],[164,8,164,14],[126,2,126,6],[126,11,126,14],[127,2,127,6],[127,11,127,14],[128,2,128,6],[128,11,128,14],[123,2,123,6],[123,11,123,14],[124,2,124,6],[124,11,124,14],[125,2,125,6],[125,11,125,14],[120,2,120,6],[120,11,120,14],[121,2,121,6],[121,11,121,14],[122,2,122,6],[122,11,122,14],[112,2,112,14],[113,2,113,14],[114,2,114,14],[117,1,117,14],[119,1,119,14],[115,2,115,3],[108,2,108,6],[108,11,108,14],[109,2,109,6],[109,11,109,14],[111,2,111,14],[105,2,105,6],[105,11,105,14],[106,2,106,6],[106,11,106,14],[107,2,107,6],[107,11,107,14],[102,2,102,6],[102,11,102,14],[103,2,103,6],[103,11,103,14],[104,2,104,6],[104,11,104,14],[98,1,98,14],[99,1,99,14],[100,2,100,6],[100,11,100,14],[101,2,101,6],[101,11,101,14],[95,2,95,7],[95,8,95,14],[96,2,96,7],[96,8,96,14],[97,1,97,14],[88,1,88,13],[89,1,89,13],[90,13,90,14],[93,1,93,14],[94,1,94,14],[81,1,81,14],[82,1,82,14],[84,1,84,7],[84,8,84,14],[85,2,85,6],[85,8,85,14],[14,1,14,14],[1,1,1,14],[2,1,2,14],[4,1,4,7],[4,8,4,14],[5,2,5,6],[5,8,5,14],[8,1,8,13],[9,1,9,13],[13,1,13,14],[10,13,10,14],[22,2,22,6],[22,11,22,14],[15,2,15,7],[15,8,15,14],[16,2,16,7],[16,8,16,14],[17,1,17,14],[18,1,18,14],[19,1,19,14],[20,2,20,6],[20,11,20,14],[21,2,21,6],[21,11,21,14],[23,2,23,6],[23,11,23,14],[24,2,24,6],[24,11,24,14],[25,2,25,6],[25,11,25,14],[34,2,34,14],[26,2,26,6],[26,11,26,14],[27,2,27,6],[27,11,27,14],[28,2,28,6],[28,11,28,14],[29,2,29,6],[29,11,29,14],[31,2,31,14],[32,2,32,14],[33,2,33,14],[37,1,37,14],[39,1,39,14],[40,2,40,6],[40,11,40,14],[41,2,41,6],[41,11,41,14],[42,2,42,6],[42,11,42,14],[43,2,43,6],[43,11,43,14],[44,2,44,6],[44,11,44,14],[48,2,48,6],[48,11,48,14],[49,2,49,6],[49,11,49,14],[45,2,45,6],[45,11,45,14],[46,2,46,6],[46,11,46,14],[47,2,47,6],[47,11,47,14]]}
[17,2.5,{"$f":"$A$1-D1","v":11},6,{"$f":"$A$1*0.5","v":8.5},{"$f":"$A$1*0.6","v":10.199999999999999},{"$f":"$A$1","v":17},{"$f":"$A$1","v":17},{"$f":"$A$1*0.6","v":10.199999999999999},{"$f":"$A$1*0.6","v":10.199999999999999},{"$f":"$A$1","v":17},{"$f":"$A$1*0.3","v":5.0999999999999996},{"$f":"$A$1*0.3","v":5.0999999999999996},{"$f":"$A$1-O1","v":11},6]
[9,"Załącznik nr 7"]
[{"$f":"$A$2","v":9},"WYPEŁNIĆ DUŻYMI, DRUKOWANYMI LITERAMI, CZARNYM LUB NIEBIESKIM KOLOREM."]
[4.5]
[{"$f":"$A$2","v":9},"1. Identyfikator podatkowy NIP/numer PESEL (niepotrzebne skreślić)1)\n└────┴────┴────┴────┴────┴────┴────┴────┴────┴────┴────┘",null,null,null,null,null,null,"2.  Nr dokumentu"]
[19.5]
[{"$f":"$A$2","v":9}]
[16.5,"ZDL-2"]
[{"$f":"$A$8","v":16.5},"ZAŁĄCZNIK DO DEKLARACJI NA PODATEK LEŚNY"]
[{"$f":"$A$8","v":16.5},"- DANE O PRZEDMIOTACH OPODATKOWANIA ZWOLNIONYCH Z OPODATKOWANIA"]
[{"$f":"$A$2","v":9},null,null,null,null,null,null,null,null,null,null,null,null,"3. Nr załącznika\n└────┴────┴────┘"]
[{"$f":"$A$6","v":19.5},null,null,null,null,null,null,null,null,null,null,null,null,1,null,{"$f":"SUM(Q:Q)","v":0},{"$f":"IF(COUNTA(C23:O30,C43:O50)=0,0,1)","v":0}]
[{"$f":"$A$4","v":4.5}]
[{"$f":"$A$4","v":4.5}]
[{"$f":"$A$8*1.5","v":24.75},"A.  DANE PODATNIKA WSKAZANEGO W CZĘŚCI C.1 DEKLARACJI DL-1\n* - dotyczy podatnika niebędącego osobą fizyczną               ** - dotyczy podatnika będącego osobą fizyczną"]
[{"$f":"$A$2","v":9},null,"4. Nazwa pełna * / Nazwisko **",null,null,null,null,null,"5. Nazwa skrócona * / Pierwsze imię **"]
[{"$f":"$A$6","v":19.5}]
[{"$f":"$A$4","v":4.5}]
[{"$f":"$A$8","v":16.5},"B.  DANE O POSZCZEGÓLNYCH PRZEDMIOTACH OPODATKOWANIA ZWOLNIONYCH Z OPODATKOWANIA"]
[16.5,"B.1.  LASY (z wyjątkiem lasów wchodzących w skład rezerwatów przyrody i parków narodowych)"]
[{"$f":"$A$8*1.5","v":24.75},"Lp.","Położenie (adres, w tym dzielnica)",null,null,null,null,"Nr księgi wieczystej\n(zbioru dokumentów)","Nr obrębu\n(arkusza mapy)2)","Nr działki","Powierzchnia w/ ha3)","Podstawa prawna zwolnienia4)"]
[{"$f":"$A$2","v":9},null,"a",null,null,null,null,"b","c","d","e","f"]
[{"$f":"$A$6","v":19.5},1]
[19.5,2]
[19.5,3]
[19.5,4]
[19.5,5]
[19.5,6]
[19.5,7]
[19.5,8]
[{"$f":"$A$2","v":9}]
[{"$f":"$A$2*2","v":18},"1)","Numer PESEL wpisują podatnicy będący osobami fizycznymi objętymi rejestrem PESEL, nieprowadzący działalności gospodarczej lub niebędący zarejestrowanymi podatnikami podatku od towarów i usług.\nIdentyfikator podatkowy NIP wpisują pozostali podatnicy."]
[{"$f":"$A$2","v":9},"2)","Numer obrębu należy podać wraz z numerem arkusza mapy ewidencyjnej w przypadku, gdy działki numerowane są w ramach arkusza mapy."]
[{"$f":"$A$2","v":9},"3)","Należy podać z dokładnością do czterech miejsc po przecinku."]
[{"$f":"$A$2","v":9},"4)","Należy podać jednostkę redakcyjną z ustawy lub uchwały rady gminy."]
[{"$f":"$A$8","v":16.5},null,{"$f":"'DL-1'!M10&\".\"&'DL-1'!Q24&Wersja","v":"2023..1.15.0.44867"},null,null,null,null,null,null,null,null,null,null,"ZDL-2(1)","1/2"]
[{"$f":"$A$2","v":9}]
[{"$f":"$A$2","v":9},"WYPEŁNIĆ DUŻYMI, DRUKOWANYMI LITERAMI, CZARNYM LUB NIEBIESKIM KOLOREM."]
[4.5]
[{"$f":"$A$8","v":16.5},"B.2.  LASY WCHODZĄCE W SKŁAD REZERWATÓW PRZYRODY I PARKÓW NARODOWYCH"]
[{"$f":"$A$8*1.5","v":24.75},"Lp.","Położenie (adres, w tym dzielnica)",null,null,null,null,"Nr księgi wieczystej\n(zbioru dokumentów)","Nr obrębu\n(arkusza mapy)2)","Nr działki","Powierzchnia w/ ha3)","Podstawa prawna zwolnienia4)"]
[{"$f":"$A$2","v":9},null,"a",null,null,null,null,"b","c","d","e","f"]
[{"$f":"$A$6","v":19.5},1]
[19.5,2]
[19.5,3]
[19.5,4]
[19.5,5]
[19.5,6]
[19.5,7]
[19.5,8]
[{"$f":"$A$2","v":9}]
[{"$f":"$A$2","v":9}]
[9]
[9]
[9]
[9]
[9]
[9]
[9]
[9]
[9]
[9]
[9]
[9]
[9]
[9]
[9]
[9]
[9]
[9]
[9]
[9]
[9]
[9]
[9]
[9]
[9]
[9]
[9]
[9]
[{"$f":"$A$8","v":16.5},null,"ZDL-2(1)","2/2",null,null,null,null,null,null,null,null,{"$f":"'DL-1'!M10&\".\"&'DL-1'!Q24&Wersja","v":"2023..1.15.0.44867"}]
[9,"Załącznik nr 6"]
[{"$f":"$A$2","v":9},"WYPEŁNIĆ DUŻYMI, DRUKOWANYMI LITERAMI, CZARNYM LUB NIEBIESKIM KOLOREM."]
[4.5]
[{"$f":"$A$2","v":9},"1. Identyfikator podatkowy NIP/numer PESEL (niepotrzebne skreślić)1)\n└────┴────┴────┴────┴────┴────┴────┴────┴────┴────┴────┘",null,null,null,null,null,null,"2.  Nr dokumentu"]
[19.5,null,{"$f":"C6","v":0}]
[{"$f":"$A$2","v":9}]
[16.5,"ZDL-2"]
[{"$f":"$A$8","v":16.5},"ZAŁĄCZNIK DO DEKLARACJI NA PODATEK LEŚNY"]
[{"$f":"$A$8","v":16.5},"- DANE O PRZEDMIOTACH OPODATKOWANIA ZWOLNIONYCH Z OPODATKOWANIA"]
[{"$f":"$A$2","v":9},null,null,null,null,null,null,null,null,null,null,null,null,"3. Nr załącznika"]
[{"$f":"$A$6","v":19.5},null,null,null,null,null,null,null,null,null,null,null,null,{"$f":"N12+1","v":2},null,null,{"$f":"IF(COUNTA(C103:O110,C123:O130)=0,0,1)","v":0}]
[{"$f":"$A$4","v":4.5}]
[{"$f":"$A$4","v":4.5}]
[{"$f":"$A$8*1.5","v":24.75},"A.  DANE PODATNIKA WSKAZANEGO W CZĘŚCI C.1 DEKLARACJI DL-1\n* - dotyczy podatnika niebędącego osobą fizyczną               ** - dotyczy podatnika będącego osobą fizyczną"]
[{"$f":"$A$2","v":9},null,"4. Nazwa pełna * / Nazwisko **",null,null,null,null,null,"5. Nazwa skrócona * / Pierwsze imię **"]
[{"$f":"$A$6","v":19.5},null,{"$f":"\"\"&$C$17","v":""},null,null,null,null,null,{"$f":"\"\"&$I$17","v":""}]
[{"$f":"$A$4","v":4.5}]
[{"$f":"$A$8","v":16.5},"B.  DANE O POSZCZEGÓLNYCH PRZEDMIOTACH OPODATKOWANIA ZWOLNIONYCH Z OPODATKOWANIA"]
[16.5,"B.1.  LASY (z wyjątkiem lasów wchodzących w skład rezerwatów przyrody i parków narodowych)"]
[{"$f":"$A$8*1.5","v":24.75},"Lp.","Położenie (adres, w tym dzielnica)",null,null,null,null,"Nr księgi wieczystej\n(zbioru dokumentów)","Nr obrębu\n(arkusza mapy)2)","Nr działki","Powierzchnia w/ ha3)","Podstawa prawna zwolnienia4)"]
[{"$f":"$A$2","v":9},null,"a",null,null,null,null,"b","c","d","e","f"]
[{"$f":"$A$6","v":19.5},1]
[19.5,2]
[19.5,3]
[19.5,4]
[19.5,5]
[19.5,6]
[19.5,7]
[19.5,8]
[{"$f":"$A$2","v":9}]
[{"$f":"$A$2*2","v":18},"1)","Numer PESEL wpisują podatnicy będący osobami fizycznymi objętymi rejestrem PESEL, nieprowadzący działalności gospodarczej lub niebędący zarejestrowanymi podatnikami podatku od towarów i usług.\nIdentyfikator podatkowy NIP wpisują pozostali podatnicy."]
[{"$f":"$A$2","v":9},"2)","Numer obrębu należy podać wraz z numerem arkusza mapy ewidencyjnej w przypadku, gdy działki numerowane są w ramach arkusza mapy."]
[{"$f":"$A$2","v":9},"3)","Należy podać z dokładnością do czterech miejsc po przecinku."]
[{"$f":"$A$2","v":9},"4)","Należy podać jednostkę redakcyjną z ustawy lub uchwały rady gminy."]
[{"$f":"$A$8","v":16.5},null,{"$f":"'DL-1'!M10&\".\"&'DL-1'!Q24&Wersja","v":"2023..1.15.0.44867"},null,null,null,null,null,null,null,null,null,null,"ZDL-2(1)","1/2"]
[{"$f":"$A$2","v":9}]
[{"$f":"$A$2","v":9},"WYPEŁNIĆ DUŻYMI, DRUKOWANYMI LITERAMI, CZARNYM LUB NIEBIESKIM KOLOREM."]
[4.5]
[{"$f":"$A$8","v":16.5},"B.2.  LASY WCHODZĄCE W SKŁAD REZERWATÓW PRZYRODY I PARKÓW NARODOWYCH"]
[{"$f":"$A$8*1.5","v":24.75},"Lp.","Położenie (adres, w tym dzielnica)",null,null,null,null,"Nr księgi wieczystej\n(zbioru dokumentów)","Nr obrębu\n(arkusza mapy)2)","Nr działki","Powierzchnia w/ ha3)","Podstawa prawna zwolnienia4)"]
[{"$f":"$A$2","v":9},null,"a",null,null,null,null,"b","c","d","e","f"]
[{"$f":"$A$6","v":19.5},1]
[19.5,2]
[19.5,3]
[19.5,4]
[19.5,5]
[19.5,6]
[19.5,7]
[19.5,8]
[{"$f":"$A$2","v":9}]
[9]
[9]
[9]
[9]
[9]
[9]
[9]
[9]
[9]
[9]
[9]
[9]
[9]
[9]
[9]
[9]
[9]
[9]
[9]
[9]
[9]
[9]
[9]
[9]
[9]
[9]
[9]
[9]
[9]
[{"$f":"$A$8","v":16.5},null,"ZDL-2(1)","2/2",null,null,null,null,null,null,null,null,{"$f":"'DL-1'!M10&\".\"&'DL-1'!Q24&Wersja","v":"2023..1.15.0.44867"}]
[9,"Załącznik nr 6"]
[{"$f":"$A$2","v":9},"WYPEŁNIĆ DUŻYMI, DRUKOWANYMI LITERAMI, CZARNYM LUB NIEBIESKIM KOLOREM."]
[4.5]
[{"$f":"$A$2","v":9},"1. Identyfikator podatkowy NIP/numer PESEL (niepotrzebne skreślić)1)\n└────┴────┴────┴────┴────┴────┴────┴────┴────┴────┴────┘",null,null,null,null,null,null,"2.  Nr dokumentu"]
[19.5,null,{"$f":"C86","v":0}]
[{"$f":"$A$2","v":9}]
[16.5,"ZDL-2"]
[{"$f":"$A$8","v":16.5},"ZAŁĄCZNIK DO DEKLARACJI NA PODATEK LEŚNY"]
[{"$f":"$A$8","v":16.5},"- DANE O PRZEDMIOTACH OPODATKOWANIA ZWOLNIONYCH Z OPODATKOWANIA"]
[{"$f":"$A$2","v":9},null,null,null,null,null,null,null,null,null,null,null,null,"3. Nr załącznika"]
[{"$f":"$A$6","v":19.5},null,null,null,null,null,null,null,null,null,null,null,null,{"$f":"N92+1","v":3},null,null,{"$f":"IF(COUNTA(C183:O190,C203:O210)=0,0,1)","v":0}]
[{"$f":"$A$4","v":4.5}]
[4.5]
[{"$f":"$A$8*1.5","v":24.75},"A.  DANE PODATNIKA WSKAZANEGO W CZĘŚCI C.1 DEKLARACJI DL-1\n* - dotyczy podatnika niebędącego osobą fizyczną               ** - dotyczy podatnika będącego osobą fizyczną"]
[{"$f":"$A$2","v":9},null,"4. Nazwa pełna * / Nazwisko **",null,null,null,null,null,"5. Nazwa skrócona * / Pierwsze imię **"]
[{"$f":"$A$6","v":19.5},null,{"$f":"\"\"&$C$17","v":""},null,null,null,null,null,{"$f":"\"\"&$I$17","v":""}]
[{"$f":"$A$4","v":4.5}]
[{"$f":"$A$8","v":16.5},"B.  DANE O POSZCZEGÓLNYCH PRZEDMIOTACH OPODATKOWANIA ZWOLNIONYCH Z OPODATKOWANIA"]
[16.5,"B.1.  LASY (z wyjątkiem lasów wchodzących w skład rezerwatów przyrody i parków narodowych)"]
[{"$f":"$A$8*1.5","v":24.75},"Lp.","Położenie (adres, w tym dzielnica)",null,null,null,null,"Nr księgi wieczystej\n(zbioru dokumentów)","Nr obrębu\n(arkusza mapy)2)","Nr działki","Powierzchnia w/ ha3)","Podstawa prawna zwolnienia4)"]
[{"$f":"$A$2","v":9},null,"a",null,null,null,null,"b","c","d","e","f"]
[{"$f":"$A$6","v":19.5},1]
[19.5,2]
[19.5,3]
[19.5,4]
[19.5,5]
[19.5,6]
[19.5,7]
[19.5,8]
[{"$f":"$A$2","v":9}]
[{"$f":"$A$2*2","v":18},"1)","Numer PESEL wpisują podatnicy będący osobami fizycznymi objętymi rejestrem PESEL, nieprowadzący działalności gospodarczej lub niebędący zarejestrowanymi podatnikami podatku od towarów i usług.\nIdentyfikator podatkowy NIP wpisują pozostali podatnicy."]
[{"$f":"$A$2","v":9},"2)","Numer obrębu należy podać wraz z numerem arkusza mapy ewidencyjnej w przypadku, gdy działki numerowane są w ramach arkusza mapy."]
[9,"3)","Należy podać z dokładnością do czterech miejsc po przecinku."]
[9,"4)","Należy podać jednostkę redakcyjną z ustawy lub uchwały rady gminy."]
[{"$f":"$A$8","v":16.5},null,{"$f":"'DL-1'!M10&\".\"&'DL-1'!Q24&Wersja","v":"2023..1.15.0.44867"},null,null,null,null,null,null,null,null,null,null,"ZDL-2(1)","1/2"]
[{"$f":"$A$2","v":9}]
[9,"WYPEŁNIĆ DUŻYMI, DRUKOWANYMI LITERAMI, CZARNYM LUB NIEBIESKIM KOLOREM."]
[4.5]
[{"$f":"$A$8","v":16.5},"B.2.  LASY WCHODZĄCE W SKŁAD REZERWATÓW PRZYRODY I PARKÓW NARODOWYCH"]
[{"$f":"$A$8*1.5","v":24.75},"Lp.","Położenie (adres, w tym dzielnica)",null,null,null,null,"Nr księgi wieczystej\n(zbioru dokumentów)","Nr obrębu\n(arkusza mapy)2)","Nr działki","Powierzchnia w/ ha3)","Podstawa prawna zwolnienia4)"]
[{"$f":"$A$2","v":9},null,"a",null,null,null,null,"b","c","d","e","f"]
[{"$f":"$A$6","v":19.5},1]
[19.5,2]
[19.5,3]
[19.5,4]
[19.5,5]
[19.5,6]
[19.5,7]
[19.5,8]
[{"$f":"$A$2","v":9}]
[9]
[9]
[9]
[9]
[9]
[9]
[9]
[9]
[9]
[9]
[9]
[9]
[9]
[9]
[9]
[9]
[9]
[9]
[9]
[9]
[9]
[9]
[9]
[9]
[9]
[9]
[9]
[9]
[9]
[{"$f":"$A$8","v":16.5},null,"ZDL-2(1)","2/2",null,null,null,null,null,null,null,null,{"$f":"'DL-1'!M10&\".\"&'DL-1'!Q24&Wersja","v":"2023..1.15.0.44867"}]
[9,"Załącznik nr 6"]
[{"$f":"$A$2","v":9},"WYPEŁNIĆ DUŻYMI, DRUKOWANYMI LITERAMI, CZARNYM LUB NIEBIESKIM KOLOREM."]
[4.5]
[{"$f":"$A$2","v":9},"1. Identyfikator podatkowy NIP/numer PESEL (niepotrzebne skreślić)1)\n└────┴────┴────┴────┴────┴────┴────┴────┴────┴────┴────┘",null,null,null,null,null,null,"2.  Nr dokumentu"]
[19.5,null,{"$f":"C166","v":0}]
[{"$f":"$A$2","v":9}]
[16.5,"ZDL-2"]
[{"$f":"$A$8","v":16.5},"ZAŁĄCZNIK DO DEKLARACJI NA PODATEK LEŚNY"]
[16.5,"- DANE O PRZEDMIOTACH OPODATKOWANIA ZWOLNIONYCH Z OPODATKOWANIA"]
[{"$f":"$A$2","v":9},null,null,null,null,null,null,null,null,null,null,null,null,"3. Nr załącznika"]
[{"$f":"$A$6","v":19.5},null,null,null,null,null,null,null,null,null,null,null,null,{"$f":"N172+1","v":4},null,null,{"$f":"IF(COUNTA(C263:O270,C283:O290)=0,0,1)","v":0}]
[{"$f":"$A$4","v":4.5}]
[4.5]
[{"$f":"$A$8*1.5","v":24.75},"A.  DANE PODATNIKA WSKAZANEGO W CZĘŚCI C.1 DEKLARACJI DL-1\n* - dotyczy podatnika niebędącego osobą fizyczną               ** - dotyczy podatnika będącego osobą fizyczną"]
[{"$f":"$A$2","v":9},null,"4. Nazwa pełna * / Nazwisko **",null,null,null,null,null,"5. Nazwa skrócona * / Pierwsze imię **"]
[{"$f":"$A$6","v":19.5},null,{"$f":"\"\"&$C$17","v":""},null,null,null,null,null,{"$f":"\"\"&$I$17","v":""}]
[{"$f":"$A$4","v":4.5}]
[{"$f":"$A$8","v":16.5},"B.  DANE O POSZCZEGÓLNYCH PRZEDMIOTACH OPODATKOWANIA ZWOLNIONYCH Z OPODATKOWANIA"]
[16.5,"B.1.  LASY (z wyjątkiem lasów wchodzących w skład rezerwatów przyrody i parków narodowych)"]
[{"$f":"$A$8*1.5","v":24.75},"Lp.","Położenie (adres, w tym dzielnica)",null,null,null,null,"Nr księgi wieczystej\n(zbioru dokumentów)","Nr obrębu\n(arkusza mapy)2)","Nr działki","Powierzchnia w/ ha3)","Podstawa prawna zwolnienia4)"]
[{"$f":"$A$2","v":9},null,"a",null,null,null,null,"b","c","d","e","f"]
[{"$f":"$A$6","v":19.5},1]
[19.5,2]
[19.5,3]
[19.5,4]
[19.5,5]
[19.5,6]
[19.5,7]
[19.5,8]
[{"$f":"$A$2","v":9}]
[{"$f":"$A$2*2","v":18},"1)","Numer PESEL wpisują podatnicy będący osobami fizycznymi objętymi rejestrem PESEL, nieprowadzący działalności gospodarczej lub niebędący zarejestrowanymi podatnikami podatku od towarów i usług.\nIdentyfikator podatkowy NIP wpisują pozostali podatnicy."]
[{"$f":"$A$2","v":9},"2)","Numer obrębu należy podać wraz z numerem arkusza mapy ewidencyjnej w przypadku, gdy działki numerowane są w ramach arkusza mapy."]
[9,"3)","Należy podać z dokładnością do czterech miejsc po przecinku."]
[9,"4)","Należy podać jednostkę redakcyjną z ustawy lub uchwały rady gminy."]
[{"$f":"$A$8","v":16.5},null,{"$f":"'DL-1'!M10&\".\"&'DL-1'!Q24&Wersja","v":"2023..1.15.0.44867"},null,null,null,null,null,null,null,null,null,null,"ZDL-2(1)","1/2"]
[{"$f":"$A$2","v":9}]
[9,"WYPEŁNIĆ DUŻYMI, DRUKOWANYMI LITERAMI, CZARNYM LUB NIEBIESKIM KOLOREM."]
[4.5]
[{"$f":"$A$8","v":16.5},"B.2.  LASY WCHODZĄCE W SKŁAD REZERWATÓW PRZYRODY I PARKÓW NARODOWYCH"]
[{"$f":"$A$8*1.5","v":24.75},"Lp.","Położenie (adres, w tym dzielnica)",null,null,null,null,"Nr księgi wieczystej\n(zbioru dokumentów)","Nr obrębu\n(arkusza mapy)2)","Nr działki","Powierzchnia w/ ha3)","Podstawa prawna zwolnienia4)"]
[{"$f":"$A$2","v":9},null,"a",null,null,null,null,"b","c","d","e","f"]
[{"$f":"$A$6","v":19.5},1]
[19.5,2]
[19.5,3]
[19.5,4]
[19.5,5]
[19.5,6]
[19.5,7]
[19.5,8]
[{"$f":"$A$2","v":9}]
[9]
[9]
[9]
[9]
[9]
[9]
[9]
[9]
[9]
[9]
[9]
[9]
[9]
[9]
[9]
[9]
[9]
[9]
[9]
[9]
[9]
[9]
[9]
[9]
[9]
[9]
[9]
[9]
[9]
[{"$f":"$A$8","v":16.5},null,"ZDL-2(1)","2/2",null,null,null,null,null,null,null,null,{"$f":"'DL-1'!M10&\".\"&'DL-1'!Q24&Wersja","v":"2023..1.15.0.44867"}]
[9,"Załącznik nr 6"]
[{"$f":"$A$2","v":9},"WYPEŁNIĆ DUŻYMI, DRUKOWANYMI LITERAMI, CZARNYM LUB NIEBIESKIM KOLOREM."]
[4.5]
[{"$f":"$A$2","v":9},"1. Identyfikator podatkowy NIP/numer PESEL (niepotrzebne skreślić)1)\n└────┴────┴────┴────┴────┴────┴────┴────┴────┴────┴────┘",null,null,null,null,null,null,"2.  Nr dokumentu"]
[19.5,null,{"$f":"C246","v":0}]
[{"$f":"$A$2","v":9}]
[16.5,"ZDL-2"]
[{"$f":"$A$8","v":16.5},"ZAŁĄCZNIK DO DEKLARACJI NA PODATEK LEŚNY"]
[16.5,"- DANE O PRZEDMIOTACH OPODATKOWANIA ZWOLNIONYCH Z OPODATKOWANIA"]
[{"$f":"$A$2","v":9},null,null,null,null,null,null,null,null,null,null,null,null,"3. Nr załącznika"]
[{"$f":"$A$6","v":19.5},null,null,null,null,null,null,null,null,null,null,null,null,{"$f":"N252+1","v":5},null,null,{"$f":"IF(COUNTA(C343:O350,C363:O370)=0,0,1)","v":0}]
[{"$f":"$A$4","v":4.5}]
[4.5]
[{"$f":"$A$8*1.5","v":24.75},"A.  DANE PODATNIKA WSKAZANEGO W CZĘŚCI C.1 DEKLARACJI DL-1\n* - dotyczy podatnika niebędącego osobą fizyczną               ** - dotyczy podatnika będącego osobą fizyczną"]
[{"$f":"$A$2","v":9},null,"4. Nazwa pełna * / Nazwisko **",null,null,null,null,null,"5. Nazwa skrócona * / Pierwsze imię **"]
[{"$f":"$A$6","v":19.5},null,{"$f":"\"\"&$C$17","v":""},null,null,null,null,null,{"$f":"\"\"&$I$17","v":""}]
[{"$f":"$A$4","v":4.5}]
[{"$f":"$A$8","v":16.5},"B.  DANE O POSZCZEGÓLNYCH PRZEDMIOTACH OPODATKOWANIA ZWOLNIONYCH Z OPODATKOWANIA"]
[16.5,"B.1.  LASY (z wyjątkiem lasów wchodzących w skład rezerwatów przyrody i parków narodowych)"]
[{"$f":"$A$8*1.5","v":24.75},"Lp.","Położenie (adres, w tym dzielnica)",null,null,null,null,"Nr księgi wieczystej\n(zbioru dokumentów)","Nr obrębu\n(arkusza mapy)2)","Nr działki","Powierzchnia w/ ha3)","Podstawa prawna zwolnienia4)"]
[{"$f":"$A$2","v":9},null,"a",null,null,null,null,"b","c","d","e","f"]
[{"$f":"$A$6","v":19.5},1]
[19.5,2]
[19.5,3]
[19.5,4]
[19.5,5]
[19.5,6]
[19.5,7]
[19.5,8]
[{"$f":"$A$2","v":9}]
[{"$f":"$A$2*2","v":18},"1)","Numer PESEL wpisują podatnicy będący osobami fizycznymi objętymi rejestrem PESEL, nieprowadzący działalności gospodarczej lub niebędący zarejestrowanymi podatnikami podatku od towarów i usług.\nIdentyfikator podatkowy NIP wpisują pozostali podatnicy."]
[{"$f":"$A$2","v":9},"2)","Numer obrębu należy podać wraz z numerem arkusza mapy ewidencyjnej w przypadku, gdy działki numerowane są w ramach arkusza mapy."]
[9,"3)","Należy podać z dokładnością do czterech miejsc po przecinku."]
[9,"4)","Należy podać jednostkę redakcyjną z ustawy lub uchwały rady gminy."]
[{"$f":"$A$8","v":16.5},null,{"$f":"'DL-1'!M10&\".\"&'DL-1'!Q24&Wersja","v":"2023..1.15.0.44867"},null,null,null,null,null,null,null,null,null,null,"ZDL-2(1)","1/2"]
[{"$f":"$A$2","v":9}]
[9,"WYPEŁNIĆ DUŻYMI, DRUKOWANYMI LITERAMI, CZARNYM LUB NIEBIESKIM KOLOREM."]
[4.5]
[{"$f":"$A$8","v":16.5},"B.2.  LASY WCHODZĄCE W SKŁAD REZERWATÓW PRZYRODY I PARKÓW NARODOWYCH"]
[{"$f":"$A$8*1.5","v":24.75},"Lp.","Położenie (adres, w tym dzielnica)",null,null,null,null,"Nr księgi wieczystej\n(zbioru dokumentów)","Nr obrębu\n(arkusza mapy)2)","Nr działki","Powierzchnia w/ ha3)","Podstawa prawna zwolnienia4)"]
[{"$f":"$A$2","v":9},null,"a",null,null,null,null,"b","c","d","e","f"]
[{"$f":"$A$6","v":19.5},1]
[19.5,2]
[19.5,3]
[19.5,4]
[19.5,5]
[19.5,6]
[19.5,7]
[19.5,8]
[{"$f":"$A$2","v":9}]
[9]
[9]
[9]
[9]
[9]
[9]
[9]
[9]
[9]
[9]
[9]
[9]
[9]
[9]
[9]
[9]
[9]
[9]
[9]
[9]
[9]
[9]
[9]
[9]
[9]
[9]
[9]
[9]
[9]
[{"$f":"$A$8","v":16.5},null,"ZDL-2(1)","2/2",null,null,null,null,null,null,null,null,{"$f":"'DL-1'!M10&\".\"&'DL-1'!Q24&Wersja","v":"2023..1.15.0.44867"}]
[9,"Załącznik nr 6"]
[{"$f":"$A$2","v":9},"WYPEŁNIĆ DUŻYMI, DRUKOWANYMI LITERAMI, CZARNYM LUB NIEBIESKIM KOLOREM."]
[4.5]
[{"$f":"$A$2","v":9},"1. Identyfikator podatkowy NIP/numer PESEL (niepotrzebne skreślić)1)\n└────┴────┴────┴────┴────┴────┴────┴────┴────┴────┴────┘",null,null,null,null,null,null,"2.  Nr dokumentu"]
[19.5,null,{"$f":"C326","v":0}]
[{"$f":"$A$2","v":9}]
[16.5,"ZDL-2"]
[{"$f":"$A$8","v":16.5},"ZAŁĄCZNIK DO DEKLARACJI NA PODATEK LEŚNY"]
[16.5,"- DANE O PRZEDMIOTACH OPODATKOWANIA ZWOLNIONYCH Z OPODATKOWANIA"]
[{"$f":"$A$2","v":9},null,null,null,null,null,null,null,null,null,null,null,null,"3. Nr załącznika"]
[{"$f":"$A$6","v":19.5},null,null,null,null,null,null,null,null,null,null,null,null,{"$f":"N332+1","v":6},null,null,{"$f":"IF(COUNTA(C423:O430,C443:O450)=0,0,1)","v":0}]
[{"$f":"$A$4","v":4.5}]
[4.5]
[{"$f":"$A$8*1.5","v":24.75},"A.  DANE PODATNIKA WSKAZANEGO W CZĘŚCI C.1 DEKLARACJI DL-1\n* - dotyczy podatnika niebędącego osobą fizyczną               ** - dotyczy podatnika będącego osobą fizyczną"]
[{"$f":"$A$2","v":9},null,"4. Nazwa pełna * / Nazwisko **",null,null,null,null,null,"5. Nazwa skrócona * / Pierwsze imię **"]
[{"$f":"$A$6","v":19.5},null,{"$f":"\"\"&$C$17","v":""},null,null,null,null,null,{"$f":"\"\"&$I$17","v":""}]
[{"$f":"$A$4","v":4.5}]
[{"$f":"$A$8","v":16.5},"B.  DANE O POSZCZEGÓLNYCH PRZEDMIOTACH OPODATKOWANIA ZWOLNIONYCH Z OPODATKOWANIA"]
[16.5,"B.1.  LASY (z wyjątkiem lasów wchodzących w skład rezerwatów przyrody i parków narodowych)"]
[{"$f":"$A$8*1.5","v":24.75},"Lp.","Położenie (adres, w tym dzielnica)",null,null,null,null,"Nr księgi wieczystej\n(zbioru dokumentów)","Nr obrębu\n(arkusza mapy)2)","Nr działki","Powierzchnia w/ ha3)","Podstawa prawna zwolnienia4)"]
[{"$f":"$A$2","v":9},null,"a",null,null,null,null,"b","c","d","e","f"]
[{"$f":"$A$6","v":19.5},1]
[19.5,2]
[19.5,3]
[19.5,4]
[19.5,5]
[19.5,6]
[19.5,7]
[19.5,8]
[{"$f":"$A$2","v":9}]
[{"$f":"$A$2*2","v":18},"1)","Numer PESEL wpisują podatnicy będący osobami fizycznymi objętymi rejestrem PESEL, nieprowadzący działalności gospodarczej lub niebędący zarejestrowanymi podatnikami podatku od towarów i usług.\nIdentyfikator podatkowy NIP wpisują pozostali podatnicy."]
[{"$f":"$A$2","v":9},"2)","Numer obrębu należy podać wraz z numerem arkusza mapy ewidencyjnej w przypadku, gdy działki numerowane są w ramach arkusza mapy."]
[9,"3)","Należy podać z dokładnością do czterech miejsc po przecinku."]
[9,"4)","Należy podać jednostkę redakcyjną z ustawy lub uchwały rady gminy."]
[{"$f":"$A$8","v":16.5},null,{"$f":"'DL-1'!M10&\".\"&'DL-1'!Q24&Wersja","v":"2023..1.15.0.44867"},null,null,null,null,null,null,null,null,null,null,"ZDL-2(1)","1/2"]
[{"$f":"$A$2","v":9}]
[9,"WYPEŁNIĆ DUŻYMI, DRUKOWANYMI LITERAMI, CZARNYM LUB NIEBIESKIM KOLOREM."]
[4.5]
[{"$f":"$A$8","v":16.5},"B.2.  LASY WCHODZĄCE W SKŁAD REZERWATÓW PRZYRODY I PARKÓW NARODOWYCH"]
[{"$f":"$A$8*1.5","v":24.75},"Lp.","Położenie (adres, w tym dzielnica)",null,null,null,null,"Nr księgi wieczystej\n(zbioru dokumentów)","Nr obrębu\n(arkusza mapy)2)","Nr działki","Powierzchnia w/ ha3)","Podstawa prawna zwolnienia4)"]
[{"$f":"$A$2","v":9},null,"a",null,null,null,null,"b","c","d","e","f"]
[{"$f":"$A$6","v":19.5},1]
[19.5,2]
[19.5,3]
[19.5,4]
[19.5,5]
[19.5,6]
[19.5,7]
[19.5,8]
[{"$f":"$A$2","v":9}]
[9]
[9]
[9]
[9]
[9]
[9]
[9]
[9]
[9]
[9]
[9]
[9]
[9]
[9]
[9]
[9]
[9]
[9]
[9]
[9]
[9]
[9]
[9]
[9]
[9]
[9]
[9]
[9]
[9]
[{"$f":"$A$8","v":16.5},null,"ZDL-2(1)","2/2",null,null,null,null,null,null,null,null,{"$f":"'DL-1'!M10&\".\"&'DL-1'!Q24&Wersja","v":"2023..1.15.0.44867"}]
[9,"Załącznik nr 6"]
[{"$f":"$A$2","v":9},"WYPEŁNIĆ DUŻYMI, DRUKOWANYMI LITERAMI, CZARNYM LUB NIEBIESKIM KOLOREM."]
[4.5]
[{"$f":"$A$2","v":9},"1. Identyfikator podatkowy NIP/numer PESEL (niepotrzebne skreślić)1)\n└────┴────┴────┴────┴────┴────┴────┴────┴────┴────┴────┘",null,null,null,null,null,null,"2.  Nr dokumentu"]
[19.5,null,{"$f":"C406","v":0}]
[{"$f":"$A$2","v":9}]
[16.5,"ZDL-2"]
[{"$f":"$A$8","v":16.5},"ZAŁĄCZNIK DO DEKLARACJI NA PODATEK LEŚNY"]
[16.5,"- DANE O PRZEDMIOTACH OPODATKOWANIA ZWOLNIONYCH Z OPODATKOWANIA"]
[{"$f":"$A$2","v":9},null,null,null,null,null,null,null,null,null,null,null,null,"3. Nr załącznika"]
[{"$f":"$A$6","v":19.5},null,null,null,null,null,null,null,null,null,null,null,null,{"$f":"N412+1","v":7},null,null,{"$f":"IF(COUNTA(C503:O510,C523:O530)=0,0,1)","v":0}]
[{"$f":"$A$4","v":4.5}]
[4.5]
[{"$f":"$A$8*1.5","v":24.75},"A.  DANE PODATNIKA WSKAZANEGO W CZĘŚCI C.1 DEKLARACJI DL-1\n* - dotyczy podatnika niebędącego osobą fizyczną               ** - dotyczy podatnika będącego osobą fizyczną"]
[{"$f":"$A$2","v":9},null,"4. Nazwa pełna * / Nazwisko **",null,null,null,null,null,"5. Nazwa skrócona * / Pierwsze imię **"]
[{"$f":"$A$6","v":19.5},null,{"$f":"\"\"&$C$17","v":""},null,null,null,null,null,{"$f":"\"\"&$I$17","v":""}]
[{"$f":"$A$4","v":4.5}]
[{"$f":"$A$8","v":16.5},"B.  DANE O POSZCZEGÓLNYCH PRZEDMIOTACH OPODATKOWANIA ZWOLNIONYCH Z OPODATKOWANIA"]
[16.5,"B.1.  LASY (z wyjątkiem lasów wchodzących w skład rezerwatów przyrody i parków narodowych)"]
[{"$f":"$A$8*1.5","v":24.75},"Lp.","Położenie (adres, w tym dzielnica)",null,null,null,null,"Nr księgi wieczystej\n(zbioru dokumentów)","Nr obrębu\n(arkusza mapy)2)","Nr działki","Powierzchnia w/ ha3)","Podstawa prawna zwolnienia4)"]
[{"$f":"$A$2","v":9},null,"a",null,null,null,null,"b","c","d","e","f"]
[{"$f":"$A$6","v":19.5},1]
[19.5,2]
[19.5,3]
[19.5,4]
[19.5,5]
[19.5,6]
[19.5,7]
[19.5,8]
[{"$f":"$A$2","v":9}]
[{"$f":"$A$2*2","v":18},"1)","Numer PESEL wpisują podatnicy będący osobami fizycznymi objętymi rejestrem PESEL, nieprowadzący działalności gospodarczej lub niebędący zarejestrowanymi podatnikami podatku od towarów i usług.\nIdentyfikator podatkowy NIP wpisują pozostali podatnicy."]
[{"$f":"$A$2","v":9},"2)","Numer obrębu należy podać wraz z numerem arkusza mapy ewidencyjnej w przypadku, gdy działki numerowane są w ramach arkusza mapy."]
[9,"3)","Należy podać z dokładnością do czterech miejsc po przecinku."]
[9,"4)","Należy podać jednostkę redakcyjną z ustawy lub uchwały rady gminy."]
[{"$f":"$A$8","v":16.5},null,{"$f":"'DL-1'!M10&\".\"&'DL-1'!Q24&Wersja","v":"2023..1.15.0.44867"},null,null,null,null,null,null,null,null,null,null,"ZDL-2(1)","1/2"]
[{"$f":"$A$2","v":9}]
[9,"WYPEŁNIĆ DUŻYMI, DRUKOWANYMI LITERAMI, CZARNYM LUB NIEBIESKIM KOLOREM."]
[4.5]
[{"$f":"$A$8","v":16.5},"B.2.  LASY WCHODZĄCE W SKŁAD REZERWATÓW PRZYRODY I PARKÓW NARODOWYCH"]
[{"$f":"$A$8*1.5","v":24.75},"Lp.","Położenie (adres, w tym dzielnica)",null,null,null,null,"Nr księgi wieczystej\n(zbioru dokumentów)","Nr obrębu\n(arkusza mapy)2)","Nr działki","Powierzchnia w/ ha3)","Podstawa prawna zwolnienia4)"]
[{"$f":"$A$2","v":9},null,"a",null,null,null,null,"b","c","d","e","f"]
[{"$f":"$A$6","v":19.5},1]
[19.5,2]
[19.5,3]
[19.5,4]
[19.5,5]
[19.5,6]
[19.5,7]
[19.5,8]
[{"$f":"$A$2","v":9}]
[9]
[9]
[9]
[9]
[9]
[9]
[9]
[9]
[9]
[9]
[9]
[9]
[9]
[9]
[9]
[9]
[9]
[9]
[9]
[9]
[9]
[9]
[9]
[9]
[9]
[9]
[9]
[9]
[9]
[{"$f":"$A$8","v":16.5},null,"ZDL-2(1)","2/2",null,null,null,null,null,null,null,null,{"$f":"'DL-1'!M10&\".\"&'DL-1'!Q24&Wersja","v":"2023..1.15.0.44867"}]
[9,"Załącznik nr 6"]
[{"$f":"$A$2","v":9},"WYPEŁNIĆ DUŻYMI, DRUKOWANYMI LITERAMI, CZARNYM LUB NIEBIESKIM KOLOREM."]
[4.5]
[{"$f":"$A$2","v":9},"1. Identyfikator podatkowy NIP/numer PESEL (niepotrzebne skreślić)1)\n└────┴────┴────┴────┴────┴────┴────┴────┴────┴────┴────┘",null,null,null,null,null,null,"2.  Nr dokumentu"]
[19.5,null,{"$f":"C486","v":0}]
[{"$f":"$A$2","v":9}]
[16.5,"ZDL-2"]
[{"$f":"$A$8","v":16.5},"ZAŁĄCZNIK DO DEKLARACJI NA PODATEK LEŚNY"]
[16.5,"- DANE O PRZEDMIOTACH OPODATKOWANIA ZWOLNIONYCH Z OPODATKOWANIA"]
[{"$f":"$A$2","v":9},null,null,null,null,null,null,null,null,null,null,null,null,"3. Nr załącznika"]
[{"$f":"$A$6","v":19.5},null,null,null,null,null,null,null,null,null,null,null,null,{"$f":"N492+1","v":8},null,null,{"$f":"IF(COUNTA(C583:O590,C603:O610)=0,0,1)","v":0}]
[{"$f":"$A$4","v":4.5}]
[4.5]
[{"$f":"$A$8*1.5","v":24.75},"A.  DANE PODATNIKA WSKAZANEGO W CZĘŚCI C.1 DEKLARACJI DL-1\n* - dotyczy podatnika niebędącego osobą fizyczną               ** - dotyczy podatnika będącego osobą fizyczną"]
[{"$f":"$A$2","v":9},null,"4. Nazwa pełna * / Nazwisko **",null,null,null,null,null,"5. Nazwa skrócona * / Pierwsze imię **"]
[{"$f":"$A$6","v":19.5},null,{"$f":"\"\"&$C$17","v":""},null,null,null,null,null,{"$f":"\"\"&$I$17","v":""}]
[{"$f":"$A$4","v":4.5}]
[{"$f":"$A$8","v":16.5},"B.  DANE O POSZCZEGÓLNYCH PRZEDMIOTACH OPODATKOWANIA ZWOLNIONYCH Z OPODATKOWANIA"]
[16.5,"B.1.  LASY (z wyjątkiem lasów wchodzących w skład rezerwatów przyrody i parków narodowych)"]
[{"$f":"$A$8*1.5","v":24.75},"Lp.","Położenie (adres, w tym dzielnica)",null,null,null,null,"Nr księgi wieczystej\n(zbioru dokumentów)","Nr obrębu\n(arkusza mapy)2)","Nr działki","Powierzchnia w/ ha3)","Podstawa prawna zwolnienia4)"]
[{"$f":"$A$2","v":9},null,"a",null,null,null,null,"b","c","d","e","f"]
[{"$f":"$A$6","v":19.5},1]
[19.5,2]
[19.5,3]
[19.5,4]
[19.5,5]
[19.5,6]
[19.5,7]
[19.5,8]
[{"$f":"$A$2","v":9}]
[{"$f":"$A$2*2","v":18},"1)","Numer PESEL wpisują podatnicy będący osobami fizycznymi objętymi rejestrem PESEL, nieprowadzący działalności gospodarczej lub niebędący zarejestrowanymi podatnikami podatku od towarów i usług.\nIdentyfikator podatkowy NIP wpisują pozostali podatnicy."]
[{"$f":"$A$2","v":9},"2)","Numer obrębu należy podać wraz z numerem arkusza mapy ewidencyjnej w przypadku, gdy działki numerowane są w ramach arkusza mapy."]
[9,"3)","Należy podać z dokładnością do czterech miejsc po przecinku."]
[9,"4)","Należy podać jednostkę redakcyjną z ustawy lub uchwały rady gminy."]
[{"$f":"$A$8","v":16.5},null,{"$f":"'DL-1'!M10&\".\"&'DL-1'!Q24&Wersja","v":"2023..1.15.0.44867"},null,null,null,null,null,null,null,null,null,null,"ZDL-2(1)","1/2"]
[{"$f":"$A$2","v":9}]
[9,"WYPEŁNIĆ DUŻYMI, DRUKOWANYMI LITERAMI, CZARNYM LUB NIEBIESKIM KOLOREM."]
[4.5]
[{"$f":"$A$8","v":16.5},"B.2.  LASY WCHODZĄCE W SKŁAD REZERWATÓW PRZYRODY I PARKÓW NARODOWYCH"]
[{"$f":"$A$8*1.5","v":24.75},"Lp.","Położenie (adres, w tym dzielnica)",null,null,null,null,"Nr księgi wieczystej\n(zbioru dokumentów)","Nr obrębu\n(arkusza mapy)2)","Nr działki","Powierzchnia w/ ha3)","Podstawa prawna zwolnienia4)"]
[{"$f":"$A$2","v":9},null,"a",null,null,null,null,"b","c","d","e","f"]
[{"$f":"$A$6","v":19.5},1]
[19.5,2]
[19.5,3]
[19.5,4]
[19.5,5]
[19.5,6]
[19.5,7]
[19.5,8]
[{"$f":"$A$2","v":9}]
[9]
[9]
[9]
[9]
[9]
[9]
[9]
[9]
[9]
[9]
[9]
[9]
[9]
[9]
[9]
[9]
[9]
[9]
[9]
[9]
[9]
[9]
[9]
[9]
[9]
[9]
[9]
[9]
[9]
[{"$f":"$A$8","v":16.5},null,"ZDL-2(1)","2/2",null,null,null,null,null,null,null,null,{"$f":"'DL-1'!M10&\".\"&'DL-1'!Q24&Wersja","v":"2023..1.15.0.44867"}]
[9,"Załącznik nr 6"]
[{"$f":"$A$2","v":9},"WYPEŁNIĆ DUŻYMI, DRUKOWANYMI LITERAMI, CZARNYM LUB NIEBIESKIM KOLOREM."]
[4.5]
[{"$f":"$A$2","v":9},"1. Identyfikator podatkowy NIP/numer PESEL (niepotrzebne skreślić)1)\n└────┴────┴────┴────┴────┴────┴────┴────┴────┴────┴────┘",null,null,null,null,null,null,"2.  Nr dokumentu"]
[19.5,null,{"$f":"C566","v":0}]
[{"$f":"$A$2","v":9}]
[16.5,"ZDL-2"]
[{"$f":"$A$8","v":16.5},"ZAŁĄCZNIK DO DEKLARACJI NA PODATEK LEŚNY"]
[16.5,"- DANE O PRZEDMIOTACH OPODATKOWANIA ZWOLNIONYCH Z OPODATKOWANIA"]
[{"$f":"$A$2","v":9},null,null,null,null,null,null,null,null,null,null,null,null,"3. Nr załącznika\n└────┴────┴────┘"]
[{"$f":"$A$6","v":19.5},null,null,null,null,null,null,null,null,null,null,null,null,{"$f":"N572+1","v":9},null,null,{"$f":"IF(COUNTA(C663:O670,C683:O690)=0,0,1)","v":0}]
[{"$f":"$A$4","v":4.5}]
[4.5]
[{"$f":"$A$8*1.5","v":24.75},"A.  DANE PODATNIKA WSKAZANEGO W CZĘŚCI C.1 DEKLARACJI DL-1\n* - dotyczy podatnika niebędącego osobą fizyczną               ** - dotyczy podatnika będącego osobą fizyczną"]
[{"$f":"$A$2","v":9},null,"4. Nazwa pełna * / Nazwisko **",null,null,null,null,null,"5. Nazwa skrócona * / Pierwsze imię **"]
[{"$f":"$A$6","v":19.5},null,{"$f":"\"\"&$C$17","v":""},null,null,null,null,null,{"$f":"\"\"&$I$17","v":""}]
[{"$f":"$A$4","v":4.5}]
[{"$f":"$A$8","v":16.5},"B.  DANE O POSZCZEGÓLNYCH PRZEDMIOTACH OPODATKOWANIA ZWOLNIONYCH Z OPODATKOWANIA"]
[16.5,"B.1.  LASY (z wyjątkiem lasów wchodzących w skład rezerwatów przyrody i parków narodowych)"]
[{"$f":"$A$8*1.5","v":24.75},"Lp.","Położenie (adres, w tym dzielnica)",null,null,null,null,"Nr księgi wieczystej\n(zbioru dokumentów)","Nr obrębu\n(arkusza mapy)2)","Nr działki","Powierzchnia w/ ha3)","Podstawa prawna zwolnienia4)"]
[{"$f":"$A$2","v":9},null,"a",null,null,null,null,"b","c","d","e","f"]
[{"$f":"$A$6","v":19.5},1]
[19.5,2]
[19.5,3]
[19.5,4]
[19.5,5]
[19.5,6]
[19.5,7]
[19.5,8]
[{"$f":"$A$2","v":9}]
[{"$f":"$A$2*2","v":18},"1)","Numer PESEL wpisują podatnicy będący osobami fizycznymi objętymi rejestrem PESEL, nieprowadzący działalności gospodarczej lub niebędący zarejestrowanymi podatnikami podatku od towarów i usług.\nIdentyfikator podatkowy NIP wpisują pozostali podatnicy."]
[{"$f":"$A$2","v":9},"2)","Numer obrębu należy podać wraz z numerem arkusza mapy ewidencyjnej w przypadku, gdy działki numerowane są w ramach arkusza mapy."]
[9,"3)","Należy podać z dokładnością do czterech miejsc po przecinku."]
[9,"4)","Należy podać jednostkę redakcyjną z ustawy lub uchwały rady gminy."]
[{"$f":"$A$8","v":16.5},null,{"$f":"'DL-1'!M10&\".\"&'DL-1'!Q24&Wersja","v":"2023..1.15.0.44867"},null,null,null,null,null,null,null,null,null,null,"ZDL-2(1)","1/2"]
[{"$f":"$A$2","v":9}]
[9,"WYPEŁNIĆ DUŻYMI, DRUKOWANYMI LITERAMI, CZARNYM LUB NIEBIESKIM KOLOREM."]
[4.5]
[{"$f":"$A$8","v":16.5},"B.2.  LASY WCHODZĄCE W SKŁAD REZERWATÓW PRZYRODY I PARKÓW NARODOWYCH"]
[{"$f":"$A$8*1.5","v":24.75},"Lp.","Położenie (adres, w tym dzielnica)",null,null,null,null,"Nr księgi wieczystej\n(zbioru dokumentów)","Nr obrębu\n(arkusza mapy)2)","Nr działki","Powierzchnia w/ ha3)","Podstawa prawna zwolnienia4)"]
[{"$f":"$A$2","v":9},null,"a",null,null,null,null,"b","c","d","e","f"]
[{"$f":"$A$6","v":19.5},1]
[19.5,2]
[19.5,3]
[19.5,4]
[19.5,5]
[19.5,6]
[19.5,7]
[19.5,8]
[{"$f":"$A$2","v":9}]
[9]
[9]
[9]
[9]
[9]
[9]
[9]
[9]
[9]
[9]
[9]
[9]
[9]
[9]
[9]
[9]
[9]
[9]
[9]
[9]
[{"$f":"$A$2","v":9}]
[9]
[9]
[9]
[9]
[9]
[9]
[9]
[9]
[{"$f":"$A$8","v":16.5},null,"ZDL-2(1)","2/2",null,null,null,null,null,null,null,null,{"$f":"'DL-1'!M10&\".\"&'DL-1'!Q24&Wersja","v":"2023..1.15.0.44867"}]
[9,"Załącznik nr 6"]
[{"$f":"$A$2","v":9},"WYPEŁNIĆ DUŻYMI, DRUKOWANYMI LITERAMI, CZARNYM LUB NIEBIESKIM KOLOREM."]
[4.5]
[{"$f":"$A$2","v":9},"1. Identyfikator podatkowy NIP/numer PESEL (niepotrzebne skreślić)1)\n└────┴────┴────┴────┴────┴────┴────┴────┴────┴────┴────┘",null,null,null,null,null,null,"2.  Nr dokumentu"]
[19.5,null,{"$f":"C646","v":0}]
[{"$f":"$A$2","v":9}]
[16.5,"ZDL-2"]
[{"$f":"$A$8","v":16.5},"ZAŁĄCZNIK DO DEKLARACJI NA PODATEK LEŚNY"]
[16.5,"- DANE O PRZEDMIOTACH OPODATKOWANIA ZWOLNIONYCH Z OPODATKOWANIA"]
[{"$f":"$A$2","v":9},null,null,null,null,null,null,null,null,null,null,null,null,"3. Nr załącznika\n└────┴────┴────┘"]
[{"$f":"$A$6","v":19.5},null,null,null,null,null,null,null,null,null,null,null,null,{"$f":"N652+1","v":10},null,null,{"$f":"IF(COUNTA(C743:O750,C763:O770)=0,0,1)","v":0}]
[{"$f":"$A$4","v":4.5}]
[4.5]
[{"$f":"$A$8*1.5","v":24.75},"A.  DANE PODATNIKA WSKAZANEGO W CZĘŚCI C.1 DEKLARACJI DL-1\n* - dotyczy podatnika niebędącego osobą fizyczną               ** - dotyczy podatnika będącego osobą fizyczną"]
[{"$f":"$A$2","v":9},null,"4. Nazwa pełna * / Nazwisko **",null,null,null,null,null,"5. Nazwa skrócona * / Pierwsze imię **"]
[{"$f":"$A$6","v":19.5},null,{"$f":"\"\"&$C$17","v":""},null,null,null,null,null,{"$f":"\"\"&$I$17","v":""}]
[{"$f":"$A$4","v":4.5}]
[{"$f":"$A$8","v":16.5},"B.  DANE O POSZCZEGÓLNYCH PRZEDMIOTACH OPODATKOWANIA ZWOLNIONYCH Z OPODATKOWANIA"]
[16.5,"B.1.  LASY (z wyjątkiem lasów wchodzących w skład rezerwatów przyrody i parków narodowych)"]
[{"$f":"$A$8*1.5","v":24.75},"Lp.","Położenie (adres, w tym dzielnica)",null,null,null,null,"Nr księgi wieczystej\n(zbioru dokumentów)","Nr obrębu\n(arkusza mapy)2)","Nr działki","Powierzchnia w/ ha3)","Podstawa prawna zwolnienia4)"]
[{"$f":"$A$2","v":9},null,"a",null,null,null,null,"b","c","d","e","f"]
[{"$f":"$A$6","v":19.5},1]
[19.5,2]
[19.5,3]
[19.5,4]
[19.5,5]
[19.5,6]
[19.5,7]
[19.5,8]
[{"$f":"$A$2","v":9}]
[{"$f":"$A$2*2","v":18},"1)","Numer PESEL wpisują podatnicy będący osobami fizycznymi objętymi rejestrem PESEL, nieprowadzący działalności gospodarczej lub niebędący zarejestrowanymi podatnikami podatku od towarów i usług.\nIdentyfikator podatkowy NIP wpisują pozostali podatnicy."]
[{"$f":"$A$2","v":9},"2)","Numer obrębu należy podać wraz z numerem arkusza mapy ewidencyjnej w przypadku, gdy działki numerowane są w ramach arkusza mapy."]
[9,"3)","Należy podać z dokładnością do czterech miejsc po przecinku."]
[9,"4)","Należy podać jednostkę redakcyjną z ustawy lub uchwały rady gminy."]
[{"$f":"$A$8","v":16.5},null,{"$f":"'DL-1'!M10&\".\"&'DL-1'!Q24&Wersja","v":"2023..1.15.0.44867"},null,null,null,null,null,null,null,null,null,null,"ZDL-2(1)","1/2"]
[{"$f":"$A$2","v":9}]
[9,"WYPEŁNIĆ DUŻYMI, DRUKOWANYMI LITERAMI, CZARNYM LUB NIEBIESKIM KOLOREM."]
[4.5]
[{"$f":"$A$8","v":16.5},"B.2.  LASY WCHODZĄCE W SKŁAD REZERWATÓW PRZYRODY I PARKÓW NARODOWYCH"]
[{"$f":"$A$8*1.5","v":24.75},"Lp.","Położenie (adres, w tym dzielnica)",null,null,null,null,"Nr księgi wieczystej\n(zbioru dokumentów)","Nr obrębu\n(arkusza mapy)2)","Nr działki","Powierzchnia w/ ha3)","Podstawa prawna zwolnienia4)"]
[{"$f":"$A$2","v":9},null,"a",null,null,null,null,"b","c","d","e","f"]
[{"$f":"$A$6","v":19.5},1]
[19.5,2]
[19.5,3]
[19.5,4]
[19.5,5]
[19.5,6]
[19.5,7]
[19.5,8]
[{"$f":"$A$2","v":9}]
[9]
[9]
[9]
[9]
[{"$f":"$A$2","v":9}]
[9]
[9]
[9]
[9]
[9]
[9]
[9]
[9]
[9]
[9]
[9]
[9]
[9]
[9]
[9]
[9]
[9]
[9]
[9]
[9]
[9]
[9]
[9]
[9]
[{"$f":"$A$8","v":16.5},null,"ZDL-2(1)","2/2",null,null,null,null,null,null,null,null,{"$f":"'DL-1'!M10&\".\"&'DL-1'!Q24&Wersja","v":"2023..1.15.0.44867"}]

{"sheet":"Grunty","index":9,"n_rows":0,"n_cols":0,"rows_kept":0,"cut":false,"hidden":true,"merged":[]}

{"sheet":"Budynki i budowle","index":10,"n_rows":5,"n_cols":23,"rows_kept":5,"cut":false,"hidden":true,"merged":[[3,0,4,0],[4,1,4,2],[3,9,4,9],[3,8,4,8],[3,6,4,6],[3,5,4,5],[3,3,4,3],[1,13,1,19],[1,20,1,22],[3,10,4,10],[0,1,0,9],[1,1,1,9],[2,1,2,9]]}
[null,"2) Numer obrębu należy podać wraz z numerem arkusza mapy ewidencyjnej w przypadku, gdy działki numerowane są w ramach arkusza mapy.",null,null,null,null,null,null,null,null,{"$f":"COUNTA(A:A)+4","v":5}]
[null,"4) Należy podać stawkę właściwą dla rodzaju przedmiotu opodatkowania zgodną z uchwałą rady gminy.",null,null,null,null,null,null,null,null,null,null,null,"Suma powierzchni budynków",null,null,null,null,null,null,"Suma wartości budowli"]
[null,"5) Należy podać jedną z form władania: własność, użytkowanie wieczyste, posiadanie samoistne, posiadanie zależne lub posiadanie bez tytułu prawnego.",null,null,null,null,null,null,null,null,null,null,null,0.98,27.75,0.1,13.47,5.87,7.7,{"$f":"SUM(T4:T5)","v":0},0.5,2,{"$f":"SUM(W4:W5)","v":0}]
["L.p.","Nazwa budowli","Nr inwentarzowy","Położenie (adres, w tym dzielnica)","Nr księgi wieczystej\n(zbioru dokumentów)","Nr obrębu\n(arkusza mapy)2)","Nr działki","Powierzchnia użytkowa w m2 (budynki)","Stawka Podatku4)","Forma władania5)","Podstawa prawna zwolnienia",null,"przedmioty opodatkowne",{"$f":"SUMIFS(H:H,I:I,N3,K:K,\"\")","v":0},{"$f":"SUMIFS(H:H,I:I,O3,K:K,\"\")","v":0},{"$f":"SUMIFS(H:H,I:I,P3,K:K,\"\")","v":0},{"$f":"SUMIFS(H:H,I:I,Q3,K:K,\"\")","v":0},{"$f":"SUMIFS(H:H,I:I,R3,K:K,\"\")","v":0},{"$f":"SUMIFS(H:H,I:I,S3,K:K,\"\")","v":0},{"$f":"SUM(N4:S4)","v":0},{"$f":"SUMIFS(H:H,I:I,U3,K:K,\"\")","v":0},{"$f":"SUMIFS(H:H,I:I,V3,K:K,\"\")","v":0},{"$f":"SUM(U4:V4)","v":0}]
[null,"wypełnić wyłącznie dla budowli",null,null,"wypełnić wyłącznie dla budynków",null,null,"Wartość w zł (budowle)",null,null,null,null,"przedmioty zwolnione",{"$f":"SUMIFS(H:H,I:I,N3)-N4","v":0},{"$f":"SUMIFS(H:H,I:I,O3)-O4","v":0},{"$f":"SUMIFS(H:H,I:I,P3)-P4","v":0},{"$f":"SUMIFS(H:H,I:I,Q3)-Q4","v":0},{"$f":"SUMIFS(H:H,I:I,R3)-R4","v":0},{"$f":"SUMIFS(H:H,I:I,S3)-S4","v":0},{"$f":"SUM(N5:S5)","v":0},{"$f":"SUMIFS(H:H,I:I,U3)-U4","v":0},{"$f":"SUMIFS(H:H,I:I,V3)-V4","v":0},{"$f":"SUM(U5:V5)","v":0}]

{"sheet":"Dane","index":11,"n_rows":192,"n_cols":113,"rows_kept":192,"cut":false,"hidden":true,"merged":[[18,4,23,4]]}
["Nazwa komórki","Wartość","Wartość",null,"Dane",null,"DN-1",1,5,"DN-1",{"$f":"COUNTA(J:J)+1","v":87},"ZDN-1",{"$f":"COUNTA(L:L)+1","v":187},"ZDN-2",{"$f":"COUNTA(N:N)+1","v":187},"DR-1",{"$f":"COUNTA(P:P)+1","v":89},"ZDR-1",{"$f":"COUNTA(R:R)+1","v":147},"ZDR-2",{"$f":"COUNTA(T:T)+1","v":47},"DL-1",{"$f":"COUNTA(V:V)+1","v":69},"ZDL-1",{"$f":"COUNTA(X:X)+1","v":147},"ZDL-2",{"$f":"COUNTA(Z:Z)+1","v":47},null,2,null,2,null,2,null,null,"rodzaj użytku","Forma władania",null,"Stawki",2023,2020,{"$f":"AO1+1","v":2021},{"$f":"AP1+1","v":2022},2023,2024,null,"suma ZDN-1",null,null,"pesel","nip","regon9",null,null,"Klasa uż.",null,"Poz. do sumy",null,"SumaPow. ZD*",null,"OznaczenieUżytku","l.p.","Klasa uż.","(1, 63)","Załącznik","Zwolnienie","Suma CSWDE","Suma ZD?-1 i ZD?-2","Poz. do sumy","Warstwa","WierszOF","KolumnaOF","WierszOP","KolumnaOP",null,null,null,null,null,null,null,null,"OznaczenieUżytku","Poz. do sumy","wiersz","kolumna","SumaPow. CSWDE","SumaPow. ZD*",null,null,null,null,null,null,null,null,null,null,"Nazwa miejscowości ","Kod","Gmina","Powiat (miasto na prawach powiatu)","Województwo",null,"Zwolnienia ZDN-2","Zwolnienia ZDR-1 ZDR-2","Zwolnienia ZDL-2",null,"Podmiot zwolniony","Nieruchomość","Rola","Las","stawka"]
["NIP",null,null,null,"D:\\KopieDeklaracji2023\\",null,"ZDN-1",2,{"$f":"'DN-1'!AA204","v":0},"w","k","w","k","w","k","w","k","w","k","w","k","w","k","w","k","w","k","w","k","w","k","w","k",null,null,"łąki trwałe","własność",2,"grunty działalność",{"$f":"HLOOKUP($AN$1,Stawki,$AL2,FALSE)","v":1.1299999999999999},0.92,0.92,0.99,1.1299999999999999,11,{"$f":"\"a.\"&AN2","v":"a.1,13"},{"$f":"SUMIF('ZDN-1'!P:P,Dane!AT2,'ZDN-1'!K:K)","v":0},null,null,1,6,8,null,null,"Ls","lasy",null,null,null,null,"Ls",{"$f":"ROW()","v":2},"Ls","lasy","ZDL-1","brak",{"$f":"SUMIF(Grunty!H:H,BI2,Grunty!I:I)","v":0},null,31,5,null,null,null,null,null,null,null,null,null,null,null,null,"RI",1,70,6,{"$f":"SUMIF(BQ:BQ,CF2,BO:BO)","v":0},{"$f":"SUMIF(BQ:BQ,CF2,BP:BP)","v":0},null,null,null,null,null,null,null,null,null,null,"Bażany",null,"Kluczbork","kluczborski","opolskie",null,null,null,null,null,"Centrum Łukasiewicz i instytuty działające w ramach Sieci Badawczej Łukasiewicz","Art.7 ust.2 pkt 5b","Art.12 ust.2 pkt 8","Art.7 ust.2 pkt 8",0.45]
["Nazwa i siedziba org.pod.",null,null,null,"Kliknij obok na guzik [Zmień] i wybierz właściwy katalog z plikiem *.txt",null,"ZDN-2",3,{"$f":"'DN-1'!AA205","v":0},21,11,17,3,17,3,21,11,17,3,17,3,21,11,17,3,17,3,null,null,null,null,null,null,null,null,"orne","użytkowanie wieczyste",{"$f":"AL2+1","v":3},"grunty jeziora",5.79,4.79,4.79,5.13,5.79,22,{"$f":"\"a.\"&AN3","v":"a.5,79"},{"$f":"SUMIF('ZDN-1'!P:P,Dane!AT3,'ZDN-1'!K:K)","v":0},null,null,3,5,9,null,null,"B","nieruchomość",null,null,null,null,"Ls-LsII",{"$f":"ROW()","v":3},"Ls","lasy","ZDL-1","brak",{"$f":"SUMIF(Grunty!H:H,BI3,Grunty!I:I)","v":0},null,31,5,null,null,null,null,null,null,null,null,null,null,null,null,"RII",2,70,8,0,{"$f":"SUMIF(BQ:BQ,CF3,BP:BP)","v":0},null,null,null,null,null,null,null,null,null,null,"Bąków","46-233","Kluczbork","kluczborski","opolskie",null,"Art.7 ust.1 pkt.1 lit.a uopiol","Art.12 ust.1 pkt.1 uopr","Art.7 ust.1 pkt.1 uopl",null,"Dom dziecka","§2 uchwły nr XII/104/03 z 03.07.2003r.","§3 uchwły nr XII/104/03 z 03.07.2003r.","§4 uchwły nr XII/104/03 z 03.07.2003r.",0.45]
["cel złożenia form. 1",null,null,null,null,null,"DR-1",4,4,21,11,17,9,17,9,21,11,17,9,17,9,21,11,17,9,17,9,null,null,null,null,null,null,null,null,"pastwiska","posiadanie samoistne",{"$f":"AL3+1","v":4},"grunty pozostałe",0.56999999999999995,0.45,0.45,0.49,0.56999999999999995,33,"a.0,57",{"$f":"SUMIF('ZDN-1'!P:P,Dane!AT4,'ZDN-1'!K:K)","v":0},null,null,7,7,2,null,null,"Ba","nieruchomość",null,null,null,null,"Ls-LsIII",{"$f":"ROW()","v":4},"Ls","lasy","ZDL-1","brak",{"$f":"SUMIF(Grunty!H:H,BI4,Grunty!I:I)","v":0},null,31,5,null,null,null,null,null,null,null,null,null,null,null,null,"RIIIa",3,70,10,0,0,null,null,null,null,null,null,null,null,null,null,"Biadacz",null,"Kluczbork","kluczborski","opolskie",null,"Art.7 ust.1 pkt.1 lit.b uopiol","Art.12 ust.1 pkt.2 uopr","Art.7 ust.1 pkt.2 uopl",null,"federacje podmiotów systemu szkolnictwa wyższego i nauki","Art.7 ust.2 pkt 1a","Art.12 ust.2 pkt 1a","Art.7 ust.2 pkt 1a",0.45]
["cel złożenia form. 2",null,null,null,null,null,"ZDR-1",5,{"$f":"'DR-1'!AA132","v":0},21,16,23,3,23,3,21,16,22,3,22,3,21,16,23,3,23,3,null,null,null,null,null,null,null,null,"rolne zabudowane","posiadanie zależne",5,"grunty pozostałe (drogi)",0.28000000000000003,0.22,0.22,0.24,0.28000000000000003,44,"a.0,28",{"$f":"SUMIF('ZDN-1'!P:P,Dane!AT5,'ZDN-1'!K:K)","v":0},null,null,9,2,3,null,null,"Bi","nieruchomość",null,null,null,null,"Ls-LsIV",{"$f":"ROW()","v":5},"Ls","lasy","ZDL-1","brak",{"$f":"SUMIF(Grunty!H:H,BI5,Grunty!I:I)","v":0},null,31,5,null,null,null,null,null,null,null,null,null,null,null,null,"RIIIb",4,70,13,0,0,null,null,null,null,null,null,null,null,null,null,"Biskupice",null,"Byczyna","kluczborski","opolskie",null,"Art.7 ust.1 pkt.1 lit.c uopiol","Art.12 ust.1 pkt.3 uopr","Art.7 ust.1 pkt.3 uopl",null,"instytuty badawcze","Art.7 ust.2 pkt 5","Art.12 ust.2 pkt 5","Art.7 ust.2 pkt 5",0.45]
["okres obowiązywania",1,null,null,"Info o błędach",null,"ZDR-2",6,{"$f":"'DR-1'!AA133","v":0},21,16,30,14,30,14,21,16,29,14,29,13,21,16,30,12,30,12,null,null,null,null,null,null,null,null,"rowy","posiadanie zależne (sp)",6,"grunty rewitalizacja",3.78,3.06,3.06,3.28,3.78,55,"a.3,78",{"$f":"SUMIF('ZDN-1'!P:P,Dane!AT6,'ZDN-1'!K:K)","v":0},null,null,1,3,4,null,null,"Bp","nieruchomość",null,null,null,null,"Ls-LsV",{"$f":"ROW()","v":6},"Ls","lasy","ZDL-1","brak",{"$f":"SUMIF(Grunty!H:H,BI6,Grunty!I:I)","v":0},null,31,5,null,null,null,null,null,null,null,null,null,null,null,null,"RIVa",5,70,15,0,0,null,null,null,null,null,null,null,null,null,null,"Bogacica",null,"Kluczbork","kluczborski","opolskie",null,"Art.7 ust.1 pkt.1a uopiol","Art.12 ust.1 pkt.4 lit.a uopr","Art.7 ust.2 pkt.1 uopl",null,"instytuty naukowe i pomocnicze jednostki naukowe Polskiej Akademii Nauk","Art.7 ust.2 pkt 3","Art.12 ust.2 pkt 3","Art.7 ust.2 pkt 3",0.45]
["rodzaj podmiotu 1",null,null,null,"Arkusz zawiera błędy",null,"DL-1",7,3,24,17,42,3,42,3,24,17,43,3,43,3,24,17,43,3,43,3,null,null,null,null,null,null,null,null,"sady","posiadanie zależne (tz)",7,"budynki mieszkalne",0.98,0.79,0.79,0.85,0.98,66,{"$f":"\"b.\"&AN7","v":"b.0,98"},{"$f":"SUMIF('ZDN-1'!P:P,Dane!AT7,'ZDN-1'!K:K)","v":0},null,null,3,4,5,null,null,"Bz","nieruchomość",null,null,null,null,"Ls-LsVI",{"$f":"ROW()","v":7},"Ls","lasy","ZDL-1","brak",{"$f":"SUMIF(Grunty!H:H,BI7,Grunty!I:I)","v":0},null,31,5,null,null,null,null,null,null,null,null,null,null,null,null,"RIVb",6,70,18,0,0,null,null,null,null,null,null,null,null,null,null,"Bogacka Szklarnia",null,"Kluczbork","kluczborski","opolskie",null,"Art.7 ust.1 pkt.2 uopiol","Art.12 ust.1 pkt.4 lit.b uopr","Art.7 ust.2 pkt.1a uopl",null,"kościoły","Art. 1b ust.1",null,null,0.45]
["rodzaj podmiotu 2",null,null,null,null,null,"ZDL-1",8,{"$f":"'DL-1'!AA86","v":0},24,17,49,14,49,14,24,17,62,14,62,13,24,17,50,12,50,12,null,null,null,null,null,null,null,null,"stawy","posiadanie bez tytułu prawnego",8,"budynki działalność do 45000",27.75,22.75,22.75,24.35,27.75,77,{"$f":"\"b.\"&AN8","v":"b.27,75"},{"$f":"SUMIF('ZDN-1'!P:P,Dane!AT8,'ZDN-1'!K:K)","v":0},null,null,7,5,6,null,null,"dr","nieruchomość",null,null,null,null,"B",{"$f":"ROW()","v":8},"B","nieruchomość","ZDN-1","brak",{"$f":"SUMIF(Grunty!H:H,BI8,Grunty!I:I)","v":0},null,null,1,null,null,null,null,null,null,null,null,null,null,null,null,"ŁI",7,74,6,0,0,null,null,null,null,null,null,null,null,null,null,"Bogdańczowice",null,"Kluczbork","kluczborski","opolskie",null,"Art.7 ust.1 pkt.2a uopiol","Art.12 ust.1 pkt.4 lit.c uopr","Art.7 ust.2 pkt.2 uopl",null,"Krajowy Zasób Nieruchomości",null,"Art.12 ust.2 pkt 7","Art.7 ust.2 pkt 7",0.45]
["osoba fizyczna",null,null,null,"Wersja arkusza",null,"ZDL-2",9,{"$f":"'DL-1'!AA87","v":0},28,5,53,3,53,3,28,5,90,3,90,3,28,5,{"$f":"X5+80","v":103},{"$f":"Y5","v":3},103,3,null,null,null,null,null,null,null,null,"zadrzewione i zakrzewione",null,9,"budynki działalność pow. 45000",0.1,0.1,0.1,0.1,0.1,88,"b.0,1",{"$f":"SUMIF('ZDN-1'!P:P,Dane!AT9,'ZDN-1'!K:K)","v":0},null,null,9,6,7,null,null,"K","nieruchomość",null,null,null,null,"Ba",{"$f":"ROW()","v":9},"Ba","nieruchomość","ZDN-1","brak",{"$f":"SUMIF(Grunty!H:H,BI9,Grunty!I:I)","v":0},null,null,1,null,null,null,null,null,null,null,null,null,null,null,null,"ŁII",8,74,9,0,0,null,null,null,null,null,null,null,null,null,null,"Borek",null,"Byczyna","kluczborski","opolskie",null,"Art.7 ust.1 pkt.3 uopiol","Art.12 ust.1 pkt.5 uopr","Art.7 ust.2 pkt.3 uopl",null,"Organizacje pożytku pudlicznego - działalność nieodpłatna","Art.7 ust.1 pkt 14",null,null,0.45]
["osoba prawna",null,null,null,{"$f":"\".1.\"&INFO(\"wersja\")&\".\"&TODAY()","v":".1.15.0.44867"},null,null,null,null,28,5,60,14,60,14,28,5,97,14,97,13,28,5,{"$f":"X6+80","v":110},{"$f":"Y6","v":12},110,12,null,null,null,null,null,null,null,null,null,null,10,"budynki mat.siewny",13.47,11.1,11.1,11.88,13.47,99,"b.13,47",{"$f":"SUMIF('ZDN-1'!P:P,Dane!AT10,'ZDN-1'!K:K)","v":0},null,null,1,7,null,null,null,"Ti","nieruchomość",null,null,null,null,"Bi",{"$f":"ROW()","v":10},"Bi","nieruchomość","ZDN-1","brak",{"$f":"SUMIF(Grunty!H:H,BI10,Grunty!I:I)","v":0},null,null,1,null,null,null,null,null,null,null,null,null,null,null,null,"ŁIII",9,74,13,0,0,null,null,null,null,null,null,null,null,null,null,"Borki Małe",null,"Lasowice Wielkie","kluczborski","opolskie",null,"Art.7 ust.1 pkt.4 lit.a uopiol","Art.12 ust.1 pkt.6 uopr","Art.7 ust.2 pkt.4 uopl",null,"Pracowniczae Ogrody Działkowe","Art.7 ust.1 pkt 12",null,null,0.45]
["jednostka ...",null,null,null,null,null,null,null,null,28,16,91,3,91,3,28,16,111,3,111,3,28,16,123,3,123,3,null,null,null,null,null,null,null,null,null,null,11,"budynki św.zdrowotne",5.87,4.8600000000000003,4.8600000000000003,5.21,5.87,111,"b.5,87",{"$f":"SUMIF('ZDN-1'!P:P,Dane!AT11,'ZDN-1'!K:K)","v":0},null,null,3,null,null,null,null,"Tk","nieruchomość",null,null,null,null,"Bp",{"$f":"ROW()","v":11},"Bp","nieruchomość","ZDN-1","brak",{"$f":"SUMIF(Grunty!H:H,BI11,Grunty!I:I)","v":0},null,null,1,null,null,null,null,null,null,null,null,null,null,null,null,"ŁIV",10,74,17,0,0,null,null,null,null,null,null,null,null,null,null,"Borki Wielkie",null,"Lasowice Wielkie","kluczborski","opolskie",null,"Art.7 ust.1 pkt.4 lit.b uopiol","Art.12 ust.1 pkt.7 uopr","Art.7 ust.2 pkt.5 uopl",null,"prowadzących zakłady pracy chronionej","Art.7 ust.2 pkt 4","Art.12 ust.2 pkt 4","Art.7 ust.2 pkt 4",0.45]
["nazwisko",null,null,null,null,null,null,null,null,28,16,98,14,98,14,28,16,130,14,130,13,28,16,130,12,130,12,null,null,null,null,null,null,null,null,null,null,12,"budynki pozostałe",7.7,6.25,6.25,6.69,7.7,222,"b.7,7",{"$f":"SUMIF('ZDN-1'!P:P,Dane!AT12,'ZDN-1'!K:K)","v":0},null,null,null,null,null,null,null,"Tp","nieruchomość",null,null,null,null,"Bz",{"$f":"ROW()","v":12},"Bz","nieruchomość","ZDN-1","brak",{"$f":"SUMIF(Grunty!H:H,BI12,Grunty!I:I)","v":0},null,null,1,null,null,null,null,null,null,null,null,null,null,null,null,"S-RI",11,78,6,0,0,null,null,null,null,null,null,null,null,null,null,"Borkowice","46-243","Kluczbork","kluczborski","opolskie",null,"Art.7 ust.1 pkt.4 lit.c uopiol","Art.12 ust.1 pkt.8 uopr","Art.7 ust.2 pkt.6 uopl",null,"przedsiębiorców o statusie centrum badawczo-rozwojowego","Art.7 ust.2 pkt 5a","Art.12 ust.2 pkt 5a","Art.7 ust.2 pkt 6",0.45]
["imię",null,null,null,"Organ podatkowy",null,null,null,null,35,5,110,3,110,3,35,5,158,3,158,3,35,5,{"$f":"X9+80","v":183},{"$f":"Y9","v":3},183,3,null,null,null,null,null,null,null,null,null,null,13,"budowle sanitarne",0.5,0.5,0.5,0.5,0.5,0.5,{"$f":"\"c.\"&AN13","v":"c.0,5"},{"$f":"SUMIF('ZDN-1'!P:P,Dane!AT13,'ZDN-1'!K:K)","v":0},null,null,null,null,null,null,null,"Tr","nieruchomość",null,null,null,null,"dr",{"$f":"ROW()","v":13},"dr","nieruchomość","ZDN-1","brak",{"$f":"SUMIF(Grunty!H:H,BI13,Grunty!I:I)","v":0},null,null,1,null,null,null,null,null,null,null,null,null,null,null,null,"S-RII",12,78,8,0,0,null,null,null,null,null,null,null,null,null,null,"Borownia",null,"Wołczyn","kluczborski","opolskie",null,"Art.7 ust.1 pkt.5 uopiol","Art.12 ust.1 pkt.9 uopr","Art.7 ust.2 pkt.7 uopl",null,"publiczne i niepubliczne jednostki organizacyjne objęte systemem oświaty oraz prowadzące je organy","Art.7 ust.2 pkt 2","Art.12 ust.2 pkt 2","Art.7 ust.2 pkt 2",0.45]
["REGON",null,null,null,"Burmistrz Miasta Kluczborka, ul.Katowicka 1, 46-200 Kluczbork",null,null,null,null,35,5,117,14,117,14,35,5,165,14,165,14,35,5,190,12,190,12,null,null,null,null,null,null,null,null,null,null,14,"budowle pozostałe",2,2,2,2,2,2,{"$f":"\"c.\"&AN14","v":"c.2"},{"$f":"SUMIF('ZDN-1'!P:P,Dane!AT14,'ZDN-1'!K:K)","v":0},null,null,null,null,null,null,null,"Ws","nieruchomość",null,null,null,null,"K",{"$f":"ROW()","v":14},"K","nieruchomość","ZDN-1","brak",{"$f":"SUMIF(Grunty!H:H,BI14,Grunty!I:I)","v":0},null,null,1,null,null,null,null,null,null,null,null,null,null,null,null,"S-RIIIa",13,78,10,0,0,null,null,null,null,null,null,null,null,null,null,"Brodnica",null,"Kluczbork","kluczborski","opolskie",null,"Art.7 ust.1 pkt.6 uopiol","Art.12 ust.1 pkt.10 uopr","§4 uchwły nr XII/104/03 z 03.07.2003r.",null,"uczelnie","Art.7 ust.2 pkt 1","Art.12 ust.2 pkt 1","Art.7 ust.2 pkt 1",0.45]
["data urodzenia",null,null,null,null,null,null,null,null,35,11,121,3,121,3,35,11,179,3,179,3,35,11,203,3,203,3,null,null,null,null,null,null,null,null,null,null,15,"żyto",74.05,58.46,58.55,61.48,74.05,555,null,null,null,null,null,null,null,null,null,"Lz","nieruchomość",null,null,null,null,"Ti",{"$f":"ROW()","v":15},"Ti","nieruchomość","ZDN-1","brak",{"$f":"SUMIF(Grunty!H:H,BI15,Grunty!I:I)","v":0},null,null,1,null,null,null,null,null,null,null,null,null,null,null,null,"S-RIIIb",14,78,13,0,0,null,null,null,null,null,null,null,null,null,null,"Bruny",null,"Wołczyn","kluczborski","opolskie",null,"Art.7 ust.1 pkt.7 uopiol","Art.12 ust.1 pkt.11 uopr",null,null,"żłobki i kluby dziecięce oraz prowadzące je podmioty","Art.7 ust.2 pkt 2a",null,null,0.45]
["i.ojca",null,null,null,null,null,null,null,null,35,11,128,14,128,14,35,11,198,14,198,14,35,11,210,12,210,12,null,null,null,null,null,null,null,null,null,null,16,"drewno",323.18,194.24,196.84,212.26,323.18,666,null,null,null,null,null,null,null,null,null,"N","nieruchomość",null,null,null,null,"Tk",{"$f":"ROW()","v":16},"Tk","nieruchomość","ZDN-1","brak",{"$f":"SUMIF(Grunty!H:H,BI16,Grunty!I:I)","v":0},null,null,1,null,null,null,null,null,null,null,null,null,null,null,null,"S-RIVa",15,78,15,0,0,null,null,null,null,null,null,null,null,null,null,"Brynica",null,"Wołczyn","kluczborski","opolskie",null,"Art.7 ust.1 pkt.8 lit.a uopiol","Art.12 ust.1 pkt.12 lit.a uopr"]
["I.matki",null,null,null,null,null,null,null,null,35,16,159,3,159,3,35,16,226,3,226,3,35,16,{"$f":"X13+80","v":263},{"$f":"Y13","v":3},263,3,null,null,null,null,null,null,null,null,null,null,null,null,null,null,null,null,null,null,null,null,null,null,null,null,null,null,null,"R-RI","orne",1,null,null,null,"Tp",{"$f":"ROW()","v":17},"Tp","nieruchomość","ZDN-1","brak",{"$f":"SUMIF(Grunty!H:H,BI17,Grunty!I:I)","v":0},null,null,1,null,null,null,null,null,null,null,null,null,null,null,null,"S-RIVb",16,78,18,0,0,null,null,null,null,null,null,null,null,null,null,"Brzezinka",null,"Kluczbork","kluczborski","opolskie",null,"Art.7 ust.1 pkt.8 lit.b uopiol","Art.12 ust.1 pkt.12 lit.b uopr"]
["kraj",null,null,null,null,null,null,null,null,35,16,166,14,166,14,35,16,233,14,233,14,35,16,270,12,270,12,null,null,null,null,null,null,null,null,null,null,null,null,null,null,null,null,null,null,null,null,null,null,null,null,null,null,null,"R-RII","orne",2,null,null,null,"Tr",{"$f":"ROW()","v":18},"Tr","nieruchomość","ZDN-1","brak",{"$f":"SUMIF(Grunty!H:H,BI18,Grunty!I:I)","v":0},null,null,1,null,null,null,null,null,null,null,null,null,null,null,null,"Br",17,83,14,0,0,null,null,null,null,null,null,null,null,null,null,"Brzezinki",null,"Wołczyn","kluczborski","opolskie",null,"Art.7 ust.1 pkt.8a uopiol","Art.12 ust.1 pkt.12 lit.c uopr"]
["woj.",null,null,"Dane",{"$f":"B2&\";\"&B4&\";\"&B5&\";\"&B6&\";\"&B7&\";\"&B8&\";\"&B9&\";\"&B10&\";\"&B11&\";\"&B12&\";\"&B13&\";\"&B14&\";\"&B15&\";\"&B16&\";\"&B17&\";\"&B18&\";\"&B19&\";\"&B20&\";\"&B21&\";\"&B22&\";\"&B23&\";\"&B24&\";\"&B25&\";\"&B26&\";\"&B27&\";\"&B28&\";\"&B29&\";\"&B30&\";\"&B31&\";\"&B32&\";\"&B33&\";\"&B34&\";\"&B35&\";\"&B45&\";\"&B46&\";\"&B36&\";\"&B37&\";\"&B38&\";\"&B39&\";\"&B40&\";\"&B41&\";\"&B42&\";\"&B43&\";\"&B44","v":";;;1;;;;;;;;;;;;;;;;;;;;;;;;;;;;;;;;;;;;;;;;"},null,null,null,null,38,3,178,3,178,3,38,3,247,3,247,3,38,3,283,3,283,3,null,null,null,null,null,null,null,null,null,null,null,null,null,null,null,null,null,null,null,null,null,null,null,null,null,null,null,"R-RIIIa","orne",3,null,null,null,"Ws",{"$f":"ROW()","v":19},"Ws","nieruchomość","ZDN-1","brak",{"$f":"SUMIF(Grunty!H:H,BI19,Grunty!I:I)","v":0},null,null,1,null,null,null,null,null,null,null,null,null,null,null,null,"W",18,87,14,0,0,null,null,null,null,null,null,null,null,null,null,"Brzózki",null,"Byczyna","kluczborski","opolskie",null,"Art.7 ust.1 pkt.9 uopiol","Art.12 ust.1 pkt.12 lit.d uopr"]
["powiat",null,null,null,null,null,null,null,null,38,16,185,14,185,14,38,16,266,14,266,14,38,16,290,12,290,12,null,null,null,null,null,null,null,null,null,null,null,null,null,null,null,null,null,null,null,null,null,null,null,null,null,null,null,"R-RIIIb","orne",4,null,null,null,"Lz",{"$f":"ROW()","v":20},"Lz","nieruchomość","ZDN-2","art.7 ust.1 pkt.10 uopiol",{"$f":"SUMIF(Grunty!H:H,BI20,Grunty!I:I)","v":0},null,201,2,null,null,null,null,null,null,null,null,null,null,null,null,"Wsr",19,87,14,0,0,null,null,null,null,null,null,null,null,null,null,"Byczyna",null,"Byczyna","kluczborski","opolskie",null,"Art.7 ust.1 pkt.10 uopiol","Art.12 ust.1 pkt.13 uopr"]
["gmina",null,null,null,null,null,null,null,null,40,10,189,3,189,3,40,10,294,3,294,3,40,10,{"$f":"X17+80","v":343},{"$f":"Y17","v":3},343,3,null,null,null,null,null,null,null,null,null,null,null,null,null,null,null,null,null,null,null,null,null,null,null,null,null,null,null,"R-RIVa","orne",5,null,null,null,"N",{"$f":"ROW()","v":21},"N","nieruchomość","ZDN-2","art.7 ust.1 pkt.10 uopiol",{"$f":"SUMIF(Grunty!H:H,BI21,Grunty!I:I)","v":0},null,201,2,null,null,null,null,null,null,null,null,null,null,null,null,"Zw R",101,null,null,0,{"$f":"SUMIF(BQ:BQ,CF21,BP:BP)","v":0},null,null,null,null,null,null,null,null,null,null,"Cegielnia",null,"Byczyna","kluczborski","opolskie",null,"Art.7 ust.1 pkt.11 uopiol","Art.12 ust.2 pkt.1 uopr"]
["ulica",null,null,null,null,null,null,null,null,40,10,196,14,196,14,40,10,301,14,301,14,40,10,350,12,350,12,null,null,null,null,null,null,null,null,null,null,null,null,null,null,null,null,null,null,null,null,null,null,null,null,null,null,null,"R-RIVb","orne",6,null,null,null,"R-RI",{"$f":"ROW()","v":22},"RI","orne","ZDR-1","brak",{"$f":"SUMIF(Grunty!H:H,BI22,Grunty!I:I)","v":0},{"$f":"SUMIF('ZDR-1'!L:L,BI22,'ZDR-1'!I:I)","v":0},1,3,null,null,74,7,null,null,null,null,null,null,null,null,null,null,66,16,0,0,null,null,null,null,null,null,null,null,null,null,"Cegielnia",null,"Wołczyn","kluczborski","opolskie",null,"Art.7 ust.1 pkt.12 uopiol","Art.12 ust.2 pkt.1a uopr"]
["nrD",null,null,null,null,null,null,null,null,43,3,227,3,227,3,43,3,315,3,315,3,43,3,363,3,363,3,null,null,null,null,null,null,null,null,null,null,null,null,null,null,null,null,null,null,null,null,null,null,null,null,null,null,null,"Ł-ŁI","łąki trwałe",7,null,null,null,"R-RII",{"$f":"ROW()","v":23},"RII","orne","ZDR-1","brak",{"$f":"SUMIF(Grunty!H:H,BI23,Grunty!I:I)","v":0},{"$f":"SUMIF('ZDR-1'!L:L,BI23,'ZDR-1'!I:I)","v":0},2,3,null,null,75,7,null,null,null,null,null,null,null,null,"Ws",null,68,16,0,0,null,null,null,null,null,null,null,null,null,null,"Chałupki",null,"Byczyna","kluczborski","opolskie",null,"Art.7 ust.1 pkt.13 uopiol","Art.12 ust.2 pkt.2 uopr"]
["nrL",null,null,null,null,null,null,null,null,43,21,234,14,234,14,43,21,334,14,334,14,43,21,370,12,370,12,null,null,null,null,null,null,null,null,null,null,null,null,null,null,null,null,null,null,null,null,null,null,null,null,null,null,null,"Ps-PsI","pastwiska",7,null,null,null,"R-RIIIa",{"$f":"ROW()","v":24},"RIIIa","orne","ZDR-1","brak",{"$f":"SUMIF(Grunty!H:H,BI24,Grunty!I:I)","v":0},{"$f":"SUMIF('ZDR-1'!L:L,BI24,'ZDR-1'!I:I)","v":0},3,3,null,null,76,7,null,null,null,null,null,null,null,null,"B",null,70,16,0,0,null,null,null,null,null,null,null,null,null,null,"Chałupska",null,"Kluczbork","kluczborski","opolskie",null,"Art.7 ust.1 pkt.14 uopiol","Art.12 ust.2 pkt.3 uopr"]
["miejscowość",null,null,"DN",{"$f":"'DN-1'!BC1","v":true},null,null,null,null,46,3,246,3,246,3,46,3,362,3,362,3,46,3,423,3,423,3,null,null,null,null,null,null,null,null,null,null,null,null,null,null,null,null,null,null,null,null,null,null,null,null,null,null,null,"Ł-ŁII","łąki trwałe",8,null,null,null,"R-RIIIb",{"$f":"ROW()","v":25},"RIIIb","orne","ZDR-1","brak",{"$f":"SUMIF(Grunty!H:H,BI25,Grunty!I:I)","v":0},{"$f":"SUMIF('ZDR-1'!L:L,BI25,'ZDR-1'!I:I)","v":0},4,3,null,null,77,7,null,null,null,null,null,null,null,null,null,null,72,16,0,0,null,null,null,null,null,null,null,null,null,null,"Chałupy",null,"Lasowice Wielkie","kluczborski","opolskie",null,"Art.7 ust.1 pkt.15 uopiol","Art.12 ust.2 pkt.4 uopr"]
["kod-pocztowy",null,null,"DR",{"$f":"'DR-1'!BC1","v":false},null,null,null,null,46,19,253,14,253,14,46,19,369,14,369,14,46,19,430,12,430,12,null,null,null,null,null,null,null,null,null,null,null,null,null,"Ls",null,null,null,null,null,null,null,null,null,null,null,null,null,"Ps-PsII","pastwiska",8,null,null,null,"RIVa",{"$f":"ROW()","v":26},"RIVa","orne","ZDR-1","brak",{"$f":"SUMIF(Grunty!H:H,BI26,Grunty!I:I)","v":0},{"$f":"SUMIF('ZDR-1'!L:L,BI26,'ZDR-1'!I:I)","v":0},5,3,null,null,78,7,null,null,null,null,null,null,null,null,"dr",null,75,16,0,0,null,null,null,null,null,null,null,null,null,null,"Chocianowice",null,"Lasowice Wielkie","kluczborski","opolskie",null,"Art.7 ust.1 pkt.16 uopiol","Art.12 ust.2 pkt.5 uopr"]
["kraj",null,null,"DL",{"$f":"'DL-1'!BC1","v":false},null,null,null,null,48,3,257,3,257,3,48,3,383,3,383,3,48,3,443,3,443,3,null,null,null,null,null,null,null,null,null,null,null,null,null,null,null,null,null,null,null,null,null,null,null,null,null,null,null,"Ł-ŁIII","łąki trwałe",9,null,null,null,"R-RIVa",{"$f":"ROW()","v":27},"RIVa","orne","ZDR-1","brak",{"$f":"SUMIF(Grunty!H:H,BI27,Grunty!I:I)","v":0},{"$f":"SUMIF('ZDR-1'!L:L,BI27,'ZDR-1'!I:I)","v":0},5,3,null,null,78,7,null,null,null,null,null,null,null,null,null,null,77,16,0,0,null,null,null,null,null,null,null,null,null,null,"Chomącko",null,"Wołczyn","kluczborski","opolskie",null,"Art.7 ust.2 pkt.1 uopiol","Art.12 ust.2 pkt.5a uopr"]
["woj.",null,null,null,null,null,null,null,null,48,24,264,14,264,14,48,24,402,14,402,14,48,24,450,12,450,12,null,null,null,null,null,null,null,null,null,null,null,null,null,null,null,null,null,null,null,null,null,null,null,null,null,null,null,"Ps-PsIII","pastwiska",9,null,null,null,"RIVb",{"$f":"ROW()","v":28},"RIVb","orne","ZDR-1","brak",{"$f":"SUMIF(Grunty!H:H,BI28,Grunty!I:I)","v":0},{"$f":"SUMIF('ZDR-1'!L:L,BI28,'ZDR-1'!I:I)","v":0},6,3,null,null,79,7,null,null,null,null,null,null,null,null,null,null,80,16,0,0,null,null,null,null,null,null,null,null,null,null,"Chudoba",null,"Byczyna","kluczborski","opolskie",null,"Art.7 ust.2 pkt.1a uopiol","Art.12 ust.2 pkt.7 uopr"]
["powiat",null,null,null,null,null,null,null,null,50,3,295,3,295,3,50,3,430,3,430,3,50,3,503,3,503,3,null,null,null,null,null,null,null,null,null,null,null,null,null,null,null,null,null,null,null,null,null,null,null,null,null,null,null,"Ł-ŁIV","łąki trwałe",10,null,null,null,"R-RIVb",{"$f":"ROW()","v":29},"RIVb","orne","ZDR-1","brak",{"$f":"SUMIF(Grunty!H:H,BI29,Grunty!I:I)","v":0},{"$f":"SUMIF('ZDR-1'!L:L,BI29,'ZDR-1'!I:I)","v":0},6,3,null,null,79,7,null,null,null,null,null,null,null,null,null,null,82,16,0,0,null,null,null,null,null,null,null,null,null,null,"Chudoba",null,"Lasowice Wielkie","kluczborski","opolskie",null,"Art.7 ust.2 pkt.2 uopiol","Art.13 ust.1 pkt.1 uopr"]
["gmina",null,null,null,null,null,null,null,null,50,16,302,14,302,14,50,16,437,14,437,14,50,16,510,12,510,12,null,null,null,null,null,null,null,null,null,null,null,null,null,null,null,null,null,null,null,null,null,null,null,null,null,null,null,"Ps-PsIV","pastwiska",10,null,null,null,"Ł-ŁI",{"$f":"ROW()","v":30},"ŁI","łąki trwałe","ZDR-1","brak",{"$f":"SUMIF(Grunty!H:H,BI30,Grunty!I:I)","v":0},{"$f":"SUMIF('ZDR-1'!L:L,BI30,'ZDR-1'!I:I)","v":0},7,3,null,null,83,7,null,null,null,null,null,null,null,null,"Zw N",201,null,null,{"$f":"SUMIF(BQ:BQ,CF30,BO:BO)","v":0},{"$f":"SUMIF(BQ:BQ,CF30,BP:BP)","v":0},null,null,null,null,null,null,null,null,null,null,"Chwalęcice",null,"Lasowice Wielkie","kluczborski","opolskie",null,"Art.7 ust.2 pkt.2a uopiol","Art.13 ust.1 pkt.2 lit.a uopr"]
["ulica",null,null,null,null,null,null,null,null,53,3,314,3,314,3,53,3,451,3,451,3,53,3,523,3,523,3,null,null,null,null,null,null,null,null,null,null,null,null,null,null,null,null,null,null,null,null,null,null,null,null,null,null,null,"S-ŁI","sady",11,null,null,null,"Ps-PsI",{"$f":"ROW()","v":31},"PsI","pastwiska","ZDR-1","brak",{"$f":"SUMIF(Grunty!H:H,BI31,Grunty!I:I)","v":0},{"$f":"SUMIF('ZDR-1'!L:L,BI31,'ZDR-1'!I:I)","v":0},7,3,null,null,83,7,null,null,null,null,null,null,null,null,"Ls",31,58,10,0,0,null,null,null,null,null,null,null,null,null,null,"Ciarka",null,"Lasowice Wielkie","kluczborski","opolskie",null,"Art.7 ust.2 pkt.3 uopiol","Art.13 ust.1 pkt.2 lit.b uopr"]
["nrD",null,null,null,null,null,null,null,null,53,19,321,14,321,14,53,19,470,14,470,14,53,19,530,12,530,12,null,null,null,null,null,null,null,null,null,null,null,null,null,null,null,null,null,null,null,null,null,null,null,null,null,null,null,"S-PsI","sady",11,null,null,null,"Ł-ŁII",{"$f":"ROW()","v":32},"ŁII","łąki trwałe","ZDR-1","brak",{"$f":"SUMIF(Grunty!H:H,BI32,Grunty!I:I)","v":0},{"$f":"SUMIF('ZDR-1'!L:L,BI32,'ZDR-1'!I:I)","v":0},8,3,null,null,84,7,null,null,null,null,null,null,null,null,null,32,60,10,0,0,null,null,null,null,null,null,null,null,null,null,"Ciarski Młyn",null,"Lasowice Wielkie","kluczborski","opolskie",null,"Art.7 ust.2 pkt.4 uopiol","Art.13 ust.1 pkt.2 lit.c uopr"]
["nrL",null,null,null,null,null,null,null,null,55,3,325,3,325,3,55,3,498,3,498,3,55,3,583,3,583,3,null,null,null,null,null,null,null,null,null,null,null,null,null,null,null,null,null,null,null,null,null,null,null,null,null,null,null,"S-RI","sady",11,null,null,null,"Ps-PsII",{"$f":"ROW()","v":33},"PsII","pastwiska","ZDR-1","brak",{"$f":"SUMIF(Grunty!H:H,BI33,Grunty!I:I)","v":0},{"$f":"SUMIF('ZDR-1'!L:L,BI33,'ZDR-1'!I:I)","v":0},8,3,null,null,83,7,null,null,null,null,null,null,null,null,"Zw L",301,null,null,0,0,null,null,null,null,null,null,null,null,null,null,"Ciecierski Młyn",null,"Byczyna","kluczborski","opolskie",null,"Art.7 ust.2 pkt.5 uopiol","§3 uchwły nr XII/104/03 z 03.07.2003r."]
["miejscowość",null,null,null,null,null,null,null,null,55,24,332,14,332,14,55,24,505,14,505,14,55,24,590,12,590,12,null,null,null,null,null,null,null,null,null,null,null,null,null,null,null,null,null,null,null,null,null,null,null,null,null,null,null,"S-ŁII","sady",12,null,null,null,"Ł-ŁIII",{"$f":"ROW()","v":34},"ŁIII","łąki trwałe","ZDR-1","brak",{"$f":"SUMIF(Grunty!H:H,BI34,Grunty!I:I)","v":0},{"$f":"SUMIF('ZDR-1'!L:L,BI34,'ZDR-1'!I:I)","v":0},9,3,null,null,85,7,null,null,null,null,null,null,null,null,"Wp",null,null,null,0,0,null,null,null,null,null,null,null,null,null,null,"Ciecierzyn",null,"Byczyna","kluczborski","opolskie",null,"Art.7 ust.2 pkt.5a uopiol"]
["kod-pocztowy",null,null,null,null,null,null,null,null,57,3,363,3,363,3,57,3,519,3,519,3,57,3,603,3,603,3,null,null,null,null,null,null,null,null,null,null,null,null,null,null,null,null,null,null,null,null,null,null,null,null,null,null,null,"S-PsII","sady",12,null,null,null,"Ps-PsIII",{"$f":"ROW()","v":35},"PsIII","pastwiska","ZDR-1","brak",{"$f":"SUMIF(Grunty!H:H,BI35,Grunty!I:I)","v":0},{"$f":"SUMIF('ZDR-1'!L:L,BI35,'ZDR-1'!I:I)","v":0},9,3,null,null,84,7,null,null,null,null,null,null,null,null,null,null,null,null,0,0,null,null,null,null,null,null,null,null,null,null,"Ciecierzyn-Piekło",null,"Byczyna","kluczborski","opolskie",null,"§2 uchwły nr XII/104/03 z 03.07.2003r."]
["Podatnik imię",null,null,null,null,null,null,null,null,57,16,370,14,370,14,57,16,538,14,538,14,57,16,610,12,610,12,null,null,null,null,null,null,null,null,null,null,null,null,null,null,null,null,null,null,null,null,null,null,null,null,null,null,null,"S-RII","sady",12,null,null,null,"Ł-ŁIV",{"$f":"ROW()","v":36},"ŁIV","łąki trwałe","ZDR-1","brak",{"$f":"SUMIF(Grunty!H:H,BI36,Grunty!I:I)","v":0},{"$f":"SUMIF('ZDR-1'!L:L,BI36,'ZDR-1'!I:I)","v":0},10,3,null,null,86,7,null,null,null,null,null,null,null,null,null,null,null,null,null,null,null,null,null,null,null,null,null,null,null,null,"Cygany",null,"Wołczyn","kluczborski","opolskie",null,"Art.1b ust.1 uopiol"]
["Podatnik nazwisko",null,null,null,null,null,null,null,null,68,15,382,3,382,3,67,5,566,3,566,3,70,15,663,3,663,3,null,null,null,null,null,null,null,null,null,null,null,null,null,null,null,null,null,null,null,null,null,null,null,null,null,null,null,"S-ŁIII","sady",13,null,null,null,"Ps-PsIV",{"$f":"ROW()","v":37},"PsIV","pastwiska","ZDR-1","brak",{"$f":"SUMIF(Grunty!H:H,BI37,Grunty!I:I)","v":0},{"$f":"SUMIF('ZDR-1'!L:L,BI37,'ZDR-1'!I:I)","v":0},10,3,null,null,85,7,null,null,null,null,null,null,null,null,null,null,null,null,null,null,null,null,null,null,null,null,null,null,null,null,"Czaple Wolne",null,"Kluczbork","kluczborski","opolskie"]
["Podatnik data",null,null,null,null,null,null,null,null,74,15,389,14,389,14,67,5,573,14,573,14,71,15,670,12,670,12,null,null,null,null,null,null,null,null,null,null,null,null,null,null,null,null,null,null,null,null,null,null,null,null,null,null,null,"S-PsIII","sady",13,null,null,null,"S-ŁI",{"$f":"ROW()","v":38},"S-ŁI","sady","ZDR-1","brak",{"$f":"SUMIF(Grunty!H:H,BI38,Grunty!I:I)","v":0},{"$f":"SUMIF('ZDR-1'!L:L,BI38,'ZDR-1'!I:I)","v":0},11,3,null,null,90,7,null,null,null,null,null,null,null,null,null,null,null,null,null,null,null,null,null,null,null,null,null,null,null,null,"Czerwona",null,"Lasowice Wielkie","kluczborski","opolskie"]
["Os. reprezentująca 1 imię",null,null,null,null,null,null,null,null,77,15,393,3,393,3,67,16,587,3,587,3,75,18,683,3,683,3,null,null,null,null,null,null,null,null,null,null,null,null,null,null,null,null,null,null,null,null,null,null,null,null,null,null,null,"S-RIIIa","sady",13,null,null,null,"S-PsI",{"$f":"ROW()","v":39},"S-PsI","sady","ZDR-1","brak",{"$f":"SUMIF(Grunty!H:H,BI39,Grunty!I:I)","v":0},{"$f":"SUMIF('ZDR-1'!L:L,BI39,'ZDR-1'!I:I)","v":0},11,3,null,null,90,7,null,null,null,null,null,null,null,null,null,null,null,null,null,null,null,null,null,null,null,null,null,null,null,null,"Damnik",null,"Kluczbork","kluczborski","opolskie"]
["Os. reprezentująca 1 nazwisko",null,null,null,null,null,null,null,null,77,15,400,14,400,14,67,16,606,14,606,14,75,18,690,12,690,12,null,null,null,null,null,null,null,null,null,null,null,null,null,null,null,null,null,null,null,null,null,null,null,null,null,null,null,"S-RIIIb","sady",14,null,null,null,"S-RI",{"$f":"ROW()","v":40},"S-RI","sady","ZDR-1","brak",{"$f":"SUMIF(Grunty!H:H,BI40,Grunty!I:I)","v":0},{"$f":"SUMIF('ZDR-1'!L:L,BI40,'ZDR-1'!I:I)","v":0},11,3,null,null,90,7,null,null,null,null,null,null,null,null,null,null,null,null,null,null,null,null,null,null,null,null,null,null,null,null,"Danielaczka",null,"Lasowice Wielkie","kluczborski","opolskie"]
["Os. reprezentująca 1 data",null,null,null,null,null,null,null,null,92,15,431,3,431,3,74,7,{"$f":"R37+68","v":634},{"$f":"S37","v":3},634,3,75,25,743,3,743,3,null,null,null,null,null,null,null,null,null,null,null,null,null,null,null,null,null,null,null,null,null,null,null,null,null,null,null,"S-ŁIV","sady",15,null,null,null,"S-ŁII",{"$f":"ROW()","v":41},"S-ŁII","sady","ZDR-1","brak",{"$f":"SUMIF(Grunty!H:H,BI41,Grunty!I:I)","v":0},{"$f":"SUMIF('ZDR-1'!L:L,BI41,'ZDR-1'!I:I)","v":0},12,3,null,null,91,7,null,null,null,null,null,null,null,null,null,null,null,null,null,null,null,null,null,null,null,null,null,null,null,null,"Daniszów",null,"Byczyna","kluczborski","opolskie"]
["Os. reprezentująca 2 imię",null,null,null,null,null,null,null,null,94,15,438,14,438,14,79,7,{"$f":"R38+68","v":641},{"$f":"S38","v":14},641,14,75,25,750,12,750,12,null,null,null,null,null,null,null,null,null,null,null,null,null,null,null,null,null,null,null,null,null,null,null,null,null,null,null,"S-PsIV","sady",15,null,null,null,"S-PsII",{"$f":"ROW()","v":42},"S-PsII","sady","ZDR-1","brak",{"$f":"SUMIF(Grunty!H:H,BI42,Grunty!I:I)","v":0},{"$f":"SUMIF('ZDR-1'!L:L,BI42,'ZDR-1'!I:I)","v":0},12,3,null,null,91,7,null,null,null,null,null,null,null,null,null,null,null,null,null,null,null,null,null,null,null,null,null,null,null,null,"Dąbrowa",null,"Kluczbork","kluczborski","opolskie"]
["Os. reprezentująca 2 nazwisko",null,null,null,null,null,null,null,null,116,15,450,3,450,3,83,7,655,3,655,3,78,11,763,3,763,3,null,null,null,null,null,null,null,null,null,null,null,null,null,null,null,null,null,null,null,null,null,null,null,null,null,null,null,"S-RIVa","sady",15,null,null,null,"S-RII",{"$f":"ROW()","v":43},"S-RII","sady","ZDR-1","brak",{"$f":"SUMIF(Grunty!H:H,BI43,Grunty!I:I)","v":0},{"$f":"SUMIF('ZDR-1'!L:L,BI43,'ZDR-1'!I:I)","v":0},12,3,null,null,91,7,null,null,null,null,null,null,null,null,null,null,null,null,null,null,null,null,null,null,null,null,null,null,null,null,"Dąbrówka",null,"Byczyna","kluczborski","opolskie"]
["Os. reprezentująca 2 data",null,null,null,null,null,null,null,null,118,15,457,14,457,14,86,7,674,14,674,14,83,11,770,12,770,12,null,null,null,null,null,null,null,null,null,null,null,null,null,null,null,null,null,null,null,null,null,null,null,null,null,null,null,"S-RIVb","sady",16,null,null,null,"S-ŁIII",{"$f":"ROW()","v":44},"S-ŁIII","sady","ZDR-1","brak",{"$f":"SUMIF(Grunty!H:H,BI44,Grunty!I:I)","v":0},{"$f":"SUMIF('ZDR-1'!L:L,BI44,'ZDR-1'!I:I)","v":0},13,3,null,null,92,7,null,null,null,null,null,null,null,null,null,null,null,null,null,null,null,null,null,null,null,null,null,null,null,null,"Dębień",null,"Lasowice Wielkie","kluczborski","opolskie"]
["Dane kontaktowe tel",null,null,null,null,null,null,null,null,122,15,461,3,461,3,90,7,{"$f":"R41+68","v":702},{"$f":"S41","v":3},6,3,78,23,823,3,6,3,null,null,null,null,null,null,null,null,null,null,null,null,null,null,null,null,null,null,null,null,null,null,null,null,null,null,null,"Br-ŁI","rolne zabudowane",17,null,null,null,"S-PsIII",{"$f":"ROW()","v":45},"S-PsIII","sady","ZDR-1","brak",{"$f":"SUMIF(Grunty!H:H,BI45,Grunty!I:I)","v":0},{"$f":"SUMIF('ZDR-1'!L:L,BI45,'ZDR-1'!I:I)","v":0},13,3,null,null,92,7,null,null,null,null,null,null,null,null,null,null,null,null,null,null,null,null,null,null,null,null,null,null,null,null,"Dębniak",null,"Wołczyn","kluczborski","opolskie"]
["Dane kontaktowe mail",null,null,null,null,null,null,null,null,124,15,468,14,468,14,95,7,709,14,6,3,83,23,830,12,6,3,null,null,null,null,null,null,null,null,null,null,null,null,null,null,null,null,null,null,null,null,null,null,null,null,null,null,null,"Br-ŁII","rolne zabudowane",17,null,null,null,"S-RIIIa",{"$f":"ROW()","v":46},"S-RIIIa","sady","ZDR-1","brak",{"$f":"SUMIF(Grunty!H:H,BI46,Grunty!I:I)","v":0},{"$f":"SUMIF('ZDR-1'!L:L,BI46,'ZDR-1'!I:I)","v":0},13,3,null,null,92,7,null,null,null,null,null,null,null,null,null,null,null,null,null,null,null,null,null,null,null,null,null,null,null,null,"Długa",null,"Byczyna","kluczborski","opolskie"]
[null,null,null,null,null,null,null,null,null,128,15,499,3,499,3,100,4,723,3,null,null,87,9,843,3,null,null,null,null,null,null,null,null,null,null,null,null,null,null,null,null,null,null,null,null,null,null,null,null,null,null,null,null,null,"Br-ŁIII","rolne zabudowane",17,null,null,null,"S-RIIIb",{"$f":"ROW()","v":47},"S-RIIIb","sady","ZDR-1","brak",{"$f":"SUMIF(Grunty!H:H,BI47,Grunty!I:I)","v":0},{"$f":"SUMIF('ZDR-1'!L:L,BI47,'ZDR-1'!I:I)","v":0},14,3,null,null,93,7,null,null,null,null,null,null,null,null,null,null,null,null,null,null,null,null,null,null,null,null,null,null,null,null,"Dobiercice",null,"Byczyna","kluczborski","opolskie"]
[null,null,null,null,null,null,null,null,null,130,15,506,14,506,14,100,4,742,14,null,null,87,9,850,12,null,null,null,null,null,null,null,null,null,null,null,null,null,null,null,null,null,null,null,null,null,null,null,null,null,null,null,null,null,"Br-ŁIV","rolne zabudowane",17,null,null,null,"S-ŁIV",{"$f":"ROW()","v":48},"S-ŁIV","sady","ZDR-1","brak",{"$f":"SUMIF(Grunty!H:H,BI48,Grunty!I:I)","v":0},{"$f":"SUMIF('ZDR-1'!L:L,BI48,'ZDR-1'!I:I)","v":0},15,3,null,null,94,7,null,null,null,null,null,null,null,null,null,null,null,null,null,null,null,null,null,null,null,null,null,null,null,null,"Dobrzyny",null,"Kluczbork","kluczborski","opolskie"]
[null,null,null,null,null,null,null,null,null,134,15,518,3,518,3,110,4,{"$f":"R45+68","v":770},{"$f":"S45","v":3},null,null,87,21,903,3,null,null,null,null,null,null,null,null,null,null,null,null,null,null,null,null,null,null,null,null,null,null,null,null,null,null,null,null,null,"Br-PsI","rolne zabudowane",17,null,null,null,"S-PsIV",{"$f":"ROW()","v":49},"S-PsIV","sady","ZDR-1","brak",{"$f":"SUMIF(Grunty!H:H,BI49,Grunty!I:I)","v":0},{"$f":"SUMIF('ZDR-1'!L:L,BI49,'ZDR-1'!I:I)","v":0},15,3,null,null,94,7,null,null,null,null,null,null,null,null,null,null,null,null,null,null,null,null,null,null,null,null,null,null,null,null,"Drogomin",null,"Kluczbork","kluczborski","opolskie"]
[null,null,null,null,null,null,null,null,null,136,15,525,14,525,14,110,4,777,14,null,null,87,21,910,12,null,null,null,null,null,null,null,null,null,null,null,null,null,null,null,null,null,null,null,null,null,null,null,null,null,null,null,null,null,"Br-PsII","rolne zabudowane",17,null,null,null,"S-RIVa",{"$f":"ROW()","v":50},"S-RIVa","sady","ZDR-1","brak",{"$f":"SUMIF(Grunty!H:H,BI50,Grunty!I:I)","v":0},{"$f":"SUMIF('ZDR-1'!L:L,BI50,'ZDR-1'!I:I)","v":0},15,3,null,null,94,7,null,null,null,null,null,null,null,null,null,null,null,null,null,null,null,null,null,null,null,null,null,null,null,null,"Drzewiec",null,"Kluczbork","kluczborski","opolskie"]
[null,null,null,null,null,null,null,null,null,141,15,529,3,529,3,123,18,791,3,null,null,91,3,923,3,null,null,null,null,null,null,null,null,null,null,null,null,null,null,null,null,null,null,null,null,null,null,null,null,null,null,null,null,null,"Br-PsIII","rolne zabudowane",17,null,null,null,"S-RIVb",{"$f":"ROW()","v":51},"S-RIVb","sady","ZDR-1","brak",{"$f":"SUMIF(Grunty!H:H,BI51,Grunty!I:I)","v":0},{"$f":"SUMIF('ZDR-1'!L:L,BI51,'ZDR-1'!I:I)","v":0},16,3,null,null,95,7,null,null,null,null,null,null,null,null,null,null,null,null,null,null,null,null,null,null,null,null,null,null,null,null,"Duczów Mały",null,"Wołczyn","kluczborski","opolskie"]
[null,null,null,null,null,null,null,null,null,143,15,536,14,536,14,123,18,810,14,null,null,91,16,930,12,null,null,null,null,null,null,null,null,null,null,null,null,null,null,null,null,null,null,null,null,null,null,null,null,null,null,null,null,null,"Br-PsIV","rolne zabudowane",17,null,null,null,"Br-ŁI",{"$f":"ROW()","v":52},"Br-ŁI","rolne zabudowane","ZDR-1","brak",{"$f":"SUMIF(Grunty!H:H,BI52,Grunty!I:I)","v":0},{"$f":"SUMIF('ZDR-1'!L:L,BI52,'ZDR-1'!I:I)","v":0},17,3,null,null,100,4,null,null,null,null,null,null,null,null,null,null,null,null,null,null,null,null,null,null,null,null,null,null,null,null,"Duczów Wielki",null,"Wołczyn","kluczborski","opolskie"]
[null,null,null,null,null,null,null,null,null,179,15,567,3,567,3,123,25,{"$f":"R49+68","v":838},{"$f":"S49","v":3},null,null,93,3,983,3,null,null,null,null,null,null,null,null,null,null,null,null,null,null,null,null,null,null,null,null,null,null,null,null,null,null,null,null,null,"Br-RI","rolne zabudowane",17,null,null,null,"Br-ŁII",{"$f":"ROW()","v":53},"Br-ŁII","rolne zabudowane","ZDR-1","brak",{"$f":"SUMIF(Grunty!H:H,BI53,Grunty!I:I)","v":0},{"$f":"SUMIF('ZDR-1'!L:L,BI53,'ZDR-1'!I:I)","v":0},17,3,null,null,100,4,null,null,null,null,null,null,null,null,null,null,null,null,null,null,null,null,null,null,null,null,null,null,null,null,"Gierałcice",null,"Wołczyn","kluczborski","opolskie"]
[null,null,null,null,null,null,null,null,null,179,15,574,14,574,14,123,25,845,14,null,null,93,3,990,12,null,null,null,null,null,null,null,null,null,null,null,null,null,null,null,null,null,null,null,null,null,null,null,null,null,null,null,null,null,"Br-RII","rolne zabudowane",17,null,null,null,"Br-ŁIII",{"$f":"ROW()","v":54},"Br-ŁIII","rolne zabudowane","ZDR-1","brak",{"$f":"SUMIF(Grunty!H:H,BI54,Grunty!I:I)","v":0},{"$f":"SUMIF('ZDR-1'!L:L,BI54,'ZDR-1'!I:I)","v":0},17,3,null,null,100,4,null,null,null,null,null,null,null,null,null,null,null,null,null,null,null,null,null,null,null,null,null,null,null,null,"Gierałcice Małe",null,"Wołczyn","kluczborski","opolskie"]
[null,null,null,null,null,null,null,null,null,182,15,586,3,586,3,124,18,859,3,null,null,98,3,1003,3,null,null,null,null,null,null,null,null,null,null,null,null,null,null,null,null,null,null,null,null,null,null,null,null,null,null,null,null,null,"Br-RIIIa","rolne zabudowane",17,null,null,null,"Br-ŁIV",{"$f":"ROW()","v":55},"Br-ŁIV","rolne zabudowane","ZDR-1","brak",{"$f":"SUMIF(Grunty!H:H,BI55,Grunty!I:I)","v":0},{"$f":"SUMIF('ZDR-1'!L:L,BI55,'ZDR-1'!I:I)","v":0},17,3,null,null,100,4,null,null,null,null,null,null,null,null,null,null,null,null,null,null,null,null,null,null,null,null,null,null,null,null,"Godzików",null,"Byczyna","kluczborski","opolskie"]
[null,null,null,null,null,null,null,null,null,182,15,593,14,593,14,124,18,878,14,null,null,98,16,1010,12,null,null,null,null,null,null,null,null,null,null,null,null,null,null,null,null,null,null,null,null,null,null,null,null,null,null,null,null,null,"Br-RIIIb","rolne zabudowane",17,null,null,null,"Br-PsI",{"$f":"ROW()","v":56},"Br-PsI","rolne zabudowane","ZDR-1","brak",{"$f":"SUMIF(Grunty!H:H,BI56,Grunty!I:I)","v":0},{"$f":"SUMIF('ZDR-1'!L:L,BI56,'ZDR-1'!I:I)","v":0},17,3,null,null,100,4,null,null,null,null,null,null,null,null,null,null,null,null,null,null,null,null,null,null,null,null,null,null,null,null,"Gołkowice",null,"Byczyna","kluczborski","opolskie"]
[null,null,null,null,null,null,null,null,null,192,21,597,3,597,3,124,25,{"$f":"R53+68","v":906},{"$f":"S53","v":3},null,null,100,6,1063,3,null,null,null,null,null,null,null,null,null,null,null,null,null,null,null,null,null,null,null,null,null,null,null,null,null,null,null,null,null,"Br-RIVa","rolne zabudowane",17,null,null,null,"Br-PsII",{"$f":"ROW()","v":57},"Br-PsII","rolne zabudowane","ZDR-1","brak",{"$f":"SUMIF(Grunty!H:H,BI57,Grunty!I:I)","v":0},{"$f":"SUMIF('ZDR-1'!L:L,BI57,'ZDR-1'!I:I)","v":0},17,3,null,null,100,4,null,null,null,null,null,null,null,null,null,null,null,null,null,null,null,null,null,null,null,null,null,null,null,null,"Gosław",null,"Byczyna","kluczborski","opolskie"]
[null,null,null,null,null,null,null,null,null,192,21,604,14,604,14,124,25,913,14,null,null,100,6,1070,12,null,null,null,null,null,null,null,null,null,null,null,null,null,null,null,null,null,null,null,null,null,null,null,null,null,null,null,null,null,"Br-RIVb","rolne zabudowane",17,null,null,null,"Br-PsIII",{"$f":"ROW()","v":58},"Br-PsIII","rolne zabudowane","ZDR-1","brak",{"$f":"SUMIF(Grunty!H:H,BI58,Grunty!I:I)","v":0},{"$f":"SUMIF('ZDR-1'!L:L,BI58,'ZDR-1'!I:I)","v":0},17,3,null,null,100,4,null,null,null,null,null,null,null,null,null,null,null,null,null,null,null,null,null,null,null,null,null,null,null,null,"Gotartów",null,"Kluczbork","kluczborski","opolskie"]
[null,null,null,null,null,null,null,635,null,192,25,{"$f":"L53+68","v":635},{"$f":"M53","v":3},635,3,125,18,927,3,null,null,103,3,1083,3,null,null,null,null,null,null,null,null,null,null,null,null,null,null,null,null,null,null,null,null,null,null,null,null,null,null,null,null,null,"W","rowy",18,null,null,null,"Br-PsIV",{"$f":"ROW()","v":59},"Br-PsIV","rolne zabudowane","ZDR-1","brak",{"$f":"SUMIF(Grunty!H:H,BI59,Grunty!I:I)","v":0},{"$f":"SUMIF('ZDR-1'!L:L,BI59,'ZDR-1'!I:I)","v":0},17,3,null,null,100,4,null,null,null,null,null,null,null,null,null,null,null,null,null,null,null,null,null,null,null,null,null,null,null,null,"Gotartów-Ogrodnictwo",null,"Kluczbork","kluczborski","opolskie"]
[null,null,null,null,null,null,null,642,null,192,25,642,14,642,14,125,18,946,14,null,null,103,16,1090,12,null,null,null,null,null,null,null,null,null,null,null,null,null,null,null,null,null,null,null,null,null,null,null,null,null,null,null,null,null,"W-ŁI","rowy",18,null,null,null,"Br-RI",{"$f":"ROW()","v":60},"Br-RI","rolne zabudowane","ZDR-1","brak",{"$f":"SUMIF(Grunty!H:H,BI60,Grunty!I:I)","v":0},{"$f":"SUMIF('ZDR-1'!L:L,BI60,'ZDR-1'!I:I)","v":0},17,3,null,null,100,4,null,null,null,null,null,null,null,null,null,null,null,null,null,null,null,null,null,null,null,null,null,null,null,null,"Gronowice",null,"Lasowice Wielkie","kluczborski","opolskie"]
[null,null,null,null,null,null,null,654,null,196,11,654,3,654,3,125,25,{"$f":"R57+68","v":974},{"$f":"S57","v":3},null,null,105,6,1143,3,null,null,null,null,null,null,null,null,null,null,null,null,null,null,null,null,null,null,null,null,null,null,null,null,null,null,null,null,null,"W-ŁII","rowy",18,null,null,null,"Br-RII",{"$f":"ROW()","v":61},"Br-RII","rolne zabudowane","ZDR-1","brak",{"$f":"SUMIF(Grunty!H:H,BI61,Grunty!I:I)","v":0},{"$f":"SUMIF('ZDR-1'!L:L,BI61,'ZDR-1'!I:I)","v":0},17,3,null,null,100,4,null,null,null,null,null,null,null,null,null,null,null,null,null,null,null,null,null,null,null,null,null,null,null,null,"Hanower",null,"Lasowice Wielkie","kluczborski","opolskie"]
[null,null,null,null,null,null,null,661,null,201,11,661,14,661,14,125,25,981,14,null,null,105,6,1150,12,null,null,null,null,null,null,null,null,null,null,null,null,null,null,null,null,null,null,null,null,null,null,null,null,null,null,null,null,null,"W-ŁIII","rowy",18,null,null,null,"Br-RIIIa",{"$f":"ROW()","v":62},"Br-RIIIa","rolne zabudowane","ZDR-1","brak",{"$f":"SUMIF(Grunty!H:H,BI62,Grunty!I:I)","v":0},{"$f":"SUMIF('ZDR-1'!L:L,BI62,'ZDR-1'!I:I)","v":0},17,3,null,null,100,4,null,null,null,null,null,null,null,null,null,null,null,null,null,null,null,null,null,null,null,null,null,null,null,null,"Jakubowice",null,"Byczyna","kluczborski","opolskie"]
[null,null,null,null,null,null,null,665,null,196,23,665,3,665,3,128,11,995,3,null,null,107,3,1163,3,null,null,null,null,null,null,null,null,null,null,null,null,null,null,null,null,null,null,null,null,null,null,null,null,null,null,null,null,null,"W-ŁIV","rowy",18,null,null,null,"Br-RIIIb",{"$f":"ROW()","v":63},"Br-RIIIb","rolne zabudowane","ZDR-1","brak",{"$f":"SUMIF(Grunty!H:H,BI63,Grunty!I:I)","v":0},{"$f":"SUMIF('ZDR-1'!L:L,BI63,'ZDR-1'!I:I)","v":0},17,3,null,null,100,4,null,null,null,null,null,null,null,null,null,null,null,null,null,null,null,null,null,null,null,null,null,null,null,null,"Janówka",null,"Byczyna","kluczborski","opolskie"]
[null,null,null,null,null,null,null,672,null,201,23,672,14,672,14,129,11,1014,14,null,null,107,16,1170,12,null,null,null,null,null,null,null,null,null,null,null,null,null,null,null,null,null,null,null,null,null,null,null,null,null,null,null,null,null,"W-PsI","rowy",18,null,null,null,"Br-RIVa",{"$f":"ROW()","v":64},"Br-RIVa","rolne zabudowane","ZDR-1","brak",{"$f":"SUMIF(Grunty!H:H,BI64,Grunty!I:I)","v":0},{"$f":"SUMIF('ZDR-1'!L:L,BI64,'ZDR-1'!I:I)","v":0},17,3,null,null,100,4,null,null,null,null,null,null,null,null,null,null,null,null,null,null,null,null,null,null,null,null,null,null,null,null,"Jasienie",null,"Lasowice Wielkie","kluczborski","opolskie"]
[null,null,null,null,null,null,null,null,null,205,9,703,3,{"$f":"N59+68","v":703},{"$f":"O59","v":3},128,23,{"$f":"R61+68","v":1042},{"$f":"S61","v":3},null,null,109,6,1223,3,null,null,null,null,null,null,null,null,null,null,null,null,null,null,null,null,null,null,null,null,null,null,null,null,null,null,null,null,null,"W-PsII","rowy",18,null,null,null,"Br-RIVb",{"$f":"ROW()","v":65},"Br-RIVb","rolne zabudowane","ZDR-1","brak",{"$f":"SUMIF(Grunty!H:H,BI65,Grunty!I:I)","v":0},{"$f":"SUMIF('ZDR-1'!L:L,BI65,'ZDR-1'!I:I)","v":0},17,3,null,null,100,4,null,null,null,null,null,null,null,null,null,null,null,null,null,null,null,null,null,null,null,null,null,null,null,null,"Jaśkowice",null,"Byczyna","kluczborski","opolskie"]
[null,null,null,null,null,null,null,null,null,205,9,710,14,710,14,129,23,1049,14,null,null,109,6,1230,12,null,null,null,null,null,null,null,null,null,null,null,null,null,null,null,null,null,null,null,null,null,null,null,null,null,null,null,null,null,"W-PsIII","rowy",18,null,null,null,"W",{"$f":"ROW()","v":66},"W","rowy","ZDR-1","brak",{"$f":"SUMIF(Grunty!H:H,BI66,Grunty!I:I)","v":0},{"$f":"SUMIF('ZDR-1'!L:L,BI66,'ZDR-1'!I:I)","v":0},18,3,null,null,110,7,null,null,null,null,null,null,null,null,null,null,null,null,null,null,null,null,null,null,null,null,null,null,null,null,"Jedliska",null,"Wołczyn","kluczborski","opolskie"]
[null,null,null,null,null,null,null,null,null,205,21,722,3,722,3,133,9,1063,3,null,null,6,2,1243,3,null,null,null,null,null,null,null,null,null,null,null,null,null,null,null,null,null,null,null,null,null,null,null,null,null,null,null,null,null,"W-PsIV","rowy",18,null,null,null,"W-ŁI",{"$f":"ROW()","v":67},"W-ŁI","rowy","ZDR-1","brak",{"$f":"SUMIF(Grunty!H:H,BI67,Grunty!I:I)","v":0},{"$f":"SUMIF('ZDR-1'!L:L,BI67,'ZDR-1'!I:I)","v":0},18,3,null,null,110,7,null,null,null,null,null,null,null,null,null,null,null,null,null,null,null,null,null,null,null,null,null,null,null,null,"Jędrzejowice",null,"Wołczyn","kluczborski","opolskie"]
[null,null,null,null,null,null,null,null,null,205,21,729,14,729,14,133,9,1082,14,null,null,6,2,1250,12,null,null,null,null,null,null,null,null,null,null,null,null,null,null,null,null,null,null,null,null,null,null,null,null,null,null,null,null,null,"W-RI","rowy",18,null,null,null,"W-ŁII",{"$f":"ROW()","v":68},"W-ŁII","rowy","ZDR-1","brak",{"$f":"SUMIF(Grunty!H:H,BI68,Grunty!I:I)","v":0},{"$f":"SUMIF('ZDR-1'!L:L,BI68,'ZDR-1'!I:I)","v":0},18,3,null,null,110,7,null,null,null,null,null,null,null,null,null,null,null,null,null,null,null,null,null,null,null,null,null,null,null,null,"Kamieniec",null,"Lasowice Wielkie","kluczborski","opolskie"]
[null,null,null,null,null,null,null,null,null,209,3,733,3,733,3,133,21,{"$f":"R65+68","v":1110},{"$f":"S65","v":3},null,null,null,null,1303,3,null,null,null,null,null,null,null,null,null,null,null,null,null,null,null,null,null,null,null,null,null,null,null,null,null,null,null,null,null,"W-RII","rowy",18,null,null,null,"W-ŁIII",{"$f":"ROW()","v":69},"W-ŁIII","rowy","ZDR-1","brak",{"$f":"SUMIF(Grunty!H:H,BI69,Grunty!I:I)","v":0},{"$f":"SUMIF('ZDR-1'!L:L,BI69,'ZDR-1'!I:I)","v":0},18,3,null,null,110,7,null,null,null,null,null,null,null,null,null,null,null,null,null,null,null,null,null,null,null,null,null,null,null,null,"Kamienisko",null,"Kluczbork","kluczborski","opolskie"]
[null,null,null,null,null,null,null,null,null,209,16,740,14,740,14,133,21,1117,14,null,null,null,null,1310,12,null,null,null,null,null,null,null,null,null,null,null,null,null,null,null,null,null,null,null,null,null,null,null,null,null,null,null,null,null,"W-RIIIa","rowy",18,null,null,null,"W-ŁIV",{"$f":"ROW()","v":70},"W-ŁIV","rowy","ZDR-1","brak",{"$f":"SUMIF(Grunty!H:H,BI70,Grunty!I:I)","v":0},{"$f":"SUMIF('ZDR-1'!L:L,BI70,'ZDR-1'!I:I)","v":0},18,3,null,null,110,7,null,null,null,null,null,null,null,null,null,null,null,null,null,null,null,null,null,null,null,null,null,null,null,null,"Kania",null,"Byczyna","kluczborski","opolskie"]
[null,null,null,null,null,null,null,null,null,219,3,771,3,771,3,137,3,1131,3,null,null,null,null,1323,3,null,null,null,null,null,null,null,null,null,null,null,null,null,null,null,null,null,null,null,null,null,null,null,null,null,null,null,null,null,"W-RIIIb","rowy",18,null,null,null,"W-PsI",{"$f":"ROW()","v":71},"W-PsI","rowy","ZDR-1","brak",{"$f":"SUMIF(Grunty!H:H,BI71,Grunty!I:I)","v":0},{"$f":"SUMIF('ZDR-1'!L:L,BI71,'ZDR-1'!I:I)","v":0},18,3,null,null,110,7,null,null,null,null,null,null,null,null,null,null,null,null,null,null,null,null,null,null,null,null,null,null,null,null,"Kanimierów",null,"Kluczbork","kluczborski","opolskie"]
[null,null,null,null,null,null,null,null,null,219,3,778,14,778,14,137,16,1150,14,null,null,null,null,1330,12,null,null,null,null,null,null,null,null,null,null,null,null,null,null,null,null,null,null,null,null,null,null,null,null,null,null,null,null,null,"W-RIVa","rowy",18,null,null,null,"W-PsII",{"$f":"ROW()","v":72},"W-PsII","rowy","ZDR-1","brak",{"$f":"SUMIF(Grunty!H:H,BI72,Grunty!I:I)","v":0},{"$f":"SUMIF('ZDR-1'!L:L,BI72,'ZDR-1'!I:I)","v":0},18,3,null,null,110,7,null,null,null,null,null,null,null,null,null,null,null,null,null,null,null,null,null,null,null,null,null,null,null,null,"Kluczbork","46-200","Kluczbork","kluczborski","opolskie"]
[null,null,null,null,null,null,null,null,null,224,3,790,3,790,3,139,3,{"$f":"R69+68","v":1178},{"$f":"S69","v":3},null,null,null,null,1383,3,null,null,null,null,null,null,null,null,null,null,null,null,null,null,null,null,null,null,null,null,null,null,null,null,null,null,null,null,null,"W-RIVb","rowy",18,null,null,null,"W-PsIII",{"$f":"ROW()","v":73},"W-PsIII","rowy","ZDR-1","brak",{"$f":"SUMIF(Grunty!H:H,BI73,Grunty!I:I)","v":0},{"$f":"SUMIF('ZDR-1'!L:L,BI73,'ZDR-1'!I:I)","v":0},18,3,null,null,110,7,null,null,null,null,null,null,null,null,null,null,null,null,null,null,null,null,null,null,null,null,null,null,null,null,"Kluczbork","46-203","Kluczbork","kluczborski","opolskie"]
[null,null,null,null,null,null,null,null,null,224,16,797,14,797,14,139,3,1185,14,null,null,null,null,{"$f":"X70+80","v":1390},{"$f":"Y70","v":12},null,null,null,null,null,null,null,null,null,null,null,null,null,null,null,null,null,null,null,null,null,null,null,null,null,null,null,null,null,"Wsr","stawy",19,null,null,null,"W-PsIV",{"$f":"ROW()","v":74},"W-PsIV","rowy","ZDR-1","brak",{"$f":"SUMIF(Grunty!H:H,BI74,Grunty!I:I)","v":0},{"$f":"SUMIF('ZDR-1'!L:L,BI74,'ZDR-1'!I:I)","v":0},18,3,null,null,110,7,null,null,null,null,null,null,null,null,null,null,null,null,null,null,null,null,null,null,null,null,null,null,null,null,"Kluczów",null,"Byczyna","kluczborski","opolskie"]
[null,null,null,null,null,null,null,null,null,226,6,801,3,801,3,144,3,1199,3,null,null,null,null,1403,3,null,null,null,null,null,null,null,null,null,null,null,null,null,null,null,null,null,null,null,null,null,null,null,null,null,null,null,null,null,"Wsr-ŁI","stawy",19,null,null,null,"W-RI",{"$f":"ROW()","v":75},"W-RI","rowy","ZDR-1","brak",{"$f":"SUMIF(Grunty!H:H,BI75,Grunty!I:I)","v":0},{"$f":"SUMIF('ZDR-1'!L:L,BI75,'ZDR-1'!I:I)","v":0},18,3,null,null,110,7,null,null,null,null,null,null,null,null,null,null,null,null,null,null,null,null,null,null,null,null,null,null,null,null,"Kłapaczka",null,"Lasowice Wielkie","kluczborski","opolskie"]
[null,null,null,null,null,null,null,null,null,226,6,808,14,808,14,144,16,1218,14,null,null,null,null,1410,12,null,null,null,null,null,null,null,null,null,null,null,null,null,null,null,null,null,null,null,null,null,null,null,null,null,null,null,null,null,"Wsr-ŁII","stawy",19,null,null,null,"W-RII",{"$f":"ROW()","v":76},"W-RII","rowy","ZDR-1","brak",{"$f":"SUMIF(Grunty!H:H,BI76,Grunty!I:I)","v":0},{"$f":"SUMIF('ZDR-1'!L:L,BI76,'ZDR-1'!I:I)","v":0},18,3,null,null,110,7,null,null,null,null,null,null,null,null,null,null,null,null,null,null,null,null,null,null,null,null,null,null,null,null,"Kochłowice",null,"Byczyna","kluczborski","opolskie"]
[null,null,null,null,null,null,null,null,null,229,3,839,3,839,3,146,6,{"$f":"R73+68","v":1246},{"$f":"S73","v":3},null,null,null,null,1463,3,null,null,null,null,null,null,null,null,null,null,null,null,null,null,null,null,null,null,null,null,null,null,null,null,null,null,null,null,null,"Wsr-ŁIII","stawy",19,null,null,null,"W-RIIIa",{"$f":"ROW()","v":77},"W-RIIIa","rowy","ZDR-1","brak",{"$f":"SUMIF(Grunty!H:H,BI77,Grunty!I:I)","v":0},{"$f":"SUMIF('ZDR-1'!L:L,BI77,'ZDR-1'!I:I)","v":0},18,3,null,null,110,7,null,null,null,null,null,null,null,null,null,null,null,null,null,null,null,null,null,null,null,null,null,null,null,null,"Kolonia Ciarki",null,"Lasowice Wielkie","kluczborski","opolskie"]
[null,null,null,null,null,null,null,null,null,229,16,846,14,846,14,146,6,1253,14,null,null,null,null,1470,12,null,null,null,null,null,null,null,null,null,null,null,null,null,null,null,null,null,null,null,null,null,null,null,null,null,null,null,null,null,"Wsr-ŁIV","stawy",19,null,null,null,"W-RIIIb",{"$f":"ROW()","v":78},"W-RIIIb","rowy","ZDR-1","brak",{"$f":"SUMIF(Grunty!H:H,BI78,Grunty!I:I)","v":0},{"$f":"SUMIF('ZDR-1'!L:L,BI78,'ZDR-1'!I:I)","v":0},18,3,null,null,110,7,null,null,null,null,null,null,null,null,null,null,null,null,null,null,null,null,null,null,null,null,null,null,null,null,"Kolonia Piecowa",null,"Kluczbork","kluczborski","opolskie"]
[null,null,null,null,null,null,null,null,null,231,6,858,3,858,3,154,3,1267,3,null,null,null,null,1483,3,null,null,null,null,null,null,null,null,null,null,null,null,null,null,null,null,null,null,null,null,null,null,null,null,null,null,null,null,null,"Wsr-PsI","stawy",19,null,null,null,"W-RIVa",{"$f":"ROW()","v":79},"W-RIVa","rowy","ZDR-1","brak",{"$f":"SUMIF(Grunty!H:H,BI79,Grunty!I:I)","v":0},{"$f":"SUMIF('ZDR-1'!L:L,BI79,'ZDR-1'!I:I)","v":0},18,3,null,null,110,7,null,null,null,null,null,null,null,null,null,null,null,null,null,null,null,null,null,null,null,null,null,null,null,null,"Kołoczek",null,"Wołczyn","kluczborski","opolskie"]
[null,null,null,null,null,null,null,null,null,231,6,865,14,865,14,154,16,1286,14,null,null,null,null,1490,12,null,null,null,null,null,null,null,null,null,null,null,null,null,null,null,null,null,null,null,null,null,null,null,null,null,null,null,null,null,"Wsr-PsII","stawy",19,null,null,null,"W-RIVb",{"$f":"ROW()","v":80},"W-RIVb","rowy","ZDR-1","brak",{"$f":"SUMIF(Grunty!H:H,BI80,Grunty!I:I)","v":0},{"$f":"SUMIF('ZDR-1'!L:L,BI80,'ZDR-1'!I:I)","v":0},18,3,null,null,110,7,null,null,null,null,null,null,null,null,null,null,null,null,null,null,null,null,null,null,null,null,null,null,null,null,"Komorzno",null,"Wołczyn","kluczborski","opolskie"]
[null,null,null,null,null,null,null,null,null,233,3,869,3,869,3,156,6,{"$f":"R77+68","v":1314},{"$f":"S77","v":3},null,null,null,null,1543,3,null,null,null,null,null,null,null,null,null,null,null,null,null,null,null,null,null,null,null,null,null,null,null,null,null,null,null,null,null,"Wsr-PsIII","stawy",19,null,null,null,"Wsr",{"$f":"ROW()","v":81},"Wsr","stawy","ZDR-1","brak",{"$f":"SUMIF(Grunty!H:H,BI81,Grunty!I:I)","v":0},{"$f":"SUMIF('ZDR-1'!L:L,BI81,'ZDR-1'!I:I)","v":0},19,3,null,null,110,7,null,null,null,null,null,null,null,null,null,null,null,null,null,null,null,null,null,null,null,null,null,null,null,null,"Kopaczka",null,"Lasowice Wielkie","kluczborski","opolskie"]
[null,null,null,null,null,null,null,null,null,233,16,876,14,876,14,156,6,1321,14,null,null,null,null,1550,12,null,null,null,null,null,null,null,null,null,null,null,null,null,null,null,null,null,null,null,null,null,null,null,null,null,null,null,null,null,"Wsr-PsIV","stawy",19,null,null,null,"Wsr-ŁI",{"$f":"ROW()","v":82},"Wsr-ŁI","stawy","ZDR-1","brak",{"$f":"SUMIF(Grunty!H:H,BI82,Grunty!I:I)","v":0},{"$f":"SUMIF('ZDR-1'!L:L,BI82,'ZDR-1'!I:I)","v":0},19,3,null,null,110,7,null,null,null,null,null,null,null,null,null,null,null,null,null,null,null,null,null,null,null,null,null,null,null,null,"Kopalina",null,"Lasowice Wielkie","kluczborski","opolskie"]
[null,null,null,null,null,null,null,null,null,235,6,907,3,907,3,158,3,1335,3,null,null,null,null,1563,3,null,null,null,null,null,null,null,null,null,null,null,null,null,null,null,null,null,null,null,null,null,null,null,null,null,null,null,null,null,"Wsr-RI","stawy",19,null,null,null,"Wsr-ŁII",{"$f":"ROW()","v":83},"Wsr-ŁII","stawy","ZDR-1","brak",{"$f":"SUMIF(Grunty!H:H,BI83,Grunty!I:I)","v":0},{"$f":"SUMIF('ZDR-1'!L:L,BI83,'ZDR-1'!I:I)","v":0},19,3,null,null,110,7,null,null,null,null,null,null,null,null,null,null,null,null,null,null,null,null,null,null,null,null,null,null,null,null,"Korzeniaki",null,"Kluczbork","kluczborski","opolskie"]
[null,null,null,null,null,null,null,null,null,235,6,914,14,914,14,158,16,1354,14,null,null,null,null,1570,12,null,null,null,null,null,null,null,null,null,null,null,null,null,null,null,null,null,null,null,null,null,null,null,null,null,null,null,null,null,"Wsr-RII","stawy",19,null,null,null,"Wsr-ŁIII",{"$f":"ROW()","v":84},"Wsr-ŁIII","stawy","ZDR-1","brak",{"$f":"SUMIF(Grunty!H:H,BI84,Grunty!I:I)","v":0},{"$f":"SUMIF('ZDR-1'!L:L,BI84,'ZDR-1'!I:I)","v":0},19,3,null,null,110,7,null,null,null,null,null,null,null,null,null,null,null,null,null,null,null,null,null,null,null,null,null,null,null,null,"Kostów",null,"Byczyna","kluczborski","opolskie"]
[null,null,null,null,null,null,null,null,null,6,2,926,3,926,3,160,6,{"$f":"R81+68","v":1382},{"$f":"S81","v":3},null,null,null,null,1623,3,null,null,null,null,null,null,null,null,null,null,null,null,null,null,null,null,null,null,null,null,null,null,null,null,null,null,null,null,null,"Wsr-RIIIa","stawy",19,null,null,null,"Wsr-ŁIV",{"$f":"ROW()","v":85},"Wsr-ŁIV","stawy","ZDR-1","brak",{"$f":"SUMIF(Grunty!H:H,BI85,Grunty!I:I)","v":0},{"$f":"SUMIF('ZDR-1'!L:L,BI85,'ZDR-1'!I:I)","v":0},19,3,null,null,110,7,null,null,null,null,null,null,null,null,null,null,null,null,null,null,null,null,null,null,null,null,null,null,null,null,"Krasków",null,"Kluczbork","kluczborski","opolskie"]
[null,null,null,null,null,null,null,null,null,6,2,933,14,933,14,160,6,1389,14,null,null,null,null,1630,12,null,null,null,null,null,null,null,null,null,null,null,null,null,null,null,null,null,null,null,null,null,null,null,null,null,null,null,null,null,"Wsr-RIIIb","stawy",19,null,null,null,"Wsr-PsI",{"$f":"ROW()","v":86},"Wsr-PsI","stawy","ZDR-1","brak",{"$f":"SUMIF(Grunty!H:H,BI86,Grunty!I:I)","v":0},{"$f":"SUMIF('ZDR-1'!L:L,BI86,'ZDR-1'!I:I)","v":0},19,3,null,null,110,7,null,null,null,null,null,null,null,null,null,null,null,null,null,null,null,null,null,null,null,null,null,null,null,null,"Krężel",null,"Kluczbork","kluczborski","opolskie"]
[null,null,null,null,null,null,null,null,null,null,null,937,3,937,3,6,2,1403,3,null,null,null,null,1643,3,null,null,null,null,null,null,null,null,null,null,null,null,null,null,null,null,null,null,null,null,null,null,null,null,null,null,null,null,null,"Wsr-RIVa","stawy",19,null,null,null,"Wsr-PsII",{"$f":"ROW()","v":87},"Wsr-PsII","stawy","ZDR-1","brak",{"$f":"SUMIF(Grunty!H:H,BI87,Grunty!I:I)","v":0},{"$f":"SUMIF('ZDR-1'!L:L,BI87,'ZDR-1'!I:I)","v":0},19,3,null,null,110,7,null,null,null,null,null,null,null,null,null,null,null,null,null,null,null,null,null,null,null,null,null,null,null,null,"Krystyna",null,"Wołczyn","kluczborski","opolskie"]
[null,null,null,null,null,null,null,null,null,null,null,944,14,944,14,6,2,1422,14,null,null,null,null,1650,12,null,null,null,null,null,null,null,null,null,null,null,null,null,null,null,null,null,null,null,null,null,null,null,null,null,null,null,null,null,"Wsr-RIVb","stawy",19,null,null,null,"Wsr-PsIII",{"$f":"ROW()","v":88},"Wsr-PsIII","stawy","ZDR-1","brak",{"$f":"SUMIF(Grunty!H:H,BI88,Grunty!I:I)","v":0},{"$f":"SUMIF('ZDR-1'!L:L,BI88,'ZDR-1'!I:I)","v":0},19,3,null,null,110,7,null,null,null,null,null,null,null,null,null,null,null,null,null,null,null,null,null,null,null,null,null,null,null,null,"Krzywiczyny",null,"Wołczyn","kluczborski","opolskie"]
[null,null,null,null,null,null,null,null,null,null,null,975,3,975,3,null,null,{"$f":"R85+68","v":1450},{"$f":"S85","v":3},null,null,null,null,1703,3,null,null,null,null,null,null,null,null,null,null,null,null,null,null,null,null,null,null,null,null,null,null,null,null,null,null,null,null,null,"R-RV","orne",null,null,null,null,"Wsr-PsIV",{"$f":"ROW()","v":89},"Wsr-PsIV","stawy","ZDR-1","brak",{"$f":"SUMIF(Grunty!H:H,BI89,Grunty!I:I)","v":0},{"$f":"SUMIF('ZDR-1'!L:L,BI89,'ZDR-1'!I:I)","v":0},19,3,null,null,110,7,null,null,null,null,null,null,null,null,null,null,null,null,null,null,null,null,null,null,null,null,null,null,null,null,"Krzywiczyny-Kolonia",null,"Wołczyn","kluczborski","opolskie"]
[null,null,null,null,null,null,null,null,null,null,null,982,14,982,14,null,null,1457,14,null,null,null,null,1710,12,null,null,null,null,null,null,null,null,null,null,null,null,null,null,null,null,null,null,null,null,null,null,null,null,null,null,null,null,null,"R-RVI","orne",null,null,null,null,"Wsr-RI",{"$f":"ROW()","v":90},"Wsr-RI","stawy","ZDR-1","brak",{"$f":"SUMIF(Grunty!H:H,BI90,Grunty!I:I)","v":0},{"$f":"SUMIF('ZDR-1'!L:L,BI90,'ZDR-1'!I:I)","v":0},19,3,null,null,110,7,null,null,null,null,null,null,null,null,null,null,null,null,null,null,null,null,null,null,null,null,null,null,null,null,"Krzywizna","46-211","Kluczbork","kluczborski","opolskie"]
[null,null,null,null,null,null,null,null,null,null,null,{"$f":"L85+68","v":994},{"$f":"M85","v":3},994,3,null,null,1471,3,null,null,null,null,1723,3,null,null,null,null,null,null,null,null,null,null,null,null,null,null,null,null,null,null,null,null,null,null,null,null,null,null,null,null,null,"Ł-ŁV","łąki trwałe",null,null,null,null,"Wsr-RII",{"$f":"ROW()","v":91},"Wsr-RII","stawy","ZDR-1","brak",{"$f":"SUMIF(Grunty!H:H,BI91,Grunty!I:I)","v":0},{"$f":"SUMIF('ZDR-1'!L:L,BI91,'ZDR-1'!I:I)","v":0},19,3,null,null,110,7,null,null,null,null,null,null,null,null,null,null,null,null,null,null,null,null,null,null,null,null,null,null,null,null,"Kujakowice Dolne","46-211","Kluczbork","kluczborski","opolskie"]
[null,null,null,null,null,null,null,null,null,null,null,1001,14,1001,14,null,null,1490,14,null,null,null,null,1730,12,null,null,null,null,null,null,null,null,null,null,null,null,null,null,null,null,null,null,null,null,null,null,null,null,null,null,null,null,null,"Ł-ŁVI","łąki trwałe",null,null,null,null,"Wsr-RIIIa",{"$f":"ROW()","v":92},"Wsr-RIIIa","stawy","ZDR-1","brak",{"$f":"SUMIF(Grunty!H:H,BI92,Grunty!I:I)","v":0},{"$f":"SUMIF('ZDR-1'!L:L,BI92,'ZDR-1'!I:I)","v":0},19,3,null,null,110,7,null,null,null,null,null,null,null,null,null,null,null,null,null,null,null,null,null,null,null,null,null,null,null,null,"Kujakowice Górne","46-211","Kluczbork","kluczborski","opolskie"]
[null,null,null,null,null,null,null,null,null,null,null,1005,3,1005,3,null,null,{"$f":"R89+68","v":1518},{"$f":"S89","v":3},null,null,null,null,1783,3,null,null,null,null,null,null,null,null,null,null,null,null,null,null,null,null,null,null,null,null,null,null,null,null,null,null,null,null,null,"Ps-PsV","pastwiska",null,null,null,null,"Wsr-RIIIb",{"$f":"ROW()","v":93},"Wsr-RIIIb","stawy","ZDR-1","brak",{"$f":"SUMIF(Grunty!H:H,BI93,Grunty!I:I)","v":0},{"$f":"SUMIF('ZDR-1'!L:L,BI93,'ZDR-1'!I:I)","v":0},19,3,null,null,110,7,null,null,null,null,null,null,null,null,null,null,null,null,null,null,null,null,null,null,null,null,null,null,null,null,"Kuniów","46-200","Kluczbork","kluczborski","opolskie"]
[null,null,null,null,null,null,null,null,null,null,null,1012,14,1012,14,null,null,1525,14,null,null,null,null,1790,12,null,null,null,null,null,null,null,null,null,null,null,null,null,null,null,null,null,null,null,null,null,null,null,null,null,null,null,null,null,"Ps-PsVI","pastwiska",null,null,null,null,"Wsr-RIVa",{"$f":"ROW()","v":94},"Wsr-RIVa","stawy","ZDR-1","brak",{"$f":"SUMIF(Grunty!H:H,BI94,Grunty!I:I)","v":0},{"$f":"SUMIF('ZDR-1'!L:L,BI94,'ZDR-1'!I:I)","v":0},19,3,null,null,110,7,null,null,null,null,null,null,null,null,null,null,null,null,null,null,null,null,null,null,null,null,null,null,null,null,"Laskowice",null,"Lasowice Wielkie","kluczborski","opolskie"]
[null,null,null,null,null,null,null,null,null,null,null,1043,3,1043,3,null,null,1539,3,null,null,null,null,1803,3,null,null,null,null,null,null,null,null,null,null,null,null,null,null,null,null,null,null,null,null,null,null,null,null,null,null,null,null,null,"Br-ŁV","rolne zabudowane",null,null,null,null,"Wsr-RIVb",{"$f":"ROW()","v":95},"Wsr-RIVb","stawy","ZDR-1","brak",{"$f":"SUMIF(Grunty!H:H,BI95,Grunty!I:I)","v":0},{"$f":"SUMIF('ZDR-1'!L:L,BI95,'ZDR-1'!I:I)","v":0},19,3,null,null,110,7,null,null,null,null,null,null,null,null,null,null,null,null,null,null,null,null,null,null,null,null,null,null,null,null,"Lasowice Małe",null,"Lasowice Wielkie","kluczborski","opolskie"]
[null,null,null,null,null,null,null,null,null,null,null,1050,14,1050,14,null,null,1558,14,null,null,null,null,1810,12,null,null,null,null,null,null,null,null,null,null,null,null,null,null,null,null,null,null,null,null,null,null,null,null,null,null,null,null,null,"Br-ŁVI","rolne zabudowane",null,null,null,null,"Br-ŁV",{"$f":"ROW()","v":96},"Br-ŁV","rolne zabudowane","ZDR-2","art.12 ust.1 pkt.1 uopr",{"$f":"SUMIF(Grunty!H:H,BI96,Grunty!I:I)","v":0},{"$f":"SUMIF('ZDR-2'!L:L,BI96,'ZDR-2'!I:I)","v":0},101,4,null,null,null,null,null,null,null,null,null,null,null,null,null,null,null,null,null,null,null,null,null,null,null,null,null,null,null,null,"Lasowice Wielkie",null,"Lasowice Wielkie","kluczborski","opolskie"]
[null,null,null,null,null,null,null,null,null,null,null,1062,3,{"$f":"N91+68","v":1062},{"$f":"O91","v":3},null,null,{"$f":"R93+68","v":1586},{"$f":"S93","v":3},null,null,null,null,1863,3,null,null,null,null,null,null,null,null,null,null,null,null,null,null,null,null,null,null,null,null,null,null,null,null,null,null,null,null,null,"Br-PsV","rolne zabudowane",null,null,null,null,"Br-ŁVI",{"$f":"ROW()","v":97},"Br-ŁVI","rolne zabudowane","ZDR-2","art.12 ust.1 pkt.1 uopr",{"$f":"SUMIF(Grunty!H:H,BI97,Grunty!I:I)","v":0},{"$f":"SUMIF('ZDR-2'!L:L,BI97,'ZDR-2'!I:I)","v":0},101,4,null,null,null,null,null,null,null,null,null,null,null,null,null,null,null,null,null,null,null,null,null,null,null,null,null,null,null,null,"Ligota Dolna","46-200","Kluczbork","kluczborski","opolskie"]
[null,null,null,null,null,null,null,null,null,null,null,1069,14,1069,14,null,null,1593,14,null,null,null,null,1870,12,null,null,null,null,null,null,null,null,null,null,null,null,null,null,null,null,null,null,null,null,null,null,null,null,null,null,null,null,null,"Br-PsVI","rolne zabudowane",null,null,null,null,"Br-PsV",{"$f":"ROW()","v":98},"Br-PsV","rolne zabudowane","ZDR-2","art.12 ust.1 pkt.1 uopr",{"$f":"SUMIF(Grunty!H:H,BI98,Grunty!I:I)","v":0},{"$f":"SUMIF('ZDR-2'!L:L,BI98,'ZDR-2'!I:I)","v":0},101,4,null,null,null,null,null,null,null,null,null,null,null,null,null,null,null,null,null,null,null,null,null,null,null,null,null,null,null,null,"Ligota Górna",null,"Kluczbork","kluczborski","opolskie"]
[null,null,null,null,null,null,null,null,null,null,null,1073,3,1073,3,null,null,1607,3,null,null,null,null,1883,3,null,null,null,null,null,null,null,null,null,null,null,null,null,null,null,null,null,null,null,null,null,null,null,null,null,null,null,null,null,"Br-RV","rolne zabudowane",null,null,null,null,"Br-PsVI",{"$f":"ROW()","v":99},"Br-PsVI","rolne zabudowane","ZDR-2","art.12 ust.1 pkt.1 uopr",{"$f":"SUMIF(Grunty!H:H,BI99,Grunty!I:I)","v":0},{"$f":"SUMIF('ZDR-2'!L:L,BI99,'ZDR-2'!I:I)","v":0},101,4,null,null,null,null,null,null,null,null,null,null,null,null,null,null,null,null,null,null,null,null,null,null,null,null,null,null,null,null,"Ligota Mała",null,"Wołczyn","kluczborski","opolskie"]
[null,null,null,null,null,null,null,null,null,null,null,1080,14,1080,14,null,null,1626,14,null,null,null,null,1890,12,null,null,null,null,null,null,null,null,null,null,null,null,null,null,null,null,null,null,null,null,null,null,null,null,null,null,null,null,null,"Br-RVI","rolne zabudowane",null,null,null,null,"Br-RV",{"$f":"ROW()","v":100},"Br-RV","rolne zabudowane","ZDR-2","art.12 ust.1 pkt.1 uopr",{"$f":"SUMIF(Grunty!H:H,BI100,Grunty!I:I)","v":0},{"$f":"SUMIF('ZDR-2'!L:L,BI100,'ZDR-2'!I:I)","v":0},101,4,null,null,null,null,null,null,null,null,null,null,null,null,null,null,null,null,null,null,null,null,null,null,null,null,null,null,null,null,"Ligota Wołczyńska",null,"Wołczyn","kluczborski","opolskie"]
[null,null,null,null,null,null,null,null,null,null,null,1111,3,1111,3,null,null,{"$f":"R97+68","v":1654},{"$f":"S97","v":3},null,null,null,null,1943,3,null,null,null,null,null,null,null,null,null,null,null,null,null,null,null,null,null,null,null,null,null,null,null,null,null,null,null,null,null,"Lzr-ŁI","zadrzewione i zakrzewione",null,null,null,null,"Br-RVI",{"$f":"ROW()","v":101},"Br-RVI","rolne zabudowane","ZDR-2","art.12 ust.1 pkt.1 uopr",{"$f":"SUMIF(Grunty!H:H,BI101,Grunty!I:I)","v":0},{"$f":"SUMIF('ZDR-2'!L:L,BI101,'ZDR-2'!I:I)","v":0},101,4,null,null,null,null,null,null,null,null,null,null,null,null,null,null,null,null,null,null,null,null,null,null,null,null,null,null,null,null,"Ligota Zamecka",null,"Kluczbork","kluczborski","opolskie"]
[null,null,null,null,null,null,null,null,null,null,null,1118,14,1118,14,null,null,1661,14,null,null,null,null,1950,12,null,null,null,null,null,null,null,null,null,null,null,null,null,null,null,null,null,null,null,null,null,null,null,null,null,null,null,null,null,"Lzr-ŁII","zadrzewione i zakrzewione",null,null,null,null,"Lzr-ŁI",{"$f":"ROW()","v":102},"Lzr-ŁI","zadrzewione i zakrzewione","ZDR-2","art.12 ust.1 pkt.1 uopr",{"$f":"SUMIF(Grunty!H:H,BI102,Grunty!I:I)","v":0},{"$f":"SUMIF('ZDR-2'!L:L,BI102,'ZDR-2'!I:I)","v":0},101,4,null,null,null,null,null,null,null,null,null,null,null,null,null,null,null,null,null,null,null,null,null,null,null,null,null,null,null,null,"Lipiny",null,"Lasowice Wielkie","kluczborski","opolskie"]
[null,null,null,null,null,null,null,null,null,null,null,1130,3,1130,3,null,null,1675,3,null,null,null,null,1963,3,null,null,null,null,null,null,null,null,null,null,null,null,null,null,null,null,null,null,null,null,null,null,null,null,null,null,null,null,null,"Lzr-ŁIII","zadrzewione i zakrzewione",null,null,null,null,"Lzr-ŁII",{"$f":"ROW()","v":103},"Lzr-ŁII","zadrzewione i zakrzewione","ZDR-2","art.12 ust.1 pkt.1 uopr",{"$f":"SUMIF(Grunty!H:H,BI103,Grunty!I:I)","v":0},{"$f":"SUMIF('ZDR-2'!L:L,BI103,'ZDR-2'!I:I)","v":0},101,4,null,null,null,null,null,null,null,null,null,null,null,null,null,null,null,null,null,null,null,null,null,null,null,null,null,null,null,null,"Lubiatowice",null,"Wołczyn","kluczborski","opolskie"]
[null,null,null,null,null,null,null,null,null,null,null,1137,14,1137,14,null,null,1694,14,null,null,null,null,1970,12,null,null,null,null,null,null,null,null,null,null,null,null,null,null,null,null,null,null,null,null,null,null,null,null,null,null,null,null,null,"Lzr-ŁIV","zadrzewione i zakrzewione",null,null,null,null,"Lzr-ŁIII",{"$f":"ROW()","v":104},"Lzr-ŁIII","zadrzewione i zakrzewione","ZDR-2","art.12 ust.1 pkt.1 uopr",{"$f":"SUMIF(Grunty!H:H,BI104,Grunty!I:I)","v":0},{"$f":"SUMIF('ZDR-2'!L:L,BI104,'ZDR-2'!I:I)","v":0},101,4,null,null,null,null,null,null,null,null,null,null,null,null,null,null,null,null,null,null,null,null,null,null,null,null,null,null,null,null,"Łowkowice","46-211","Kluczbork","kluczborski","opolskie"]
[null,null,null,null,null,null,null,null,null,null,null,1141,3,1141,3,null,null,{"$f":"R101+68","v":1722},{"$f":"S101","v":3},null,null,null,null,2023,3,null,null,null,null,null,null,null,null,null,null,null,null,null,null,null,null,null,null,null,null,null,null,null,null,null,null,null,null,null,"Lzr-ŁV","zadrzewione i zakrzewione",null,null,null,null,"Lzr-ŁIV",{"$f":"ROW()","v":105},"Lzr-ŁIV","zadrzewione i zakrzewione","ZDR-2","art.12 ust.1 pkt.1 uopr",{"$f":"SUMIF(Grunty!H:H,BI105,Grunty!I:I)","v":0},{"$f":"SUMIF('ZDR-2'!L:L,BI105,'ZDR-2'!I:I)","v":0},101,4,null,null,null,null,null,null,null,null,null,null,null,null,null,null,null,null,null,null,null,null,null,null,null,null,null,null,null,null,"Maciejów","46-200","Kluczbork","kluczborski","opolskie"]
[null,null,null,null,null,null,null,null,null,null,null,1148,14,1148,14,null,null,1729,14,null,null,null,null,2030,12,null,null,null,null,null,null,null,null,null,null,null,null,null,null,null,null,null,null,null,null,null,null,null,null,null,null,null,null,null,"Lzr-ŁVI","zadrzewione i zakrzewione",null,null,null,null,"Lzr-ŁV",{"$f":"ROW()","v":106},"Lzr-ŁV","zadrzewione i zakrzewione","ZDR-2","art.12 ust.1 pkt.1 uopr",{"$f":"SUMIF(Grunty!H:H,BI106,Grunty!I:I)","v":0},{"$f":"SUMIF('ZDR-2'!L:L,BI106,'ZDR-2'!I:I)","v":0},101,4,null,null,null,null,null,null,null,null,null,null,null,null,null,null,null,null,null,null,null,null,null,null,null,null,null,null,null,null,"Malicz",null,"Lasowice Wielkie","kluczborski","opolskie"]
[null,null,null,null,null,null,null,null,null,null,null,1179,3,1179,3,null,null,{"$f":"R103+68","v":1743},{"$f":"S103","v":3},null,null,null,null,2043,3,null,null,null,null,null,null,null,null,null,null,null,null,null,null,null,null,null,null,null,null,null,null,null,null,null,null,null,null,null,"Lzr-PsI","zadrzewione i zakrzewione",null,null,null,null,"Lzr-ŁVI",{"$f":"ROW()","v":107},"Lzr-ŁVI","zadrzewione i zakrzewione","ZDR-2","art.12 ust.1 pkt.1 uopr",{"$f":"SUMIF(Grunty!H:H,BI107,Grunty!I:I)","v":0},{"$f":"SUMIF('ZDR-2'!L:L,BI107,'ZDR-2'!I:I)","v":0},101,4,null,null,null,null,null,null,null,null,null,null,null,null,null,null,null,null,null,null,null,null,null,null,null,null,null,null,null,null,"Markotów Duży",null,"Wołczyn","kluczborski","opolskie"]
[null,null,null,null,null,null,null,null,null,null,null,1186,14,1186,14,null,null,1762,14,null,null,null,null,2050,12,null,null,null,null,null,null,null,null,null,null,null,null,null,null,null,null,null,null,null,null,null,null,null,null,null,null,null,null,null,"Lzr-PsII","zadrzewione i zakrzewione",null,null,null,null,"Lzr-PsI",{"$f":"ROW()","v":108},"Lzr-PsI","zadrzewione i zakrzewione","ZDR-2","art.12 ust.1 pkt.1 uopr",{"$f":"SUMIF(Grunty!H:H,BI108,Grunty!I:I)","v":0},{"$f":"SUMIF('ZDR-2'!L:L,BI108,'ZDR-2'!I:I)","v":0},101,4,null,null,null,null,null,null,null,null,null,null,null,null,null,null,null,null,null,null,null,null,null,null,null,null,null,null,null,null,"Markotów Mały",null,"Wołczyn","kluczborski","opolskie"]
[null,null,null,null,null,null,null,null,null,null,null,1198,3,1198,3,null,null,{"$f":"R105+68","v":1790},{"$f":"S105","v":3},null,null,null,null,2103,3,null,null,null,null,null,null,null,null,null,null,null,null,null,null,null,null,null,null,null,null,null,null,null,null,null,null,null,null,null,"Lzr-PsIII","zadrzewione i zakrzewione",null,null,null,null,"Lzr-PsII",{"$f":"ROW()","v":109},"Lzr-PsII","zadrzewione i zakrzewione","ZDR-2","art.12 ust.1 pkt.1 uopr",{"$f":"SUMIF(Grunty!H:H,BI109,Grunty!I:I)","v":0},{"$f":"SUMIF('ZDR-2'!L:L,BI109,'ZDR-2'!I:I)","v":0},101,4,null,null,null,null,null,null,null,null,null,null,null,null,null,null,null,null,null,null,null,null,null,null,null,null,null,null,null,null,"Markowe",null,"Wołczyn","kluczborski","opolskie"]
[null,null,null,null,null,null,null,null,null,null,null,1205,14,1205,14,null,null,{"$f":"R106+68","v":1797},{"$f":"S106","v":14},null,null,null,null,2110,12,null,null,null,null,null,null,null,null,null,null,null,null,null,null,null,null,null,null,null,null,null,null,null,null,null,null,null,null,null,"Lzr-PsIV","zadrzewione i zakrzewione",null,null,null,null,"Lzr-PsIII",{"$f":"ROW()","v":110},"Lzr-PsIII","zadrzewione i zakrzewione","ZDR-2","art.12 ust.1 pkt.1 uopr",{"$f":"SUMIF(Grunty!H:H,BI110,Grunty!I:I)","v":0},{"$f":"SUMIF('ZDR-2'!L:L,BI110,'ZDR-2'!I:I)","v":0},101,4,null,null,null,null,null,null,null,null,null,null,null,null,null,null,null,null,null,null,null,null,null,null,null,null,null,null,null,null,"Miechowa",null,"Byczyna","kluczborski","opolskie"]
[null,null,null,null,null,null,null,null,null,null,null,1209,3,1209,3,null,null,1811,3,null,null,null,null,2123,3,null,null,null,null,null,null,null,null,null,null,null,null,null,null,null,null,null,null,null,null,null,null,null,null,null,null,null,null,null,"Lzr-PsV","zadrzewione i zakrzewione",null,null,null,null,"Lzr-PsIV",{"$f":"ROW()","v":111},"Lzr-PsIV","zadrzewione i zakrzewione","ZDR-2","art.12 ust.1 pkt.1 uopr",{"$f":"SUMIF(Grunty!H:H,BI111,Grunty!I:I)","v":0},{"$f":"SUMIF('ZDR-2'!L:L,BI111,'ZDR-2'!I:I)","v":0},101,4,null,null,null,null,null,null,null,null,null,null,null,null,null,null,null,null,null,null,null,null,null,null,null,null,null,null,null,null,"Miłoszowice",null,"Kluczbork","kluczborski","opolskie"]
[null,null,null,null,null,null,null,null,null,null,null,1216,14,1216,14,null,null,1830,14,null,null,null,null,2130,12,null,null,null,null,null,null,null,null,null,null,null,null,null,null,null,null,null,null,null,null,null,null,null,null,null,null,null,null,null,"Lzr-PsVI","zadrzewione i zakrzewione",null,null,null,null,"Lzr-PsV",{"$f":"ROW()","v":112},"Lzr-PsV","zadrzewione i zakrzewione","ZDR-2","art.12 ust.1 pkt.1 uopr",{"$f":"SUMIF(Grunty!H:H,BI112,Grunty!I:I)","v":0},{"$f":"SUMIF('ZDR-2'!L:L,BI112,'ZDR-2'!I:I)","v":0},101,4,null,null,null,null,null,null,null,null,null,null,null,null,null,null,null,null,null,null,null,null,null,null,null,null,null,null,null,null,"Miskowe",null,"Lasowice Wielkie","kluczborski","opolskie"]
[null,null,null,null,null,null,null,null,null,null,null,1247,3,1247,3,null,null,{"$f":"R109+68","v":1858},{"$f":"S109","v":3},null,null,null,null,2183,3,null,null,null,null,null,null,null,null,null,null,null,null,null,null,null,null,null,null,null,null,null,null,null,null,null,null,null,null,null,"Lzr-RI","zadrzewione i zakrzewione",null,null,null,null,"Lzr-PsVI",{"$f":"ROW()","v":113},"Lzr-PsVI","zadrzewione i zakrzewione","ZDR-2","art.12 ust.1 pkt.1 uopr",{"$f":"SUMIF(Grunty!H:H,BI113,Grunty!I:I)","v":0},{"$f":"SUMIF('ZDR-2'!L:L,BI113,'ZDR-2'!I:I)","v":0},101,4,null,null,null,null,null,null,null,null,null,null,null,null,null,null,null,null,null,null,null,null,null,null,null,null,null,null,null,null,"Mrówka",null,"Byczyna","kluczborski","opolskie"]
[null,null,null,null,null,null,null,null,null,null,null,1254,14,1254,14,null,null,{"$f":"R110+68","v":1865},{"$f":"S110","v":14},null,null,null,null,2190,12,null,null,null,null,null,null,null,null,null,null,null,null,null,null,null,null,null,null,null,null,null,null,null,null,null,null,null,null,null,"Lzr-RII","zadrzewione i zakrzewione",null,null,null,null,"Lzr-RI",{"$f":"ROW()","v":114},"Lzr-RI","zadrzewione i zakrzewione","ZDR-2","art.12 ust.1 pkt.1 uopr",{"$f":"SUMIF(Grunty!H:H,BI114,Grunty!I:I)","v":0},{"$f":"SUMIF('ZDR-2'!L:L,BI114,'ZDR-2'!I:I)","v":0},101,4,null,null,null,null,null,null,null,null,null,null,null,null,null,null,null,null,null,null,null,null,null,null,null,null,null,null,null,null,"Mścisław",null,"Wołczyn","kluczborski","opolskie"]
[null,null,null,null,null,null,null,null,null,null,null,1266,3,1266,3,null,null,1879,3,null,null,null,null,2203,3,null,null,null,null,null,null,null,null,null,null,null,null,null,null,null,null,null,null,null,null,null,null,null,null,null,null,null,null,null,"Lzr-RIIIa","zadrzewione i zakrzewione",null,null,null,null,"Lzr-RII",{"$f":"ROW()","v":115},"Lzr-RII","zadrzewione i zakrzewione","ZDR-2","art.12 ust.1 pkt.1 uopr",{"$f":"SUMIF(Grunty!H:H,BI115,Grunty!I:I)","v":0},{"$f":"SUMIF('ZDR-2'!L:L,BI115,'ZDR-2'!I:I)","v":0},101,4,null,null,null,null,null,null,null,null,null,null,null,null,null,null,null,null,null,null,null,null,null,null,null,null,null,null,null,null,"Nasale",null,"Byczyna","kluczborski","opolskie"]
[null,null,null,null,null,null,null,null,null,null,null,1273,14,1273,14,null,null,1898,14,null,null,null,null,2210,12,null,null,null,null,null,null,null,null,null,null,null,null,null,null,null,null,null,null,null,null,null,null,null,null,null,null,null,null,null,"Lzr-RIIIb","zadrzewione i zakrzewione",null,null,null,null,"Lzr-RIIIa",{"$f":"ROW()","v":116},"Lzr-RIIIa","zadrzewione i zakrzewione","ZDR-2","art.12 ust.1 pkt.1 uopr",{"$f":"SUMIF(Grunty!H:H,BI116,Grunty!I:I)","v":0},{"$f":"SUMIF('ZDR-2'!L:L,BI116,'ZDR-2'!I:I)","v":0},101,4,null,null,null,null,null,null,null,null,null,null,null,null,null,null,null,null,null,null,null,null,null,null,null,null,null,null,null,null,"Nasale Dolne",null,"Byczyna","kluczborski","opolskie"]
[null,null,null,null,null,null,null,null,null,null,null,1277,3,1277,3,null,null,{"$f":"R113+68","v":1926},{"$f":"S113","v":3},null,null,null,null,2263,3,null,null,null,null,null,null,null,null,null,null,null,null,null,null,null,null,null,null,null,null,null,null,null,null,null,null,null,null,null,"Lzr-RIVa","zadrzewione i zakrzewione",null,null,null,null,"Lzr-RIIIb",{"$f":"ROW()","v":117},"Lzr-RIIIb","zadrzewione i zakrzewione","ZDR-2","art.12 ust.1 pkt.1 uopr",{"$f":"SUMIF(Grunty!H:H,BI117,Grunty!I:I)","v":0},{"$f":"SUMIF('ZDR-2'!L:L,BI117,'ZDR-2'!I:I)","v":0},101,4,null,null,null,null,null,null,null,null,null,null,null,null,null,null,null,null,null,null,null,null,null,null,null,null,null,null,null,null,"Niwy",null,"Lasowice Wielkie","kluczborski","opolskie"]
[null,null,null,null,null,null,null,null,null,null,null,1284,14,1284,14,null,null,{"$f":"R114+68","v":1933},{"$f":"S114","v":14},null,null,null,null,2270,12,null,null,null,null,null,null,null,null,null,null,null,null,null,null,null,null,null,null,null,null,null,null,null,null,null,null,null,null,null,"Lzr-RIVb","zadrzewione i zakrzewione",null,null,null,null,"Lzr-RIVa",{"$f":"ROW()","v":118},"Lzr-RIVa","zadrzewione i zakrzewione","ZDR-2","art.12 ust.1 pkt.1 uopr",{"$f":"SUMIF(Grunty!H:H,BI118,Grunty!I:I)","v":0},{"$f":"SUMIF('ZDR-2'!L:L,BI118,'ZDR-2'!I:I)","v":0},101,4,null,null,null,null,null,null,null,null,null,null,null,null,null,null,null,null,null,null,null,null,null,null,null,null,null,null,null,null,"Niwy",null,"Wołczyn","kluczborski","opolskie"]
[null,null,null,null,null,null,null,null,null,null,null,1315,3,1315,3,null,null,1947,3,null,null,null,null,2283,3,null,null,null,null,null,null,null,null,null,null,null,null,null,null,null,null,null,null,null,null,null,null,null,null,null,null,null,null,null,"Lzr-RV","zadrzewione i zakrzewione",null,null,null,null,"Lzr-RIVb",{"$f":"ROW()","v":119},"Lzr-RIVb","zadrzewione i zakrzewione","ZDR-2","art.12 ust.1 pkt.1 uopr",{"$f":"SUMIF(Grunty!H:H,BI119,Grunty!I:I)","v":0},{"$f":"SUMIF('ZDR-2'!L:L,BI119,'ZDR-2'!I:I)","v":0},101,4,null,null,null,null,null,null,null,null,null,null,null,null,null,null,null,null,null,null,null,null,null,null,null,null,null,null,null,null,"Nowa Bogacica",null,"Kluczbork","kluczborski","opolskie"]
[null,null,null,null,null,null,null,null,null,null,null,1322,14,1322,14,null,null,1966,14,null,null,null,null,2290,12,null,null,null,null,null,null,null,null,null,null,null,null,null,null,null,null,null,null,null,null,null,null,null,null,null,null,null,null,null,"Lzr-RVI","zadrzewione i zakrzewione",null,null,null,null,"Lzr-RV",{"$f":"ROW()","v":120},"Lzr-RV","zadrzewione i zakrzewione","ZDR-2","art.12 ust.1 pkt.1 uopr",{"$f":"SUMIF(Grunty!H:H,BI120,Grunty!I:I)","v":0},{"$f":"SUMIF('ZDR-2'!L:L,BI120,'ZDR-2'!I:I)","v":0},101,4,null,null,null,null,null,null,null,null,null,null,null,null,null,null,null,null,null,null,null,null,null,null,null,null,null,null,null,null,"Nowa Wieś",null,"Wołczyn","kluczborski","opolskie"]
[null,null,null,null,null,null,null,null,null,null,null,1334,3,1334,3,null,null,{"$f":"R117+68","v":1994},{"$f":"S117","v":3},null,null,null,null,2343,3,null,null,null,null,null,null,null,null,null,null,null,null,null,null,null,null,null,null,null,null,null,null,null,null,null,null,null,null,null,"S-ŁV","sady",null,null,null,null,"Lzr-RVI",{"$f":"ROW()","v":121},"Lzr-RVI","zadrzewione i zakrzewione","ZDR-2","art.12 ust.1 pkt.1 uopr",{"$f":"SUMIF(Grunty!H:H,BI121,Grunty!I:I)","v":0},{"$f":"SUMIF('ZDR-2'!L:L,BI121,'ZDR-2'!I:I)","v":0},101,4,null,null,null,null,null,null,null,null,null,null,null,null,null,null,null,null,null,null,null,null,null,null,null,null,null,null,null,null,"Nowy Dwór",null,"Kluczbork","kluczborski","opolskie"]
[null,null,null,null,null,null,null,null,null,null,null,1341,14,1341,14,null,null,{"$f":"R118+68","v":2001},{"$f":"S118","v":14},null,null,null,null,2350,12,null,null,null,null,null,null,null,null,null,null,null,null,null,null,null,null,null,null,null,null,null,null,null,null,null,null,null,null,null,"S-ŁVI","sady",null,null,null,null,"Ł-ŁV",{"$f":"ROW()","v":122},"ŁV","łąki trwałe","ZDR-2","art.12 ust.1 pkt.1 uopr",{"$f":"SUMIF(Grunty!H:H,BI122,Grunty!I:I)","v":0},{"$f":"SUMIF('ZDR-2'!L:L,BI122,'ZDR-2'!I:I)","v":0},101,4,null,null,null,null,null,null,null,null,null,null,null,null,null,null,null,null,null,null,null,null,null,null,null,null,null,null,null,null,"Nowy Gródek",null,"Byczyna","kluczborski","opolskie"]
[null,null,null,null,null,null,null,null,null,null,null,{"$f":"L117+68","v":1345},{"$f":"M117","v":3},1345,3,null,null,2015,3,null,null,null,null,2363,3,null,null,null,null,null,null,null,null,null,null,null,null,null,null,null,null,null,null,null,null,null,null,null,null,null,null,null,null,null,"S-PsV","sady",null,null,null,null,"Ł-ŁVI",{"$f":"ROW()","v":123},"ŁVI","łąki trwałe","ZDR-2","art.12 ust.1 pkt.1 uopr",{"$f":"SUMIF(Grunty!H:H,BI123,Grunty!I:I)","v":0},{"$f":"SUMIF('ZDR-2'!L:L,BI123,'ZDR-2'!I:I)","v":0},101,4,null,null,null,null,null,null,null,null,null,null,null,null,null,null,null,null,null,null,null,null,null,null,null,null,null,null,null,null,"Olbin",null,"Lasowice Wielkie","kluczborski","opolskie"]
[null,null,null,null,null,null,null,null,null,null,null,1352,14,1352,14,null,null,2034,14,null,null,null,null,2370,12,null,null,null,null,null,null,null,null,null,null,null,null,null,null,null,null,null,null,null,null,null,null,null,null,null,null,null,null,null,"S-PsVI","sady",null,null,null,null,"Ps-PsV",{"$f":"ROW()","v":124},"PsV","pastwiska","ZDR-2","art.12 ust.1 pkt.1 uopr",{"$f":"SUMIF(Grunty!H:H,BI124,Grunty!I:I)","v":0},{"$f":"SUMIF('ZDR-2'!L:L,BI124,'ZDR-2'!I:I)","v":0},101,4,null,null,86,7,null,null,null,null,null,null,null,null,null,null,null,null,null,null,null,null,null,null,null,null,null,null,null,null,"Olek",null,"Byczyna","kluczborski","opolskie"]
[null,null,null,null,null,null,null,null,null,null,null,1383,3,1383,3,null,null,{"$f":"R121+68","v":2062},{"$f":"S121","v":3},null,null,null,null,2423,3,null,null,null,null,null,null,null,null,null,null,null,null,null,null,null,null,null,null,null,null,null,null,null,null,null,null,null,null,null,"S-RV","sady",null,null,null,null,"Ps-PsVI",{"$f":"ROW()","v":125},"PsVI","pastwiska","ZDR-2","art.12 ust.1 pkt.1 uopr",{"$f":"SUMIF(Grunty!H:H,BI125,Grunty!I:I)","v":0},{"$f":"SUMIF('ZDR-2'!L:L,BI125,'ZDR-2'!I:I)","v":0},101,4,null,null,null,null,null,null,null,null,null,null,null,null,null,null,null,null,null,null,null,null,null,null,null,null,null,null,null,null,"Ostrołęka",null,"Lasowice Wielkie","kluczborski","opolskie"]
[null,null,null,null,null,null,null,null,null,null,null,1390,14,1390,14,null,null,{"$f":"R122+68","v":2069},{"$f":"S122","v":14},null,null,null,null,2430,12,null,null,null,null,null,null,null,null,null,null,null,null,null,null,null,null,null,null,null,null,null,null,null,null,null,null,null,null,null,"S-RVI","sady",null,null,null,null,"R-RV",{"$f":"ROW()","v":126},"RV","orne","ZDR-2","art.12 ust.1 pkt.1 uopr",{"$f":"SUMIF(Grunty!H:H,BI126,Grunty!I:I)","v":0},{"$f":"SUMIF('ZDR-2'!L:L,BI126,'ZDR-2'!I:I)","v":0},101,4,null,null,null,null,null,null,null,null,null,null,null,null,null,null,null,null,null,null,null,null,null,null,null,null,null,null,null,null,"Oś",null,"Lasowice Wielkie","kluczborski","opolskie"]
[null,null,null,null,null,null,null,null,null,null,null,1402,3,1402,3,null,null,2083,3,null,null,null,null,2443,3,null,null,null,null,null,null,null,null,null,null,null,null,null,null,null,null,null,null,null,null,null,null,null,null,null,null,null,null,null,"W-ŁV","rowy",null,null,null,null,"R-RVI",{"$f":"ROW()","v":127},"RVI","orne","ZDR-2","art.12 ust.1 pkt.1 uopr",{"$f":"SUMIF(Grunty!H:H,BI127,Grunty!I:I)","v":0},{"$f":"SUMIF('ZDR-2'!L:L,BI127,'ZDR-2'!I:I)","v":0},101,4,null,null,null,null,null,null,null,null,null,null,null,null,null,null,null,null,null,null,null,null,null,null,null,null,null,null,null,null,"Owczarnia",null,"Lasowice Wielkie","kluczborski","opolskie"]
[null,null,null,null,null,null,null,null,null,null,null,1409,14,1409,14,null,null,2102,14,null,null,null,null,2450,12,null,null,null,null,null,null,null,null,null,null,null,null,null,null,null,null,null,null,null,null,null,null,null,null,null,null,null,null,null,"W-ŁVI","rowy",null,null,null,null,"RV",{"$f":"ROW()","v":128},"RV","orne","ZDR-2","art.12 ust.1 pkt.1 uopr",{"$f":"SUMIF(Grunty!H:H,BI128,Grunty!I:I)","v":0},{"$f":"SUMIF('ZDR-2'!L:L,BI128,'ZDR-2'!I:I)","v":0},101,4,null,null,null,null,null,null,null,null,null,null,null,null,null,null,null,null,null,null,null,null,null,null,null,null,null,null,null,null,"Paruszowice",null,"Byczyna","kluczborski","opolskie"]
[null,null,null,null,null,null,null,null,null,null,null,1413,3,{"$f":"N123+68","v":1413},{"$f":"O123","v":3},null,null,{"$f":"R125+68","v":2130},{"$f":"S125","v":3},null,null,null,null,2503,3,null,null,null,null,null,null,null,null,null,null,null,null,null,null,null,null,null,null,null,null,null,null,null,null,null,null,null,null,null,"W-PsV","rowy",null,null,null,null,"RVI",{"$f":"ROW()","v":129},"RVI","orne","ZDR-2","art.12 ust.1 pkt.1 uopr",{"$f":"SUMIF(Grunty!H:H,BI129,Grunty!I:I)","v":0},{"$f":"SUMIF('ZDR-2'!L:L,BI129,'ZDR-2'!I:I)","v":0},101,4,null,null,null,null,null,null,null,null,null,null,null,null,null,null,null,null,null,null,null,null,null,null,null,null,null,null,null,null,"Pogorzałka",null,"Byczyna","kluczborski","opolskie"]
[null,null,null,null,null,null,null,null,null,null,null,1420,14,1420,14,null,null,{"$f":"R126+68","v":2137},{"$f":"S126","v":14},null,null,null,null,2510,12,null,null,null,null,null,null,null,null,null,null,null,null,null,null,null,null,null,null,null,null,null,null,null,null,null,null,null,null,null,"W-PsVI","rowy",null,null,null,null,"S-ŁV",{"$f":"ROW()","v":130},"S-ŁV","sady","ZDR-2","art.12 ust.1 pkt.1 uopr",{"$f":"SUMIF(Grunty!H:H,BI130,Grunty!I:I)","v":0},{"$f":"SUMIF('ZDR-2'!L:L,BI130,'ZDR-2'!I:I)","v":0},101,4,null,null,null,null,null,null,null,null,null,null,null,null,null,null,null,null,null,null,null,null,null,null,null,null,null,null,null,null,"Polanowice",null,"Byczyna","kluczborski","opolskie"]
[null,null,null,null,null,null,null,null,null,null,null,1451,3,1451,3,null,null,2151,3,null,null,null,null,2523,3,null,null,null,null,null,null,null,null,null,null,null,null,null,null,null,null,null,null,null,null,null,null,null,null,null,null,null,null,null,"W-RV","rowy",null,null,null,null,"S-ŁVI",{"$f":"ROW()","v":131},"S-ŁVI","sady","ZDR-2","art.12 ust.1 pkt.1 uopr",{"$f":"SUMIF(Grunty!H:H,BI131,Grunty!I:I)","v":0},{"$f":"SUMIF('ZDR-2'!L:L,BI131,'ZDR-2'!I:I)","v":0},101,4,null,null,null,null,null,null,null,null,null,null,null,null,null,null,null,null,null,null,null,null,null,null,null,null,null,null,null,null,"Polowice",null,"Byczyna","kluczborski","opolskie"]
[null,null,null,null,null,null,null,null,null,null,null,1458,14,1458,14,null,null,2170,14,null,null,null,null,2530,12,null,null,null,null,null,null,null,null,null,null,null,null,null,null,null,null,null,null,null,null,null,null,null,null,null,null,null,null,null,"W-RVI","rowy",null,null,null,null,"S-PsV",{"$f":"ROW()","v":132},"S-PsV","sady","ZDR-2","art.12 ust.1 pkt.1 uopr",{"$f":"SUMIF(Grunty!H:H,BI132,Grunty!I:I)","v":0},{"$f":"SUMIF('ZDR-2'!L:L,BI132,'ZDR-2'!I:I)","v":0},101,4,null,null,null,null,null,null,null,null,null,null,null,null,null,null,null,null,null,null,null,null,null,null,null,null,null,null,null,null,"Proślice",null,"Byczyna","kluczborski","opolskie"]
[null,null,null,null,null,null,null,null,null,null,null,1470,3,1470,3,null,null,{"$f":"R129+68","v":2198},{"$f":"S129","v":3},null,null,null,null,2583,3,null,null,null,null,null,null,null,null,null,null,null,null,null,null,null,null,null,null,null,null,null,null,null,null,null,null,null,null,null,"Wsr-ŁV","stawy",null,null,null,null,"S-PsVI",{"$f":"ROW()","v":133},"S-PsVI","sady","ZDR-2","art.12 ust.1 pkt.1 uopr",{"$f":"SUMIF(Grunty!H:H,BI133,Grunty!I:I)","v":0},{"$f":"SUMIF('ZDR-2'!L:L,BI133,'ZDR-2'!I:I)","v":0},101,4,null,null,null,null,null,null,null,null,null,null,null,null,null,null,null,null,null,null,null,null,null,null,null,null,null,null,null,null,"Przybkowice",null,"Kluczbork","kluczborski","opolskie"]
[null,null,null,null,null,null,null,null,null,null,null,1477,14,1477,14,null,null,{"$f":"R130+68","v":2205},{"$f":"S130","v":14},null,null,null,null,2590,12,null,null,null,null,null,null,null,null,null,null,null,null,null,null,null,null,null,null,null,null,null,null,null,null,null,null,null,null,null,"Wsr-ŁVI","stawy",null,null,null,null,"S-RV",{"$f":"ROW()","v":134},"S-RV","sady","ZDR-2","art.12 ust.1 pkt.1 uopr",{"$f":"SUMIF(Grunty!H:H,BI134,Grunty!I:I)","v":0},{"$f":"SUMIF('ZDR-2'!L:L,BI134,'ZDR-2'!I:I)","v":0},101,4,null,null,null,null,null,null,null,null,null,null,null,null,null,null,null,null,null,null,null,null,null,null,null,null,null,null,null,null,"Pszczonki",null,"Byczyna","kluczborski","opolskie"]
[null,null,null,null,null,null,null,null,null,null,null,1481,3,1481,3,null,null,2219,3,null,null,null,null,2603,3,null,null,null,null,null,null,null,null,null,null,null,null,null,null,null,null,null,null,null,null,null,null,null,null,null,null,null,null,null,"Wsr-PsV","stawy",null,null,null,null,"S-RVI",{"$f":"ROW()","v":135},"S-RVI","sady","ZDR-2","art.12 ust.1 pkt.1 uopr",{"$f":"SUMIF(Grunty!H:H,BI135,Grunty!I:I)","v":0},{"$f":"SUMIF('ZDR-2'!L:L,BI135,'ZDR-2'!I:I)","v":0},101,4,null,null,null,null,null,null,null,null,null,null,null,null,null,null,null,null,null,null,null,null,null,null,null,null,null,null,null,null,"Pustki",null,"Kluczbork","kluczborski","opolskie"]
[null,null,null,null,null,null,null,null,null,null,null,1488,14,1488,14,null,null,2238,14,null,null,null,null,2610,12,null,null,null,null,null,null,null,null,null,null,null,null,null,null,null,null,null,null,null,null,null,null,null,null,null,null,null,null,null,"Wsr-PsVI","stawy",null,null,null,null,"W-ŁV",{"$f":"ROW()","v":136},"W-ŁV","rowy","ZDR-2","art.12 ust.1 pkt.1 uopr",{"$f":"SUMIF(Grunty!H:H,BI136,Grunty!I:I)","v":0},{"$f":"SUMIF('ZDR-2'!L:L,BI136,'ZDR-2'!I:I)","v":0},101,4,null,null,null,null,null,null,null,null,null,null,null,null,null,null,null,null,null,null,null,null,null,null,null,null,null,null,null,null,"Radlina",null,"Lasowice Wielkie","kluczborski","opolskie"]
[null,null,null,null,null,null,null,null,null,null,null,1519,3,1519,3,null,null,{"$f":"R133+68","v":2266},{"$f":"S133","v":3},null,null,null,null,2663,3,null,null,null,null,null,null,null,null,null,null,null,null,null,null,null,null,null,null,null,null,null,null,null,null,null,null,null,null,null,"Wsr-RV","stawy",null,null,null,null,"W-ŁVI",{"$f":"ROW()","v":137},"W-ŁVI","rowy","ZDR-2","art.12 ust.1 pkt.1 uopr",{"$f":"SUMIF(Grunty!H:H,BI137,Grunty!I:I)","v":0},{"$f":"SUMIF('ZDR-2'!L:L,BI137,'ZDR-2'!I:I)","v":0},101,4,null,null,null,null,null,null,null,null,null,null,null,null,null,null,null,null,null,null,null,null,null,null,null,null,null,null,null,null,"Radomil",null,"Lasowice Wielkie","kluczborski","opolskie"]
[null,null,null,null,null,null,null,null,null,null,null,1526,14,1526,14,null,null,{"$f":"R134+68","v":2273},{"$f":"S134","v":14},null,null,null,null,{"$f":"X134+80","v":2670},{"$f":"Y134","v":12},null,null,null,null,null,null,null,null,null,null,null,null,null,null,null,null,null,null,null,null,null,null,null,null,null,null,null,null,null,"Wsr-RVI","stawy",null,null,null,null,"W-PsV",{"$f":"ROW()","v":138},"W-PsV","rowy","ZDR-2","art.12 ust.1 pkt.1 uopr",{"$f":"SUMIF(Grunty!H:H,BI138,Grunty!I:I)","v":0},{"$f":"SUMIF('ZDR-2'!L:L,BI138,'ZDR-2'!I:I)","v":0},101,4,null,null,null,null,null,null,null,null,null,null,null,null,null,null,null,null,null,null,null,null,null,null,null,null,null,null,null,null,"Roszkowice",null,"Byczyna","kluczborski","opolskie"]
[null,null,null,null,null,null,null,null,null,null,null,1538,3,1538,3,null,null,2287,3,null,null,null,null,2683,3,null,null,null,null,null,null,null,null,null,null,null,null,null,null,null,null,null,null,null,null,null,null,null,null,null,null,null,null,null,"Wp","Inne",null,null,null,null,"W-PsVI",{"$f":"ROW()","v":139},"W-PsVI","rowy","ZDR-2","art.12 ust.1 pkt.1 uopr",{"$f":"SUMIF(Grunty!H:H,BI139,Grunty!I:I)","v":0},{"$f":"SUMIF('ZDR-2'!L:L,BI139,'ZDR-2'!I:I)","v":0},101,4,null,null,null,null,null,null,null,null,null,null,null,null,null,null,null,null,null,null,null,null,null,null,null,null,null,null,null,null,"Rożnów",null,"Wołczyn","kluczborski","opolskie"]
[null,null,null,null,null,null,null,null,null,null,null,1545,14,1545,14,null,null,2306,14,null,null,null,null,2690,12,null,null,null,null,null,null,null,null,null,null,null,null,null,null,null,null,null,null,null,null,null,null,null,null,null,null,null,null,null,"x1","x1","x1",null,null,null,"W-RV",{"$f":"ROW()","v":140},"W-RV","rowy","ZDR-2","art.12 ust.1 pkt.1 uopr",{"$f":"SUMIF(Grunty!H:H,BI140,Grunty!I:I)","v":0},{"$f":"SUMIF('ZDR-2'!L:L,BI140,'ZDR-2'!I:I)","v":0},101,4,null,null,null,null,null,null,null,null,null,null,null,null,null,null,null,null,null,null,null,null,null,null,null,null,null,null,null,null,"Rydzek",null,"Lasowice Wielkie","kluczborski","opolskie"]
[null,null,null,null,null,null,null,null,null,null,null,1549,3,1549,3,null,null,{"$f":"R137+68","v":2334},{"$f":"S137","v":3},null,null,null,null,2743,3,null,null,null,null,null,null,null,null,null,null,null,null,null,null,null,null,null,null,null,null,null,null,null,null,null,null,null,null,null,"x10","x10","x10",null,null,null,"W-RVI",{"$f":"ROW()","v":141},"W-RVI","rowy","ZDR-2","art.12 ust.1 pkt.1 uopr",{"$f":"SUMIF(Grunty!H:H,BI141,Grunty!I:I)","v":0},{"$f":"SUMIF('ZDR-2'!L:L,BI141,'ZDR-2'!I:I)","v":0},101,4,null,null,null,null,null,null,null,null,null,null,null,null,null,null,null,null,null,null,null,null,null,null,null,null,null,null,null,null,"Sarnów",null,"Byczyna","kluczborski","opolskie"]
[null,null,null,null,null,null,null,null,null,null,null,1556,14,1556,14,null,null,{"$f":"R138+68","v":2341},{"$f":"S138","v":14},null,null,null,null,2750,12,null,null,null,null,null,null,null,null,null,null,null,null,null,null,null,null,null,null,null,null,null,null,null,null,null,null,null,null,null,"x11","x11","x11",null,null,null,"Wsr-ŁV",{"$f":"ROW()","v":142},"Wsr-ŁV","stawy","ZDR-2","art.12 ust.1 pkt.1 uopr",{"$f":"SUMIF(Grunty!H:H,BI142,Grunty!I:I)","v":0},{"$f":"SUMIF('ZDR-2'!L:L,BI142,'ZDR-2'!I:I)","v":0},101,4,null,null,null,null,null,null,null,null,null,null,null,null,null,null,null,null,null,null,null,null,null,null,null,null,null,null,null,null,"Sierosławice",null,"Byczyna","kluczborski","opolskie"]
[null,null,null,null,null,null,null,null,null,null,null,1587,3,1587,3,null,null,2355,3,null,null,null,null,2763,3,null,null,null,null,null,null,null,null,null,null,null,null,null,null,null,null,null,null,null,null,null,null,null,null,null,null,null,null,null,"x12","x12","x12",null,null,null,"Wsr-ŁVI",{"$f":"ROW()","v":143},"Wsr-ŁVI","stawy","ZDR-2","art.12 ust.1 pkt.1 uopr",{"$f":"SUMIF(Grunty!H:H,BI143,Grunty!I:I)","v":0},{"$f":"SUMIF('ZDR-2'!L:L,BI143,'ZDR-2'!I:I)","v":0},101,4,null,null,null,null,null,null,null,null,null,null,null,null,null,null,null,null,null,null,null,null,null,null,null,null,null,null,null,null,"Skałągi",null,"Wołczyn","kluczborski","opolskie"]
[null,null,null,null,null,null,null,null,null,null,null,1594,14,1594,14,null,null,2374,14,null,null,null,null,2770,12,null,null,null,null,null,null,null,null,null,null,null,null,null,null,null,null,null,null,null,null,null,null,null,null,null,null,null,null,null,"x13","x13","x13",null,null,null,"Wsr-PsV",{"$f":"ROW()","v":144},"Wsr-PsV","stawy","ZDR-2","art.12 ust.1 pkt.1 uopr",{"$f":"SUMIF(Grunty!H:H,BI144,Grunty!I:I)","v":0},{"$f":"SUMIF('ZDR-2'!L:L,BI144,'ZDR-2'!I:I)","v":0},101,4,null,null,null,null,null,null,null,null,null,null,null,null,null,null,null,null,null,null,null,null,null,null,null,null,null,null,null,null,"Skorków",null,"Lasowice Wielkie","kluczborski","opolskie"]
[null,null,null,null,null,null,null,null,null,null,null,1606,3,1606,3,null,null,6,{"$f":"S141","v":3},null,null,null,null,6,3,null,null,null,null,null,null,null,null,null,null,null,null,null,null,null,null,null,null,null,null,null,null,null,null,null,null,null,null,null,"x14","x14","x14",null,null,null,"Wsr-PsVI",{"$f":"ROW()","v":145},"Wsr-PsVI","stawy","ZDR-2","art.12 ust.1 pkt.1 uopr",{"$f":"SUMIF(Grunty!H:H,BI145,Grunty!I:I)","v":0},{"$f":"SUMIF('ZDR-2'!L:L,BI145,'ZDR-2'!I:I)","v":0},101,4,null,null,null,null,null,null,null,null,null,null,null,null,null,null,null,null,null,null,null,null,null,null,null,null,null,null,null,null,"Smardy Dolne",null,"Kluczbork","kluczborski","opolskie"]
[null,null,null,null,null,null,null,null,null,null,null,1613,14,1613,14,null,null,6,3,null,null,null,null,6,3,null,null,null,null,null,null,null,null,null,null,null,null,null,null,null,null,null,null,null,null,null,null,null,null,null,null,null,null,null,"x15","x15","x15",null,null,null,"Wsr-RV",{"$f":"ROW()","v":146},"Wsr-RV","stawy","ZDR-2","art.12 ust.1 pkt.1 uopr",{"$f":"SUMIF(Grunty!H:H,BI146,Grunty!I:I)","v":0},{"$f":"SUMIF('ZDR-2'!L:L,BI146,'ZDR-2'!I:I)","v":0},101,4,null,null,null,null,null,null,null,null,null,null,null,null,null,null,null,null,null,null,null,null,null,null,null,null,null,null,null,null,"Smardy Górne","46-200","Kluczbork","kluczborski","opolskie"]
[null,null,null,null,null,null,null,null,null,null,null,1617,3,1617,3,null,null,null,null,null,null,null,null,null,null,null,null,null,null,null,null,null,null,null,null,null,null,null,null,null,null,null,null,null,null,null,null,null,null,null,null,null,null,null,"x16","x16","x16",null,null,null,"Wsr-RVI",{"$f":"ROW()","v":147},"Wsr-RVI","stawy","ZDR-2","art.12 ust.1 pkt.1 uopr",{"$f":"SUMIF(Grunty!H:H,BI147,Grunty!I:I)","v":0},{"$f":"SUMIF('ZDR-2'!L:L,BI147,'ZDR-2'!I:I)","v":0},101,4,null,null,null,null,null,null,null,null,null,null,null,null,null,null,null,null,null,null,null,null,null,null,null,null,null,null,null,null,"Smardzka Kolonia",null,"Kluczbork","kluczborski","opolskie"]
[null,null,null,null,null,null,null,null,null,null,null,1624,14,1624,14,null,null,null,null,null,null,null,null,null,null,null,null,null,null,null,null,null,null,null,null,null,null,null,null,null,null,null,null,null,null,null,null,null,null,null,null,null,null,null,"x17","x17","x17",null,null,null,"Wp",{"$f":"ROW()","v":148},"Wp","Inne","brak","brak",{"$f":"SUMIF(Grunty!H:H,BI148,Grunty!I:I)","v":0},null,null,7,null,null,null,null,null,null,null,null,null,null,null,null,null,null,null,null,null,null,null,null,null,null,null,null,null,null,null,null,"Sobisz",null,"Lasowice Wielkie","kluczborski","opolskie"]
[null,null,null,null,null,null,null,null,null,null,null,1655,3,1655,3,null,null,null,null,null,null,null,null,null,null,null,null,null,null,null,null,null,null,null,null,null,null,null,null,null,null,null,null,null,null,null,null,null,null,null,null,null,null,null,"x18","x18","x18",null,null,null,"x1",{"$f":"ROW()","v":149},"x1","x1","x1","x1",{"$f":"SUMIF(Grunty!H:H,BI149,Grunty!I:I)","v":0},null,"x1",9,null,null,null,null,null,null,null,null,null,null,null,null,null,null,null,null,null,null,null,null,null,null,null,null,null,null,null,null,"Stara Chudoba",null,"Lasowice Wielkie","kluczborski","opolskie"]
[null,null,null,null,null,null,null,null,null,null,null,1662,14,1662,14,null,null,null,null,null,null,null,null,null,null,null,null,null,null,null,null,null,null,null,null,null,null,null,null,null,null,null,null,null,null,null,null,null,null,null,null,null,null,null,"x19","x19","x19",null,null,null,"x10",{"$f":"ROW()","v":150},"x10","x10","x10","x10",{"$f":"SUMIF(Grunty!H:H,BI150,Grunty!I:I)","v":0},null,"x10",9,null,null,null,null,null,null,null,null,null,null,null,null,null,null,null,null,null,null,null,null,null,null,null,null,null,null,null,null,"Stara Huta",null,"Kluczbork","kluczborski","opolskie"]
[null,null,null,null,null,null,null,null,null,null,null,1674,3,1674,3,null,null,null,null,null,null,null,null,null,null,null,null,null,null,null,null,null,null,null,null,null,null,null,null,null,null,null,null,null,null,null,null,null,null,null,null,null,null,null,"x2","x2","x2",null,null,null,"x11",{"$f":"ROW()","v":151},"x11","x11","x11","x11",{"$f":"SUMIF(Grunty!H:H,BI151,Grunty!I:I)","v":0},null,"x11",9,null,null,null,null,null,null,null,null,null,null,null,null,null,null,null,null,null,null,null,null,null,null,null,null,null,null,null,null,"Stare Czaple",null,"Kluczbork","kluczborski","opolskie"]
[null,null,null,null,null,null,null,null,null,null,null,1681,14,1681,14,null,null,null,null,null,null,null,null,null,null,null,null,null,null,null,null,null,null,null,null,null,null,null,null,null,null,null,null,null,null,null,null,null,null,null,null,null,null,null,"x20","x20","x20",null,null,null,"x12",{"$f":"ROW()","v":152},"x12","x12","x12","x12",{"$f":"SUMIF(Grunty!H:H,BI152,Grunty!I:I)","v":0},null,"x12",9,null,null,null,null,null,null,null,null,null,null,null,null,null,null,null,null,null,null,null,null,null,null,null,null,null,null,null,null,"Stary Folwark",null,"Wołczyn","kluczborski","opolskie"]
[null,null,null,null,null,null,null,null,null,null,null,1685,3,1685,3,null,null,null,null,null,null,null,null,null,null,null,null,null,null,null,null,null,null,null,null,null,null,null,null,null,null,null,null,null,null,null,null,null,null,null,null,null,null,null,"x21","x21","x21",null,null,null,"x13",{"$f":"ROW()","v":153},"x13","x13","x13","x13",{"$f":"SUMIF(Grunty!H:H,BI153,Grunty!I:I)","v":0},null,"x13",9,null,null,null,null,null,null,null,null,null,null,null,null,null,null,null,null,null,null,null,null,null,null,null,null,null,null,null,null,"Sulikowice",null,"Kluczbork","kluczborski","opolskie"]
[null,null,null,null,null,null,null,null,null,null,null,1692,14,1692,14,null,null,null,null,null,null,null,null,null,null,null,null,null,null,null,null,null,null,null,null,null,null,null,null,null,null,null,null,null,null,null,null,null,null,null,null,null,null,null,"x22","x22","x22",null,null,null,"x14",{"$f":"ROW()","v":154},"x14","x14","x14","x14",{"$f":"SUMIF(Grunty!H:H,BI154,Grunty!I:I)","v":0},null,"x14",9,null,null,null,null,null,null,null,null,null,null,null,null,null,null,null,null,null,null,null,null,null,null,null,null,null,null,null,null,"Sułaszów",null,"Wołczyn","kluczborski","opolskie"]
[null,null,null,null,null,null,null,null,null,null,null,{"$f":"L149+68","v":1723},{"$f":"M149","v":3},1723,3,null,null,null,null,null,null,null,null,null,null,null,null,null,null,null,null,null,null,null,null,null,null,null,null,null,null,null,null,null,null,null,null,null,null,null,null,null,null,null,"x23","x23","x23",null,null,null,"x15",{"$f":"ROW()","v":155},"x15","x15","x15","x15",{"$f":"SUMIF(Grunty!H:H,BI155,Grunty!I:I)","v":0},null,"x15",9,null,null,null,null,null,null,null,null,null,null,null,null,null,null,null,null,null,null,null,null,null,null,null,null,null,null,null,null,"Sułoszyn",null,"Kluczbork","kluczborski","opolskie"]
[null,null,null,null,null,null,null,null,null,null,null,1730,14,1730,14,null,null,null,null,null,null,null,null,null,null,null,null,null,null,null,null,null,null,null,null,null,null,null,null,null,null,null,null,null,null,null,null,null,null,null,null,null,null,null,"x24","x24","x24",null,null,null,"x16",{"$f":"ROW()","v":156},"x16","x16","x16","x16",{"$f":"SUMIF(Grunty!H:H,BI156,Grunty!I:I)","v":0},null,"x16",9,null,null,null,null,null,null,null,null,null,null,null,null,null,null,null,null,null,null,null,null,null,null,null,null,null,null,null,null,"Sułoszyn-Karolina",null,"Kluczbork","kluczborski","opolskie"]
[null,null,null,null,null,null,null,null,null,null,null,1742,3,1742,3,null,null,null,null,null,null,null,null,null,null,null,null,null,null,null,null,null,null,null,null,null,null,null,null,null,null,null,null,null,null,null,null,null,null,null,null,null,null,null,"x25","x25","x25",null,null,null,"x17",{"$f":"ROW()","v":157},"x17","x17","x17","x17",{"$f":"SUMIF(Grunty!H:H,BI157,Grunty!I:I)","v":0},null,"x17",9,null,null,null,null,null,null,null,null,null,null,null,null,null,null,null,null,null,null,null,null,null,null,null,null,null,null,null,null,"Szarawara",null,"Lasowice Wielkie","kluczborski","opolskie"]
[null,null,null,null,null,null,null,null,null,null,null,1749,14,1749,14,null,null,null,null,null,null,null,null,null,null,null,null,null,null,null,null,null,null,null,null,null,null,null,null,null,null,null,null,null,null,null,null,null,null,null,null,null,null,null,"x26","x26","x26",null,null,null,"x18",{"$f":"ROW()","v":158},"x18","x18","x18","x18",{"$f":"SUMIF(Grunty!H:H,BI158,Grunty!I:I)","v":0},null,"x18",9,null,null,null,null,null,null,null,null,null,null,null,null,null,null,null,null,null,null,null,null,null,null,null,null,null,null,null,null,"Szczepina",null,"Lasowice Wielkie","kluczborski","opolskie"]
[null,null,null,null,null,null,null,null,null,null,null,1753,3,1753,3,null,null,null,null,null,null,null,null,null,null,null,null,null,null,null,null,null,null,null,null,null,null,null,null,null,null,null,null,null,null,null,null,null,null,null,null,null,null,null,"x27","x27","x27",null,null,null,"x19",{"$f":"ROW()","v":159},"x19","x19","x19","x19",{"$f":"SUMIF(Grunty!H:H,BI159,Grunty!I:I)","v":0},null,"x19",9,null,null,null,null,null,null,null,null,null,null,null,null,null,null,null,null,null,null,null,null,null,null,null,null,null,null,null,null,"Szklarnia",null,"Wołczyn","kluczborski","opolskie"]
[null,null,null,null,null,null,null,null,null,null,null,1760,14,1760,14,null,null,null,null,null,null,null,null,null,null,null,null,null,null,null,null,null,null,null,null,null,null,null,null,null,null,null,null,null,null,null,null,null,null,null,null,null,null,null,"x28","x28","x28",null,null,null,"x2",{"$f":"ROW()","v":160},"x2","x2","x2","x2",{"$f":"SUMIF(Grunty!H:H,BI160,Grunty!I:I)","v":0},null,"x2",9,null,null,null,null,null,null,null,null,null,null,null,null,null,null,null,null,null,null,null,null,null,null,null,null,null,null,null,null,"Szum",null,"Wołczyn","kluczborski","opolskie"]
[null,null,null,null,null,null,null,null,null,null,null,1791,3,{"$f":"N155+68","v":1791},{"$f":"O155","v":3},null,null,null,null,null,null,null,null,null,null,null,null,null,null,null,null,null,null,null,null,null,null,null,null,null,null,null,null,null,null,null,null,null,null,null,null,null,null,null,"x29","x29","x29",null,null,null,"x20",{"$f":"ROW()","v":161},"x20","x20","x20","x20",{"$f":"SUMIF(Grunty!H:H,BI161,Grunty!I:I)","v":0},null,"x20",9,null,null,null,null,null,null,null,null,null,null,null,null,null,null,null,null,null,null,null,null,null,null,null,null,null,null,null,null,"Szumirad",null,"Lasowice Wielkie","kluczborski","opolskie"]
[null,null,null,null,null,null,null,null,null,null,null,1798,14,1798,14,null,null,null,null,null,null,null,null,null,null,null,null,null,null,null,null,null,null,null,null,null,null,null,null,null,null,null,null,null,null,null,null,null,null,null,null,null,null,null,"x3","x3","x3",null,null,null,"x21",{"$f":"ROW()","v":162},"x21","x21","x21","x21",{"$f":"SUMIF(Grunty!H:H,BI162,Grunty!I:I)","v":0},null,"x21",9,null,null,null,null,null,null,null,null,null,null,null,null,null,null,null,null,null,null,null,null,null,null,null,null,null,null,null,null,"Szymonków",null,"Wołczyn","kluczborski","opolskie"]
[null,null,null,null,null,null,null,null,null,null,null,1810,3,1810,3,null,null,null,null,null,null,null,null,null,null,null,null,null,null,null,null,null,null,null,null,null,null,null,null,null,null,null,null,null,null,null,null,null,null,null,null,null,null,null,"x30","x30","x30",null,null,null,"x22",{"$f":"ROW()","v":163},"x22","x22","x22","x22",{"$f":"SUMIF(Grunty!H:H,BI163,Grunty!I:I)","v":0},null,"x22",9,null,null,null,null,null,null,null,null,null,null,null,null,null,null,null,null,null,null,null,null,null,null,null,null,null,null,null,null,"Świniary Małe",null,"Wołczyn","kluczborski","opolskie"]
[null,null,null,null,null,null,null,null,null,null,null,1817,14,1817,14,null,null,null,null,null,null,null,null,null,null,null,null,null,null,null,null,null,null,null,null,null,null,null,null,null,null,null,null,null,null,null,null,null,null,null,null,null,null,null,"x31","x31","x31",null,null,null,"x23",{"$f":"ROW()","v":164},"x23","x23","x23","x23",{"$f":"SUMIF(Grunty!H:H,BI164,Grunty!I:I)","v":0},null,"x23",9,null,null,null,null,null,null,null,null,null,null,null,null,null,null,null,null,null,null,null,null,null,null,null,null,null,null,null,null,"Świniary Wielkie",null,"Wołczyn","kluczborski","opolskie"]
[null,null,null,null,null,null,null,null,null,null,null,1821,3,1821,3,null,null,null,null,null,null,null,null,null,null,null,null,null,null,null,null,null,null,null,null,null,null,null,null,null,null,null,null,null,null,null,null,null,null,null,null,null,null,null,"x32","x32","x32",null,null,null,"x24",{"$f":"ROW()","v":165},"x24","x24","x24","x24",{"$f":"SUMIF(Grunty!H:H,BI165,Grunty!I:I)","v":0},null,"x24",9,null,null,null,null,null,null,null,null,null,null,null,null,null,null,null,null,null,null,null,null,null,null,null,null,null,null,null,null,"Teklusia",null,"Wołczyn","kluczborski","opolskie"]
[null,null,null,null,null,null,null,null,null,null,null,1828,14,1828,14,null,null,null,null,null,null,null,null,null,null,null,null,null,null,null,null,null,null,null,null,null,null,null,null,null,null,null,null,null,null,null,null,null,null,null,null,null,null,null,"x4","x4","x4",null,null,null,"x25",{"$f":"ROW()","v":166},"x25","x25","x25","x25",{"$f":"SUMIF(Grunty!H:H,BI166,Grunty!I:I)","v":0},null,"x25",9,null,null,null,null,null,null,null,null,null,null,null,null,null,null,null,null,null,null,null,null,null,null,null,null,null,null,null,null,"Trzebiszyn",null,"Lasowice Wielkie","kluczborski","opolskie"]
[null,null,null,null,null,null,null,null,null,null,null,1859,3,1859,3,null,null,null,null,null,null,null,null,null,null,null,null,null,null,null,null,null,null,null,null,null,null,null,null,null,null,null,null,null,null,null,null,null,null,null,null,null,null,null,"x5","x5","x5",null,null,null,"x26",{"$f":"ROW()","v":167},"x26","x26","x26","x26",{"$f":"SUMIF(Grunty!H:H,BI167,Grunty!I:I)","v":0},null,"x26",9,null,null,null,null,null,null,null,null,null,null,null,null,null,null,null,null,null,null,null,null,null,null,null,null,null,null,null,null,"Tuły",null,"Lasowice Wielkie","kluczborski","opolskie"]
[null,null,null,null,null,null,null,null,null,null,null,1866,14,1866,14,null,null,null,null,null,null,null,null,null,null,null,null,null,null,null,null,null,null,null,null,null,null,null,null,null,null,null,null,null,null,null,null,null,null,null,null,null,null,null,"x6","x6","x6",null,null,null,"x27",{"$f":"ROW()","v":168},"x27","x27","x27","x27",{"$f":"SUMIF(Grunty!H:H,BI168,Grunty!I:I)","v":0},null,"x27",9,null,null,null,null,null,null,null,null,null,null,null,null,null,null,null,null,null,null,null,null,null,null,null,null,null,null,null,null,"Unieszów","46-200","Kluczbork","kluczborski","opolskie"]
[null,null,null,null,null,null,null,null,null,null,null,1878,3,1878,3,null,null,null,null,null,null,null,null,null,null,null,null,null,null,null,null,null,null,null,null,null,null,null,null,null,null,null,null,null,null,null,null,null,null,null,null,null,null,null,"x7","x7","x7",null,null,null,"x28",{"$f":"ROW()","v":169},"x28","x28","x28","x28",{"$f":"SUMIF(Grunty!H:H,BI169,Grunty!I:I)","v":0},null,"x28",9,null,null,null,null,null,null,null,null,null,null,null,null,null,null,null,null,null,null,null,null,null,null,null,null,null,null,null,null,"Walsztat",null,"Wołczyn","kluczborski","opolskie"]
[null,null,null,null,null,null,null,null,null,null,null,1885,14,1885,14,null,null,null,null,null,null,null,null,null,null,null,null,null,null,null,null,null,null,null,null,null,null,null,null,null,null,null,null,null,null,null,null,null,null,null,null,null,null,null,"x8","x8","x8",null,null,null,"x29",{"$f":"ROW()","v":170},"x29","x29","x29","x29",{"$f":"SUMIF(Grunty!H:H,BI170,Grunty!I:I)","v":0},null,"x29",9,null,null,null,null,null,null,null,null,null,null,null,null,null,null,null,null,null,null,null,null,null,null,null,null,null,null,null,null,"Wałda",null,"Wołczyn","kluczborski","opolskie"]
[null,null,null,null,null,null,null,null,null,null,null,1889,3,1889,3,null,null,null,null,null,null,null,null,null,null,null,null,null,null,null,null,null,null,null,null,null,null,null,null,null,null,null,null,null,null,null,null,null,null,null,null,null,null,null,"x9","x9","x9",null,null,null,"x3",{"$f":"ROW()","v":171},"x3","x3","x3","x3",{"$f":"SUMIF(Grunty!H:H,BI171,Grunty!I:I)","v":0},null,"x3",9,null,null,null,null,null,null,null,null,null,null,null,null,null,null,null,null,null,null,null,null,null,null,null,null,null,null,null,null,"Wawrzyńcowskie",null,"Lasowice Wielkie","kluczborski","opolskie"]
[null,null,null,null,null,null,null,null,null,null,null,1896,14,1896,14,null,null,null,null,null,null,null,null,null,null,null,null,null,null,null,null,null,null,null,null,null,null,null,null,null,null,null,null,null,null,null,null,null,null,null,null,null,null,null,null,null,null,null,null,null,"x30",{"$f":"ROW()","v":172},"x30","x30","x30","x30",{"$f":"SUMIF(Grunty!H:H,BI172,Grunty!I:I)","v":0},null,"x30",9,null,null,null,null,null,null,null,null,null,null,null,null,null,null,null,null,null,null,null,null,null,null,null,null,null,null,null,null,"Wąsice",null,"Wołczyn","kluczborski","opolskie"]
[null,null,null,null,null,null,null,null,null,null,null,1927,3,1927,3,null,null,null,null,null,null,null,null,null,null,null,null,null,null,null,null,null,null,null,null,null,null,null,null,null,null,null,null,null,null,null,null,null,null,null,null,null,null,null,null,null,null,null,null,null,"x31",{"$f":"ROW()","v":173},"x31","x31","x31","x31",{"$f":"SUMIF(Grunty!H:H,BI173,Grunty!I:I)","v":0},null,"x31",9,null,null,null,null,null,null,null,null,null,null,null,null,null,null,null,null,null,null,null,null,null,null,null,null,null,null,null,null,"Wesoła",null,"Lasowice Wielkie","kluczborski","opolskie"]
[null,null,null,null,null,null,null,null,null,null,null,1934,14,1934,14,null,null,null,null,null,null,null,null,null,null,null,null,null,null,null,null,null,null,null,null,null,null,null,null,null,null,null,null,null,null,null,null,null,null,null,null,null,null,null,null,null,null,null,null,null,"x32",{"$f":"ROW()","v":174},"x32","x32","x32","x32",{"$f":"SUMIF(Grunty!H:H,BI174,Grunty!I:I)","v":0},null,"x32",9,null,null,null,null,null,null,null,null,null,null,null,null,null,null,null,null,null,null,null,null,null,null,null,null,null,null,null,null,"Wesoła",null,"Wołczyn","kluczborski","opolskie"]
[null,null,null,null,null,null,null,null,null,null,null,1946,3,1946,3,null,null,null,null,null,null,null,null,null,null,null,null,null,null,null,null,null,null,null,null,null,null,null,null,null,null,null,null,null,null,null,null,null,null,null,null,null,null,null,null,null,null,null,null,null,"x4",{"$f":"ROW()","v":175},"x4","x4","x4","x4",{"$f":"SUMIF(Grunty!H:H,BI175,Grunty!I:I)","v":0},null,"x4",9,null,null,null,null,null,null,null,null,null,null,null,null,null,null,null,null,null,null,null,null,null,null,null,null,null,null,null,null,"Wędrynia",null,"Lasowice Wielkie","kluczborski","opolskie"]
[null,null,null,null,null,null,null,null,null,null,null,1953,14,1953,14,null,null,null,null,null,null,null,null,null,null,null,null,null,null,null,null,null,null,null,null,null,null,null,null,null,null,null,null,null,null,null,null,null,null,null,null,null,null,null,null,null,null,null,null,null,"x5",{"$f":"ROW()","v":176},"x5","x5","x5","x5",{"$f":"SUMIF(Grunty!H:H,BI176,Grunty!I:I)","v":0},null,"x5",9,null,null,null,null,null,null,null,null,null,null,null,null,null,null,null,null,null,null,null,null,null,null,null,null,null,null,null,null,"Wędryńka",null,"Lasowice Wielkie","kluczborski","opolskie"]
[null,null,null,null,null,null,null,null,null,null,null,1957,3,1957,3,null,null,null,null,null,null,null,null,null,null,null,null,null,null,null,null,null,null,null,null,null,null,null,null,null,null,null,null,null,null,null,null,null,null,null,null,null,null,null,null,null,null,null,null,null,"x6",{"$f":"ROW()","v":177},"x6","x6","x6","x6",{"$f":"SUMIF(Grunty!H:H,BI177,Grunty!I:I)","v":0},null,"x6",9,null,null,null,null,null,null,null,null,null,null,null,null,null,null,null,null,null,null,null,null,null,null,null,null,null,null,null,null,"Wielodrogi",null,"Lasowice Wielkie","kluczborski","opolskie"]
[null,null,null,null,null,null,null,null,null,null,null,1964,14,1964,14,null,null,null,null,null,null,null,null,null,null,null,null,null,null,null,null,null,null,null,null,null,null,null,null,null,null,null,null,null,null,null,null,null,null,null,null,null,null,null,null,null,null,null,null,null,"x7",{"$f":"ROW()","v":178},"x7","x7","x7","x7",{"$f":"SUMIF(Grunty!H:H,BI178,Grunty!I:I)","v":0},null,"x7",9,null,null,null,null,null,null,null,null,null,null,null,null,null,null,null,null,null,null,null,null,null,null,null,null,null,null,null,null,"Wierzbica Dolna",null,"Wołczyn","kluczborski","opolskie"]
[null,null,null,null,null,null,null,null,null,null,null,1995,3,1995,3,null,null,null,null,null,null,null,null,null,null,null,null,null,null,null,null,null,null,null,null,null,null,null,null,null,null,null,null,null,null,null,null,null,null,null,null,null,null,null,null,null,null,null,null,null,"x8",{"$f":"ROW()","v":179},"x8","x8","x8","x8",{"$f":"SUMIF(Grunty!H:H,BI179,Grunty!I:I)","v":0},null,"x8",9,null,null,null,null,null,null,null,null,null,null,null,null,null,null,null,null,null,null,null,null,null,null,null,null,null,null,null,null,"Wierzbica Górna",null,"Wołczyn","kluczborski","opolskie"]
[null,null,null,null,null,null,null,null,null,null,null,2002,14,2002,14,null,null,null,null,null,null,null,null,null,null,null,null,null,null,null,null,null,null,null,null,null,null,null,null,null,null,null,null,null,null,null,null,null,null,null,null,null,null,null,null,null,null,null,null,null,"x9",{"$f":"ROW()","v":180},"x9","x9","x9","x9",{"$f":"SUMIF(Grunty!H:H,BI180,Grunty!I:I)","v":0},null,"x9",9,null,null,null,null,null,null,null,null,null,null,null,null,null,null,null,null,null,null,null,null,null,null,null,null,null,null,null,null,"Wierzchy",null,"Wołczyn","kluczborski","opolskie"]
[null,null,null,null,null,null,null,null,null,null,null,2014,3,2014,3,null,null,null,null,null,null,null,null,null,null,null,null,null,null,null,null,null,null,null,null,null,null,null,null,null,null,null,null,null,null,null,null,null,null,null,null,null,null,null,null,null,null,null,null,null,null,null,null,null,null,null,null,null,null,null,null,null,null,null,null,null,null,null,null,null,null,null,null,null,null,null,null,null,null,null,null,null,null,null,null,null,null,null,"Wojsławice",null,"Byczyna","kluczborski","opolskie"]
[null,null,null,null,null,null,null,null,null,null,null,2021,14,2021,14,null,null,null,null,null,null,null,null,null,null,null,null,null,null,null,null,null,null,null,null,null,null,null,null,null,null,null,null,null,null,null,null,null,null,null,null,null,null,null,null,null,null,null,null,null,null,null,null,null,null,null,null,null,null,null,null,null,null,null,null,null,null,null,null,null,null,null,null,null,null,null,null,null,null,null,null,null,null,null,null,null,null,null,"Wolna Wieś",null,"Wołczyn","kluczborski","opolskie"]
[null,null,null,null,null,null,null,null,null,null,null,2025,3,2025,3,null,null,null,null,null,null,null,null,null,null,null,null,null,null,null,null,null,null,null,null,null,null,null,null,null,null,null,null,null,null,null,null,null,null,null,null,null,null,null,null,null,null,null,null,null,null,null,null,null,null,null,null,null,null,null,null,null,null,null,null,null,null,null,null,null,null,null,null,null,null,null,null,null,null,null,null,null,null,null,null,null,null,null,"Wołczyn",null,"Wołczyn","kluczborski","opolskie"]
[null,null,null,null,null,9082019,null,null,null,null,null,2032,14,2032,14,null,null,null,null,null,null,null,null,null,null,null,null,null,null,null,null,null,null,null,null,null,null,null,null,null,null,null,null,null,null,null,null,null,null,null,null,null,null,null,null,null,null,null,null,null,null,null,null,null,null,null,null,null,null,null,null,null,null,null,null,null,null,null,null,null,null,null,null,null,null,null,null,null,null,null,null,null,null,null,null,null,null,null,"Wrzosy",null,"Kluczbork","kluczborski","opolskie"]
[null,null,null,null,null,null,null,null,null,null,null,6,3,6,3,null,null,null,null,null,null,null,null,null,null,null,null,null,null,null,null,null,null,null,null,null,null,null,null,null,null,null,null,null,null,null,null,null,null,null,null,null,null,null,null,null,null,null,null,null,null,null,null,null,null,null,null,null,null,null,null,null,null,null,null,null,null,null,null,null,null,null,null,null,null,null,null,null,null,null,null,null,null,null,null,null,null,null,"Zajdak",null,"Wołczyn","kluczborski","opolskie"]
[null,null,null,null,null,null,null,null,null,null,null,6,3,6,3,null,null,null,null,null,null,null,null,null,null,null,null,null,null,null,null,null,null,null,null,null,null,null,null,null,null,null,null,null,null,null,null,null,null,null,null,null,null,null,null,null,null,null,null,null,null,null,null,null,null,null,null,null,null,null,null,null,null,null,null,null,null,null,null,null,null,null,null,null,null,null,null,null,null,null,null,null,null,null,null,null,null,null,"Zalesie",null,"Lasowice Wielkie","kluczborski","opolskie"]
[null,null,null,null,null,null,null,null,null,null,null,null,null,null,null,null,null,null,null,null,null,null,null,null,null,null,null,null,null,null,null,null,null,null,null,null,null,null,null,null,null,null,null,null,null,null,null,null,null,null,null,null,null,null,null,null,null,null,null,null,null,null,null,null,null,null,null,null,null,null,null,null,null,null,null,null,null,null,null,null,null,null,null,null,null,null,null,null,null,null,null,null,null,null,null,null,null,null,"Zameczek",null,"Kluczbork","kluczborski","opolskie"]
[null,null,null,null,null,null,null,null,null,null,null,null,null,null,null,null,null,null,null,null,null,null,null,null,null,null,null,null,null,null,null,null,null,null,null,null,null,null,null,null,null,null,null,null,null,null,null,null,null,null,null,null,null,null,null,null,null,null,null,null,null,null,null,null,null,null,null,null,null,null,null,null,null,null,null,null,null,null,null,null,null,null,null,null,null,null,null,null,null,null,null,null,null,null,null,null,null,null,"Zapłotnik",null,"Wołczyn","kluczborski","opolskie"]
[null,null,null,null,null,null,null,null,null,null,null,null,null,null,null,null,null,null,null,null,null,null,null,null,null,null,null,null,null,null,null,null,null,null,null,null,null,null,null,null,null,null,null,null,null,null,null,null,null,null,null,null,null,null,null,null,null,null,null,null,null,null,null,null,null,null,null,null,null,null,null,null,null,null,null,null,null,null,null,null,null,null,null,null,null,null,null,null,null,null,null,null,null,null,null,null,null,null,"Zawada",null,"Lasowice Wielkie","kluczborski","opolskie"]
[null,null,null,null,null,null,null,null,null,null,null,null,null,null,null,null,null,null,null,null,null,null,null,null,null,null,null,null,null,null,null,null,null,null,null,null,null,null,null,null,null,null,null,null,null,null,null,null,null,null,null,null,null,null,null,null,null,null,null,null,null,null,null,null,null,null,null,null,null,null,null,null,null,null,null,null,null,null,null,null,null,null,null,null,null,null,null,null,null,null,null,null,null,null,null,null,null,null,"Zielona Góra",null,"Wołczyn","kluczborski","opolskie"]
[null,null,null,null,null,null,null,null,null,null,null,null,null,null,null,null,null,null,null,null,null,null,null,null,null,null,null,null,null,null,null,null,null,null,null,null,null,null,null,null,null,null,null,null,null,null,null,null,null,null,null,null,null,null,null,null,null,null,null,null,null,null,null,null,null,null,null,null,null,null,null,null,null,null,null,null,null,null,null,null,null,null,null,null,null,null,null,null,null,null,null,null,null,null,null,null,null,null,"Zimnik",null,"Lasowice Wielkie","kluczborski","opolskie"]
[null,null,null,null,null,null,null,null,null,null,null,null,null,null,null,null,null,null,null,null,null,null,null,null,null,null,null,null,null,null,null,null,null,null,null,null,null,null,null,null,null,null,null,null,null,null,null,null,null,null,null,null,null,null,null,null,null,null,null,null,null,null,null,null,null,null,null,null,null,null,null,null,null,null,null,null,null,null,null,null,null,null,null,null,null,null,null,null,null,null,null,null,null,null,null,null,null,null,"Żabiniec","46-243","Kluczbork","kluczborski","opolskie"]